{"text_format":"1","workbook":"xlsx","n_sheets":7,"sheets":["Chill Creation Information","Max_Min","Chill Portions","Plots","Proj_Data","Working","Dyn_mod"],"not_rendered":{"charts":1,"images":0,"macros":1,"external_links":0,"defined_names":0,"comments":0,"pivot_tables":0},"unopened":[],"bounds":{"document_bytes":16777216,"sheet_cells":100000,"rows_first":2000,"rows_last":500,"rows_between":2000,"halvings":0,"cell_chars":16384,"cell_head_chars":4096},"cells_cut":0,"cells_raw":0,"read":"whole","date_system":"1900"}

{"sheet":"Chill Creation Information","index":0,"n_rows":0,"n_cols":0,"rows_kept":0,"cut":false,"hidden":false,"merged":[]}

{"sheet":"Max_Min","index":1,"n_rows":111,"n_cols":4,"rows_kept":111,"cut":false,"hidden":false,"merged":[]}
["Date","T Max","T Min","Latitude"]
["2014-03-01",34.9,18.7,-34.159999999999997]
["2014-03-02",36.5,16.8]
["2014-03-03",31.4,16.8]
["2014-03-04",23.5,11.8]
["2014-03-05",24.3,9.3000000000000007]
["2014-03-06",26.4,10.6]
["2014-03-07",30.2,15.6]
["2014-03-08",35,16.100000000000001]
["2014-03-09",21.8,11.7]
["2014-03-10",21.9,9.1]
["2014-03-11",23.6,11.6]
["2014-03-12",27.5,11.6]
["2014-03-13",33.6,16.8]
["2014-03-14",23.8,12.9]
["2014-03-15",21.2,10.4]
["2014-03-16",21.5,12.7]
["2014-03-17",23.6,15.4]
["2014-03-18",26.2,14.2]
["2014-03-19",25.4,12.3]
["2014-03-20",27.5,13.1]
["2014-03-21",19.8,11.8]
["2014-03-22",24.1,14.8]
["2014-03-23",24.2,16.3]
["2014-03-24",28.9,16.899999999999999]
["2014-03-25",33.4,17.3]
["2014-03-26",25.2,17]
["2014-03-27",25.2,15.5]
["2014-03-28",25.6,12.9]
["2014-03-29",28.7,15.7]
["2014-03-30",19.100000000000001,11.6]
["2014-03-31",18.399999999999999,12.5]
["2014-04-01",20.399999999999999,11]
["2014-04-02",19.100000000000001,7.5]
["2014-04-03",19.600000000000001,8.6999999999999993]
["2014-04-04",24.5,9.3000000000000007]
["2014-04-05",26.1,12.5]
["2014-04-06",28.4,13.5]
["2014-04-07",23.5,12]
["2014-04-08",23.3,10.9]
["2014-04-09",25.9,15.6]
["2014-04-10",29.6,14.4]
["2014-04-11",29.8,13.7]
["2014-04-12",30.7,17]
["2014-04-13",30.9,17.399999999999999]
["2014-04-14",26.1,15.5]
["2014-04-15",29.1,15.9]
["2014-04-16",23.2,12.2]
["2014-04-17",18.8,14.1]
["2014-04-18",20,11.8]
["2014-04-19",23.7,11.1]
["2014-04-20",20.399999999999999,10.5]
["2014-04-21",17.8,9]
["2014-04-22",18.600000000000001,7.7]
["2014-04-23",19.899999999999999,9.5]
["2014-04-24",21.5,10.3]
["2014-04-25",21.5,11.7]
["2014-04-26",21.8,10.3]
["2014-04-27",23.4,15]
["2014-04-28",21.3,7.8]
["2014-04-29",14,8.8000000000000007]
["2014-04-30",17.7,9.3000000000000007]
["2014-05-01",18.2,8.9]
["2014-05-02",15.5,8.6]
["2014-05-03",16.3,11]
["2014-05-04",20.8,11.8]
["2014-05-05",18.7,12.9]
["2014-05-06",18,12.2]
["2014-05-07",17.899999999999999,12.7]
["2014-05-08",20.399999999999999,9.1]
["2014-05-09",14.7,11.1]
["2014-05-10",18.600000000000001,11.8]
["2014-05-11",20,12.7]
["2014-05-12",20.399999999999999,14.1]
["2014-05-13",17.600000000000001,8.1999999999999993]
["2014-05-14",18.7,12.7]
["2014-05-15",18.899999999999999,11.8]
["2014-05-16",18.399999999999999,13.8]
["2014-05-17",19.8,10.6]
["2014-05-18",18.8,13.8]
["2014-05-19",17.399999999999999,13.6]
["2014-05-20",21.2,14]
["2014-05-21",17.2,14.4]
["2014-05-22",18.8,12.3]
["2014-05-23",19.100000000000001,11.9]
["2014-05-24",17.2,11.3]
["2014-05-25",15.1,10]
["2014-05-26",15.5,10.4]
["2014-05-27",15.9,11.3]
["2014-05-28",17.399999999999999,8.4]
["2014-05-29",15.8,10.8]
["2014-05-30",17.399999999999999,8.5]
["2014-05-31",17.3,6]
["2014-06-01",14.9,10.1]
["2014-06-02",18.5,11.3]
["2014-06-03",18.100000000000001,9.1]
["2014-06-04",16.600000000000001,8.6]
["2014-06-05",18,8.5]
["2014-06-06",20.8,10]
["2014-06-07",21.2,10.8]
["2014-06-08",15.9,11.9]
["2014-06-09",15.6,12.8]
["2014-06-10",17.100000000000001,9.4]
["2014-06-11",11.7,8.1]
["2014-06-12",14,7.3]
["2014-06-13",14.7,8.6]
["2014-06-14",15.7,6.8]
["2014-06-15",15.3,9.6]
["2014-06-16",17.2,7.2]
["2014-06-17",17.899999999999999,9.6999999999999993]
["2014-06-18",15.1,9.6]

{"sheet":"Chill Portions","index":2,"n_rows":1,"n_cols":7,"rows_kept":1,"cut":false,"hidden":false,"merged":[]}
["Date","Day of Year","T Max","T Min","Hour","T Hour","Dynamic portions"]

{"sheet":"Plots","index":3,"n_rows":4,"n_cols":9,"rows_kept":4,"cut":false,"hidden":false,"merged":[]}
[]
[]
[]
[null,null,null,null,null,null,null,null,"Total Accumulated Chill Portions"]

{"sheet":"Proj_Data","index":4,"n_rows":2377,"n_cols":10,"rows_kept":2377,"cut":false,"hidden":true,"merged":[]}
["Projection","Location","Min Model","Max Model","Min_Model","value-thres",null,null,"Max_Model","value-thres"]
["Current","Huonville",{"$f":"IF(F2>0,1,0)/99","v":{"$error":"#REF!"}},{"$f":"IF(J2>0,1,0)/99","v":{"$error":"#REF!"}},87.827228414658705,{"$f":"E2-#REF!","v":{"$error":"#REF!"}},null,null,87.827228414658705,{"$f":"I2-#REF!","v":{"$error":"#REF!"}}]
["Current","Huonville",{"$f":"IF(F3>0,1,0)/99","v":{"$error":"#REF!"}},{"$error":"#REF!"},89.529770110071397,{"$f":"E3-#REF!","v":{"$error":"#REF!"}},null,null,89.529770110071397,{"$f":"I3-#REF!","v":{"$error":"#REF!"}}]
["Current","Huonville",{"$error":"#REF!"},{"$error":"#REF!"},87.566333760171005,{"$f":"E4-#REF!","v":{"$error":"#REF!"}},null,null,87.566333760171005,{"$f":"I4-#REF!","v":{"$error":"#REF!"}}]
["Current","Huonville",{"$error":"#REF!"},{"$error":"#REF!"},88.295859857432802,{"$f":"E5-#REF!","v":{"$error":"#REF!"}},null,null,88.295859857432802,{"$f":"I5-#REF!","v":{"$error":"#REF!"}}]
["Current","Huonville",{"$error":"#REF!"},{"$error":"#REF!"},90.374856169429805,{"$f":"E6-#REF!","v":{"$error":"#REF!"}},null,null,90.374856169429805,{"$f":"I6-#REF!","v":{"$error":"#REF!"}}]
["Current","Huonville",{"$error":"#REF!"},{"$error":"#REF!"},87.308525917584006,{"$f":"E7-#REF!","v":{"$error":"#REF!"}},null,null,87.308525917584006,{"$f":"I7-#REF!","v":{"$error":"#REF!"}}]
["Current","Huonville",{"$error":"#REF!"},{"$error":"#REF!"},88.502025885604596,{"$f":"E8-#REF!","v":{"$error":"#REF!"}},null,null,88.502025885604596,{"$f":"I8-#REF!","v":{"$error":"#REF!"}}]
["Current","Huonville",{"$error":"#REF!"},{"$error":"#REF!"},83.191136059723107,{"$f":"E9-#REF!","v":{"$error":"#REF!"}},null,null,83.191136059723107,{"$f":"I9-#REF!","v":{"$error":"#REF!"}}]
["Current","Huonville",{"$error":"#REF!"},{"$error":"#REF!"},85.706289783601704,{"$f":"E10-#REF!","v":{"$error":"#REF!"}},null,null,85.706289783601704,{"$f":"I10-#REF!","v":{"$error":"#REF!"}}]
["Current","Huonville",{"$error":"#REF!"},{"$error":"#REF!"},89.2414315274317,{"$f":"E11-#REF!","v":{"$error":"#REF!"}},null,null,89.2414315274317,{"$f":"I11-#REF!","v":{"$error":"#REF!"}}]
["Current","Huonville",{"$error":"#REF!"},{"$error":"#REF!"},84.132576530726197,{"$f":"E12-#REF!","v":{"$error":"#REF!"}},null,null,84.132576530726197,{"$f":"I12-#REF!","v":{"$error":"#REF!"}}]
["Current","Huonville",{"$error":"#REF!"},{"$error":"#REF!"},89.195593544185002,{"$f":"E13-#REF!","v":{"$error":"#REF!"}},null,null,89.195593544185002,{"$f":"I13-#REF!","v":{"$error":"#REF!"}}]
["Current","Huonville",{"$error":"#REF!"},{"$error":"#REF!"},89.4207533949658,{"$f":"E14-#REF!","v":{"$error":"#REF!"}},null,null,89.4207533949658,{"$f":"I14-#REF!","v":{"$error":"#REF!"}}]
["Current","Huonville",{"$error":"#REF!"},{"$error":"#REF!"},87.946553395417197,{"$f":"E15-#REF!","v":{"$error":"#REF!"}},null,null,87.946553395417197,{"$f":"I15-#REF!","v":{"$error":"#REF!"}}]
["Current","Huonville",{"$error":"#REF!"},{"$error":"#REF!"},88.803590648035197,{"$f":"E16-#REF!","v":{"$error":"#REF!"}},null,null,88.803590648035197,{"$f":"I16-#REF!","v":{"$error":"#REF!"}}]
["Current","Huonville",{"$error":"#REF!"},{"$error":"#REF!"},88.332641673829002,{"$f":"E17-#REF!","v":{"$error":"#REF!"}},null,null,88.332641673829002,{"$f":"I17-#REF!","v":{"$error":"#REF!"}}]
["Current","Huonville",{"$error":"#REF!"},{"$error":"#REF!"},89.080399939263998,{"$f":"E18-#REF!","v":{"$error":"#REF!"}},null,null,89.080399939263998,{"$f":"I18-#REF!","v":{"$error":"#REF!"}}]
["Current","Huonville",{"$error":"#REF!"},{"$error":"#REF!"},87.564269389294495,{"$f":"E19-#REF!","v":{"$error":"#REF!"}},null,null,87.564269389294495,{"$f":"I19-#REF!","v":{"$error":"#REF!"}}]
["Current","Huonville",{"$error":"#REF!"},{"$error":"#REF!"},86.713226273033797,{"$f":"E20-#REF!","v":{"$error":"#REF!"}},null,null,86.713226273033797,{"$f":"I20-#REF!","v":{"$error":"#REF!"}}]
["Current","Huonville",{"$error":"#REF!"},{"$error":"#REF!"},86.758527484588498,{"$f":"E21-#REF!","v":{"$error":"#REF!"}},null,null,86.758527484588498,{"$f":"I21-#REF!","v":{"$error":"#REF!"}}]
["Current","Huonville",{"$error":"#REF!"},{"$error":"#REF!"},85.466900875740293,{"$f":"E22-#REF!","v":{"$error":"#REF!"}},null,null,85.466900875740293,{"$f":"I22-#REF!","v":{"$error":"#REF!"}}]
["Current","Huonville",{"$error":"#REF!"},{"$error":"#REF!"},85.549429540333605,{"$f":"E23-#REF!","v":{"$error":"#REF!"}},null,null,85.549429540333605,{"$f":"I23-#REF!","v":{"$error":"#REF!"}}]
["Current","Huonville",{"$error":"#REF!"},{"$error":"#REF!"},89.5344004042379,{"$f":"E24-#REF!","v":{"$error":"#REF!"}},null,null,89.5344004042379,{"$f":"I24-#REF!","v":{"$error":"#REF!"}}]
["Current","Huonville",{"$error":"#REF!"},{"$error":"#REF!"},84.654056734617498,{"$f":"E25-#REF!","v":{"$error":"#REF!"}},null,null,84.654056734617498,{"$f":"I25-#REF!","v":{"$error":"#REF!"}}]
["Current","Huonville",{"$error":"#REF!"},{"$error":"#REF!"},89.131708023786203,{"$f":"E26-#REF!","v":{"$error":"#REF!"}},null,null,89.131708023786203,{"$f":"I26-#REF!","v":{"$error":"#REF!"}}]
["Current","Huonville",{"$error":"#REF!"},{"$error":"#REF!"},89.442625568545097,{"$f":"E27-#REF!","v":{"$error":"#REF!"}},null,null,89.442625568545097,{"$f":"I27-#REF!","v":{"$error":"#REF!"}}]
["Current","Huonville",{"$error":"#REF!"},{"$error":"#REF!"},86.750210808339403,{"$f":"E28-#REF!","v":{"$error":"#REF!"}},null,null,86.750210808339403,{"$f":"I28-#REF!","v":{"$error":"#REF!"}}]
["Current","Huonville",{"$error":"#REF!"},{"$error":"#REF!"},86.883841392104699,{"$f":"E29-#REF!","v":{"$error":"#REF!"}},null,null,86.883841392104699,{"$f":"I29-#REF!","v":{"$error":"#REF!"}}]
["Current","Huonville",{"$error":"#REF!"},{"$error":"#REF!"},83.317219042340398,{"$f":"E30-#REF!","v":{"$error":"#REF!"}},null,null,83.317219042340398,{"$f":"I30-#REF!","v":{"$error":"#REF!"}}]
["Current","Huonville",{"$error":"#REF!"},{"$error":"#REF!"},86.575977387316996,{"$f":"E31-#REF!","v":{"$error":"#REF!"}},null,null,86.575977387316996,{"$f":"I31-#REF!","v":{"$error":"#REF!"}}]
["Current","Huonville",{"$error":"#REF!"},{"$error":"#REF!"},87.933427648263603,{"$f":"E32-#REF!","v":{"$error":"#REF!"}},null,null,87.933427648263603,{"$f":"I32-#REF!","v":{"$error":"#REF!"}}]
["Current","Huonville",{"$error":"#REF!"},{"$error":"#REF!"},89.2599895033389,{"$f":"E33-#REF!","v":{"$error":"#REF!"}},null,null,89.2599895033389,{"$f":"I33-#REF!","v":{"$error":"#REF!"}}]
["Current","Huonville",{"$error":"#REF!"},{"$error":"#REF!"},87.334870962336396,{"$f":"E34-#REF!","v":{"$error":"#REF!"}},null,null,87.334870962336396,{"$f":"I34-#REF!","v":{"$error":"#REF!"}}]
["Current","Huonville",{"$error":"#REF!"},{"$error":"#REF!"},89.263519880663196,{"$f":"E35-#REF!","v":{"$error":"#REF!"}},null,null,89.263519880663196,{"$f":"I35-#REF!","v":{"$error":"#REF!"}}]
["Current","Huonville",{"$error":"#REF!"},{"$error":"#REF!"},85.879778589357301,{"$f":"E36-#REF!","v":{"$error":"#REF!"}},null,null,85.879778589357301,{"$f":"I36-#REF!","v":{"$error":"#REF!"}}]
["Current","Huonville",{"$error":"#REF!"},{"$error":"#REF!"},91.154981070909699,{"$f":"E37-#REF!","v":{"$error":"#REF!"}},null,null,91.154981070909699,{"$f":"I37-#REF!","v":{"$error":"#REF!"}}]
["Current","Huonville",{"$error":"#REF!"},{"$error":"#REF!"},81.968035532751799,{"$f":"E38-#REF!","v":{"$error":"#REF!"}},null,null,81.968035532751799,{"$f":"I38-#REF!","v":{"$error":"#REF!"}}]
["Current","Huonville",{"$error":"#REF!"},{"$error":"#REF!"},87.961929165829304,{"$f":"E39-#REF!","v":{"$error":"#REF!"}},null,null,87.961929165829304,{"$f":"I39-#REF!","v":{"$error":"#REF!"}}]
["Current","Huonville",{"$error":"#REF!"},{"$error":"#REF!"},87.2963081527448,{"$f":"E40-#REF!","v":{"$error":"#REF!"}},null,null,87.2963081527448,{"$f":"I40-#REF!","v":{"$error":"#REF!"}}]
["Current","Huonville",{"$error":"#REF!"},{"$error":"#REF!"},89.338895744092198,{"$f":"E41-#REF!","v":{"$error":"#REF!"}},null,null,89.338895744092198,{"$f":"I41-#REF!","v":{"$error":"#REF!"}}]
["Current","Huonville",{"$error":"#REF!"},{"$error":"#REF!"},88.474156849366295,{"$f":"E42-#REF!","v":{"$error":"#REF!"}},null,null,88.474156849366295,{"$f":"I42-#REF!","v":{"$error":"#REF!"}}]
["Current","Huonville",{"$error":"#REF!"},{"$error":"#REF!"},90.584384079241602,{"$f":"E43-#REF!","v":{"$error":"#REF!"}},null,null,90.584384079241602,{"$f":"I43-#REF!","v":{"$error":"#REF!"}}]
["Current","Huonville",{"$error":"#REF!"},{"$error":"#REF!"},87.933013104991304,{"$f":"E44-#REF!","v":{"$error":"#REF!"}},null,null,87.933013104991304,{"$f":"I44-#REF!","v":{"$error":"#REF!"}}]
["Current","Huonville",{"$error":"#REF!"},{"$error":"#REF!"},87.840037218485804,{"$f":"E45-#REF!","v":{"$error":"#REF!"}},null,null,87.840037218485804,{"$f":"I45-#REF!","v":{"$error":"#REF!"}}]
["Current","Huonville",{"$error":"#REF!"},{"$error":"#REF!"},89.421328842865094,{"$f":"E46-#REF!","v":{"$error":"#REF!"}},null,null,89.421328842865094,{"$f":"I46-#REF!","v":{"$error":"#REF!"}}]
["Current","Huonville",{"$error":"#REF!"},{"$error":"#REF!"},90.054383043043202,{"$f":"E47-#REF!","v":{"$error":"#REF!"}},null,null,90.054383043043202,{"$f":"I47-#REF!","v":{"$error":"#REF!"}}]
["Current","Huonville",{"$error":"#REF!"},{"$error":"#REF!"},84.513466657544001,{"$f":"E48-#REF!","v":{"$error":"#REF!"}},null,null,84.513466657544001,{"$f":"I48-#REF!","v":{"$error":"#REF!"}}]
["Current","Huonville",{"$error":"#REF!"},{"$error":"#REF!"},89.652049989270395,{"$f":"E49-#REF!","v":{"$error":"#REF!"}},null,null,89.652049989270395,{"$f":"I49-#REF!","v":{"$error":"#REF!"}}]
["Current","Huonville",{"$error":"#REF!"},{"$error":"#REF!"},87.366689560899005,{"$f":"E50-#REF!","v":{"$error":"#REF!"}},null,null,87.366689560899005,{"$f":"I50-#REF!","v":{"$error":"#REF!"}}]
["Current","Huonville",{"$error":"#REF!"},{"$error":"#REF!"},89.970973450711597,{"$f":"E51-#REF!","v":{"$error":"#REF!"}},null,null,89.970973450711597,{"$f":"I51-#REF!","v":{"$error":"#REF!"}}]
["Current","Huonville",{"$error":"#REF!"},{"$error":"#REF!"},88.502856551739995,{"$f":"E52-#REF!","v":{"$error":"#REF!"}},null,null,88.502856551739995,{"$f":"I52-#REF!","v":{"$error":"#REF!"}}]
["Current","Huonville",{"$error":"#REF!"},{"$error":"#REF!"},90.349755395602401,{"$f":"E53-#REF!","v":{"$error":"#REF!"}},null,null,90.349755395602401,{"$f":"I53-#REF!","v":{"$error":"#REF!"}}]
["Current","Huonville",{"$error":"#REF!"},{"$error":"#REF!"},92.574582600728306,{"$f":"E54-#REF!","v":{"$error":"#REF!"}},null,null,92.574582600728306,{"$f":"I54-#REF!","v":{"$error":"#REF!"}}]
["Current","Huonville",{"$error":"#REF!"},{"$error":"#REF!"},89.109929809696297,{"$f":"E55-#REF!","v":{"$error":"#REF!"}},null,null,89.109929809696297,{"$f":"I55-#REF!","v":{"$error":"#REF!"}}]
["Current","Huonville",{"$error":"#REF!"},{"$error":"#REF!"},85.4182180171276,{"$f":"E56-#REF!","v":{"$error":"#REF!"}},null,null,85.4182180171276,{"$f":"I56-#REF!","v":{"$error":"#REF!"}}]
["Current","Huonville",{"$error":"#REF!"},{"$error":"#REF!"},89.357358615595899,{"$f":"E57-#REF!","v":{"$error":"#REF!"}},null,null,89.357358615595899,{"$f":"I57-#REF!","v":{"$error":"#REF!"}}]
["Current","Huonville",{"$error":"#REF!"},{"$error":"#REF!"},82.963705957580103,{"$f":"E58-#REF!","v":{"$error":"#REF!"}},null,null,82.963705957580103,{"$f":"I58-#REF!","v":{"$error":"#REF!"}}]
["Current","Huonville",{"$error":"#REF!"},{"$error":"#REF!"},88.919304105530401,{"$f":"E59-#REF!","v":{"$error":"#REF!"}},null,null,88.919304105530401,{"$f":"I59-#REF!","v":{"$error":"#REF!"}}]
["Current","Huonville",{"$error":"#REF!"},{"$error":"#REF!"},87.5222037067321,{"$f":"E60-#REF!","v":{"$error":"#REF!"}},null,null,87.5222037067321,{"$f":"I60-#REF!","v":{"$error":"#REF!"}}]
["Current","Huonville",{"$error":"#REF!"},{"$error":"#REF!"},88.632287731196499,{"$f":"E61-#REF!","v":{"$error":"#REF!"}},null,null,88.632287731196499,{"$f":"I61-#REF!","v":{"$error":"#REF!"}}]
["Current","Huonville",{"$error":"#REF!"},{"$error":"#REF!"},90.571640022284996,{"$f":"E62-#REF!","v":{"$error":"#REF!"}},null,null,90.571640022284996,{"$f":"I62-#REF!","v":{"$error":"#REF!"}}]
["Current","Huonville",{"$error":"#REF!"},{"$error":"#REF!"},83.967790776301797,{"$f":"E63-#REF!","v":{"$error":"#REF!"}},null,null,83.967790776301797,{"$f":"I63-#REF!","v":{"$error":"#REF!"}}]
["Current","Huonville",{"$error":"#REF!"},{"$error":"#REF!"},88.655285891078904,{"$f":"E64-#REF!","v":{"$error":"#REF!"}},null,null,88.655285891078904,{"$f":"I64-#REF!","v":{"$error":"#REF!"}}]
["Current","Huonville",{"$error":"#REF!"},{"$error":"#REF!"},90.191745653249697,{"$f":"E65-#REF!","v":{"$error":"#REF!"}},null,null,90.191745653249697,{"$f":"I65-#REF!","v":{"$error":"#REF!"}}]
["Current","Huonville",{"$f":"IF(F66>0,1,0)/99","v":{"$error":"#REF!"}},{"$f":"IF(J66>0,1,0)/99","v":{"$error":"#REF!"}},88.558247074861399,{"$f":"E66-#REF!","v":{"$error":"#REF!"}},null,null,88.558247074861399,{"$f":"I66-#REF!","v":{"$error":"#REF!"}}]
["Current","Huonville",{"$error":"#REF!"},{"$error":"#REF!"},86.200516044913698,{"$f":"E67-#REF!","v":{"$error":"#REF!"}},null,null,86.200516044913698,{"$f":"I67-#REF!","v":{"$error":"#REF!"}}]
["Current","Huonville",{"$error":"#REF!"},{"$error":"#REF!"},89.570327441225103,{"$f":"E68-#REF!","v":{"$error":"#REF!"}},null,null,89.570327441225103,{"$f":"I68-#REF!","v":{"$error":"#REF!"}}]
["Current","Huonville",{"$error":"#REF!"},{"$error":"#REF!"},87.254277125795298,{"$f":"E69-#REF!","v":{"$error":"#REF!"}},null,null,87.254277125795298,{"$f":"I69-#REF!","v":{"$error":"#REF!"}}]
["Current","Huonville",{"$error":"#REF!"},{"$error":"#REF!"},88.528762846070407,{"$f":"E70-#REF!","v":{"$error":"#REF!"}},null,null,88.528762846070407,{"$f":"I70-#REF!","v":{"$error":"#REF!"}}]
["Current","Huonville",{"$error":"#REF!"},{"$error":"#REF!"},84.170663350658302,{"$f":"E71-#REF!","v":{"$error":"#REF!"}},null,null,84.170663350658302,{"$f":"I71-#REF!","v":{"$error":"#REF!"}}]
["Current","Huonville",{"$error":"#REF!"},{"$error":"#REF!"},89.092269921529507,{"$f":"E72-#REF!","v":{"$error":"#REF!"}},null,null,89.092269921529507,{"$f":"I72-#REF!","v":{"$error":"#REF!"}}]
["Current","Huonville",{"$error":"#REF!"},{"$error":"#REF!"},87.389297634974,{"$f":"E73-#REF!","v":{"$error":"#REF!"}},null,null,87.389297634974,{"$f":"I73-#REF!","v":{"$error":"#REF!"}}]
["Current","Huonville",{"$error":"#REF!"},{"$error":"#REF!"},88.421085322323805,{"$f":"E74-#REF!","v":{"$error":"#REF!"}},null,null,88.421085322323805,{"$f":"I74-#REF!","v":{"$error":"#REF!"}}]
["Current","Huonville",{"$error":"#REF!"},{"$error":"#REF!"},92.071127427214407,{"$f":"E75-#REF!","v":{"$error":"#REF!"}},null,null,92.071127427214407,{"$f":"I75-#REF!","v":{"$error":"#REF!"}}]
["Current","Huonville",{"$error":"#REF!"},{"$error":"#REF!"},87.7859943728226,{"$f":"E76-#REF!","v":{"$error":"#REF!"}},null,null,87.7859943728226,{"$f":"I76-#REF!","v":{"$error":"#REF!"}}]
["Current","Huonville",{"$error":"#REF!"},{"$error":"#REF!"},90.374050514900901,{"$f":"E77-#REF!","v":{"$error":"#REF!"}},null,null,90.374050514900901,{"$f":"I77-#REF!","v":{"$error":"#REF!"}}]
["Current","Huonville",{"$error":"#REF!"},{"$error":"#REF!"},85.920951531170402,{"$f":"E78-#REF!","v":{"$error":"#REF!"}},null,null,85.920951531170402,{"$f":"I78-#REF!","v":{"$error":"#REF!"}}]
["Current","Huonville",{"$error":"#REF!"},{"$error":"#REF!"},86.381344335933704,{"$f":"E79-#REF!","v":{"$error":"#REF!"}},null,null,86.381344335933704,{"$f":"I79-#REF!","v":{"$error":"#REF!"}}]
["Current","Huonville",{"$error":"#REF!"},{"$error":"#REF!"},86.8867265133606,{"$f":"E80-#REF!","v":{"$error":"#REF!"}},null,null,86.8867265133606,{"$f":"I80-#REF!","v":{"$error":"#REF!"}}]
["Current","Huonville",{"$error":"#REF!"},{"$error":"#REF!"},87.704074759800406,{"$f":"E81-#REF!","v":{"$error":"#REF!"}},null,null,87.704074759800406,{"$f":"I81-#REF!","v":{"$error":"#REF!"}}]
["Current","Huonville",{"$error":"#REF!"},{"$error":"#REF!"},91.352072160259397,{"$f":"E82-#REF!","v":{"$error":"#REF!"}},null,null,91.352072160259397,{"$f":"I82-#REF!","v":{"$error":"#REF!"}}]
["Current","Huonville",{"$error":"#REF!"},{"$error":"#REF!"},87.732760446196707,{"$f":"E83-#REF!","v":{"$error":"#REF!"}},null,null,87.732760446196707,{"$f":"I83-#REF!","v":{"$error":"#REF!"}}]
["Current","Huonville",{"$error":"#REF!"},{"$error":"#REF!"},87.278787589749001,{"$f":"E84-#REF!","v":{"$error":"#REF!"}},null,null,87.278787589749001,{"$f":"I84-#REF!","v":{"$error":"#REF!"}}]
["Current","Huonville",{"$error":"#REF!"},{"$error":"#REF!"},88.621104495465602,{"$f":"E85-#REF!","v":{"$error":"#REF!"}},null,null,88.621104495465602,{"$f":"I85-#REF!","v":{"$error":"#REF!"}}]
["Current","Huonville",{"$error":"#REF!"},{"$error":"#REF!"},89.568977711544804,{"$f":"E86-#REF!","v":{"$error":"#REF!"}},null,null,89.568977711544804,{"$f":"I86-#REF!","v":{"$error":"#REF!"}}]
["Current","Huonville",{"$error":"#REF!"},{"$error":"#REF!"},89.988456207110204,{"$f":"E87-#REF!","v":{"$error":"#REF!"}},null,null,89.988456207110204,{"$f":"I87-#REF!","v":{"$error":"#REF!"}}]
["Current","Huonville",{"$error":"#REF!"},{"$error":"#REF!"},88.110583104328498,{"$f":"E88-#REF!","v":{"$error":"#REF!"}},null,null,88.110583104328498,{"$f":"I88-#REF!","v":{"$error":"#REF!"}}]
["Current","Huonville",{"$error":"#REF!"},{"$error":"#REF!"},88.779420187855393,{"$f":"E89-#REF!","v":{"$error":"#REF!"}},null,null,88.779420187855393,{"$f":"I89-#REF!","v":{"$error":"#REF!"}}]
["Current","Huonville",{"$error":"#REF!"},{"$error":"#REF!"},84.358078730574803,{"$f":"E90-#REF!","v":{"$error":"#REF!"}},null,null,84.358078730574803,{"$f":"I90-#REF!","v":{"$error":"#REF!"}}]
["Current","Huonville",{"$error":"#REF!"},{"$error":"#REF!"},88.679220354928205,{"$f":"E91-#REF!","v":{"$error":"#REF!"}},null,null,88.679220354928205,{"$f":"I91-#REF!","v":{"$error":"#REF!"}}]
["Current","Huonville",{"$error":"#REF!"},{"$error":"#REF!"},90.071348655773804,{"$f":"E92-#REF!","v":{"$error":"#REF!"}},null,null,90.071348655773804,{"$f":"I92-#REF!","v":{"$error":"#REF!"}}]
["Current","Huonville",{"$error":"#REF!"},{"$error":"#REF!"},84.507988191208597,{"$f":"E93-#REF!","v":{"$error":"#REF!"}},null,null,84.507988191208597,{"$f":"I93-#REF!","v":{"$error":"#REF!"}}]
["Current","Huonville",{"$error":"#REF!"},{"$error":"#REF!"},86.974794471704598,{"$f":"E94-#REF!","v":{"$error":"#REF!"}},null,null,86.974794471704598,{"$f":"I94-#REF!","v":{"$error":"#REF!"}}]
["Current","Huonville",{"$error":"#REF!"},{"$error":"#REF!"},91.5826994185567,{"$f":"E95-#REF!","v":{"$error":"#REF!"}},null,null,91.5826994185567,{"$f":"I95-#REF!","v":{"$error":"#REF!"}}]
["Current","Huonville",{"$error":"#REF!"},{"$error":"#REF!"},83.166576143585701,{"$f":"E96-#REF!","v":{"$error":"#REF!"}},null,null,83.166576143585701,{"$f":"I96-#REF!","v":{"$error":"#REF!"}}]
["Current","Huonville",{"$error":"#REF!"},{"$error":"#REF!"},89.884582590871801,{"$f":"E97-#REF!","v":{"$error":"#REF!"}},null,null,89.884582590871801,{"$f":"I97-#REF!","v":{"$error":"#REF!"}}]
["Current","Huonville",{"$error":"#REF!"},{"$error":"#REF!"},81.979240534957697,{"$f":"E98-#REF!","v":{"$error":"#REF!"}},null,null,81.979240534957697,{"$f":"I98-#REF!","v":{"$error":"#REF!"}}]
["Current","Huonville",{"$error":"#REF!"},{"$error":"#REF!"},89.072716173508297,{"$f":"E99-#REF!","v":{"$error":"#REF!"}},null,null,89.072716173508297,{"$f":"I99-#REF!","v":{"$error":"#REF!"}}]
["Current","Huonville",{"$error":"#REF!"},{"$error":"#REF!"},88.530150586131597,{"$f":"E100-#REF!","v":{"$error":"#REF!"}},null,null,88.530150586131597,{"$f":"I100-#REF!","v":{"$error":"#REF!"}}]
["Current","Lenswood",{"$error":"#REF!"},{"$error":"#REF!"},86.086587751088302,{"$f":"E101-#REF!","v":{"$error":"#REF!"}},null,null,86.086587751088302,{"$f":"I101-#REF!","v":{"$error":"#REF!"}}]
["Current","Lenswood",{"$error":"#REF!"},{"$error":"#REF!"},86.000369980176103,{"$f":"E102-#REF!","v":{"$error":"#REF!"}},null,null,86.000369980176103,{"$f":"I102-#REF!","v":{"$error":"#REF!"}}]
["Current","Lenswood",{"$error":"#REF!"},{"$error":"#REF!"},89.827970410337699,{"$f":"E103-#REF!","v":{"$error":"#REF!"}},null,null,89.827970410337699,{"$f":"I103-#REF!","v":{"$error":"#REF!"}}]
["Current","Lenswood",{"$error":"#REF!"},{"$error":"#REF!"},77.159011235444893,{"$f":"E104-#REF!","v":{"$error":"#REF!"}},null,null,77.159011235444893,{"$f":"I104-#REF!","v":{"$error":"#REF!"}}]
["Current","Lenswood",{"$error":"#REF!"},{"$error":"#REF!"},89.031137933742102,{"$f":"E105-#REF!","v":{"$error":"#REF!"}},null,null,89.031137933742102,{"$f":"I105-#REF!","v":{"$error":"#REF!"}}]
["Current","Lenswood",{"$error":"#REF!"},{"$error":"#REF!"},88.636521968715499,{"$f":"E106-#REF!","v":{"$error":"#REF!"}},null,null,88.636521968715499,{"$f":"I106-#REF!","v":{"$error":"#REF!"}}]
["Current","Lenswood",{"$error":"#REF!"},{"$error":"#REF!"},90.141248449206003,{"$f":"E107-#REF!","v":{"$error":"#REF!"}},null,null,90.141248449206003,{"$f":"I107-#REF!","v":{"$error":"#REF!"}}]
["Current","Lenswood",{"$error":"#REF!"},{"$error":"#REF!"},83.672831806707904,{"$f":"E108-#REF!","v":{"$error":"#REF!"}},null,null,83.672831806707904,{"$f":"I108-#REF!","v":{"$error":"#REF!"}}]
["Current","Lenswood",{"$error":"#REF!"},{"$error":"#REF!"},79.633863554910803,{"$f":"E109-#REF!","v":{"$error":"#REF!"}},null,null,79.633863554910803,{"$f":"I109-#REF!","v":{"$error":"#REF!"}}]
["Current","Lenswood",{"$error":"#REF!"},{"$error":"#REF!"},89.613767518023195,{"$f":"E110-#REF!","v":{"$error":"#REF!"}},null,null,89.613767518023195,{"$f":"I110-#REF!","v":{"$error":"#REF!"}}]
["Current","Lenswood",{"$error":"#REF!"},{"$error":"#REF!"},77.387322787865401,{"$f":"E111-#REF!","v":{"$error":"#REF!"}},null,null,77.387322787865401,{"$f":"I111-#REF!","v":{"$error":"#REF!"}}]
["Current","Lenswood",{"$error":"#REF!"},{"$error":"#REF!"},88.110255536968594,{"$f":"E112-#REF!","v":{"$error":"#REF!"}},null,null,88.110255536968594,{"$f":"I112-#REF!","v":{"$error":"#REF!"}}]
["Current","Lenswood",{"$error":"#REF!"},{"$error":"#REF!"},85.198356553803194,{"$f":"E113-#REF!","v":{"$error":"#REF!"}},null,null,85.198356553803194,{"$f":"I113-#REF!","v":{"$error":"#REF!"}}]
["Current","Lenswood",{"$error":"#REF!"},{"$error":"#REF!"},85.198259607426493,{"$f":"E114-#REF!","v":{"$error":"#REF!"}},null,null,85.198259607426493,{"$f":"I114-#REF!","v":{"$error":"#REF!"}}]
["Current","Lenswood",{"$error":"#REF!"},{"$error":"#REF!"},90.421018145747396,{"$f":"E115-#REF!","v":{"$error":"#REF!"}},null,null,90.421018145747396,{"$f":"I115-#REF!","v":{"$error":"#REF!"}}]
["Current","Lenswood",{"$error":"#REF!"},{"$error":"#REF!"},92.714358199402,{"$f":"E116-#REF!","v":{"$error":"#REF!"}},null,null,92.714358199402,{"$f":"I116-#REF!","v":{"$error":"#REF!"}}]
["Current","Lenswood",{"$error":"#REF!"},{"$error":"#REF!"},89.667077086568298,{"$f":"E117-#REF!","v":{"$error":"#REF!"}},null,null,89.667077086568298,{"$f":"I117-#REF!","v":{"$error":"#REF!"}}]
["Current","Lenswood",{"$error":"#REF!"},{"$error":"#REF!"},85.959451525409307,{"$f":"E118-#REF!","v":{"$error":"#REF!"}},null,null,85.959451525409307,{"$f":"I118-#REF!","v":{"$error":"#REF!"}}]
["Current","Lenswood",{"$error":"#REF!"},{"$error":"#REF!"},88.039753589563901,{"$f":"E119-#REF!","v":{"$error":"#REF!"}},null,null,88.039753589563901,{"$f":"I119-#REF!","v":{"$error":"#REF!"}}]
["Current","Lenswood",{"$error":"#REF!"},{"$error":"#REF!"},84.735840816031697,{"$f":"E120-#REF!","v":{"$error":"#REF!"}},null,null,84.735840816031697,{"$f":"I120-#REF!","v":{"$error":"#REF!"}}]
["Current","Lenswood",{"$error":"#REF!"},{"$error":"#REF!"},91.885378983492402,{"$f":"E121-#REF!","v":{"$error":"#REF!"}},null,null,91.885378983492402,{"$f":"I121-#REF!","v":{"$error":"#REF!"}}]
["Current","Lenswood",{"$error":"#REF!"},{"$error":"#REF!"},83.4864396528546,{"$f":"E122-#REF!","v":{"$error":"#REF!"}},null,null,83.4864396528546,{"$f":"I122-#REF!","v":{"$error":"#REF!"}}]
["Current","Lenswood",{"$error":"#REF!"},{"$error":"#REF!"},88.210129833585,{"$f":"E123-#REF!","v":{"$error":"#REF!"}},null,null,88.210129833585,{"$f":"I123-#REF!","v":{"$error":"#REF!"}}]
["Current","Lenswood",{"$error":"#REF!"},{"$error":"#REF!"},79.838145182612607,{"$f":"E124-#REF!","v":{"$error":"#REF!"}},null,null,79.838145182612607,{"$f":"I124-#REF!","v":{"$error":"#REF!"}}]
["Current","Lenswood",{"$error":"#REF!"},{"$error":"#REF!"},88.593620609653996,{"$f":"E125-#REF!","v":{"$error":"#REF!"}},null,null,88.593620609653996,{"$f":"I125-#REF!","v":{"$error":"#REF!"}}]
["Current","Lenswood",{"$error":"#REF!"},{"$error":"#REF!"},84.488287823691806,{"$f":"E126-#REF!","v":{"$error":"#REF!"}},null,null,84.488287823691806,{"$f":"I126-#REF!","v":{"$error":"#REF!"}}]
["Current","Lenswood",{"$error":"#REF!"},{"$error":"#REF!"},86.652645640084103,{"$f":"E127-#REF!","v":{"$error":"#REF!"}},null,null,86.652645640084103,{"$f":"I127-#REF!","v":{"$error":"#REF!"}}]
["Current","Lenswood",{"$error":"#REF!"},{"$error":"#REF!"},87.971655458052098,{"$f":"E128-#REF!","v":{"$error":"#REF!"}},null,null,87.971655458052098,{"$f":"I128-#REF!","v":{"$error":"#REF!"}}]
["Current","Lenswood",{"$error":"#REF!"},{"$error":"#REF!"},83.967878440816094,{"$f":"E129-#REF!","v":{"$error":"#REF!"}},null,null,83.967878440816094,{"$f":"I129-#REF!","v":{"$error":"#REF!"}}]
["Current","Lenswood",{"$f":"IF(F130>0,1,0)/99","v":{"$error":"#REF!"}},{"$f":"IF(J130>0,1,0)/99","v":{"$error":"#REF!"}},91.496931037817603,{"$f":"E130-#REF!","v":{"$error":"#REF!"}},null,null,91.496931037817603,{"$f":"I130-#REF!","v":{"$error":"#REF!"}}]
["Current","Lenswood",{"$error":"#REF!"},{"$error":"#REF!"},85.268985099938106,{"$f":"E131-#REF!","v":{"$error":"#REF!"}},null,null,85.268985099938106,{"$f":"I131-#REF!","v":{"$error":"#REF!"}}]
["Current","Lenswood",{"$error":"#REF!"},{"$error":"#REF!"},83.586250294708407,{"$f":"E132-#REF!","v":{"$error":"#REF!"}},null,null,83.586250294708407,{"$f":"I132-#REF!","v":{"$error":"#REF!"}}]
["Current","Lenswood",{"$error":"#REF!"},{"$error":"#REF!"},92.773014542898906,{"$f":"E133-#REF!","v":{"$error":"#REF!"}},null,null,92.773014542898906,{"$f":"I133-#REF!","v":{"$error":"#REF!"}}]
["Current","Lenswood",{"$error":"#REF!"},{"$error":"#REF!"},90.609616928992907,{"$f":"E134-#REF!","v":{"$error":"#REF!"}},null,null,90.609616928992907,{"$f":"I134-#REF!","v":{"$error":"#REF!"}}]
["Current","Lenswood",{"$error":"#REF!"},{"$error":"#REF!"},81.414550793420801,{"$f":"E135-#REF!","v":{"$error":"#REF!"}},null,null,81.414550793420801,{"$f":"I135-#REF!","v":{"$error":"#REF!"}}]
["Current","Lenswood",{"$error":"#REF!"},{"$error":"#REF!"},87.518670176490005,{"$f":"E136-#REF!","v":{"$error":"#REF!"}},null,null,87.518670176490005,{"$f":"I136-#REF!","v":{"$error":"#REF!"}}]
["Current","Lenswood",{"$error":"#REF!"},{"$error":"#REF!"},82.073703250663996,{"$f":"E137-#REF!","v":{"$error":"#REF!"}},null,null,82.073703250663996,{"$f":"I137-#REF!","v":{"$error":"#REF!"}}]
["Current","Lenswood",{"$error":"#REF!"},{"$error":"#REF!"},88.921631889363994,{"$f":"E138-#REF!","v":{"$error":"#REF!"}},null,null,88.921631889363994,{"$f":"I138-#REF!","v":{"$error":"#REF!"}}]
["Current","Lenswood",{"$error":"#REF!"},{"$error":"#REF!"},88.904125917152697,{"$f":"E139-#REF!","v":{"$error":"#REF!"}},null,null,88.904125917152697,{"$f":"I139-#REF!","v":{"$error":"#REF!"}}]
["Current","Lenswood",{"$error":"#REF!"},{"$error":"#REF!"},81.865299722461998,{"$f":"E140-#REF!","v":{"$error":"#REF!"}},null,null,81.865299722461998,{"$f":"I140-#REF!","v":{"$error":"#REF!"}}]
["Current","Lenswood",{"$error":"#REF!"},{"$error":"#REF!"},89.254818807385305,{"$f":"E141-#REF!","v":{"$error":"#REF!"}},null,null,89.254818807385305,{"$f":"I141-#REF!","v":{"$error":"#REF!"}}]
["Current","Lenswood",{"$error":"#REF!"},{"$error":"#REF!"},89.861624673869699,{"$f":"E142-#REF!","v":{"$error":"#REF!"}},null,null,89.861624673869699,{"$f":"I142-#REF!","v":{"$error":"#REF!"}}]
["Current","Lenswood",{"$error":"#REF!"},{"$error":"#REF!"},88.581035645072006,{"$f":"E143-#REF!","v":{"$error":"#REF!"}},null,null,88.581035645072006,{"$f":"I143-#REF!","v":{"$error":"#REF!"}}]
["Current","Lenswood",{"$error":"#REF!"},{"$error":"#REF!"},83.3157847997483,{"$f":"E144-#REF!","v":{"$error":"#REF!"}},null,null,83.3157847997483,{"$f":"I144-#REF!","v":{"$error":"#REF!"}}]
["Current","Lenswood",{"$error":"#REF!"},{"$error":"#REF!"},90.495892398890106,{"$f":"E145-#REF!","v":{"$error":"#REF!"}},null,null,90.495892398890106,{"$f":"I145-#REF!","v":{"$error":"#REF!"}}]
["Current","Lenswood",{"$error":"#REF!"},{"$error":"#REF!"},90.088069248077801,{"$f":"E146-#REF!","v":{"$error":"#REF!"}},null,null,90.088069248077801,{"$f":"I146-#REF!","v":{"$error":"#REF!"}}]
["Current","Lenswood",{"$error":"#REF!"},{"$error":"#REF!"},76.094245415760597,{"$f":"E147-#REF!","v":{"$error":"#REF!"}},null,null,76.094245415760597,{"$f":"I147-#REF!","v":{"$error":"#REF!"}}]
["Current","Lenswood",{"$error":"#REF!"},{"$error":"#REF!"},79.394111561474602,{"$f":"E148-#REF!","v":{"$error":"#REF!"}},null,null,79.394111561474602,{"$f":"I148-#REF!","v":{"$error":"#REF!"}}]
["Current","Lenswood",{"$error":"#REF!"},{"$error":"#REF!"},80.3195774730425,{"$f":"E149-#REF!","v":{"$error":"#REF!"}},null,null,80.3195774730425,{"$f":"I149-#REF!","v":{"$error":"#REF!"}}]
["Current","Lenswood",{"$error":"#REF!"},{"$error":"#REF!"},94.866242901808505,{"$f":"E150-#REF!","v":{"$error":"#REF!"}},null,null,94.866242901808505,{"$f":"I150-#REF!","v":{"$error":"#REF!"}}]
["Current","Lenswood",{"$error":"#REF!"},{"$error":"#REF!"},85.525887217897207,{"$f":"E151-#REF!","v":{"$error":"#REF!"}},null,null,85.525887217897207,{"$f":"I151-#REF!","v":{"$error":"#REF!"}}]
["Current","Lenswood",{"$error":"#REF!"},{"$error":"#REF!"},87.043898867675594,{"$f":"E152-#REF!","v":{"$error":"#REF!"}},null,null,87.043898867675594,{"$f":"I152-#REF!","v":{"$error":"#REF!"}}]
["Current","Lenswood",{"$error":"#REF!"},{"$error":"#REF!"},85.537169738201399,{"$f":"E153-#REF!","v":{"$error":"#REF!"}},null,null,85.537169738201399,{"$f":"I153-#REF!","v":{"$error":"#REF!"}}]
["Current","Lenswood",{"$error":"#REF!"},{"$error":"#REF!"},85.840295153550699,{"$f":"E154-#REF!","v":{"$error":"#REF!"}},null,null,85.840295153550699,{"$f":"I154-#REF!","v":{"$error":"#REF!"}}]
["Current","Lenswood",{"$error":"#REF!"},{"$error":"#REF!"},82.065468062931899,{"$f":"E155-#REF!","v":{"$error":"#REF!"}},null,null,82.065468062931899,{"$f":"I155-#REF!","v":{"$error":"#REF!"}}]
["Current","Lenswood",{"$error":"#REF!"},{"$error":"#REF!"},87.938955503728195,{"$f":"E156-#REF!","v":{"$error":"#REF!"}},null,null,87.938955503728195,{"$f":"I156-#REF!","v":{"$error":"#REF!"}}]
["Current","Lenswood",{"$error":"#REF!"},{"$error":"#REF!"},81.554313189408504,{"$f":"E157-#REF!","v":{"$error":"#REF!"}},null,null,81.554313189408504,{"$f":"I157-#REF!","v":{"$error":"#REF!"}}]
["Current","Lenswood",{"$error":"#REF!"},{"$error":"#REF!"},92.880885584001703,{"$f":"E158-#REF!","v":{"$error":"#REF!"}},null,null,92.880885584001703,{"$f":"I158-#REF!","v":{"$error":"#REF!"}}]
["Current","Lenswood",{"$error":"#REF!"},{"$error":"#REF!"},88.067734809525206,{"$f":"E159-#REF!","v":{"$error":"#REF!"}},null,null,88.067734809525206,{"$f":"I159-#REF!","v":{"$error":"#REF!"}}]
["Current","Lenswood",{"$error":"#REF!"},{"$error":"#REF!"},91.678493427733002,{"$f":"E160-#REF!","v":{"$error":"#REF!"}},null,null,91.678493427733002,{"$f":"I160-#REF!","v":{"$error":"#REF!"}}]
["Current","Lenswood",{"$error":"#REF!"},{"$error":"#REF!"},94.529320762386007,{"$f":"E161-#REF!","v":{"$error":"#REF!"}},null,null,94.529320762386007,{"$f":"I161-#REF!","v":{"$error":"#REF!"}}]
["Current","Lenswood",{"$error":"#REF!"},{"$error":"#REF!"},86.190366929125702,{"$f":"E162-#REF!","v":{"$error":"#REF!"}},null,null,86.190366929125702,{"$f":"I162-#REF!","v":{"$error":"#REF!"}}]
["Current","Lenswood",{"$error":"#REF!"},{"$error":"#REF!"},83.113760167576203,{"$f":"E163-#REF!","v":{"$error":"#REF!"}},null,null,83.113760167576203,{"$f":"I163-#REF!","v":{"$error":"#REF!"}}]
["Current","Lenswood",{"$error":"#REF!"},{"$error":"#REF!"},87.019885957665593,{"$f":"E164-#REF!","v":{"$error":"#REF!"}},null,null,87.019885957665593,{"$f":"I164-#REF!","v":{"$error":"#REF!"}}]
["Current","Lenswood",{"$error":"#REF!"},{"$error":"#REF!"},82.149109728910503,{"$f":"E165-#REF!","v":{"$error":"#REF!"}},null,null,82.149109728910503,{"$f":"I165-#REF!","v":{"$error":"#REF!"}}]
["Current","Lenswood",{"$error":"#REF!"},{"$error":"#REF!"},88.435682526085003,{"$f":"E166-#REF!","v":{"$error":"#REF!"}},null,null,88.435682526085003,{"$f":"I166-#REF!","v":{"$error":"#REF!"}}]
["Current","Lenswood",{"$error":"#REF!"},{"$error":"#REF!"},84.933061044621994,{"$f":"E167-#REF!","v":{"$error":"#REF!"}},null,null,84.933061044621994,{"$f":"I167-#REF!","v":{"$error":"#REF!"}}]
["Current","Lenswood",{"$error":"#REF!"},{"$error":"#REF!"},89.873832058595994,{"$f":"E168-#REF!","v":{"$error":"#REF!"}},null,null,89.873832058595994,{"$f":"I168-#REF!","v":{"$error":"#REF!"}}]
["Current","Lenswood",{"$error":"#REF!"},{"$error":"#REF!"},90.733309056948599,{"$f":"E169-#REF!","v":{"$error":"#REF!"}},null,null,90.733309056948599,{"$f":"I169-#REF!","v":{"$error":"#REF!"}}]
["Current","Lenswood",{"$error":"#REF!"},{"$error":"#REF!"},83.493426072385503,{"$f":"E170-#REF!","v":{"$error":"#REF!"}},null,null,83.493426072385503,{"$f":"I170-#REF!","v":{"$error":"#REF!"}}]
["Current","Lenswood",{"$error":"#REF!"},{"$error":"#REF!"},90.832905463556003,{"$f":"E171-#REF!","v":{"$error":"#REF!"}},null,null,90.832905463556003,{"$f":"I171-#REF!","v":{"$error":"#REF!"}}]
["Current","Lenswood",{"$error":"#REF!"},{"$error":"#REF!"},83.0617067447442,{"$f":"E172-#REF!","v":{"$error":"#REF!"}},null,null,83.0617067447442,{"$f":"I172-#REF!","v":{"$error":"#REF!"}}]
["Current","Lenswood",{"$error":"#REF!"},{"$error":"#REF!"},89.132925433547001,{"$f":"E173-#REF!","v":{"$error":"#REF!"}},null,null,89.132925433547001,{"$f":"I173-#REF!","v":{"$error":"#REF!"}}]
["Current","Lenswood",{"$error":"#REF!"},{"$error":"#REF!"},86.366352110156996,{"$f":"E174-#REF!","v":{"$error":"#REF!"}},null,null,86.366352110156996,{"$f":"I174-#REF!","v":{"$error":"#REF!"}}]
["Current","Lenswood",{"$error":"#REF!"},{"$error":"#REF!"},88.197823015608904,{"$f":"E175-#REF!","v":{"$error":"#REF!"}},null,null,88.197823015608904,{"$f":"I175-#REF!","v":{"$error":"#REF!"}}]
["Current","Lenswood",{"$error":"#REF!"},{"$error":"#REF!"},89.3284049821373,{"$f":"E176-#REF!","v":{"$error":"#REF!"}},null,null,89.3284049821373,{"$f":"I176-#REF!","v":{"$error":"#REF!"}}]
["Current","Lenswood",{"$error":"#REF!"},{"$error":"#REF!"},86.5278120700589,{"$f":"E177-#REF!","v":{"$error":"#REF!"}},null,null,86.5278120700589,{"$f":"I177-#REF!","v":{"$error":"#REF!"}}]
["Current","Lenswood",{"$error":"#REF!"},{"$error":"#REF!"},80.796374258423299,{"$f":"E178-#REF!","v":{"$error":"#REF!"}},null,null,80.796374258423299,{"$f":"I178-#REF!","v":{"$error":"#REF!"}}]
["Current","Lenswood",{"$error":"#REF!"},{"$error":"#REF!"},89.478532837735898,{"$f":"E179-#REF!","v":{"$error":"#REF!"}},null,null,89.478532837735898,{"$f":"I179-#REF!","v":{"$error":"#REF!"}}]
["Current","Lenswood",{"$error":"#REF!"},{"$error":"#REF!"},84.428253214121298,{"$f":"E180-#REF!","v":{"$error":"#REF!"}},null,null,84.428253214121298,{"$f":"I180-#REF!","v":{"$error":"#REF!"}}]
["Current","Lenswood",{"$error":"#REF!"},{"$error":"#REF!"},86.656462870179595,{"$f":"E181-#REF!","v":{"$error":"#REF!"}},null,null,86.656462870179595,{"$f":"I181-#REF!","v":{"$error":"#REF!"}}]
["Current","Lenswood",{"$error":"#REF!"},{"$error":"#REF!"},88.543436390603404,{"$f":"E182-#REF!","v":{"$error":"#REF!"}},null,null,88.543436390603404,{"$f":"I182-#REF!","v":{"$error":"#REF!"}}]
["Current","Lenswood",{"$error":"#REF!"},{"$error":"#REF!"},79.642912370857402,{"$f":"E183-#REF!","v":{"$error":"#REF!"}},null,null,79.642912370857402,{"$f":"I183-#REF!","v":{"$error":"#REF!"}}]
["Current","Lenswood",{"$error":"#REF!"},{"$error":"#REF!"},86.599020569592696,{"$f":"E184-#REF!","v":{"$error":"#REF!"}},null,null,86.599020569592696,{"$f":"I184-#REF!","v":{"$error":"#REF!"}}]
["Current","Lenswood",{"$error":"#REF!"},{"$error":"#REF!"},87.541078770655602,{"$f":"E185-#REF!","v":{"$error":"#REF!"}},null,null,87.541078770655602,{"$f":"I185-#REF!","v":{"$error":"#REF!"}}]
["Current","Lenswood",{"$error":"#REF!"},{"$error":"#REF!"},87.196504972202504,{"$f":"E186-#REF!","v":{"$error":"#REF!"}},null,null,87.196504972202504,{"$f":"I186-#REF!","v":{"$error":"#REF!"}}]
["Current","Lenswood",{"$error":"#REF!"},{"$error":"#REF!"},88.218174048120702,{"$f":"E187-#REF!","v":{"$error":"#REF!"}},null,null,88.218174048120702,{"$f":"I187-#REF!","v":{"$error":"#REF!"}}]
["Current","Lenswood",{"$error":"#REF!"},{"$error":"#REF!"},83.877090805866104,{"$f":"E188-#REF!","v":{"$error":"#REF!"}},null,null,83.877090805866104,{"$f":"I188-#REF!","v":{"$error":"#REF!"}}]
["Current","Lenswood",{"$error":"#REF!"},{"$error":"#REF!"},81.418498621308103,{"$f":"E189-#REF!","v":{"$error":"#REF!"}},null,null,81.418498621308103,{"$f":"I189-#REF!","v":{"$error":"#REF!"}}]
["Current","Lenswood",{"$error":"#REF!"},{"$error":"#REF!"},92.097673031198596,{"$f":"E190-#REF!","v":{"$error":"#REF!"}},null,null,92.097673031198596,{"$f":"I190-#REF!","v":{"$error":"#REF!"}}]
["Current","Lenswood",{"$error":"#REF!"},{"$error":"#REF!"},86.176743766816301,{"$f":"E191-#REF!","v":{"$error":"#REF!"}},null,null,86.176743766816301,{"$f":"I191-#REF!","v":{"$error":"#REF!"}}]
["Current","Lenswood",{"$error":"#REF!"},{"$error":"#REF!"},80.990166644700395,{"$f":"E192-#REF!","v":{"$error":"#REF!"}},null,null,80.990166644700395,{"$f":"I192-#REF!","v":{"$error":"#REF!"}}]
["Current","Lenswood",{"$error":"#REF!"},{"$error":"#REF!"},87.284621427737207,{"$f":"E193-#REF!","v":{"$error":"#REF!"}},null,null,87.284621427737207,{"$f":"I193-#REF!","v":{"$error":"#REF!"}}]
["Current","Lenswood",{"$f":"IF(F194>0,1,0)/99","v":{"$error":"#REF!"}},{"$f":"IF(J194>0,1,0)/99","v":{"$error":"#REF!"}},88.438544771568203,{"$f":"E194-#REF!","v":{"$error":"#REF!"}},null,null,88.438544771568203,{"$f":"I194-#REF!","v":{"$error":"#REF!"}}]
["Current","Lenswood",{"$error":"#REF!"},{"$error":"#REF!"},75.751332662856996,{"$f":"E195-#REF!","v":{"$error":"#REF!"}},null,null,75.751332662856996,{"$f":"I195-#REF!","v":{"$error":"#REF!"}}]
["Current","Lenswood",{"$error":"#REF!"},{"$error":"#REF!"},90.026395136303094,{"$f":"E196-#REF!","v":{"$error":"#REF!"}},null,null,90.026395136303094,{"$f":"I196-#REF!","v":{"$error":"#REF!"}}]
["Current","Lenswood",{"$error":"#REF!"},{"$error":"#REF!"},79.441102046160495,{"$f":"E197-#REF!","v":{"$error":"#REF!"}},null,null,79.441102046160495,{"$f":"I197-#REF!","v":{"$error":"#REF!"}}]
["Current","Lenswood",{"$error":"#REF!"},{"$error":"#REF!"},87.595435214612806,{"$f":"E198-#REF!","v":{"$error":"#REF!"}},null,null,87.595435214612806,{"$f":"I198-#REF!","v":{"$error":"#REF!"}}]
["Current","Lenswood",{"$error":"#REF!"},{"$error":"#REF!"},85.417618188302697,{"$f":"E199-#REF!","v":{"$error":"#REF!"}},null,null,85.417618188302697,{"$f":"I199-#REF!","v":{"$error":"#REF!"}}]
["Current","Manjimup",{"$error":"#REF!"},{"$error":"#REF!"},74.142204806180601,{"$f":"E200-#REF!","v":{"$error":"#REF!"}},null,null,74.142204806180601,{"$f":"I200-#REF!","v":{"$error":"#REF!"}}]
["Current","Manjimup",{"$error":"#REF!"},{"$error":"#REF!"},60.7371412137839,{"$f":"E201-#REF!","v":{"$error":"#REF!"}},null,null,60.7371412137839,{"$f":"I201-#REF!","v":{"$error":"#REF!"}}]
["Current","Manjimup",{"$error":"#REF!"},{"$error":"#REF!"},57.724737267614799,{"$f":"E202-#REF!","v":{"$error":"#REF!"}},null,null,57.724737267614799,{"$f":"I202-#REF!","v":{"$error":"#REF!"}}]
["Current","Manjimup",{"$error":"#REF!"},{"$error":"#REF!"},69.569220185480503,{"$f":"E203-#REF!","v":{"$error":"#REF!"}},null,null,69.569220185480503,{"$f":"I203-#REF!","v":{"$error":"#REF!"}}]
["Current","Manjimup",{"$error":"#REF!"},{"$error":"#REF!"},53.914035070140002,{"$f":"E204-#REF!","v":{"$error":"#REF!"}},null,null,53.914035070140002,{"$f":"I204-#REF!","v":{"$error":"#REF!"}}]
["Current","Manjimup",{"$error":"#REF!"},{"$error":"#REF!"},71.215212591478604,{"$f":"E205-#REF!","v":{"$error":"#REF!"}},null,null,71.215212591478604,{"$f":"I205-#REF!","v":{"$error":"#REF!"}}]
["Current","Manjimup",{"$error":"#REF!"},{"$error":"#REF!"},70.227874991968093,{"$f":"E206-#REF!","v":{"$error":"#REF!"}},null,null,70.227874991968093,{"$f":"I206-#REF!","v":{"$error":"#REF!"}}]
["Current","Manjimup",{"$error":"#REF!"},{"$error":"#REF!"},64.169122568319196,{"$f":"E207-#REF!","v":{"$error":"#REF!"}},null,null,64.169122568319196,{"$f":"I207-#REF!","v":{"$error":"#REF!"}}]
["Current","Manjimup",{"$error":"#REF!"},{"$error":"#REF!"},66.402205026771597,{"$f":"E208-#REF!","v":{"$error":"#REF!"}},null,null,66.402205026771597,{"$f":"I208-#REF!","v":{"$error":"#REF!"}}]
["Current","Manjimup",{"$error":"#REF!"},{"$error":"#REF!"},74.149209536108998,{"$f":"E209-#REF!","v":{"$error":"#REF!"}},null,null,74.149209536108998,{"$f":"I209-#REF!","v":{"$error":"#REF!"}}]
["Current","Manjimup",{"$error":"#REF!"},{"$error":"#REF!"},52.231163020859199,{"$f":"E210-#REF!","v":{"$error":"#REF!"}},null,null,52.231163020859199,{"$f":"I210-#REF!","v":{"$error":"#REF!"}}]
["Current","Manjimup",{"$error":"#REF!"},{"$error":"#REF!"},73.075734598381899,{"$f":"E211-#REF!","v":{"$error":"#REF!"}},null,null,73.075734598381899,{"$f":"I211-#REF!","v":{"$error":"#REF!"}}]
["Current","Manjimup",{"$error":"#REF!"},{"$error":"#REF!"},69.160008315462804,{"$f":"E212-#REF!","v":{"$error":"#REF!"}},null,null,69.160008315462804,{"$f":"I212-#REF!","v":{"$error":"#REF!"}}]
["Current","Manjimup",{"$error":"#REF!"},{"$error":"#REF!"},68.466524253675104,{"$f":"E213-#REF!","v":{"$error":"#REF!"}},null,null,68.466524253675104,{"$f":"I213-#REF!","v":{"$error":"#REF!"}}]
["Current","Manjimup",{"$error":"#REF!"},{"$error":"#REF!"},67.325977720563301,{"$f":"E214-#REF!","v":{"$error":"#REF!"}},null,null,67.325977720563301,{"$f":"I214-#REF!","v":{"$error":"#REF!"}}]
["Current","Manjimup",{"$error":"#REF!"},{"$error":"#REF!"},70.536611355242499,{"$f":"E215-#REF!","v":{"$error":"#REF!"}},null,null,70.536611355242499,{"$f":"I215-#REF!","v":{"$error":"#REF!"}}]
["Current","Manjimup",{"$error":"#REF!"},{"$error":"#REF!"},71.7340228663614,{"$f":"E216-#REF!","v":{"$error":"#REF!"}},null,null,71.7340228663614,{"$f":"I216-#REF!","v":{"$error":"#REF!"}}]
["Current","Manjimup",{"$error":"#REF!"},{"$error":"#REF!"},65.523755382365593,{"$f":"E217-#REF!","v":{"$error":"#REF!"}},null,null,65.523755382365593,{"$f":"I217-#REF!","v":{"$error":"#REF!"}}]
["Current","Manjimup",{"$error":"#REF!"},{"$error":"#REF!"},73.465147094584296,{"$f":"E218-#REF!","v":{"$error":"#REF!"}},null,null,73.465147094584296,{"$f":"I218-#REF!","v":{"$error":"#REF!"}}]
["Current","Manjimup",{"$error":"#REF!"},{"$error":"#REF!"},57.047594924198897,{"$f":"E219-#REF!","v":{"$error":"#REF!"}},null,null,57.047594924198897,{"$f":"I219-#REF!","v":{"$error":"#REF!"}}]
["Current","Manjimup",{"$error":"#REF!"},{"$error":"#REF!"},69.709123877742897,{"$f":"E220-#REF!","v":{"$error":"#REF!"}},null,null,69.709123877742897,{"$f":"I220-#REF!","v":{"$error":"#REF!"}}]
["Current","Manjimup",{"$error":"#REF!"},{"$error":"#REF!"},66.312046048925396,{"$f":"E221-#REF!","v":{"$error":"#REF!"}},null,null,66.312046048925396,{"$f":"I221-#REF!","v":{"$error":"#REF!"}}]
["Current","Manjimup",{"$error":"#REF!"},{"$error":"#REF!"},60.706251431513003,{"$f":"E222-#REF!","v":{"$error":"#REF!"}},null,null,60.706251431513003,{"$f":"I222-#REF!","v":{"$error":"#REF!"}}]
["Current","Manjimup",{"$error":"#REF!"},{"$error":"#REF!"},59.958249767655602,{"$f":"E223-#REF!","v":{"$error":"#REF!"}},null,null,59.958249767655602,{"$f":"I223-#REF!","v":{"$error":"#REF!"}}]
["Current","Manjimup",{"$error":"#REF!"},{"$error":"#REF!"},69.497130758520797,{"$f":"E224-#REF!","v":{"$error":"#REF!"}},null,null,69.497130758520797,{"$f":"I224-#REF!","v":{"$error":"#REF!"}}]
["Current","Manjimup",{"$error":"#REF!"},{"$error":"#REF!"},66.145545444686306,{"$f":"E225-#REF!","v":{"$error":"#REF!"}},null,null,66.145545444686306,{"$f":"I225-#REF!","v":{"$error":"#REF!"}}]
["Current","Manjimup",{"$error":"#REF!"},{"$error":"#REF!"},65.508598611431907,{"$f":"E226-#REF!","v":{"$error":"#REF!"}},null,null,65.508598611431907,{"$f":"I226-#REF!","v":{"$error":"#REF!"}}]
["Current","Manjimup",{"$error":"#REF!"},{"$error":"#REF!"},72.0169792007149,{"$f":"E227-#REF!","v":{"$error":"#REF!"}},null,null,72.0169792007149,{"$f":"I227-#REF!","v":{"$error":"#REF!"}}]
["Current","Manjimup",{"$error":"#REF!"},{"$error":"#REF!"},68.168529001760803,{"$f":"E228-#REF!","v":{"$error":"#REF!"}},null,null,68.168529001760803,{"$f":"I228-#REF!","v":{"$error":"#REF!"}}]
["Current","Manjimup",{"$error":"#REF!"},{"$error":"#REF!"},58.658272349767401,{"$f":"E229-#REF!","v":{"$error":"#REF!"}},null,null,58.658272349767401,{"$f":"I229-#REF!","v":{"$error":"#REF!"}}]
["Current","Manjimup",{"$error":"#REF!"},{"$error":"#REF!"},62.74031654241,{"$f":"E230-#REF!","v":{"$error":"#REF!"}},null,null,62.74031654241,{"$f":"I230-#REF!","v":{"$error":"#REF!"}}]
["Current","Manjimup",{"$error":"#REF!"},{"$error":"#REF!"},73.1633438664133,{"$f":"E231-#REF!","v":{"$error":"#REF!"}},null,null,73.1633438664133,{"$f":"I231-#REF!","v":{"$error":"#REF!"}}]
["Current","Manjimup",{"$error":"#REF!"},{"$error":"#REF!"},74.300455916408396,{"$f":"E232-#REF!","v":{"$error":"#REF!"}},null,null,74.300455916408396,{"$f":"I232-#REF!","v":{"$error":"#REF!"}}]
["Current","Manjimup",{"$error":"#REF!"},{"$error":"#REF!"},76.863297369044403,{"$f":"E233-#REF!","v":{"$error":"#REF!"}},null,null,76.863297369044403,{"$f":"I233-#REF!","v":{"$error":"#REF!"}}]
["Current","Manjimup",{"$error":"#REF!"},{"$error":"#REF!"},60.890868540761403,{"$f":"E234-#REF!","v":{"$error":"#REF!"}},null,null,60.890868540761403,{"$f":"I234-#REF!","v":{"$error":"#REF!"}}]
["Current","Manjimup",{"$error":"#REF!"},{"$error":"#REF!"},71.071641439423303,{"$f":"E235-#REF!","v":{"$error":"#REF!"}},null,null,71.071641439423303,{"$f":"I235-#REF!","v":{"$error":"#REF!"}}]
["Current","Manjimup",{"$error":"#REF!"},{"$error":"#REF!"},66.429528239048196,{"$f":"E236-#REF!","v":{"$error":"#REF!"}},null,null,66.429528239048196,{"$f":"I236-#REF!","v":{"$error":"#REF!"}}]
["Current","Manjimup",{"$error":"#REF!"},{"$error":"#REF!"},58.832348773962799,{"$f":"E237-#REF!","v":{"$error":"#REF!"}},null,null,58.832348773962799,{"$f":"I237-#REF!","v":{"$error":"#REF!"}}]
["Current","Manjimup",{"$error":"#REF!"},{"$error":"#REF!"},55.716883626993699,{"$f":"E238-#REF!","v":{"$error":"#REF!"}},null,null,55.716883626993699,{"$f":"I238-#REF!","v":{"$error":"#REF!"}}]
["Current","Manjimup",{"$error":"#REF!"},{"$error":"#REF!"},59.401035446067603,{"$f":"E239-#REF!","v":{"$error":"#REF!"}},null,null,59.401035446067603,{"$f":"I239-#REF!","v":{"$error":"#REF!"}}]
["Current","Manjimup",{"$error":"#REF!"},{"$error":"#REF!"},67.338956133800707,{"$f":"E240-#REF!","v":{"$error":"#REF!"}},null,null,67.338956133800707,{"$f":"I240-#REF!","v":{"$error":"#REF!"}}]
["Current","Manjimup",{"$error":"#REF!"},{"$error":"#REF!"},63.785396947559903,{"$f":"E241-#REF!","v":{"$error":"#REF!"}},null,null,63.785396947559903,{"$f":"I241-#REF!","v":{"$error":"#REF!"}}]
["Current","Manjimup",{"$error":"#REF!"},{"$error":"#REF!"},63.535359128984503,{"$f":"E242-#REF!","v":{"$error":"#REF!"}},null,null,63.535359128984503,{"$f":"I242-#REF!","v":{"$error":"#REF!"}}]
["Current","Manjimup",{"$error":"#REF!"},{"$error":"#REF!"},66.748756600821096,{"$f":"E243-#REF!","v":{"$error":"#REF!"}},null,null,66.748756600821096,{"$f":"I243-#REF!","v":{"$error":"#REF!"}}]
["Current","Manjimup",{"$error":"#REF!"},{"$error":"#REF!"},75.219016455467198,{"$f":"E244-#REF!","v":{"$error":"#REF!"}},null,null,75.219016455467198,{"$f":"I244-#REF!","v":{"$error":"#REF!"}}]
["Current","Manjimup",{"$error":"#REF!"},{"$error":"#REF!"},75.354421644017606,{"$f":"E245-#REF!","v":{"$error":"#REF!"}},null,null,75.354421644017606,{"$f":"I245-#REF!","v":{"$error":"#REF!"}}]
["Current","Manjimup",{"$error":"#REF!"},{"$error":"#REF!"},62.3891828650234,{"$f":"E246-#REF!","v":{"$error":"#REF!"}},null,null,62.3891828650234,{"$f":"I246-#REF!","v":{"$error":"#REF!"}}]
["Current","Manjimup",{"$error":"#REF!"},{"$error":"#REF!"},63.662171691024199,{"$f":"E247-#REF!","v":{"$error":"#REF!"}},null,null,63.662171691024199,{"$f":"I247-#REF!","v":{"$error":"#REF!"}}]
["Current","Manjimup",{"$error":"#REF!"},{"$error":"#REF!"},54.212700808609803,{"$f":"E248-#REF!","v":{"$error":"#REF!"}},null,null,54.212700808609803,{"$f":"I248-#REF!","v":{"$error":"#REF!"}}]
["Current","Manjimup",{"$error":"#REF!"},{"$error":"#REF!"},82.094688736760006,{"$f":"E249-#REF!","v":{"$error":"#REF!"}},null,null,82.094688736760006,{"$f":"I249-#REF!","v":{"$error":"#REF!"}}]
["Current","Manjimup",{"$error":"#REF!"},{"$error":"#REF!"},59.8576731819809,{"$f":"E250-#REF!","v":{"$error":"#REF!"}},null,null,59.8576731819809,{"$f":"I250-#REF!","v":{"$error":"#REF!"}}]
["Current","Manjimup",{"$error":"#REF!"},{"$error":"#REF!"},54.316617040586301,{"$f":"E251-#REF!","v":{"$error":"#REF!"}},null,null,54.316617040586301,{"$f":"I251-#REF!","v":{"$error":"#REF!"}}]
["Current","Manjimup",{"$error":"#REF!"},{"$error":"#REF!"},61.142678701749297,{"$f":"E252-#REF!","v":{"$error":"#REF!"}},null,null,61.142678701749297,{"$f":"I252-#REF!","v":{"$error":"#REF!"}}]
["Current","Manjimup",{"$error":"#REF!"},{"$error":"#REF!"},65.988771197195305,{"$f":"E253-#REF!","v":{"$error":"#REF!"}},null,null,65.988771197195305,{"$f":"I253-#REF!","v":{"$error":"#REF!"}}]
["Current","Manjimup",{"$error":"#REF!"},{"$error":"#REF!"},70.307937618207504,{"$f":"E254-#REF!","v":{"$error":"#REF!"}},null,null,70.307937618207504,{"$f":"I254-#REF!","v":{"$error":"#REF!"}}]
["Current","Manjimup",{"$error":"#REF!"},{"$error":"#REF!"},73.134709428296105,{"$f":"E255-#REF!","v":{"$error":"#REF!"}},null,null,73.134709428296105,{"$f":"I255-#REF!","v":{"$error":"#REF!"}}]
["Current","Manjimup",{"$error":"#REF!"},{"$error":"#REF!"},68.788563094516704,{"$f":"E256-#REF!","v":{"$error":"#REF!"}},null,null,68.788563094516704,{"$f":"I256-#REF!","v":{"$error":"#REF!"}}]
["Current","Manjimup",{"$error":"#REF!"},{"$error":"#REF!"},78.346782734901595,{"$f":"E257-#REF!","v":{"$error":"#REF!"}},null,null,78.346782734901595,{"$f":"I257-#REF!","v":{"$error":"#REF!"}}]
["Current","Manjimup",{"$f":"IF(F258>0,1,0)/99","v":{"$error":"#REF!"}},{"$f":"IF(J258>0,1,0)/99","v":{"$error":"#REF!"}},66.558658192471199,{"$f":"E258-#REF!","v":{"$error":"#REF!"}},null,null,66.558658192471199,{"$f":"I258-#REF!","v":{"$error":"#REF!"}}]
["Current","Manjimup",{"$error":"#REF!"},{"$error":"#REF!"},68.729389137684905,{"$f":"E259-#REF!","v":{"$error":"#REF!"}},null,null,68.729389137684905,{"$f":"I259-#REF!","v":{"$error":"#REF!"}}]
["Current","Manjimup",{"$error":"#REF!"},{"$error":"#REF!"},76.465226834157406,{"$f":"E260-#REF!","v":{"$error":"#REF!"}},null,null,76.465226834157406,{"$f":"I260-#REF!","v":{"$error":"#REF!"}}]
["Current","Manjimup",{"$error":"#REF!"},{"$error":"#REF!"},64.904458006390101,{"$f":"E261-#REF!","v":{"$error":"#REF!"}},null,null,64.904458006390101,{"$f":"I261-#REF!","v":{"$error":"#REF!"}}]
["Current","Manjimup",{"$error":"#REF!"},{"$error":"#REF!"},73.910209825519203,{"$f":"E262-#REF!","v":{"$error":"#REF!"}},null,null,73.910209825519203,{"$f":"I262-#REF!","v":{"$error":"#REF!"}}]
["Current","Manjimup",{"$error":"#REF!"},{"$error":"#REF!"},69.894303654129502,{"$f":"E263-#REF!","v":{"$error":"#REF!"}},null,null,69.894303654129502,{"$f":"I263-#REF!","v":{"$error":"#REF!"}}]
["Current","Manjimup",{"$error":"#REF!"},{"$error":"#REF!"},69.075933131247098,{"$f":"E264-#REF!","v":{"$error":"#REF!"}},null,null,69.075933131247098,{"$f":"I264-#REF!","v":{"$error":"#REF!"}}]
["Current","Manjimup",{"$error":"#REF!"},{"$error":"#REF!"},60.6947788023122,{"$f":"E265-#REF!","v":{"$error":"#REF!"}},null,null,60.6947788023122,{"$f":"I265-#REF!","v":{"$error":"#REF!"}}]
["Current","Manjimup",{"$error":"#REF!"},{"$error":"#REF!"},60.316420384512803,{"$f":"E266-#REF!","v":{"$error":"#REF!"}},null,null,60.316420384512803,{"$f":"I266-#REF!","v":{"$error":"#REF!"}}]
["Current","Manjimup",{"$error":"#REF!"},{"$error":"#REF!"},70.071736264955206,{"$f":"E267-#REF!","v":{"$error":"#REF!"}},null,null,70.071736264955206,{"$f":"I267-#REF!","v":{"$error":"#REF!"}}]
["Current","Manjimup",{"$error":"#REF!"},{"$error":"#REF!"},72.859701727981701,{"$f":"E268-#REF!","v":{"$error":"#REF!"}},null,null,72.859701727981701,{"$f":"I268-#REF!","v":{"$error":"#REF!"}}]
["Current","Manjimup",{"$error":"#REF!"},{"$error":"#REF!"},65.882637445637997,{"$f":"E269-#REF!","v":{"$error":"#REF!"}},null,null,65.882637445637997,{"$f":"I269-#REF!","v":{"$error":"#REF!"}}]
["Current","Manjimup",{"$error":"#REF!"},{"$error":"#REF!"},76.6723782428204,{"$f":"E270-#REF!","v":{"$error":"#REF!"}},null,null,76.6723782428204,{"$f":"I270-#REF!","v":{"$error":"#REF!"}}]
["Current","Manjimup",{"$error":"#REF!"},{"$error":"#REF!"},71.703249000919399,{"$f":"E271-#REF!","v":{"$error":"#REF!"}},null,null,71.703249000919399,{"$f":"I271-#REF!","v":{"$error":"#REF!"}}]
["Current","Manjimup",{"$error":"#REF!"},{"$error":"#REF!"},58.155773789172301,{"$f":"E272-#REF!","v":{"$error":"#REF!"}},null,null,58.155773789172301,{"$f":"I272-#REF!","v":{"$error":"#REF!"}}]
["Current","Manjimup",{"$error":"#REF!"},{"$error":"#REF!"},74.600541165442905,{"$f":"E273-#REF!","v":{"$error":"#REF!"}},null,null,74.600541165442905,{"$f":"I273-#REF!","v":{"$error":"#REF!"}}]
["Current","Manjimup",{"$error":"#REF!"},{"$error":"#REF!"},64.515702757553001,{"$f":"E274-#REF!","v":{"$error":"#REF!"}},null,null,64.515702757553001,{"$f":"I274-#REF!","v":{"$error":"#REF!"}}]
["Current","Manjimup",{"$error":"#REF!"},{"$error":"#REF!"},75.766931637444799,{"$f":"E275-#REF!","v":{"$error":"#REF!"}},null,null,75.766931637444799,{"$f":"I275-#REF!","v":{"$error":"#REF!"}}]
["Current","Manjimup",{"$error":"#REF!"},{"$error":"#REF!"},65.166371892549506,{"$f":"E276-#REF!","v":{"$error":"#REF!"}},null,null,65.166371892549506,{"$f":"I276-#REF!","v":{"$error":"#REF!"}}]
["Current","Manjimup",{"$error":"#REF!"},{"$error":"#REF!"},61.832109666598903,{"$f":"E277-#REF!","v":{"$error":"#REF!"}},null,null,61.832109666598903,{"$f":"I277-#REF!","v":{"$error":"#REF!"}}]
["Current","Manjimup",{"$error":"#REF!"},{"$error":"#REF!"},67.239256292122406,{"$f":"E278-#REF!","v":{"$error":"#REF!"}},null,null,67.239256292122406,{"$f":"I278-#REF!","v":{"$error":"#REF!"}}]
["Current","Manjimup",{"$error":"#REF!"},{"$error":"#REF!"},76.932896339655201,{"$f":"E279-#REF!","v":{"$error":"#REF!"}},null,null,76.932896339655201,{"$f":"I279-#REF!","v":{"$error":"#REF!"}}]
["Current","Manjimup",{"$error":"#REF!"},{"$error":"#REF!"},62.618635558478303,{"$f":"E280-#REF!","v":{"$error":"#REF!"}},null,null,62.618635558478303,{"$f":"I280-#REF!","v":{"$error":"#REF!"}}]
["Current","Manjimup",{"$error":"#REF!"},{"$error":"#REF!"},68.057789501742107,{"$f":"E281-#REF!","v":{"$error":"#REF!"}},null,null,68.057789501742107,{"$f":"I281-#REF!","v":{"$error":"#REF!"}}]
["Current","Manjimup",{"$error":"#REF!"},{"$error":"#REF!"},75.503107241972302,{"$f":"E282-#REF!","v":{"$error":"#REF!"}},null,null,75.503107241972302,{"$f":"I282-#REF!","v":{"$error":"#REF!"}}]
["Current","Manjimup",{"$error":"#REF!"},{"$error":"#REF!"},61.090215444738703,{"$f":"E283-#REF!","v":{"$error":"#REF!"}},null,null,61.090215444738703,{"$f":"I283-#REF!","v":{"$error":"#REF!"}}]
["Current","Manjimup",{"$error":"#REF!"},{"$error":"#REF!"},69.257996781523701,{"$f":"E284-#REF!","v":{"$error":"#REF!"}},null,null,69.257996781523701,{"$f":"I284-#REF!","v":{"$error":"#REF!"}}]
["Current","Manjimup",{"$error":"#REF!"},{"$error":"#REF!"},64.865165724231602,{"$f":"E285-#REF!","v":{"$error":"#REF!"}},null,null,64.865165724231602,{"$f":"I285-#REF!","v":{"$error":"#REF!"}}]
["Current","Manjimup",{"$error":"#REF!"},{"$error":"#REF!"},64.495691262488094,{"$f":"E286-#REF!","v":{"$error":"#REF!"}},null,null,64.495691262488094,{"$f":"I286-#REF!","v":{"$error":"#REF!"}}]
["Current","Manjimup",{"$error":"#REF!"},{"$error":"#REF!"},63.372779402330202,{"$f":"E287-#REF!","v":{"$error":"#REF!"}},null,null,63.372779402330202,{"$f":"I287-#REF!","v":{"$error":"#REF!"}}]
["Current","Manjimup",{"$error":"#REF!"},{"$error":"#REF!"},59.897291012873602,{"$f":"E288-#REF!","v":{"$error":"#REF!"}},null,null,59.897291012873602,{"$f":"I288-#REF!","v":{"$error":"#REF!"}}]
["Current","Manjimup",{"$error":"#REF!"},{"$error":"#REF!"},68.671741065497898,{"$f":"E289-#REF!","v":{"$error":"#REF!"}},null,null,68.671741065497898,{"$f":"I289-#REF!","v":{"$error":"#REF!"}}]
["Current","Manjimup",{"$error":"#REF!"},{"$error":"#REF!"},67.307173431459901,{"$f":"E290-#REF!","v":{"$error":"#REF!"}},null,null,67.307173431459901,{"$f":"I290-#REF!","v":{"$error":"#REF!"}}]
["Current","Manjimup",{"$error":"#REF!"},{"$error":"#REF!"},68.756650543262197,{"$f":"E291-#REF!","v":{"$error":"#REF!"}},null,null,68.756650543262197,{"$f":"I291-#REF!","v":{"$error":"#REF!"}}]
["Current","Manjimup",{"$error":"#REF!"},{"$error":"#REF!"},60.899036062101999,{"$f":"E292-#REF!","v":{"$error":"#REF!"}},null,null,60.899036062101999,{"$f":"I292-#REF!","v":{"$error":"#REF!"}}]
["Current","Manjimup",{"$error":"#REF!"},{"$error":"#REF!"},71.576019150556206,{"$f":"E293-#REF!","v":{"$error":"#REF!"}},null,null,71.576019150556206,{"$f":"I293-#REF!","v":{"$error":"#REF!"}}]
["Current","Manjimup",{"$error":"#REF!"},{"$error":"#REF!"},58.675905428613497,{"$f":"E294-#REF!","v":{"$error":"#REF!"}},null,null,58.675905428613497,{"$f":"I294-#REF!","v":{"$error":"#REF!"}}]
["Current","Manjimup",{"$error":"#REF!"},{"$error":"#REF!"},62.5246385523686,{"$f":"E295-#REF!","v":{"$error":"#REF!"}},null,null,62.5246385523686,{"$f":"I295-#REF!","v":{"$error":"#REF!"}}]
["Current","Manjimup",{"$error":"#REF!"},{"$error":"#REF!"},63.366229816337203,{"$f":"E296-#REF!","v":{"$error":"#REF!"}},null,null,63.366229816337203,{"$f":"I296-#REF!","v":{"$error":"#REF!"}}]
["Current","Manjimup",{"$error":"#REF!"},{"$error":"#REF!"},70.396008581084999,{"$f":"E297-#REF!","v":{"$error":"#REF!"}},null,null,70.396008581084999,{"$f":"I297-#REF!","v":{"$error":"#REF!"}}]
["Current","Manjimup",{"$error":"#REF!"},{"$error":"#REF!"},65.9174634282233,{"$f":"E298-#REF!","v":{"$error":"#REF!"}},null,null,65.9174634282233,{"$f":"I298-#REF!","v":{"$error":"#REF!"}}]
["Current","Orange",{"$error":"#REF!"},{"$error":"#REF!"},82.429677547497704,{"$f":"E299-#REF!","v":{"$error":"#REF!"}},null,null,82.429677547497704,{"$f":"I299-#REF!","v":{"$error":"#REF!"}}]
["Current","Orange",{"$error":"#REF!"},{"$error":"#REF!"},86.739350922149995,{"$f":"E300-#REF!","v":{"$error":"#REF!"}},null,null,86.739350922149995,{"$f":"I300-#REF!","v":{"$error":"#REF!"}}]
["Current","Orange",{"$error":"#REF!"},{"$error":"#REF!"},87.449307433804293,{"$f":"E301-#REF!","v":{"$error":"#REF!"}},null,null,87.449307433804293,{"$f":"I301-#REF!","v":{"$error":"#REF!"}}]
["Current","Orange",{"$error":"#REF!"},{"$error":"#REF!"},81.575126039108099,{"$f":"E302-#REF!","v":{"$error":"#REF!"}},null,null,81.575126039108099,{"$f":"I302-#REF!","v":{"$error":"#REF!"}}]
["Current","Orange",{"$error":"#REF!"},{"$error":"#REF!"},86.268138284462793,{"$f":"E303-#REF!","v":{"$error":"#REF!"}},null,null,86.268138284462793,{"$f":"I303-#REF!","v":{"$error":"#REF!"}}]
["Current","Orange",{"$error":"#REF!"},{"$error":"#REF!"},87.506960165729197,{"$f":"E304-#REF!","v":{"$error":"#REF!"}},null,null,87.506960165729197,{"$f":"I304-#REF!","v":{"$error":"#REF!"}}]
["Current","Orange",{"$error":"#REF!"},{"$error":"#REF!"},87.431540250417399,{"$f":"E305-#REF!","v":{"$error":"#REF!"}},null,null,87.431540250417399,{"$f":"I305-#REF!","v":{"$error":"#REF!"}}]
["Current","Orange",{"$error":"#REF!"},{"$error":"#REF!"},83.190424027332995,{"$f":"E306-#REF!","v":{"$error":"#REF!"}},null,null,83.190424027332995,{"$f":"I306-#REF!","v":{"$error":"#REF!"}}]
["Current","Orange",{"$error":"#REF!"},{"$error":"#REF!"},75.001977968574707,{"$f":"E307-#REF!","v":{"$error":"#REF!"}},null,null,75.001977968574707,{"$f":"I307-#REF!","v":{"$error":"#REF!"}}]
["Current","Orange",{"$error":"#REF!"},{"$error":"#REF!"},86.512813449783593,{"$f":"E308-#REF!","v":{"$error":"#REF!"}},null,null,86.512813449783593,{"$f":"I308-#REF!","v":{"$error":"#REF!"}}]
["Current","Orange",{"$error":"#REF!"},{"$error":"#REF!"},83.508707053655002,{"$f":"E309-#REF!","v":{"$error":"#REF!"}},null,null,83.508707053655002,{"$f":"I309-#REF!","v":{"$error":"#REF!"}}]
["Current","Orange",{"$error":"#REF!"},{"$error":"#REF!"},86.383407025841095,{"$f":"E310-#REF!","v":{"$error":"#REF!"}},null,null,86.383407025841095,{"$f":"I310-#REF!","v":{"$error":"#REF!"}}]
["Current","Orange",{"$error":"#REF!"},{"$error":"#REF!"},86.048655670282997,{"$f":"E311-#REF!","v":{"$error":"#REF!"}},null,null,86.048655670282997,{"$f":"I311-#REF!","v":{"$error":"#REF!"}}]
["Current","Orange",{"$error":"#REF!"},{"$error":"#REF!"},85.080433574181498,{"$f":"E312-#REF!","v":{"$error":"#REF!"}},null,null,85.080433574181498,{"$f":"I312-#REF!","v":{"$error":"#REF!"}}]
["Current","Orange",{"$error":"#REF!"},{"$error":"#REF!"},87.924585533299705,{"$f":"E313-#REF!","v":{"$error":"#REF!"}},null,null,87.924585533299705,{"$f":"I313-#REF!","v":{"$error":"#REF!"}}]
["Current","Orange",{"$error":"#REF!"},{"$error":"#REF!"},92.486896310371094,{"$f":"E314-#REF!","v":{"$error":"#REF!"}},null,null,92.486896310371094,{"$f":"I314-#REF!","v":{"$error":"#REF!"}}]
["Current","Orange",{"$error":"#REF!"},{"$error":"#REF!"},86.915104236855498,{"$f":"E315-#REF!","v":{"$error":"#REF!"}},null,null,86.915104236855498,{"$f":"I315-#REF!","v":{"$error":"#REF!"}}]
["Current","Orange",{"$error":"#REF!"},{"$error":"#REF!"},86.470776890723499,{"$f":"E316-#REF!","v":{"$error":"#REF!"}},null,null,86.470776890723499,{"$f":"I316-#REF!","v":{"$error":"#REF!"}}]
["Current","Orange",{"$error":"#REF!"},{"$error":"#REF!"},85.749395840905905,{"$f":"E317-#REF!","v":{"$error":"#REF!"}},null,null,85.749395840905905,{"$f":"I317-#REF!","v":{"$error":"#REF!"}}]
["Current","Orange",{"$error":"#REF!"},{"$error":"#REF!"},86.466072408192701,{"$f":"E318-#REF!","v":{"$error":"#REF!"}},null,null,86.466072408192701,{"$f":"I318-#REF!","v":{"$error":"#REF!"}}]
["Current","Orange",{"$error":"#REF!"},{"$error":"#REF!"},85.418572421382905,{"$f":"E319-#REF!","v":{"$error":"#REF!"}},null,null,85.418572421382905,{"$f":"I319-#REF!","v":{"$error":"#REF!"}}]
["Current","Orange",{"$error":"#REF!"},{"$error":"#REF!"},83.785798057767394,{"$f":"E320-#REF!","v":{"$error":"#REF!"}},null,null,83.785798057767394,{"$f":"I320-#REF!","v":{"$error":"#REF!"}}]
["Current","Orange",{"$error":"#REF!"},{"$error":"#REF!"},83.8138785256223,{"$f":"E321-#REF!","v":{"$error":"#REF!"}},null,null,83.8138785256223,{"$f":"I321-#REF!","v":{"$error":"#REF!"}}]
["Current","Orange",{"$f":"IF(F322>0,1,0)/99","v":{"$error":"#REF!"}},{"$f":"IF(J322>0,1,0)/99","v":{"$error":"#REF!"}},85.752677642269603,{"$f":"E322-#REF!","v":{"$error":"#REF!"}},null,null,85.752677642269603,{"$f":"I322-#REF!","v":{"$error":"#REF!"}}]
["Current","Orange",{"$error":"#REF!"},{"$error":"#REF!"},84.700326000151804,{"$f":"E323-#REF!","v":{"$error":"#REF!"}},null,null,84.700326000151804,{"$f":"I323-#REF!","v":{"$error":"#REF!"}}]
["Current","Orange",{"$error":"#REF!"},{"$error":"#REF!"},85.856117083195798,{"$f":"E324-#REF!","v":{"$error":"#REF!"}},null,null,85.856117083195798,{"$f":"I324-#REF!","v":{"$error":"#REF!"}}]
["Current","Orange",{"$error":"#REF!"},{"$error":"#REF!"},86.510063675308103,{"$f":"E325-#REF!","v":{"$error":"#REF!"}},null,null,86.510063675308103,{"$f":"I325-#REF!","v":{"$error":"#REF!"}}]
["Current","Orange",{"$error":"#REF!"},{"$error":"#REF!"},81.085568625318203,{"$f":"E326-#REF!","v":{"$error":"#REF!"}},null,null,81.085568625318203,{"$f":"I326-#REF!","v":{"$error":"#REF!"}}]
["Current","Orange",{"$error":"#REF!"},{"$error":"#REF!"},85.801188082470901,{"$f":"E327-#REF!","v":{"$error":"#REF!"}},null,null,85.801188082470901,{"$f":"I327-#REF!","v":{"$error":"#REF!"}}]
["Current","Orange",{"$error":"#REF!"},{"$error":"#REF!"},84.921133200642998,{"$f":"E328-#REF!","v":{"$error":"#REF!"}},null,null,84.921133200642998,{"$f":"I328-#REF!","v":{"$error":"#REF!"}}]
["Current","Orange",{"$error":"#REF!"},{"$error":"#REF!"},81.365079874451595,{"$f":"E329-#REF!","v":{"$error":"#REF!"}},null,null,81.365079874451595,{"$f":"I329-#REF!","v":{"$error":"#REF!"}}]
["Current","Orange",{"$error":"#REF!"},{"$error":"#REF!"},83.585846751292195,{"$f":"E330-#REF!","v":{"$error":"#REF!"}},null,null,83.585846751292195,{"$f":"I330-#REF!","v":{"$error":"#REF!"}}]
["Current","Orange",{"$error":"#REF!"},{"$error":"#REF!"},88.834611343393405,{"$f":"E331-#REF!","v":{"$error":"#REF!"}},null,null,88.834611343393405,{"$f":"I331-#REF!","v":{"$error":"#REF!"}}]
["Current","Orange",{"$error":"#REF!"},{"$error":"#REF!"},85.725998216011604,{"$f":"E332-#REF!","v":{"$error":"#REF!"}},null,null,85.725998216011604,{"$f":"I332-#REF!","v":{"$error":"#REF!"}}]
["Current","Orange",{"$error":"#REF!"},{"$error":"#REF!"},87.206541450431303,{"$f":"E333-#REF!","v":{"$error":"#REF!"}},null,null,87.206541450431303,{"$f":"I333-#REF!","v":{"$error":"#REF!"}}]
["Current","Orange",{"$error":"#REF!"},{"$error":"#REF!"},82.191971404634998,{"$f":"E334-#REF!","v":{"$error":"#REF!"}},null,null,82.191971404634998,{"$f":"I334-#REF!","v":{"$error":"#REF!"}}]
["Current","Orange",{"$error":"#REF!"},{"$error":"#REF!"},80.381156810583605,{"$f":"E335-#REF!","v":{"$error":"#REF!"}},null,null,80.381156810583605,{"$f":"I335-#REF!","v":{"$error":"#REF!"}}]
["Current","Orange",{"$error":"#REF!"},{"$error":"#REF!"},83.744596560252702,{"$f":"E336-#REF!","v":{"$error":"#REF!"}},null,null,83.744596560252702,{"$f":"I336-#REF!","v":{"$error":"#REF!"}}]
["Current","Orange",{"$error":"#REF!"},{"$error":"#REF!"},84.242260329308394,{"$f":"E337-#REF!","v":{"$error":"#REF!"}},null,null,84.242260329308394,{"$f":"I337-#REF!","v":{"$error":"#REF!"}}]
["Current","Orange",{"$error":"#REF!"},{"$error":"#REF!"},87.567345861226102,{"$f":"E338-#REF!","v":{"$error":"#REF!"}},null,null,87.567345861226102,{"$f":"I338-#REF!","v":{"$error":"#REF!"}}]
["Current","Orange",{"$error":"#REF!"},{"$error":"#REF!"},84.029724279753694,{"$f":"E339-#REF!","v":{"$error":"#REF!"}},null,null,84.029724279753694,{"$f":"I339-#REF!","v":{"$error":"#REF!"}}]
["Current","Orange",{"$error":"#REF!"},{"$error":"#REF!"},86.900947869872098,{"$f":"E340-#REF!","v":{"$error":"#REF!"}},null,null,86.900947869872098,{"$f":"I340-#REF!","v":{"$error":"#REF!"}}]
["Current","Orange",{"$error":"#REF!"},{"$error":"#REF!"},80.211009610713404,{"$f":"E341-#REF!","v":{"$error":"#REF!"}},null,null,80.211009610713404,{"$f":"I341-#REF!","v":{"$error":"#REF!"}}]
["Current","Orange",{"$error":"#REF!"},{"$error":"#REF!"},79.328458298305307,{"$f":"E342-#REF!","v":{"$error":"#REF!"}},null,null,79.328458298305307,{"$f":"I342-#REF!","v":{"$error":"#REF!"}}]
["Current","Orange",{"$error":"#REF!"},{"$error":"#REF!"},86.4474744337396,{"$f":"E343-#REF!","v":{"$error":"#REF!"}},null,null,86.4474744337396,{"$f":"I343-#REF!","v":{"$error":"#REF!"}}]
["Current","Orange",{"$error":"#REF!"},{"$error":"#REF!"},88.451145201494796,{"$f":"E344-#REF!","v":{"$error":"#REF!"}},null,null,88.451145201494796,{"$f":"I344-#REF!","v":{"$error":"#REF!"}}]
["Current","Orange",{"$error":"#REF!"},{"$error":"#REF!"},80.524934686878197,{"$f":"E345-#REF!","v":{"$error":"#REF!"}},null,null,80.524934686878197,{"$f":"I345-#REF!","v":{"$error":"#REF!"}}]
["Current","Orange",{"$error":"#REF!"},{"$error":"#REF!"},77.357710453628698,{"$f":"E346-#REF!","v":{"$error":"#REF!"}},null,null,77.357710453628698,{"$f":"I346-#REF!","v":{"$error":"#REF!"}}]
["Current","Orange",{"$error":"#REF!"},{"$error":"#REF!"},82.785607739002003,{"$f":"E347-#REF!","v":{"$error":"#REF!"}},null,null,82.785607739002003,{"$f":"I347-#REF!","v":{"$error":"#REF!"}}]
["Current","Orange",{"$error":"#REF!"},{"$error":"#REF!"},90.635592740002807,{"$f":"E348-#REF!","v":{"$error":"#REF!"}},null,null,90.635592740002807,{"$f":"I348-#REF!","v":{"$error":"#REF!"}}]
["Current","Orange",{"$error":"#REF!"},{"$error":"#REF!"},88.153263534383399,{"$f":"E349-#REF!","v":{"$error":"#REF!"}},null,null,88.153263534383399,{"$f":"I349-#REF!","v":{"$error":"#REF!"}}]
["Current","Orange",{"$error":"#REF!"},{"$error":"#REF!"},87.350689268135994,{"$f":"E350-#REF!","v":{"$error":"#REF!"}},null,null,87.350689268135994,{"$f":"I350-#REF!","v":{"$error":"#REF!"}}]
["Current","Orange",{"$error":"#REF!"},{"$error":"#REF!"},78.972111944745194,{"$f":"E351-#REF!","v":{"$error":"#REF!"}},null,null,78.972111944745194,{"$f":"I351-#REF!","v":{"$error":"#REF!"}}]
["Current","Orange",{"$error":"#REF!"},{"$error":"#REF!"},87.305966830523403,{"$f":"E352-#REF!","v":{"$error":"#REF!"}},null,null,87.305966830523403,{"$f":"I352-#REF!","v":{"$error":"#REF!"}}]
["Current","Orange",{"$error":"#REF!"},{"$error":"#REF!"},78.716066322169397,{"$f":"E353-#REF!","v":{"$error":"#REF!"}},null,null,78.716066322169397,{"$f":"I353-#REF!","v":{"$error":"#REF!"}}]
["Current","Orange",{"$error":"#REF!"},{"$error":"#REF!"},88.198785487998904,{"$f":"E354-#REF!","v":{"$error":"#REF!"}},null,null,88.198785487998904,{"$f":"I354-#REF!","v":{"$error":"#REF!"}}]
["Current","Orange",{"$error":"#REF!"},{"$error":"#REF!"},81.231722982599706,{"$f":"E355-#REF!","v":{"$error":"#REF!"}},null,null,81.231722982599706,{"$f":"I355-#REF!","v":{"$error":"#REF!"}}]
["Current","Orange",{"$error":"#REF!"},{"$error":"#REF!"},87.962802884287996,{"$f":"E356-#REF!","v":{"$error":"#REF!"}},null,null,87.962802884287996,{"$f":"I356-#REF!","v":{"$error":"#REF!"}}]
["Current","Orange",{"$error":"#REF!"},{"$error":"#REF!"},85.113713789718602,{"$f":"E357-#REF!","v":{"$error":"#REF!"}},null,null,85.113713789718602,{"$f":"I357-#REF!","v":{"$error":"#REF!"}}]
["Current","Orange",{"$error":"#REF!"},{"$error":"#REF!"},85.946280500673296,{"$f":"E358-#REF!","v":{"$error":"#REF!"}},null,null,85.946280500673296,{"$f":"I358-#REF!","v":{"$error":"#REF!"}}]
["Current","Orange",{"$error":"#REF!"},{"$error":"#REF!"},88.770819728577607,{"$f":"E359-#REF!","v":{"$error":"#REF!"}},null,null,88.770819728577607,{"$f":"I359-#REF!","v":{"$error":"#REF!"}}]
["Current","Orange",{"$error":"#REF!"},{"$error":"#REF!"},80.257090494614403,{"$f":"E360-#REF!","v":{"$error":"#REF!"}},null,null,80.257090494614403,{"$f":"I360-#REF!","v":{"$error":"#REF!"}}]
["Current","Orange",{"$error":"#REF!"},{"$error":"#REF!"},86.654751439208994,{"$f":"E361-#REF!","v":{"$error":"#REF!"}},null,null,86.654751439208994,{"$f":"I361-#REF!","v":{"$error":"#REF!"}}]
["Current","Orange",{"$error":"#REF!"},{"$error":"#REF!"},87.710286312448503,{"$f":"E362-#REF!","v":{"$error":"#REF!"}},null,null,87.710286312448503,{"$f":"I362-#REF!","v":{"$error":"#REF!"}}]
["Current","Orange",{"$error":"#REF!"},{"$error":"#REF!"},85.891801608641501,{"$f":"E363-#REF!","v":{"$error":"#REF!"}},null,null,85.891801608641501,{"$f":"I363-#REF!","v":{"$error":"#REF!"}}]
["Current","Orange",{"$error":"#REF!"},{"$error":"#REF!"},85.003699583864901,{"$f":"E364-#REF!","v":{"$error":"#REF!"}},null,null,85.003699583864901,{"$f":"I364-#REF!","v":{"$error":"#REF!"}}]
["Current","Orange",{"$error":"#REF!"},{"$error":"#REF!"},85.936104740281905,{"$f":"E365-#REF!","v":{"$error":"#REF!"}},null,null,85.936104740281905,{"$f":"I365-#REF!","v":{"$error":"#REF!"}}]
["Current","Orange",{"$error":"#REF!"},{"$error":"#REF!"},89.157127028785595,{"$f":"E366-#REF!","v":{"$error":"#REF!"}},null,null,89.157127028785595,{"$f":"I366-#REF!","v":{"$error":"#REF!"}}]
["Current","Orange",{"$error":"#REF!"},{"$error":"#REF!"},87.1955420476732,{"$f":"E367-#REF!","v":{"$error":"#REF!"}},null,null,87.1955420476732,{"$f":"I367-#REF!","v":{"$error":"#REF!"}}]
["Current","Orange",{"$error":"#REF!"},{"$error":"#REF!"},83.820569108734503,{"$f":"E368-#REF!","v":{"$error":"#REF!"}},null,null,83.820569108734503,{"$f":"I368-#REF!","v":{"$error":"#REF!"}}]
["Current","Orange",{"$error":"#REF!"},{"$error":"#REF!"},90.595567850445804,{"$f":"E369-#REF!","v":{"$error":"#REF!"}},null,null,90.595567850445804,{"$f":"I369-#REF!","v":{"$error":"#REF!"}}]
["Current","Orange",{"$error":"#REF!"},{"$error":"#REF!"},79.481335925497007,{"$f":"E370-#REF!","v":{"$error":"#REF!"}},null,null,79.481335925497007,{"$f":"I370-#REF!","v":{"$error":"#REF!"}}]
["Current","Orange",{"$error":"#REF!"},{"$error":"#REF!"},87.056038033832195,{"$f":"E371-#REF!","v":{"$error":"#REF!"}},null,null,87.056038033832195,{"$f":"I371-#REF!","v":{"$error":"#REF!"}}]
["Current","Orange",{"$error":"#REF!"},{"$error":"#REF!"},85.862327712727506,{"$f":"E372-#REF!","v":{"$error":"#REF!"}},null,null,85.862327712727506,{"$f":"I372-#REF!","v":{"$error":"#REF!"}}]
["Current","Orange",{"$error":"#REF!"},{"$error":"#REF!"},83.879385767940207,{"$f":"E373-#REF!","v":{"$error":"#REF!"}},null,null,83.879385767940207,{"$f":"I373-#REF!","v":{"$error":"#REF!"}}]
["Current","Orange",{"$error":"#REF!"},{"$error":"#REF!"},86.946723832735501,{"$f":"E374-#REF!","v":{"$error":"#REF!"}},null,null,86.946723832735501,{"$f":"I374-#REF!","v":{"$error":"#REF!"}}]
["Current","Orange",{"$error":"#REF!"},{"$error":"#REF!"},86.035613277794596,{"$f":"E375-#REF!","v":{"$error":"#REF!"}},null,null,86.035613277794596,{"$f":"I375-#REF!","v":{"$error":"#REF!"}}]
["Current","Orange",{"$error":"#REF!"},{"$error":"#REF!"},86.590137886755997,{"$f":"E376-#REF!","v":{"$error":"#REF!"}},null,null,86.590137886755997,{"$f":"I376-#REF!","v":{"$error":"#REF!"}}]
["Current","Orange",{"$error":"#REF!"},{"$error":"#REF!"},83.443780985803897,{"$f":"E377-#REF!","v":{"$error":"#REF!"}},null,null,83.443780985803897,{"$f":"I377-#REF!","v":{"$error":"#REF!"}}]
["Current","Orange",{"$error":"#REF!"},{"$error":"#REF!"},88.441067960579602,{"$f":"E378-#REF!","v":{"$error":"#REF!"}},null,null,88.441067960579602,{"$f":"I378-#REF!","v":{"$error":"#REF!"}}]
["Current","Orange",{"$error":"#REF!"},{"$error":"#REF!"},89.449096774502706,{"$f":"E379-#REF!","v":{"$error":"#REF!"}},null,null,89.449096774502706,{"$f":"I379-#REF!","v":{"$error":"#REF!"}}]
["Current","Orange",{"$error":"#REF!"},{"$error":"#REF!"},86.026710791114795,{"$f":"E380-#REF!","v":{"$error":"#REF!"}},null,null,86.026710791114795,{"$f":"I380-#REF!","v":{"$error":"#REF!"}}]
["Current","Orange",{"$error":"#REF!"},{"$error":"#REF!"},85.526403656830098,{"$f":"E381-#REF!","v":{"$error":"#REF!"}},null,null,85.526403656830098,{"$f":"I381-#REF!","v":{"$error":"#REF!"}}]
["Current","Orange",{"$error":"#REF!"},{"$error":"#REF!"},82.738747379037306,{"$f":"E382-#REF!","v":{"$error":"#REF!"}},null,null,82.738747379037306,{"$f":"I382-#REF!","v":{"$error":"#REF!"}}]
["Current","Orange",{"$error":"#REF!"},{"$error":"#REF!"},78.627591832909701,{"$f":"E383-#REF!","v":{"$error":"#REF!"}},null,null,78.627591832909701,{"$f":"I383-#REF!","v":{"$error":"#REF!"}}]
["Current","Orange",{"$error":"#REF!"},{"$error":"#REF!"},83.184087689854294,{"$f":"E384-#REF!","v":{"$error":"#REF!"}},null,null,83.184087689854294,{"$f":"I384-#REF!","v":{"$error":"#REF!"}}]
["Current","Orange",{"$error":"#REF!"},{"$error":"#REF!"},81.784474610617593,{"$f":"E385-#REF!","v":{"$error":"#REF!"}},null,null,81.784474610617593,{"$f":"I385-#REF!","v":{"$error":"#REF!"}}]
["Current","Orange",{"$f":"IF(F386>0,1,0)/99","v":{"$error":"#REF!"}},{"$f":"IF(J386>0,1,0)/99","v":{"$error":"#REF!"}},85.381200424844707,{"$f":"E386-#REF!","v":{"$error":"#REF!"}},null,null,85.381200424844707,{"$f":"I386-#REF!","v":{"$error":"#REF!"}}]
["Current","Orange",{"$error":"#REF!"},{"$error":"#REF!"},83.833260040042802,{"$f":"E387-#REF!","v":{"$error":"#REF!"}},null,null,83.833260040042802,{"$f":"I387-#REF!","v":{"$error":"#REF!"}}]
["Current","Orange",{"$error":"#REF!"},{"$error":"#REF!"},85.659122053694503,{"$f":"E388-#REF!","v":{"$error":"#REF!"}},null,null,85.659122053694503,{"$f":"I388-#REF!","v":{"$error":"#REF!"}}]
["Current","Orange",{"$error":"#REF!"},{"$error":"#REF!"},86.246964742666705,{"$f":"E389-#REF!","v":{"$error":"#REF!"}},null,null,86.246964742666705,{"$f":"I389-#REF!","v":{"$error":"#REF!"}}]
["Current","Orange",{"$error":"#REF!"},{"$error":"#REF!"},84.361962625550206,{"$f":"E390-#REF!","v":{"$error":"#REF!"}},null,null,84.361962625550206,{"$f":"I390-#REF!","v":{"$error":"#REF!"}}]
["Current","Orange",{"$error":"#REF!"},{"$error":"#REF!"},83.901400884297601,{"$f":"E391-#REF!","v":{"$error":"#REF!"}},null,null,83.901400884297601,{"$f":"I391-#REF!","v":{"$error":"#REF!"}}]
["Current","Orange",{"$error":"#REF!"},{"$error":"#REF!"},86.580408668514707,{"$f":"E392-#REF!","v":{"$error":"#REF!"}},null,null,86.580408668514707,{"$f":"I392-#REF!","v":{"$error":"#REF!"}}]
["Current","Orange",{"$error":"#REF!"},{"$error":"#REF!"},80.978431050453594,{"$f":"E393-#REF!","v":{"$error":"#REF!"}},null,null,80.978431050453594,{"$f":"I393-#REF!","v":{"$error":"#REF!"}}]
["Current","Orange",{"$error":"#REF!"},{"$error":"#REF!"},83.115024202275606,{"$f":"E394-#REF!","v":{"$error":"#REF!"}},null,null,83.115024202275606,{"$f":"I394-#REF!","v":{"$error":"#REF!"}}]
["Current","Orange",{"$error":"#REF!"},{"$error":"#REF!"},79.063064602704699,{"$f":"E395-#REF!","v":{"$error":"#REF!"}},null,null,79.063064602704699,{"$f":"I395-#REF!","v":{"$error":"#REF!"}}]
["Current","Orange",{"$error":"#REF!"},{"$error":"#REF!"},86.806568774214398,{"$f":"E396-#REF!","v":{"$error":"#REF!"}},null,null,86.806568774214398,{"$f":"I396-#REF!","v":{"$error":"#REF!"}}]
["Current","Orange",{"$error":"#REF!"},{"$error":"#REF!"},85.043389051945496,{"$f":"E397-#REF!","v":{"$error":"#REF!"}},null,null,85.043389051945496,{"$f":"I397-#REF!","v":{"$error":"#REF!"}}]
["Current","Tatura",{"$error":"#REF!"},{"$error":"#REF!"},77.014369984163096,{"$f":"E398-#REF!","v":{"$error":"#REF!"}},null,null,77.014369984163096,{"$f":"I398-#REF!","v":{"$error":"#REF!"}}]
["Current","Tatura",{"$error":"#REF!"},{"$error":"#REF!"},80.673023314748903,{"$f":"E399-#REF!","v":{"$error":"#REF!"}},null,null,80.673023314748903,{"$f":"I399-#REF!","v":{"$error":"#REF!"}}]
["Current","Tatura",{"$error":"#REF!"},{"$error":"#REF!"},83.603711566330304,{"$f":"E400-#REF!","v":{"$error":"#REF!"}},null,null,83.603711566330304,{"$f":"I400-#REF!","v":{"$error":"#REF!"}}]
["Current","Tatura",{"$error":"#REF!"},{"$error":"#REF!"},73.761769268810596,{"$f":"E401-#REF!","v":{"$error":"#REF!"}},null,null,73.761769268810596,{"$f":"I401-#REF!","v":{"$error":"#REF!"}}]
["Current","Tatura",{"$error":"#REF!"},{"$error":"#REF!"},80.964520505676205,{"$f":"E402-#REF!","v":{"$error":"#REF!"}},null,null,80.964520505676205,{"$f":"I402-#REF!","v":{"$error":"#REF!"}}]
["Current","Tatura",{"$error":"#REF!"},{"$error":"#REF!"},80.603664972833499,{"$f":"E403-#REF!","v":{"$error":"#REF!"}},null,null,80.603664972833499,{"$f":"I403-#REF!","v":{"$error":"#REF!"}}]
["Current","Tatura",{"$error":"#REF!"},{"$error":"#REF!"},84.031644599169994,{"$f":"E404-#REF!","v":{"$error":"#REF!"}},null,null,84.031644599169994,{"$f":"I404-#REF!","v":{"$error":"#REF!"}}]
["Current","Tatura",{"$error":"#REF!"},{"$error":"#REF!"},77.232790620598294,{"$f":"E405-#REF!","v":{"$error":"#REF!"}},null,null,77.232790620598294,{"$f":"I405-#REF!","v":{"$error":"#REF!"}}]
["Current","Tatura",{"$error":"#REF!"},{"$error":"#REF!"},75.982895756083195,{"$f":"E406-#REF!","v":{"$error":"#REF!"}},null,null,75.982895756083195,{"$f":"I406-#REF!","v":{"$error":"#REF!"}}]
["Current","Tatura",{"$error":"#REF!"},{"$error":"#REF!"},85.257854960110706,{"$f":"E407-#REF!","v":{"$error":"#REF!"}},null,null,85.257854960110706,{"$f":"I407-#REF!","v":{"$error":"#REF!"}}]
["Current","Tatura",{"$error":"#REF!"},{"$error":"#REF!"},75.154165928724495,{"$f":"E408-#REF!","v":{"$error":"#REF!"}},null,null,75.154165928724495,{"$f":"I408-#REF!","v":{"$error":"#REF!"}}]
["Current","Tatura",{"$error":"#REF!"},{"$error":"#REF!"},80.700849502192696,{"$f":"E409-#REF!","v":{"$error":"#REF!"}},null,null,80.700849502192696,{"$f":"I409-#REF!","v":{"$error":"#REF!"}}]
["Current","Tatura",{"$error":"#REF!"},{"$error":"#REF!"},79.255358753653496,{"$f":"E410-#REF!","v":{"$error":"#REF!"}},null,null,79.255358753653496,{"$f":"I410-#REF!","v":{"$error":"#REF!"}}]
["Current","Tatura",{"$error":"#REF!"},{"$error":"#REF!"},81.278968911952205,{"$f":"E411-#REF!","v":{"$error":"#REF!"}},null,null,81.278968911952205,{"$f":"I411-#REF!","v":{"$error":"#REF!"}}]
["Current","Tatura",{"$error":"#REF!"},{"$error":"#REF!"},79.823268186026695,{"$f":"E412-#REF!","v":{"$error":"#REF!"}},null,null,79.823268186026695,{"$f":"I412-#REF!","v":{"$error":"#REF!"}}]
["Current","Tatura",{"$error":"#REF!"},{"$error":"#REF!"},84.807719566546993,{"$f":"E413-#REF!","v":{"$error":"#REF!"}},null,null,84.807719566546993,{"$f":"I413-#REF!","v":{"$error":"#REF!"}}]
["Current","Tatura",{"$error":"#REF!"},{"$error":"#REF!"},82.752874268382797,{"$f":"E414-#REF!","v":{"$error":"#REF!"}},null,null,82.752874268382797,{"$f":"I414-#REF!","v":{"$error":"#REF!"}}]
["Current","Tatura",{"$error":"#REF!"},{"$error":"#REF!"},78.631632137751197,{"$f":"E415-#REF!","v":{"$error":"#REF!"}},null,null,78.631632137751197,{"$f":"I415-#REF!","v":{"$error":"#REF!"}}]
["Current","Tatura",{"$error":"#REF!"},{"$error":"#REF!"},79.799481218148998,{"$f":"E416-#REF!","v":{"$error":"#REF!"}},null,null,79.799481218148998,{"$f":"I416-#REF!","v":{"$error":"#REF!"}}]
["Current","Tatura",{"$error":"#REF!"},{"$error":"#REF!"},78.040864750633801,{"$f":"E417-#REF!","v":{"$error":"#REF!"}},null,null,78.040864750633801,{"$f":"I417-#REF!","v":{"$error":"#REF!"}}]
["Current","Tatura",{"$error":"#REF!"},{"$error":"#REF!"},81.640671878209702,{"$f":"E418-#REF!","v":{"$error":"#REF!"}},null,null,81.640671878209702,{"$f":"I418-#REF!","v":{"$error":"#REF!"}}]
["Current","Tatura",{"$error":"#REF!"},{"$error":"#REF!"},77.722845927629194,{"$f":"E419-#REF!","v":{"$error":"#REF!"}},null,null,77.722845927629194,{"$f":"I419-#REF!","v":{"$error":"#REF!"}}]
["Current","Tatura",{"$error":"#REF!"},{"$error":"#REF!"},78.416223907831807,{"$f":"E420-#REF!","v":{"$error":"#REF!"}},null,null,78.416223907831807,{"$f":"I420-#REF!","v":{"$error":"#REF!"}}]
["Current","Tatura",{"$error":"#REF!"},{"$error":"#REF!"},74.745790266918505,{"$f":"E421-#REF!","v":{"$error":"#REF!"}},null,null,74.745790266918505,{"$f":"I421-#REF!","v":{"$error":"#REF!"}}]
["Current","Tatura",{"$error":"#REF!"},{"$error":"#REF!"},82.388549499403297,{"$f":"E422-#REF!","v":{"$error":"#REF!"}},null,null,82.388549499403297,{"$f":"I422-#REF!","v":{"$error":"#REF!"}}]
["Current","Tatura",{"$error":"#REF!"},{"$error":"#REF!"},79.205713529180699,{"$f":"E423-#REF!","v":{"$error":"#REF!"}},null,null,79.205713529180699,{"$f":"I423-#REF!","v":{"$error":"#REF!"}}]
["Current","Tatura",{"$error":"#REF!"},{"$error":"#REF!"},75.868459038529807,{"$f":"E424-#REF!","v":{"$error":"#REF!"}},null,null,75.868459038529807,{"$f":"I424-#REF!","v":{"$error":"#REF!"}}]
["Current","Tatura",{"$error":"#REF!"},{"$error":"#REF!"},73.6298435979852,{"$f":"E425-#REF!","v":{"$error":"#REF!"}},null,null,73.6298435979852,{"$f":"I425-#REF!","v":{"$error":"#REF!"}}]
["Current","Tatura",{"$error":"#REF!"},{"$error":"#REF!"},78.435564486350998,{"$f":"E426-#REF!","v":{"$error":"#REF!"}},null,null,78.435564486350998,{"$f":"I426-#REF!","v":{"$error":"#REF!"}}]
["Current","Tatura",{"$error":"#REF!"},{"$error":"#REF!"},82.059155041841393,{"$f":"E427-#REF!","v":{"$error":"#REF!"}},null,null,82.059155041841393,{"$f":"I427-#REF!","v":{"$error":"#REF!"}}]
["Current","Tatura",{"$error":"#REF!"},{"$error":"#REF!"},79.346941613039107,{"$f":"E428-#REF!","v":{"$error":"#REF!"}},null,null,79.346941613039107,{"$f":"I428-#REF!","v":{"$error":"#REF!"}}]
["Current","Tatura",{"$error":"#REF!"},{"$error":"#REF!"},78.097059970331998,{"$f":"E429-#REF!","v":{"$error":"#REF!"}},null,null,78.097059970331998,{"$f":"I429-#REF!","v":{"$error":"#REF!"}}]
["Current","Tatura",{"$error":"#REF!"},{"$error":"#REF!"},84.734046719774895,{"$f":"E430-#REF!","v":{"$error":"#REF!"}},null,null,84.734046719774895,{"$f":"I430-#REF!","v":{"$error":"#REF!"}}]
["Current","Tatura",{"$error":"#REF!"},{"$error":"#REF!"},81.927704977146007,{"$f":"E431-#REF!","v":{"$error":"#REF!"}},null,null,81.927704977146007,{"$f":"I431-#REF!","v":{"$error":"#REF!"}}]
["Current","Tatura",{"$error":"#REF!"},{"$error":"#REF!"},78.309920779605093,{"$f":"E432-#REF!","v":{"$error":"#REF!"}},null,null,78.309920779605093,{"$f":"I432-#REF!","v":{"$error":"#REF!"}}]
["Current","Tatura",{"$error":"#REF!"},{"$error":"#REF!"},80.082821496010197,{"$f":"E433-#REF!","v":{"$error":"#REF!"}},null,null,80.082821496010197,{"$f":"I433-#REF!","v":{"$error":"#REF!"}}]
["Current","Tatura",{"$error":"#REF!"},{"$error":"#REF!"},75.493976869373,{"$f":"E434-#REF!","v":{"$error":"#REF!"}},null,null,75.493976869373,{"$f":"I434-#REF!","v":{"$error":"#REF!"}}]
["Current","Tatura",{"$error":"#REF!"},{"$error":"#REF!"},83.786456445804703,{"$f":"E435-#REF!","v":{"$error":"#REF!"}},null,null,83.786456445804703,{"$f":"I435-#REF!","v":{"$error":"#REF!"}}]
["Current","Tatura",{"$error":"#REF!"},{"$error":"#REF!"},80.485315448142302,{"$f":"E436-#REF!","v":{"$error":"#REF!"}},null,null,80.485315448142302,{"$f":"I436-#REF!","v":{"$error":"#REF!"}}]
["Current","Tatura",{"$error":"#REF!"},{"$error":"#REF!"},76.250666729550801,{"$f":"E437-#REF!","v":{"$error":"#REF!"}},null,null,76.250666729550801,{"$f":"I437-#REF!","v":{"$error":"#REF!"}}]
["Current","Tatura",{"$error":"#REF!"},{"$error":"#REF!"},82.483108968622702,{"$f":"E438-#REF!","v":{"$error":"#REF!"}},null,null,82.483108968622702,{"$f":"I438-#REF!","v":{"$error":"#REF!"}}]
["Current","Tatura",{"$error":"#REF!"},{"$error":"#REF!"},81.443884823948395,{"$f":"E439-#REF!","v":{"$error":"#REF!"}},null,null,81.443884823948395,{"$f":"I439-#REF!","v":{"$error":"#REF!"}}]
["Current","Tatura",{"$error":"#REF!"},{"$error":"#REF!"},77.687714182610307,{"$f":"E440-#REF!","v":{"$error":"#REF!"}},null,null,77.687714182610307,{"$f":"I440-#REF!","v":{"$error":"#REF!"}}]
["Current","Tatura",{"$error":"#REF!"},{"$error":"#REF!"},73.789850628626397,{"$f":"E441-#REF!","v":{"$error":"#REF!"}},null,null,73.789850628626397,{"$f":"I441-#REF!","v":{"$error":"#REF!"}}]
["Current","Tatura",{"$error":"#REF!"},{"$error":"#REF!"},80.687305009109707,{"$f":"E442-#REF!","v":{"$error":"#REF!"}},null,null,80.687305009109707,{"$f":"I442-#REF!","v":{"$error":"#REF!"}}]
["Current","Tatura",{"$error":"#REF!"},{"$error":"#REF!"},83.745214798198205,{"$f":"E443-#REF!","v":{"$error":"#REF!"}},null,null,83.745214798198205,{"$f":"I443-#REF!","v":{"$error":"#REF!"}}]
["Current","Tatura",{"$error":"#REF!"},{"$error":"#REF!"},71.963547895191397,{"$f":"E444-#REF!","v":{"$error":"#REF!"}},null,null,71.963547895191397,{"$f":"I444-#REF!","v":{"$error":"#REF!"}}]
["Current","Tatura",{"$error":"#REF!"},{"$error":"#REF!"},75.402112938383496,{"$f":"E445-#REF!","v":{"$error":"#REF!"}},null,null,75.402112938383496,{"$f":"I445-#REF!","v":{"$error":"#REF!"}}]
["Current","Tatura",{"$error":"#REF!"},{"$error":"#REF!"},75.348023581702805,{"$f":"E446-#REF!","v":{"$error":"#REF!"}},null,null,75.348023581702805,{"$f":"I446-#REF!","v":{"$error":"#REF!"}}]
["Current","Tatura",{"$error":"#REF!"},{"$error":"#REF!"},87.619022124411003,{"$f":"E447-#REF!","v":{"$error":"#REF!"}},null,null,87.619022124411003,{"$f":"I447-#REF!","v":{"$error":"#REF!"}}]
["Current","Tatura",{"$error":"#REF!"},{"$error":"#REF!"},80.449105732925801,{"$f":"E448-#REF!","v":{"$error":"#REF!"}},null,null,80.449105732925801,{"$f":"I448-#REF!","v":{"$error":"#REF!"}}]
["Current","Tatura",{"$error":"#REF!"},{"$error":"#REF!"},83.277658001963204,{"$f":"E449-#REF!","v":{"$error":"#REF!"}},null,null,83.277658001963204,{"$f":"I449-#REF!","v":{"$error":"#REF!"}}]
["Current","Tatura",{"$f":"IF(F450>0,1,0)/99","v":{"$error":"#REF!"}},{"$f":"IF(J450>0,1,0)/99","v":{"$error":"#REF!"}},75.767085359166501,{"$f":"E450-#REF!","v":{"$error":"#REF!"}},null,null,75.767085359166501,{"$f":"I450-#REF!","v":{"$error":"#REF!"}}]
["Current","Tatura",{"$error":"#REF!"},{"$error":"#REF!"},84.176679780740201,{"$f":"E451-#REF!","v":{"$error":"#REF!"}},null,null,84.176679780740201,{"$f":"I451-#REF!","v":{"$error":"#REF!"}}]
["Current","Tatura",{"$error":"#REF!"},{"$error":"#REF!"},76.981645654991098,{"$f":"E452-#REF!","v":{"$error":"#REF!"}},null,null,76.981645654991098,{"$f":"I452-#REF!","v":{"$error":"#REF!"}}]
["Current","Tatura",{"$error":"#REF!"},{"$error":"#REF!"},81.559699049175904,{"$f":"E453-#REF!","v":{"$error":"#REF!"}},null,null,81.559699049175904,{"$f":"I453-#REF!","v":{"$error":"#REF!"}}]
["Current","Tatura",{"$error":"#REF!"},{"$error":"#REF!"},72.125897086566496,{"$f":"E454-#REF!","v":{"$error":"#REF!"}},null,null,72.125897086566496,{"$f":"I454-#REF!","v":{"$error":"#REF!"}}]
["Current","Tatura",{"$error":"#REF!"},{"$error":"#REF!"},85.8374374710544,{"$f":"E455-#REF!","v":{"$error":"#REF!"}},null,null,85.8374374710544,{"$f":"I455-#REF!","v":{"$error":"#REF!"}}]
["Current","Tatura",{"$error":"#REF!"},{"$error":"#REF!"},76.950405148052496,{"$f":"E456-#REF!","v":{"$error":"#REF!"}},null,null,76.950405148052496,{"$f":"I456-#REF!","v":{"$error":"#REF!"}}]
["Current","Tatura",{"$error":"#REF!"},{"$error":"#REF!"},84.145963333493995,{"$f":"E457-#REF!","v":{"$error":"#REF!"}},null,null,84.145963333493995,{"$f":"I457-#REF!","v":{"$error":"#REF!"}}]
["Current","Tatura",{"$error":"#REF!"},{"$error":"#REF!"},86.727098432858497,{"$f":"E458-#REF!","v":{"$error":"#REF!"}},null,null,86.727098432858497,{"$f":"I458-#REF!","v":{"$error":"#REF!"}}]
["Current","Tatura",{"$error":"#REF!"},{"$error":"#REF!"},77.269696276234001,{"$f":"E459-#REF!","v":{"$error":"#REF!"}},null,null,77.269696276234001,{"$f":"I459-#REF!","v":{"$error":"#REF!"}}]
["Current","Tatura",{"$error":"#REF!"},{"$error":"#REF!"},86.305432897996596,{"$f":"E460-#REF!","v":{"$error":"#REF!"}},null,null,86.305432897996596,{"$f":"I460-#REF!","v":{"$error":"#REF!"}}]
["Current","Tatura",{"$error":"#REF!"},{"$error":"#REF!"},78.923942069479693,{"$f":"E461-#REF!","v":{"$error":"#REF!"}},null,null,78.923942069479693,{"$f":"I461-#REF!","v":{"$error":"#REF!"}}]
["Current","Tatura",{"$error":"#REF!"},{"$error":"#REF!"},75.124904018413801,{"$f":"E462-#REF!","v":{"$error":"#REF!"}},null,null,75.124904018413801,{"$f":"I462-#REF!","v":{"$error":"#REF!"}}]
["Current","Tatura",{"$error":"#REF!"},{"$error":"#REF!"},79.184098285462497,{"$f":"E463-#REF!","v":{"$error":"#REF!"}},null,null,79.184098285462497,{"$f":"I463-#REF!","v":{"$error":"#REF!"}}]
["Current","Tatura",{"$error":"#REF!"},{"$error":"#REF!"},75.992714567764693,{"$f":"E464-#REF!","v":{"$error":"#REF!"}},null,null,75.992714567764693,{"$f":"I464-#REF!","v":{"$error":"#REF!"}}]
["Current","Tatura",{"$error":"#REF!"},{"$error":"#REF!"},81.5014481141815,{"$f":"E465-#REF!","v":{"$error":"#REF!"}},null,null,81.5014481141815,{"$f":"I465-#REF!","v":{"$error":"#REF!"}}]
["Current","Tatura",{"$error":"#REF!"},{"$error":"#REF!"},83.059371146439403,{"$f":"E466-#REF!","v":{"$error":"#REF!"}},null,null,83.059371146439403,{"$f":"I466-#REF!","v":{"$error":"#REF!"}}]
["Current","Tatura",{"$error":"#REF!"},{"$error":"#REF!"},76.021883657755893,{"$f":"E467-#REF!","v":{"$error":"#REF!"}},null,null,76.021883657755893,{"$f":"I467-#REF!","v":{"$error":"#REF!"}}]
["Current","Tatura",{"$error":"#REF!"},{"$error":"#REF!"},82.569984877828702,{"$f":"E468-#REF!","v":{"$error":"#REF!"}},null,null,82.569984877828702,{"$f":"I468-#REF!","v":{"$error":"#REF!"}}]
["Current","Tatura",{"$error":"#REF!"},{"$error":"#REF!"},74.938908542796796,{"$f":"E469-#REF!","v":{"$error":"#REF!"}},null,null,74.938908542796796,{"$f":"I469-#REF!","v":{"$error":"#REF!"}}]
["Current","Tatura",{"$error":"#REF!"},{"$error":"#REF!"},79.072203444151995,{"$f":"E470-#REF!","v":{"$error":"#REF!"}},null,null,79.072203444151995,{"$f":"I470-#REF!","v":{"$error":"#REF!"}}]
["Current","Tatura",{"$error":"#REF!"},{"$error":"#REF!"},78.166435796729303,{"$f":"E471-#REF!","v":{"$error":"#REF!"}},null,null,78.166435796729303,{"$f":"I471-#REF!","v":{"$error":"#REF!"}}]
["Current","Tatura",{"$error":"#REF!"},{"$error":"#REF!"},81.199495203682005,{"$f":"E472-#REF!","v":{"$error":"#REF!"}},null,null,81.199495203682005,{"$f":"I472-#REF!","v":{"$error":"#REF!"}}]
["Current","Tatura",{"$error":"#REF!"},{"$error":"#REF!"},81.282355193266,{"$f":"E473-#REF!","v":{"$error":"#REF!"}},null,null,81.282355193266,{"$f":"I473-#REF!","v":{"$error":"#REF!"}}]
["Current","Tatura",{"$error":"#REF!"},{"$error":"#REF!"},79.302071889011103,{"$f":"E474-#REF!","v":{"$error":"#REF!"}},null,null,79.302071889011103,{"$f":"I474-#REF!","v":{"$error":"#REF!"}}]
["Current","Tatura",{"$error":"#REF!"},{"$error":"#REF!"},76.285486771789095,{"$f":"E475-#REF!","v":{"$error":"#REF!"}},null,null,76.285486771789095,{"$f":"I475-#REF!","v":{"$error":"#REF!"}}]
["Current","Tatura",{"$error":"#REF!"},{"$error":"#REF!"},79.075312584743301,{"$f":"E476-#REF!","v":{"$error":"#REF!"}},null,null,79.075312584743301,{"$f":"I476-#REF!","v":{"$error":"#REF!"}}]
["Current","Tatura",{"$error":"#REF!"},{"$error":"#REF!"},81.012086888948005,{"$f":"E477-#REF!","v":{"$error":"#REF!"}},null,null,81.012086888948005,{"$f":"I477-#REF!","v":{"$error":"#REF!"}}]
["Current","Tatura",{"$error":"#REF!"},{"$error":"#REF!"},78.711155866177407,{"$f":"E478-#REF!","v":{"$error":"#REF!"}},null,null,78.711155866177407,{"$f":"I478-#REF!","v":{"$error":"#REF!"}}]
["Current","Tatura",{"$error":"#REF!"},{"$error":"#REF!"},83.746032599609606,{"$f":"E479-#REF!","v":{"$error":"#REF!"}},null,null,83.746032599609606,{"$f":"I479-#REF!","v":{"$error":"#REF!"}}]
["Current","Tatura",{"$error":"#REF!"},{"$error":"#REF!"},80.748583984413301,{"$f":"E480-#REF!","v":{"$error":"#REF!"}},null,null,80.748583984413301,{"$f":"I480-#REF!","v":{"$error":"#REF!"}}]
["Current","Tatura",{"$error":"#REF!"},{"$error":"#REF!"},79.196580944589797,{"$f":"E481-#REF!","v":{"$error":"#REF!"}},null,null,79.196580944589797,{"$f":"I481-#REF!","v":{"$error":"#REF!"}}]
["Current","Tatura",{"$error":"#REF!"},{"$error":"#REF!"},78.711867485504001,{"$f":"E482-#REF!","v":{"$error":"#REF!"}},null,null,78.711867485504001,{"$f":"I482-#REF!","v":{"$error":"#REF!"}}]
["Current","Tatura",{"$error":"#REF!"},{"$error":"#REF!"},79.450920889645701,{"$f":"E483-#REF!","v":{"$error":"#REF!"}},null,null,79.450920889645701,{"$f":"I483-#REF!","v":{"$error":"#REF!"}}]
["Current","Tatura",{"$error":"#REF!"},{"$error":"#REF!"},80.786240818373997,{"$f":"E484-#REF!","v":{"$error":"#REF!"}},null,null,80.786240818373997,{"$f":"I484-#REF!","v":{"$error":"#REF!"}}]
["Current","Tatura",{"$error":"#REF!"},{"$error":"#REF!"},77.814957952424905,{"$f":"E485-#REF!","v":{"$error":"#REF!"}},null,null,77.814957952424905,{"$f":"I485-#REF!","v":{"$error":"#REF!"}}]
["Current","Tatura",{"$error":"#REF!"},{"$error":"#REF!"},71.115158874542303,{"$f":"E486-#REF!","v":{"$error":"#REF!"}},null,null,71.115158874542303,{"$f":"I486-#REF!","v":{"$error":"#REF!"}}]
["Current","Tatura",{"$error":"#REF!"},{"$error":"#REF!"},82.739986432029497,{"$f":"E487-#REF!","v":{"$error":"#REF!"}},null,null,82.739986432029497,{"$f":"I487-#REF!","v":{"$error":"#REF!"}}]
["Current","Tatura",{"$error":"#REF!"},{"$error":"#REF!"},76.468346655690198,{"$f":"E488-#REF!","v":{"$error":"#REF!"}},null,null,76.468346655690198,{"$f":"I488-#REF!","v":{"$error":"#REF!"}}]
["Current","Tatura",{"$error":"#REF!"},{"$error":"#REF!"},74.339266126719195,{"$f":"E489-#REF!","v":{"$error":"#REF!"}},null,null,74.339266126719195,{"$f":"I489-#REF!","v":{"$error":"#REF!"}}]
["Current","Tatura",{"$error":"#REF!"},{"$error":"#REF!"},80.736478807431297,{"$f":"E490-#REF!","v":{"$error":"#REF!"}},null,null,80.736478807431297,{"$f":"I490-#REF!","v":{"$error":"#REF!"}}]
["Current","Tatura",{"$error":"#REF!"},{"$error":"#REF!"},83.116060023850807,{"$f":"E491-#REF!","v":{"$error":"#REF!"}},null,null,83.116060023850807,{"$f":"I491-#REF!","v":{"$error":"#REF!"}}]
["Current","Tatura",{"$error":"#REF!"},{"$error":"#REF!"},72.987578693074198,{"$f":"E492-#REF!","v":{"$error":"#REF!"}},null,null,72.987578693074198,{"$f":"I492-#REF!","v":{"$error":"#REF!"}}]
["Current","Tatura",{"$error":"#REF!"},{"$error":"#REF!"},80.729538756898293,{"$f":"E493-#REF!","v":{"$error":"#REF!"}},null,null,80.729538756898293,{"$f":"I493-#REF!","v":{"$error":"#REF!"}}]
["Current","Tatura",{"$error":"#REF!"},{"$error":"#REF!"},70.642776289429406,{"$f":"E494-#REF!","v":{"$error":"#REF!"}},null,null,70.642776289429406,{"$f":"I494-#REF!","v":{"$error":"#REF!"}}]
["Current","Tatura",{"$error":"#REF!"},{"$error":"#REF!"},82.250120191441297,{"$f":"E495-#REF!","v":{"$error":"#REF!"}},null,null,82.250120191441297,{"$f":"I495-#REF!","v":{"$error":"#REF!"}}]
["Current","Tatura",{"$error":"#REF!"},{"$error":"#REF!"},76.320105954871806,{"$f":"E496-#REF!","v":{"$error":"#REF!"}},null,null,76.320105954871806,{"$f":"I496-#REF!","v":{"$error":"#REF!"}}]
["Current","Yarra Yalley",{"$error":"#REF!"},{"$error":"#REF!"},80.848566150343501,{"$f":"E497-#REF!","v":{"$error":"#REF!"}},null,null,80.848566150343501,{"$f":"I497-#REF!","v":{"$error":"#REF!"}}]
["Current","Yarra Yalley",{"$error":"#REF!"},{"$error":"#REF!"},85.444534307489604,{"$f":"E498-#REF!","v":{"$error":"#REF!"}},null,null,85.444534307489604,{"$f":"I498-#REF!","v":{"$error":"#REF!"}}]
["Current","Yarra Yalley",{"$error":"#REF!"},{"$error":"#REF!"},90.1583663687437,{"$f":"E499-#REF!","v":{"$error":"#REF!"}},null,null,90.1583663687437,{"$f":"I499-#REF!","v":{"$error":"#REF!"}}]
["Current","Yarra Yalley",{"$error":"#REF!"},{"$error":"#REF!"},82.742333772854906,{"$f":"E500-#REF!","v":{"$error":"#REF!"}},null,null,82.742333772854906,{"$f":"I500-#REF!","v":{"$error":"#REF!"}}]
["Current","Yarra Yalley",{"$error":"#REF!"},{"$error":"#REF!"},87.104644965793398,{"$f":"E501-#REF!","v":{"$error":"#REF!"}},null,null,87.104644965793398,{"$f":"I501-#REF!","v":{"$error":"#REF!"}}]
["Current","Yarra Yalley",{"$error":"#REF!"},{"$error":"#REF!"},83.417748246932703,{"$f":"E502-#REF!","v":{"$error":"#REF!"}},null,null,83.417748246932703,{"$f":"I502-#REF!","v":{"$error":"#REF!"}}]
["Current","Yarra Yalley",{"$error":"#REF!"},{"$error":"#REF!"},86.659150394033901,{"$f":"E503-#REF!","v":{"$error":"#REF!"}},null,null,86.659150394033901,{"$f":"I503-#REF!","v":{"$error":"#REF!"}}]
["Current","Yarra Yalley",{"$error":"#REF!"},{"$error":"#REF!"},80.661250089526604,{"$f":"E504-#REF!","v":{"$error":"#REF!"}},null,null,80.661250089526604,{"$f":"I504-#REF!","v":{"$error":"#REF!"}}]
["Current","Yarra Yalley",{"$error":"#REF!"},{"$error":"#REF!"},80.588564207788394,{"$f":"E505-#REF!","v":{"$error":"#REF!"}},null,null,80.588564207788394,{"$f":"I505-#REF!","v":{"$error":"#REF!"}}]
["Current","Yarra Yalley",{"$error":"#REF!"},{"$error":"#REF!"},90.1441827544528,{"$f":"E506-#REF!","v":{"$error":"#REF!"}},null,null,90.1441827544528,{"$f":"I506-#REF!","v":{"$error":"#REF!"}}]
["Current","Yarra Yalley",{"$error":"#REF!"},{"$error":"#REF!"},81.771361446466102,{"$f":"E507-#REF!","v":{"$error":"#REF!"}},null,null,81.771361446466102,{"$f":"I507-#REF!","v":{"$error":"#REF!"}}]
["Current","Yarra Yalley",{"$error":"#REF!"},{"$error":"#REF!"},88.393903099229703,{"$f":"E508-#REF!","v":{"$error":"#REF!"}},null,null,88.393903099229703,{"$f":"I508-#REF!","v":{"$error":"#REF!"}}]
["Current","Yarra Yalley",{"$error":"#REF!"},{"$error":"#REF!"},82.101488201415904,{"$f":"E509-#REF!","v":{"$error":"#REF!"}},null,null,82.101488201415904,{"$f":"I509-#REF!","v":{"$error":"#REF!"}}]
["Current","Yarra Yalley",{"$error":"#REF!"},{"$error":"#REF!"},87.840164618044199,{"$f":"E510-#REF!","v":{"$error":"#REF!"}},null,null,87.840164618044199,{"$f":"I510-#REF!","v":{"$error":"#REF!"}}]
["Current","Yarra Yalley",{"$error":"#REF!"},{"$error":"#REF!"},87.044042814875098,{"$f":"E511-#REF!","v":{"$error":"#REF!"}},null,null,87.044042814875098,{"$f":"I511-#REF!","v":{"$error":"#REF!"}}]
["Current","Yarra Yalley",{"$error":"#REF!"},{"$error":"#REF!"},88.871202661408503,{"$f":"E512-#REF!","v":{"$error":"#REF!"}},null,null,88.871202661408503,{"$f":"I512-#REF!","v":{"$error":"#REF!"}}]
["Current","Yarra Yalley",{"$error":"#REF!"},{"$error":"#REF!"},86.719205410530805,{"$f":"E513-#REF!","v":{"$error":"#REF!"}},null,null,86.719205410530805,{"$f":"I513-#REF!","v":{"$error":"#REF!"}}]
["Current","Yarra Yalley",{"$f":"IF(F514>0,1,0)/99","v":{"$error":"#REF!"}},{"$f":"IF(J514>0,1,0)/99","v":{"$error":"#REF!"}},81.582064518213002,{"$f":"E514-#REF!","v":{"$error":"#REF!"}},null,null,81.582064518213002,{"$f":"I514-#REF!","v":{"$error":"#REF!"}}]
["Current","Yarra Yalley",{"$error":"#REF!"},{"$error":"#REF!"},86.231010612748406,{"$f":"E515-#REF!","v":{"$error":"#REF!"}},null,null,86.231010612748406,{"$f":"I515-#REF!","v":{"$error":"#REF!"}}]
["Current","Yarra Yalley",{"$error":"#REF!"},{"$error":"#REF!"},82.040533355262397,{"$f":"E516-#REF!","v":{"$error":"#REF!"}},null,null,82.040533355262397,{"$f":"I516-#REF!","v":{"$error":"#REF!"}}]
["Current","Yarra Yalley",{"$error":"#REF!"},{"$error":"#REF!"},81.693255639537199,{"$f":"E517-#REF!","v":{"$error":"#REF!"}},null,null,81.693255639537199,{"$f":"I517-#REF!","v":{"$error":"#REF!"}}]
["Current","Yarra Yalley",{"$error":"#REF!"},{"$error":"#REF!"},84.664946207099106,{"$f":"E518-#REF!","v":{"$error":"#REF!"}},null,null,84.664946207099106,{"$f":"I518-#REF!","v":{"$error":"#REF!"}}]
["Current","Yarra Yalley",{"$error":"#REF!"},{"$error":"#REF!"},85.603027289533301,{"$f":"E519-#REF!","v":{"$error":"#REF!"}},null,null,85.603027289533301,{"$f":"I519-#REF!","v":{"$error":"#REF!"}}]
["Current","Yarra Yalley",{"$error":"#REF!"},{"$error":"#REF!"},83.693174355743096,{"$f":"E520-#REF!","v":{"$error":"#REF!"}},null,null,83.693174355743096,{"$f":"I520-#REF!","v":{"$error":"#REF!"}}]
["Current","Yarra Yalley",{"$error":"#REF!"},{"$error":"#REF!"},87.975532127673503,{"$f":"E521-#REF!","v":{"$error":"#REF!"}},null,null,87.975532127673503,{"$f":"I521-#REF!","v":{"$error":"#REF!"}}]
["Current","Yarra Yalley",{"$error":"#REF!"},{"$error":"#REF!"},81.517619853354006,{"$f":"E522-#REF!","v":{"$error":"#REF!"}},null,null,81.517619853354006,{"$f":"I522-#REF!","v":{"$error":"#REF!"}}]
["Current","Yarra Yalley",{"$error":"#REF!"},{"$error":"#REF!"},82.689978209692697,{"$f":"E523-#REF!","v":{"$error":"#REF!"}},null,null,82.689978209692697,{"$f":"I523-#REF!","v":{"$error":"#REF!"}}]
["Current","Yarra Yalley",{"$error":"#REF!"},{"$error":"#REF!"},82.925775419398406,{"$f":"E524-#REF!","v":{"$error":"#REF!"}},null,null,82.925775419398406,{"$f":"I524-#REF!","v":{"$error":"#REF!"}}]
["Current","Yarra Yalley",{"$error":"#REF!"},{"$error":"#REF!"},83.372621380854298,{"$f":"E525-#REF!","v":{"$error":"#REF!"}},null,null,83.372621380854298,{"$f":"I525-#REF!","v":{"$error":"#REF!"}}]
["Current","Yarra Yalley",{"$error":"#REF!"},{"$error":"#REF!"},85.5161625578002,{"$f":"E526-#REF!","v":{"$error":"#REF!"}},null,null,85.5161625578002,{"$f":"I526-#REF!","v":{"$error":"#REF!"}}]
["Current","Yarra Yalley",{"$error":"#REF!"},{"$error":"#REF!"},84.847732581381706,{"$f":"E527-#REF!","v":{"$error":"#REF!"}},null,null,84.847732581381706,{"$f":"I527-#REF!","v":{"$error":"#REF!"}}]
["Current","Yarra Yalley",{"$error":"#REF!"},{"$error":"#REF!"},82.535859291200296,{"$f":"E528-#REF!","v":{"$error":"#REF!"}},null,null,82.535859291200296,{"$f":"I528-#REF!","v":{"$error":"#REF!"}}]
["Current","Yarra Yalley",{"$error":"#REF!"},{"$error":"#REF!"},89.846198621035498,{"$f":"E529-#REF!","v":{"$error":"#REF!"}},null,null,89.846198621035498,{"$f":"I529-#REF!","v":{"$error":"#REF!"}}]
["Current","Yarra Yalley",{"$error":"#REF!"},{"$error":"#REF!"},88.308321826708806,{"$f":"E530-#REF!","v":{"$error":"#REF!"}},null,null,88.308321826708806,{"$f":"I530-#REF!","v":{"$error":"#REF!"}}]
["Current","Yarra Yalley",{"$error":"#REF!"},{"$error":"#REF!"},85.006387682984695,{"$f":"E531-#REF!","v":{"$error":"#REF!"}},null,null,85.006387682984695,{"$f":"I531-#REF!","v":{"$error":"#REF!"}}]
["Current","Yarra Yalley",{"$error":"#REF!"},{"$error":"#REF!"},88.335312940775594,{"$f":"E532-#REF!","v":{"$error":"#REF!"}},null,null,88.335312940775594,{"$f":"I532-#REF!","v":{"$error":"#REF!"}}]
["Current","Yarra Yalley",{"$error":"#REF!"},{"$error":"#REF!"},79.270677829550706,{"$f":"E533-#REF!","v":{"$error":"#REF!"}},null,null,79.270677829550706,{"$f":"I533-#REF!","v":{"$error":"#REF!"}}]
["Current","Yarra Yalley",{"$error":"#REF!"},{"$error":"#REF!"},85.853283217132002,{"$f":"E534-#REF!","v":{"$error":"#REF!"}},null,null,85.853283217132002,{"$f":"I534-#REF!","v":{"$error":"#REF!"}}]
["Current","Yarra Yalley",{"$error":"#REF!"},{"$error":"#REF!"},87.161897465515807,{"$f":"E535-#REF!","v":{"$error":"#REF!"}},null,null,87.161897465515807,{"$f":"I535-#REF!","v":{"$error":"#REF!"}}]
["Current","Yarra Yalley",{"$error":"#REF!"},{"$error":"#REF!"},84.921688704962705,{"$f":"E536-#REF!","v":{"$error":"#REF!"}},null,null,84.921688704962705,{"$f":"I536-#REF!","v":{"$error":"#REF!"}}]
["Current","Yarra Yalley",{"$error":"#REF!"},{"$error":"#REF!"},87.214811108394201,{"$f":"E537-#REF!","v":{"$error":"#REF!"}},null,null,87.214811108394201,{"$f":"I537-#REF!","v":{"$error":"#REF!"}}]
["Current","Yarra Yalley",{"$error":"#REF!"},{"$error":"#REF!"},88.945398900172705,{"$f":"E538-#REF!","v":{"$error":"#REF!"}},null,null,88.945398900172705,{"$f":"I538-#REF!","v":{"$error":"#REF!"}}]
["Current","Yarra Yalley",{"$error":"#REF!"},{"$error":"#REF!"},83.192298502933596,{"$f":"E539-#REF!","v":{"$error":"#REF!"}},null,null,83.192298502933596,{"$f":"I539-#REF!","v":{"$error":"#REF!"}}]
["Current","Yarra Yalley",{"$error":"#REF!"},{"$error":"#REF!"},83.7543562787463,{"$f":"E540-#REF!","v":{"$error":"#REF!"}},null,null,83.7543562787463,{"$f":"I540-#REF!","v":{"$error":"#REF!"}}]
["Current","Yarra Yalley",{"$error":"#REF!"},{"$error":"#REF!"},85.883851559787303,{"$f":"E541-#REF!","v":{"$error":"#REF!"}},null,null,85.883851559787303,{"$f":"I541-#REF!","v":{"$error":"#REF!"}}]
["Current","Yarra Yalley",{"$error":"#REF!"},{"$error":"#REF!"},88.332081042104207,{"$f":"E542-#REF!","v":{"$error":"#REF!"}},null,null,88.332081042104207,{"$f":"I542-#REF!","v":{"$error":"#REF!"}}]
["Current","Yarra Yalley",{"$error":"#REF!"},{"$error":"#REF!"},82.342923778142605,{"$f":"E543-#REF!","v":{"$error":"#REF!"}},null,null,82.342923778142605,{"$f":"I543-#REF!","v":{"$error":"#REF!"}}]
["Current","Yarra Yalley",{"$error":"#REF!"},{"$error":"#REF!"},84.631096785020802,{"$f":"E544-#REF!","v":{"$error":"#REF!"}},null,null,84.631096785020802,{"$f":"I544-#REF!","v":{"$error":"#REF!"}}]
["Current","Yarra Yalley",{"$error":"#REF!"},{"$error":"#REF!"},86.091996112747495,{"$f":"E545-#REF!","v":{"$error":"#REF!"}},null,null,86.091996112747495,{"$f":"I545-#REF!","v":{"$error":"#REF!"}}]
["Current","Yarra Yalley",{"$error":"#REF!"},{"$error":"#REF!"},90.560945043147498,{"$f":"E546-#REF!","v":{"$error":"#REF!"}},null,null,90.560945043147498,{"$f":"I546-#REF!","v":{"$error":"#REF!"}}]
["Current","Yarra Yalley",{"$error":"#REF!"},{"$error":"#REF!"},85.442597221393996,{"$f":"E547-#REF!","v":{"$error":"#REF!"}},null,null,85.442597221393996,{"$f":"I547-#REF!","v":{"$error":"#REF!"}}]
["Current","Yarra Yalley",{"$error":"#REF!"},{"$error":"#REF!"},88.100301999691595,{"$f":"E548-#REF!","v":{"$error":"#REF!"}},null,null,88.100301999691595,{"$f":"I548-#REF!","v":{"$error":"#REF!"}}]
["Current","Yarra Yalley",{"$error":"#REF!"},{"$error":"#REF!"},83.504305558987099,{"$f":"E549-#REF!","v":{"$error":"#REF!"}},null,null,83.504305558987099,{"$f":"I549-#REF!","v":{"$error":"#REF!"}}]
["Current","Yarra Yalley",{"$error":"#REF!"},{"$error":"#REF!"},87.254510469000493,{"$f":"E550-#REF!","v":{"$error":"#REF!"}},null,null,87.254510469000493,{"$f":"I550-#REF!","v":{"$error":"#REF!"}}]
["Current","Yarra Yalley",{"$error":"#REF!"},{"$error":"#REF!"},82.559042559387095,{"$f":"E551-#REF!","v":{"$error":"#REF!"}},null,null,82.559042559387095,{"$f":"I551-#REF!","v":{"$error":"#REF!"}}]
["Current","Yarra Yalley",{"$error":"#REF!"},{"$error":"#REF!"},88.057852840292199,{"$f":"E552-#REF!","v":{"$error":"#REF!"}},null,null,88.057852840292199,{"$f":"I552-#REF!","v":{"$error":"#REF!"}}]
["Current","Yarra Yalley",{"$error":"#REF!"},{"$error":"#REF!"},82.979456674280996,{"$f":"E553-#REF!","v":{"$error":"#REF!"}},null,null,82.979456674280996,{"$f":"I553-#REF!","v":{"$error":"#REF!"}}]
["Current","Yarra Yalley",{"$error":"#REF!"},{"$error":"#REF!"},88.731814506578303,{"$f":"E554-#REF!","v":{"$error":"#REF!"}},null,null,88.731814506578303,{"$f":"I554-#REF!","v":{"$error":"#REF!"}}]
["Current","Yarra Yalley",{"$error":"#REF!"},{"$error":"#REF!"},84.849284528876495,{"$f":"E555-#REF!","v":{"$error":"#REF!"}},null,null,84.849284528876495,{"$f":"I555-#REF!","v":{"$error":"#REF!"}}]
["Current","Yarra Yalley",{"$error":"#REF!"},{"$error":"#REF!"},90.578714417967703,{"$f":"E556-#REF!","v":{"$error":"#REF!"}},null,null,90.578714417967703,{"$f":"I556-#REF!","v":{"$error":"#REF!"}}]
["Current","Yarra Yalley",{"$error":"#REF!"},{"$error":"#REF!"},90.750752379714697,{"$f":"E557-#REF!","v":{"$error":"#REF!"}},null,null,90.750752379714697,{"$f":"I557-#REF!","v":{"$error":"#REF!"}}]
["Current","Yarra Yalley",{"$error":"#REF!"},{"$error":"#REF!"},82.411659187055506,{"$f":"E558-#REF!","v":{"$error":"#REF!"}},null,null,82.411659187055506,{"$f":"I558-#REF!","v":{"$error":"#REF!"}}]
["Current","Yarra Yalley",{"$error":"#REF!"},{"$error":"#REF!"},86.781374309389193,{"$f":"E559-#REF!","v":{"$error":"#REF!"}},null,null,86.781374309389193,{"$f":"I559-#REF!","v":{"$error":"#REF!"}}]
["Current","Yarra Yalley",{"$error":"#REF!"},{"$error":"#REF!"},84.581305440570603,{"$f":"E560-#REF!","v":{"$error":"#REF!"}},null,null,84.581305440570603,{"$f":"I560-#REF!","v":{"$error":"#REF!"}}]
["Current","Yarra Yalley",{"$error":"#REF!"},{"$error":"#REF!"},84.321868347834794,{"$f":"E561-#REF!","v":{"$error":"#REF!"}},null,null,84.321868347834794,{"$f":"I561-#REF!","v":{"$error":"#REF!"}}]
["Current","Yarra Yalley",{"$error":"#REF!"},{"$error":"#REF!"},88.235038101792,{"$f":"E562-#REF!","v":{"$error":"#REF!"}},null,null,88.235038101792,{"$f":"I562-#REF!","v":{"$error":"#REF!"}}]
["Current","Yarra Yalley",{"$error":"#REF!"},{"$error":"#REF!"},87.527804368093399,{"$f":"E563-#REF!","v":{"$error":"#REF!"}},null,null,87.527804368093399,{"$f":"I563-#REF!","v":{"$error":"#REF!"}}]
["Current","Yarra Yalley",{"$error":"#REF!"},{"$error":"#REF!"},83.996385762157303,{"$f":"E564-#REF!","v":{"$error":"#REF!"}},null,null,83.996385762157303,{"$f":"I564-#REF!","v":{"$error":"#REF!"}}]
["Current","Yarra Yalley",{"$error":"#REF!"},{"$error":"#REF!"},89.459948147438396,{"$f":"E565-#REF!","v":{"$error":"#REF!"}},null,null,89.459948147438396,{"$f":"I565-#REF!","v":{"$error":"#REF!"}}]
["Current","Yarra Yalley",{"$error":"#REF!"},{"$error":"#REF!"},83.287964820130597,{"$f":"E566-#REF!","v":{"$error":"#REF!"}},null,null,83.287964820130597,{"$f":"I566-#REF!","v":{"$error":"#REF!"}}]
["Current","Yarra Yalley",{"$error":"#REF!"},{"$error":"#REF!"},88.086407019441907,{"$f":"E567-#REF!","v":{"$error":"#REF!"}},null,null,88.086407019441907,{"$f":"I567-#REF!","v":{"$error":"#REF!"}}]
["Current","Yarra Yalley",{"$error":"#REF!"},{"$error":"#REF!"},82.503456916186394,{"$f":"E568-#REF!","v":{"$error":"#REF!"}},null,null,82.503456916186394,{"$f":"I568-#REF!","v":{"$error":"#REF!"}}]
["Current","Yarra Yalley",{"$error":"#REF!"},{"$error":"#REF!"},86.161443658931802,{"$f":"E569-#REF!","v":{"$error":"#REF!"}},null,null,86.161443658931802,{"$f":"I569-#REF!","v":{"$error":"#REF!"}}]
["Current","Yarra Yalley",{"$error":"#REF!"},{"$error":"#REF!"},87.278892836539001,{"$f":"E570-#REF!","v":{"$error":"#REF!"}},null,null,87.278892836539001,{"$f":"I570-#REF!","v":{"$error":"#REF!"}}]
["Current","Yarra Yalley",{"$error":"#REF!"},{"$error":"#REF!"},85.729933247454795,{"$f":"E571-#REF!","v":{"$error":"#REF!"}},null,null,85.729933247454795,{"$f":"I571-#REF!","v":{"$error":"#REF!"}}]
["Current","Yarra Yalley",{"$error":"#REF!"},{"$error":"#REF!"},90.598818895057605,{"$f":"E572-#REF!","v":{"$error":"#REF!"}},null,null,90.598818895057605,{"$f":"I572-#REF!","v":{"$error":"#REF!"}}]
["Current","Yarra Yalley",{"$error":"#REF!"},{"$error":"#REF!"},86.347856885146598,{"$f":"E573-#REF!","v":{"$error":"#REF!"}},null,null,86.347856885146598,{"$f":"I573-#REF!","v":{"$error":"#REF!"}}]
["Current","Yarra Yalley",{"$error":"#REF!"},{"$error":"#REF!"},82.714835037604601,{"$f":"E574-#REF!","v":{"$error":"#REF!"}},null,null,82.714835037604601,{"$f":"I574-#REF!","v":{"$error":"#REF!"}}]
["Current","Yarra Yalley",{"$error":"#REF!"},{"$error":"#REF!"},85.297167815838904,{"$f":"E575-#REF!","v":{"$error":"#REF!"}},null,null,85.297167815838904,{"$f":"I575-#REF!","v":{"$error":"#REF!"}}]
["Current","Yarra Yalley",{"$error":"#REF!"},{"$error":"#REF!"},87.035966208427894,{"$f":"E576-#REF!","v":{"$error":"#REF!"}},null,null,87.035966208427894,{"$f":"I576-#REF!","v":{"$error":"#REF!"}}]
["Current","Yarra Yalley",{"$error":"#REF!"},{"$error":"#REF!"},88.655127857550298,{"$f":"E577-#REF!","v":{"$error":"#REF!"}},null,null,88.655127857550298,{"$f":"I577-#REF!","v":{"$error":"#REF!"}}]
["Current","Yarra Yalley",{"$f":"IF(F578>0,1,0)/99","v":{"$error":"#REF!"}},{"$f":"IF(J578>0,1,0)/99","v":{"$error":"#REF!"}},88.879856598966597,{"$f":"E578-#REF!","v":{"$error":"#REF!"}},null,null,88.879856598966597,{"$f":"I578-#REF!","v":{"$error":"#REF!"}}]
["Current","Yarra Yalley",{"$error":"#REF!"},{"$error":"#REF!"},85.319532214920201,{"$f":"E579-#REF!","v":{"$error":"#REF!"}},null,null,85.319532214920201,{"$f":"I579-#REF!","v":{"$error":"#REF!"}}]
["Current","Yarra Yalley",{"$error":"#REF!"},{"$error":"#REF!"},88.501913564218995,{"$f":"E580-#REF!","v":{"$error":"#REF!"}},null,null,88.501913564218995,{"$f":"I580-#REF!","v":{"$error":"#REF!"}}]
["Current","Yarra Yalley",{"$error":"#REF!"},{"$error":"#REF!"},84.124255785275395,{"$f":"E581-#REF!","v":{"$error":"#REF!"}},null,null,84.124255785275395,{"$f":"I581-#REF!","v":{"$error":"#REF!"}}]
["Current","Yarra Yalley",{"$error":"#REF!"},{"$error":"#REF!"},87.099358400306897,{"$f":"E582-#REF!","v":{"$error":"#REF!"}},null,null,87.099358400306897,{"$f":"I582-#REF!","v":{"$error":"#REF!"}}]
["Current","Yarra Yalley",{"$error":"#REF!"},{"$error":"#REF!"},88.641126774738794,{"$f":"E583-#REF!","v":{"$error":"#REF!"}},null,null,88.641126774738794,{"$f":"I583-#REF!","v":{"$error":"#REF!"}}]
["Current","Yarra Yalley",{"$error":"#REF!"},{"$error":"#REF!"},85.256622763693002,{"$f":"E584-#REF!","v":{"$error":"#REF!"}},null,null,85.256622763693002,{"$f":"I584-#REF!","v":{"$error":"#REF!"}}]
["Current","Yarra Yalley",{"$error":"#REF!"},{"$error":"#REF!"},80.058215995756299,{"$f":"E585-#REF!","v":{"$error":"#REF!"}},null,null,80.058215995756299,{"$f":"I585-#REF!","v":{"$error":"#REF!"}}]
["Current","Yarra Yalley",{"$error":"#REF!"},{"$error":"#REF!"},90.756310177577006,{"$f":"E586-#REF!","v":{"$error":"#REF!"}},null,null,90.756310177577006,{"$f":"I586-#REF!","v":{"$error":"#REF!"}}]
["Current","Yarra Yalley",{"$error":"#REF!"},{"$error":"#REF!"},84.906797117926402,{"$f":"E587-#REF!","v":{"$error":"#REF!"}},null,null,84.906797117926402,{"$f":"I587-#REF!","v":{"$error":"#REF!"}}]
["Current","Yarra Yalley",{"$error":"#REF!"},{"$error":"#REF!"},82.087229925646596,{"$f":"E588-#REF!","v":{"$error":"#REF!"}},null,null,82.087229925646596,{"$f":"I588-#REF!","v":{"$error":"#REF!"}}]
["Current","Yarra Yalley",{"$error":"#REF!"},{"$error":"#REF!"},85.058356139973299,{"$f":"E589-#REF!","v":{"$error":"#REF!"}},null,null,85.058356139973299,{"$f":"I589-#REF!","v":{"$error":"#REF!"}}]
["Current","Yarra Yalley",{"$error":"#REF!"},{"$error":"#REF!"},89.248254122550307,{"$f":"E590-#REF!","v":{"$error":"#REF!"}},null,null,89.248254122550307,{"$f":"I590-#REF!","v":{"$error":"#REF!"}}]
["Current","Yarra Yalley",{"$error":"#REF!"},{"$error":"#REF!"},84.275109584633597,{"$f":"E591-#REF!","v":{"$error":"#REF!"}},null,null,84.275109584633597,{"$f":"I591-#REF!","v":{"$error":"#REF!"}}]
["Current","Yarra Yalley",{"$error":"#REF!"},{"$error":"#REF!"},87.721911565337194,{"$f":"E592-#REF!","v":{"$error":"#REF!"}},null,null,87.721911565337194,{"$f":"I592-#REF!","v":{"$error":"#REF!"}}]
["Current","Yarra Yalley",{"$error":"#REF!"},{"$error":"#REF!"},76.332240166101101,{"$f":"E593-#REF!","v":{"$error":"#REF!"}},null,null,76.332240166101101,{"$f":"I593-#REF!","v":{"$error":"#REF!"}}]
["Current","Yarra Yalley",{"$error":"#REF!"},{"$error":"#REF!"},87.126745704843202,{"$f":"E594-#REF!","v":{"$error":"#REF!"}},null,null,87.126745704843202,{"$f":"I594-#REF!","v":{"$error":"#REF!"}}]
["Current","Yarra Yalley",{"$error":"#REF!"},{"$error":"#REF!"},85.921851401439596,{"$f":"E595-#REF!","v":{"$error":"#REF!"}},null,null,85.921851401439596,{"$f":"I595-#REF!","v":{"$error":"#REF!"}}]
["1°C","Huonville",{"$error":"#REF!"},{"$error":"#REF!"},82.7815629375622,{"$f":"E596-#REF!","v":{"$error":"#REF!"}},null,null,85.600544516931393,{"$f":"I596-#REF!","v":{"$error":"#REF!"}}]
["1°C","Huonville",{"$error":"#REF!"},{"$error":"#REF!"},84.382742560193506,{"$f":"E597-#REF!","v":{"$error":"#REF!"}},null,null,85.671114932406795,{"$f":"I597-#REF!","v":{"$error":"#REF!"}}]
["1°C","Huonville",{"$error":"#REF!"},{"$error":"#REF!"},85.027310039446107,{"$f":"E598-#REF!","v":{"$error":"#REF!"}},null,null,87.580628950373494,{"$f":"I598-#REF!","v":{"$error":"#REF!"}}]
["1°C","Huonville",{"$error":"#REF!"},{"$error":"#REF!"},85.435694802465207,{"$f":"E599-#REF!","v":{"$error":"#REF!"}},null,null,86.559334459758304,{"$f":"I599-#REF!","v":{"$error":"#REF!"}}]
["1°C","Huonville",{"$error":"#REF!"},{"$error":"#REF!"},86.749991109006999,{"$f":"E600-#REF!","v":{"$error":"#REF!"}},null,null,88.646491442759299,{"$f":"I600-#REF!","v":{"$error":"#REF!"}}]
["1°C","Huonville",{"$error":"#REF!"},{"$error":"#REF!"},84.861306518605502,{"$f":"E601-#REF!","v":{"$error":"#REF!"}},null,null,87.446135867301194,{"$f":"I601-#REF!","v":{"$error":"#REF!"}}]
["1°C","Huonville",{"$error":"#REF!"},{"$error":"#REF!"},85.021705421491504,{"$f":"E602-#REF!","v":{"$error":"#REF!"}},null,null,84.584077619474598,{"$f":"I602-#REF!","v":{"$error":"#REF!"}}]
["1°C","Huonville",{"$error":"#REF!"},{"$error":"#REF!"},81.403266572444707,{"$f":"E603-#REF!","v":{"$error":"#REF!"}},null,null,83.040810276382402,{"$f":"I603-#REF!","v":{"$error":"#REF!"}}]
["1°C","Huonville",{"$error":"#REF!"},{"$error":"#REF!"},82.408713079178696,{"$f":"E604-#REF!","v":{"$error":"#REF!"}},null,null,83.3651297408517,{"$f":"I604-#REF!","v":{"$error":"#REF!"}}]
["1°C","Huonville",{"$error":"#REF!"},{"$error":"#REF!"},84.327256301408298,{"$f":"E605-#REF!","v":{"$error":"#REF!"}},null,null,85.900714728786497,{"$f":"I605-#REF!","v":{"$error":"#REF!"}}]
["1°C","Huonville",{"$error":"#REF!"},{"$error":"#REF!"},81.485616356886794,{"$f":"E606-#REF!","v":{"$error":"#REF!"}},null,null,84.611291789332,{"$f":"I606-#REF!","v":{"$error":"#REF!"}}]
["1°C","Huonville",{"$error":"#REF!"},{"$error":"#REF!"},85.580881435592303,{"$f":"E607-#REF!","v":{"$error":"#REF!"}},null,null,86.477102823553196,{"$f":"I607-#REF!","v":{"$error":"#REF!"}}]
["1°C","Huonville",{"$error":"#REF!"},{"$error":"#REF!"},81.433420609852007,{"$f":"E608-#REF!","v":{"$error":"#REF!"}},null,null,82.955160355781004,{"$f":"I608-#REF!","v":{"$error":"#REF!"}}]
["1°C","Huonville",{"$error":"#REF!"},{"$error":"#REF!"},84.937499266782098,{"$f":"E609-#REF!","v":{"$error":"#REF!"}},null,null,87.749797344693206,{"$f":"I609-#REF!","v":{"$error":"#REF!"}}]
["1°C","Huonville",{"$error":"#REF!"},{"$error":"#REF!"},88.128490412727004,{"$f":"E610-#REF!","v":{"$error":"#REF!"}},null,null,87.845686306502103,{"$f":"I610-#REF!","v":{"$error":"#REF!"}}]
["1°C","Huonville",{"$error":"#REF!"},{"$error":"#REF!"},86.224127455634203,{"$f":"E611-#REF!","v":{"$error":"#REF!"}},null,null,86.712073479807103,{"$f":"I611-#REF!","v":{"$error":"#REF!"}}]
["1°C","Huonville",{"$error":"#REF!"},{"$error":"#REF!"},86.519642766570399,{"$f":"E612-#REF!","v":{"$error":"#REF!"}},null,null,89.296014686874599,{"$f":"I612-#REF!","v":{"$error":"#REF!"}}]
["1°C","Huonville",{"$error":"#REF!"},{"$error":"#REF!"},83.235896940934694,{"$f":"E613-#REF!","v":{"$error":"#REF!"}},null,null,85.408616984292394,{"$f":"I613-#REF!","v":{"$error":"#REF!"}}]
["1°C","Huonville",{"$error":"#REF!"},{"$error":"#REF!"},85.107923756833003,{"$f":"E614-#REF!","v":{"$error":"#REF!"}},null,null,86.852051873852005,{"$f":"I614-#REF!","v":{"$error":"#REF!"}}]
["1°C","Huonville",{"$error":"#REF!"},{"$error":"#REF!"},84.176466359931794,{"$f":"E615-#REF!","v":{"$error":"#REF!"}},null,null,85.516305285217101,{"$f":"I615-#REF!","v":{"$error":"#REF!"}}]
["1°C","Huonville",{"$error":"#REF!"},{"$error":"#REF!"},81.997717372391804,{"$f":"E616-#REF!","v":{"$error":"#REF!"}},null,null,84.562517529125401,{"$f":"I616-#REF!","v":{"$error":"#REF!"}}]
["1°C","Huonville",{"$error":"#REF!"},{"$error":"#REF!"},83.892462752304994,{"$f":"E617-#REF!","v":{"$error":"#REF!"}},null,null,84.4668210380608,{"$f":"I617-#REF!","v":{"$error":"#REF!"}}]
["1°C","Huonville",{"$error":"#REF!"},{"$error":"#REF!"},87.135840407646896,{"$f":"E618-#REF!","v":{"$error":"#REF!"}},null,null,88.708103534831494,{"$f":"I618-#REF!","v":{"$error":"#REF!"}}]
["1°C","Huonville",{"$error":"#REF!"},{"$error":"#REF!"},81.633117437980701,{"$f":"E619-#REF!","v":{"$error":"#REF!"}},null,null,82.688036956529402,{"$f":"I619-#REF!","v":{"$error":"#REF!"}}]
["1°C","Huonville",{"$error":"#REF!"},{"$error":"#REF!"},87.919906651575005,{"$f":"E620-#REF!","v":{"$error":"#REF!"}},null,null,87.745000843297504,{"$f":"I620-#REF!","v":{"$error":"#REF!"}}]
["1°C","Huonville",{"$error":"#REF!"},{"$error":"#REF!"},84.957870193575999,{"$f":"E621-#REF!","v":{"$error":"#REF!"}},null,null,87.670573188111604,{"$f":"I621-#REF!","v":{"$error":"#REF!"}}]
["1°C","Huonville",{"$error":"#REF!"},{"$error":"#REF!"},83.712453023299602,{"$f":"E622-#REF!","v":{"$error":"#REF!"}},null,null,85.211403903692997,{"$f":"I622-#REF!","v":{"$error":"#REF!"}}]
["1°C","Huonville",{"$error":"#REF!"},{"$error":"#REF!"},84.112352401311497,{"$f":"E623-#REF!","v":{"$error":"#REF!"}},null,null,86.985132086425594,{"$f":"I623-#REF!","v":{"$error":"#REF!"}}]
["1°C","Huonville",{"$error":"#REF!"},{"$error":"#REF!"},81.468623920987497,{"$f":"E624-#REF!","v":{"$error":"#REF!"}},null,null,82.725143954102194,{"$f":"I624-#REF!","v":{"$error":"#REF!"}}]
["1°C","Huonville",{"$error":"#REF!"},{"$error":"#REF!"},83.018585403839694,{"$f":"E625-#REF!","v":{"$error":"#REF!"}},null,null,84.651067547831005,{"$f":"I625-#REF!","v":{"$error":"#REF!"}}]
["1°C","Huonville",{"$error":"#REF!"},{"$error":"#REF!"},83.826286470305803,{"$f":"E626-#REF!","v":{"$error":"#REF!"}},null,null,84.574743689567796,{"$f":"I626-#REF!","v":{"$error":"#REF!"}}]
["1°C","Huonville",{"$error":"#REF!"},{"$error":"#REF!"},86.358403572347299,{"$f":"E627-#REF!","v":{"$error":"#REF!"}},null,null,88.809387460989299,{"$f":"I627-#REF!","v":{"$error":"#REF!"}}]
["1°C","Huonville",{"$error":"#REF!"},{"$error":"#REF!"},87.631436665828105,{"$f":"E628-#REF!","v":{"$error":"#REF!"}},null,null,87.491076370889004,{"$f":"I628-#REF!","v":{"$error":"#REF!"}}]
["1°C","Huonville",{"$error":"#REF!"},{"$error":"#REF!"},85.812543961382005,{"$f":"E629-#REF!","v":{"$error":"#REF!"}},null,null,87.120085253977294,{"$f":"I629-#REF!","v":{"$error":"#REF!"}}]
["1°C","Huonville",{"$error":"#REF!"},{"$error":"#REF!"},86.066804710963495,{"$f":"E630-#REF!","v":{"$error":"#REF!"}},null,null,87.108012471975499,{"$f":"I630-#REF!","v":{"$error":"#REF!"}}]
["1°C","Huonville",{"$error":"#REF!"},{"$error":"#REF!"},87.223361048550998,{"$f":"E631-#REF!","v":{"$error":"#REF!"}},null,null,89.374596045870106,{"$f":"I631-#REF!","v":{"$error":"#REF!"}}]
["1°C","Huonville",{"$error":"#REF!"},{"$error":"#REF!"},79.805844241499699,{"$f":"E632-#REF!","v":{"$error":"#REF!"}},null,null,83.026661662453506,{"$f":"I632-#REF!","v":{"$error":"#REF!"}}]
["1°C","Huonville",{"$error":"#REF!"},{"$error":"#REF!"},84.544653896077605,{"$f":"E633-#REF!","v":{"$error":"#REF!"}},null,null,85.9017021714386,{"$f":"I633-#REF!","v":{"$error":"#REF!"}}]
["1°C","Huonville",{"$error":"#REF!"},{"$error":"#REF!"},84.187306168861497,{"$f":"E634-#REF!","v":{"$error":"#REF!"}},null,null,84.955865432137003,{"$f":"I634-#REF!","v":{"$error":"#REF!"}}]
["1°C","Huonville",{"$error":"#REF!"},{"$error":"#REF!"},86.0976880340002,{"$f":"E635-#REF!","v":{"$error":"#REF!"}},null,null,86.332044684095806,{"$f":"I635-#REF!","v":{"$error":"#REF!"}}]
["1°C","Huonville",{"$error":"#REF!"},{"$error":"#REF!"},83.614541457828594,{"$f":"E636-#REF!","v":{"$error":"#REF!"}},null,null,86.076281606168706,{"$f":"I636-#REF!","v":{"$error":"#REF!"}}]
["1°C","Huonville",{"$error":"#REF!"},{"$error":"#REF!"},86.598192892353694,{"$f":"E637-#REF!","v":{"$error":"#REF!"}},null,null,87.326456561761304,{"$f":"I637-#REF!","v":{"$error":"#REF!"}}]
["1°C","Huonville",{"$error":"#REF!"},{"$error":"#REF!"},86.582781470585999,{"$f":"E638-#REF!","v":{"$error":"#REF!"}},null,null,87.501041510665402,{"$f":"I638-#REF!","v":{"$error":"#REF!"}}]
["1°C","Huonville",{"$error":"#REF!"},{"$error":"#REF!"},83.605767876268104,{"$f":"E639-#REF!","v":{"$error":"#REF!"}},null,null,84.233928377996193,{"$f":"I639-#REF!","v":{"$error":"#REF!"}}]
["1°C","Huonville",{"$error":"#REF!"},{"$error":"#REF!"},89.247270054387798,{"$f":"E640-#REF!","v":{"$error":"#REF!"}},null,null,90.744490719302604,{"$f":"I640-#REF!","v":{"$error":"#REF!"}}]
["1°C","Huonville",{"$error":"#REF!"},{"$error":"#REF!"},86.970099516048805,{"$f":"E641-#REF!","v":{"$error":"#REF!"}},null,null,87.775695729361701,{"$f":"I641-#REF!","v":{"$error":"#REF!"}}]
["1°C","Huonville",{"$f":"IF(F642>0,1,0)/99","v":{"$error":"#REF!"}},{"$f":"IF(J642>0,1,0)/99","v":{"$error":"#REF!"}},83.8578850638673,{"$f":"E642-#REF!","v":{"$error":"#REF!"}},null,null,84.826159291636401,{"$f":"I642-#REF!","v":{"$error":"#REF!"}}]
["1°C","Huonville",{"$error":"#REF!"},{"$error":"#REF!"},86.254153642080695,{"$f":"E643-#REF!","v":{"$error":"#REF!"}},null,null,87.791870205108907,{"$f":"I643-#REF!","v":{"$error":"#REF!"}}]
["1°C","Huonville",{"$error":"#REF!"},{"$error":"#REF!"},84.699351336893201,{"$f":"E644-#REF!","v":{"$error":"#REF!"}},null,null,85.4970403626766,{"$f":"I644-#REF!","v":{"$error":"#REF!"}}]
["1°C","Huonville",{"$error":"#REF!"},{"$error":"#REF!"},87.253025470564296,{"$f":"E645-#REF!","v":{"$error":"#REF!"}},null,null,89.741349139752302,{"$f":"I645-#REF!","v":{"$error":"#REF!"}}]
["1°C","Huonville",{"$error":"#REF!"},{"$error":"#REF!"},83.442262601482298,{"$f":"E646-#REF!","v":{"$error":"#REF!"}},null,null,85.920411964317296,{"$f":"I646-#REF!","v":{"$error":"#REF!"}}]
["1°C","Huonville",{"$error":"#REF!"},{"$error":"#REF!"},86.091554302922802,{"$f":"E647-#REF!","v":{"$error":"#REF!"}},null,null,87.727859588115393,{"$f":"I647-#REF!","v":{"$error":"#REF!"}}]
["1°C","Huonville",{"$error":"#REF!"},{"$error":"#REF!"},89.092197418889597,{"$f":"E648-#REF!","v":{"$error":"#REF!"}},null,null,90.494316724208602,{"$f":"I648-#REF!","v":{"$error":"#REF!"}}]
["1°C","Huonville",{"$error":"#REF!"},{"$error":"#REF!"},86.409610781808396,{"$f":"E649-#REF!","v":{"$error":"#REF!"}},null,null,89.0598228867823,{"$f":"I649-#REF!","v":{"$error":"#REF!"}}]
["1°C","Huonville",{"$error":"#REF!"},{"$error":"#REF!"},83.204172334991398,{"$f":"E650-#REF!","v":{"$error":"#REF!"}},null,null,85.416482062381903,{"$f":"I650-#REF!","v":{"$error":"#REF!"}}]
["1°C","Huonville",{"$error":"#REF!"},{"$error":"#REF!"},85.030238465801006,{"$f":"E651-#REF!","v":{"$error":"#REF!"}},null,null,85.879549614148999,{"$f":"I651-#REF!","v":{"$error":"#REF!"}}]
["1°C","Huonville",{"$error":"#REF!"},{"$error":"#REF!"},82.436443361129903,{"$f":"E652-#REF!","v":{"$error":"#REF!"}},null,null,82.525319758056597,{"$f":"I652-#REF!","v":{"$error":"#REF!"}}]
["1°C","Huonville",{"$error":"#REF!"},{"$error":"#REF!"},88.893835297375006,{"$f":"E653-#REF!","v":{"$error":"#REF!"}},null,null,89.724840375834205,{"$f":"I653-#REF!","v":{"$error":"#REF!"}}]
["1°C","Huonville",{"$error":"#REF!"},{"$error":"#REF!"},82.843229503608896,{"$f":"E654-#REF!","v":{"$error":"#REF!"}},null,null,83.788041665125306,{"$f":"I654-#REF!","v":{"$error":"#REF!"}}]
["1°C","Huonville",{"$error":"#REF!"},{"$error":"#REF!"},87.720620251416605,{"$f":"E655-#REF!","v":{"$error":"#REF!"}},null,null,90.385287701558795,{"$f":"I655-#REF!","v":{"$error":"#REF!"}}]
["1°C","Huonville",{"$error":"#REF!"},{"$error":"#REF!"},88.183193352210694,{"$f":"E656-#REF!","v":{"$error":"#REF!"}},null,null,89.934799063687194,{"$f":"I656-#REF!","v":{"$error":"#REF!"}}]
["1°C","Huonville",{"$error":"#REF!"},{"$error":"#REF!"},81.846586525700005,{"$f":"E657-#REF!","v":{"$error":"#REF!"}},null,null,82.422203074654703,{"$f":"I657-#REF!","v":{"$error":"#REF!"}}]
["1°C","Huonville",{"$error":"#REF!"},{"$error":"#REF!"},84.223014124731193,{"$f":"E658-#REF!","v":{"$error":"#REF!"}},null,null,85.836425425372198,{"$f":"I658-#REF!","v":{"$error":"#REF!"}}]
["1°C","Huonville",{"$error":"#REF!"},{"$error":"#REF!"},86.148780922885194,{"$f":"E659-#REF!","v":{"$error":"#REF!"}},null,null,87.448099720617193,{"$f":"I659-#REF!","v":{"$error":"#REF!"}}]
["1°C","Huonville",{"$error":"#REF!"},{"$error":"#REF!"},88.007816539913605,{"$f":"E660-#REF!","v":{"$error":"#REF!"}},null,null,88.274243820564493,{"$f":"I660-#REF!","v":{"$error":"#REF!"}}]
["1°C","Huonville",{"$error":"#REF!"},{"$error":"#REF!"},83.581092498142695,{"$f":"E661-#REF!","v":{"$error":"#REF!"}},null,null,86.223261848739696,{"$f":"I661-#REF!","v":{"$error":"#REF!"}}]
["1°C","Huonville",{"$error":"#REF!"},{"$error":"#REF!"},89.469613407059498,{"$f":"E662-#REF!","v":{"$error":"#REF!"}},null,null,89.762068849523104,{"$f":"I662-#REF!","v":{"$error":"#REF!"}}]
["1°C","Huonville",{"$error":"#REF!"},{"$error":"#REF!"},86.509127022346206,{"$f":"E663-#REF!","v":{"$error":"#REF!"}},null,null,86.579545246362898,{"$f":"I663-#REF!","v":{"$error":"#REF!"}}]
["1°C","Huonville",{"$error":"#REF!"},{"$error":"#REF!"},84.506097859241706,{"$f":"E664-#REF!","v":{"$error":"#REF!"}},null,null,86.628570045979401,{"$f":"I664-#REF!","v":{"$error":"#REF!"}}]
["1°C","Huonville",{"$error":"#REF!"},{"$error":"#REF!"},77.256923227957898,{"$f":"E665-#REF!","v":{"$error":"#REF!"}},null,null,79.799588465979596,{"$f":"I665-#REF!","v":{"$error":"#REF!"}}]
["1°C","Huonville",{"$error":"#REF!"},{"$error":"#REF!"},86.634108590175899,{"$f":"E666-#REF!","v":{"$error":"#REF!"}},null,null,88.915992355376105,{"$f":"I666-#REF!","v":{"$error":"#REF!"}}]
["1°C","Huonville",{"$error":"#REF!"},{"$error":"#REF!"},82.484021441080898,{"$f":"E667-#REF!","v":{"$error":"#REF!"}},null,null,83.9952167781573,{"$f":"I667-#REF!","v":{"$error":"#REF!"}}]
["1°C","Huonville",{"$error":"#REF!"},{"$error":"#REF!"},82.981281935467294,{"$f":"E668-#REF!","v":{"$error":"#REF!"}},null,null,85.144728700642005,{"$f":"I668-#REF!","v":{"$error":"#REF!"}}]
["1°C","Huonville",{"$error":"#REF!"},{"$error":"#REF!"},87.873446630879201,{"$f":"E669-#REF!","v":{"$error":"#REF!"}},null,null,88.853136049525006,{"$f":"I669-#REF!","v":{"$error":"#REF!"}}]
["1°C","Huonville",{"$error":"#REF!"},{"$error":"#REF!"},84.748290854863001,{"$f":"E670-#REF!","v":{"$error":"#REF!"}},null,null,83.917495281386195,{"$f":"I670-#REF!","v":{"$error":"#REF!"}}]
["1°C","Huonville",{"$error":"#REF!"},{"$error":"#REF!"},87.959407063046797,{"$f":"E671-#REF!","v":{"$error":"#REF!"}},null,null,90.169554242527994,{"$f":"I671-#REF!","v":{"$error":"#REF!"}}]
["1°C","Huonville",{"$error":"#REF!"},{"$error":"#REF!"},82.938830630674502,{"$f":"E672-#REF!","v":{"$error":"#REF!"}},null,null,85.476666816403593,{"$f":"I672-#REF!","v":{"$error":"#REF!"}}]
["1°C","Huonville",{"$error":"#REF!"},{"$error":"#REF!"},80.667853384611902,{"$f":"E673-#REF!","v":{"$error":"#REF!"}},null,null,83.676472834405601,{"$f":"I673-#REF!","v":{"$error":"#REF!"}}]
["1°C","Huonville",{"$error":"#REF!"},{"$error":"#REF!"},84.501398568571403,{"$f":"E674-#REF!","v":{"$error":"#REF!"}},null,null,84.260493241375002,{"$f":"I674-#REF!","v":{"$error":"#REF!"}}]
["1°C","Huonville",{"$error":"#REF!"},{"$error":"#REF!"},83.402508636054407,{"$f":"E675-#REF!","v":{"$error":"#REF!"}},null,null,85.871579088284406,{"$f":"I675-#REF!","v":{"$error":"#REF!"}}]
["1°C","Huonville",{"$error":"#REF!"},{"$error":"#REF!"},87.242393250611997,{"$f":"E676-#REF!","v":{"$error":"#REF!"}},null,null,90.014853569191999,{"$f":"I676-#REF!","v":{"$error":"#REF!"}}]
["1°C","Huonville",{"$error":"#REF!"},{"$error":"#REF!"},88.591277549966307,{"$f":"E677-#REF!","v":{"$error":"#REF!"}},null,null,88.170682541979602,{"$f":"I677-#REF!","v":{"$error":"#REF!"}}]
["1°C","Huonville",{"$error":"#REF!"},{"$error":"#REF!"},84.557459189637299,{"$f":"E678-#REF!","v":{"$error":"#REF!"}},null,null,85.995821346850093,{"$f":"I678-#REF!","v":{"$error":"#REF!"}}]
["1°C","Huonville",{"$error":"#REF!"},{"$error":"#REF!"},85.340229410171005,{"$f":"E679-#REF!","v":{"$error":"#REF!"}},null,null,87.567928593502401,{"$f":"I679-#REF!","v":{"$error":"#REF!"}}]
["1°C","Huonville",{"$error":"#REF!"},{"$error":"#REF!"},86.474683973636502,{"$f":"E680-#REF!","v":{"$error":"#REF!"}},null,null,88.5606267752039,{"$f":"I680-#REF!","v":{"$error":"#REF!"}}]
["1°C","Huonville",{"$error":"#REF!"},{"$error":"#REF!"},84.672138749435206,{"$f":"E681-#REF!","v":{"$error":"#REF!"}},null,null,87.206507681336404,{"$f":"I681-#REF!","v":{"$error":"#REF!"}}]
["1°C","Huonville",{"$error":"#REF!"},{"$error":"#REF!"},85.434239326329305,{"$f":"E682-#REF!","v":{"$error":"#REF!"}},null,null,86.610953664908095,{"$f":"I682-#REF!","v":{"$error":"#REF!"}}]
["1°C","Huonville",{"$error":"#REF!"},{"$error":"#REF!"},86.503780628282897,{"$f":"E683-#REF!","v":{"$error":"#REF!"}},null,null,87.276082581733903,{"$f":"I683-#REF!","v":{"$error":"#REF!"}}]
["1°C","Huonville",{"$error":"#REF!"},{"$error":"#REF!"},78.2371006505319,{"$f":"E684-#REF!","v":{"$error":"#REF!"}},null,null,80.346891583731406,{"$f":"I684-#REF!","v":{"$error":"#REF!"}}]
["1°C","Huonville",{"$error":"#REF!"},{"$error":"#REF!"},84.825459403569297,{"$f":"E685-#REF!","v":{"$error":"#REF!"}},null,null,87.632963092245802,{"$f":"I685-#REF!","v":{"$error":"#REF!"}}]
["1°C","Huonville",{"$error":"#REF!"},{"$error":"#REF!"},88.290863831443104,{"$f":"E686-#REF!","v":{"$error":"#REF!"}},null,null,89.583510785326695,{"$f":"I686-#REF!","v":{"$error":"#REF!"}}]
["1°C","Huonville",{"$error":"#REF!"},{"$error":"#REF!"},81.070525128849994,{"$f":"E687-#REF!","v":{"$error":"#REF!"}},null,null,82.775177240481298,{"$f":"I687-#REF!","v":{"$error":"#REF!"}}]
["1°C","Huonville",{"$error":"#REF!"},{"$error":"#REF!"},82.421571829307993,{"$f":"E688-#REF!","v":{"$error":"#REF!"}},null,null,83.432008133251003,{"$f":"I688-#REF!","v":{"$error":"#REF!"}}]
["1°C","Huonville",{"$error":"#REF!"},{"$error":"#REF!"},89.868470982144302,{"$f":"E689-#REF!","v":{"$error":"#REF!"}},null,null,91.217398819837001,{"$f":"I689-#REF!","v":{"$error":"#REF!"}}]
["1°C","Huonville",{"$error":"#REF!"},{"$error":"#REF!"},82.442672412115996,{"$f":"E690-#REF!","v":{"$error":"#REF!"}},null,null,81.825281792081995,{"$f":"I690-#REF!","v":{"$error":"#REF!"}}]
["1°C","Huonville",{"$error":"#REF!"},{"$error":"#REF!"},87.168716772410704,{"$f":"E691-#REF!","v":{"$error":"#REF!"}},null,null,89.349253411615706,{"$f":"I691-#REF!","v":{"$error":"#REF!"}}]
["1°C","Huonville",{"$error":"#REF!"},{"$error":"#REF!"},76.927972351110697,{"$f":"E692-#REF!","v":{"$error":"#REF!"}},null,null,80.511051803951304,{"$f":"I692-#REF!","v":{"$error":"#REF!"}}]
["1°C","Huonville",{"$error":"#REF!"},{"$error":"#REF!"},85.536585939594701,{"$f":"E693-#REF!","v":{"$error":"#REF!"}},null,null,85.999735612713394,{"$f":"I693-#REF!","v":{"$error":"#REF!"}}]
["1°C","Huonville",{"$error":"#REF!"},{"$error":"#REF!"},84.527877905259899,{"$f":"E694-#REF!","v":{"$error":"#REF!"}},null,null,86.644910605822602,{"$f":"I694-#REF!","v":{"$error":"#REF!"}}]
["1°C","Lenswood",{"$error":"#REF!"},{"$error":"#REF!"},80.427836472742499,{"$f":"E695-#REF!","v":{"$error":"#REF!"}},null,null,82.327195046390798,{"$f":"I695-#REF!","v":{"$error":"#REF!"}}]
["1°C","Lenswood",{"$error":"#REF!"},{"$error":"#REF!"},78.309922531078101,{"$f":"E696-#REF!","v":{"$error":"#REF!"}},null,null,81.069403269839896,{"$f":"I696-#REF!","v":{"$error":"#REF!"}}]
["1°C","Lenswood",{"$error":"#REF!"},{"$error":"#REF!"},83.997118583819699,{"$f":"E697-#REF!","v":{"$error":"#REF!"}},null,null,86.563399070237693,{"$f":"I697-#REF!","v":{"$error":"#REF!"}}]
["1°C","Lenswood",{"$error":"#REF!"},{"$error":"#REF!"},71.408931167907298,{"$f":"E698-#REF!","v":{"$error":"#REF!"}},null,null,73.444322512625504,{"$f":"I698-#REF!","v":{"$error":"#REF!"}}]
["1°C","Lenswood",{"$error":"#REF!"},{"$error":"#REF!"},83.050173947991993,{"$f":"E699-#REF!","v":{"$error":"#REF!"}},null,null,85.535063884882703,{"$f":"I699-#REF!","v":{"$error":"#REF!"}}]
["1°C","Lenswood",{"$error":"#REF!"},{"$error":"#REF!"},83.591535836322606,{"$f":"E700-#REF!","v":{"$error":"#REF!"}},null,null,84.642895475838003,{"$f":"I700-#REF!","v":{"$error":"#REF!"}}]
["1°C","Lenswood",{"$error":"#REF!"},{"$error":"#REF!"},83.942113589727001,{"$f":"E701-#REF!","v":{"$error":"#REF!"}},null,null,85.104093691005502,{"$f":"I701-#REF!","v":{"$error":"#REF!"}}]
["1°C","Lenswood",{"$error":"#REF!"},{"$error":"#REF!"},77.514514022310195,{"$f":"E702-#REF!","v":{"$error":"#REF!"}},null,null,79.2163413804046,{"$f":"I702-#REF!","v":{"$error":"#REF!"}}]
["1°C","Lenswood",{"$error":"#REF!"},{"$error":"#REF!"},75.109380315324799,{"$f":"E703-#REF!","v":{"$error":"#REF!"}},null,null,75.207783122278002,{"$f":"I703-#REF!","v":{"$error":"#REF!"}}]
["1°C","Lenswood",{"$error":"#REF!"},{"$error":"#REF!"},84.698933771369198,{"$f":"E704-#REF!","v":{"$error":"#REF!"}},null,null,86.244351461569494,{"$f":"I704-#REF!","v":{"$error":"#REF!"}}]
["1°C","Lenswood",{"$error":"#REF!"},{"$error":"#REF!"},73.210014394152907,{"$f":"E705-#REF!","v":{"$error":"#REF!"}},null,null,73.059409421187397,{"$f":"I705-#REF!","v":{"$error":"#REF!"}}]
["1°C","Lenswood",{"$f":"IF(F706>0,1,0)/99","v":{"$error":"#REF!"}},{"$f":"IF(J706>0,1,0)/99","v":{"$error":"#REF!"}},84.187616306225905,{"$f":"E706-#REF!","v":{"$error":"#REF!"}},null,null,85.202774669062805,{"$f":"I706-#REF!","v":{"$error":"#REF!"}}]
["1°C","Lenswood",{"$error":"#REF!"},{"$error":"#REF!"},80.124843119833102,{"$f":"E707-#REF!","v":{"$error":"#REF!"}},null,null,80.924687452593602,{"$f":"I707-#REF!","v":{"$error":"#REF!"}}]
["1°C","Lenswood",{"$error":"#REF!"},{"$error":"#REF!"},79.783663352939101,{"$f":"E708-#REF!","v":{"$error":"#REF!"}},null,null,79.762992770578293,{"$f":"I708-#REF!","v":{"$error":"#REF!"}}]
["1°C","Lenswood",{"$error":"#REF!"},{"$error":"#REF!"},82.0798212806951,{"$f":"E709-#REF!","v":{"$error":"#REF!"}},null,null,83.909483254055203,{"$f":"I709-#REF!","v":{"$error":"#REF!"}}]
["1°C","Lenswood",{"$error":"#REF!"},{"$error":"#REF!"},85.533882038848205,{"$f":"E710-#REF!","v":{"$error":"#REF!"}},null,null,87.086149706536702,{"$f":"I710-#REF!","v":{"$error":"#REF!"}}]
["1°C","Lenswood",{"$error":"#REF!"},{"$error":"#REF!"},83.293915205092404,{"$f":"E711-#REF!","v":{"$error":"#REF!"}},null,null,87.487316331434201,{"$f":"I711-#REF!","v":{"$error":"#REF!"}}]
["1°C","Lenswood",{"$error":"#REF!"},{"$error":"#REF!"},80.193507464524004,{"$f":"E712-#REF!","v":{"$error":"#REF!"}},null,null,82.870404911596594,{"$f":"I712-#REF!","v":{"$error":"#REF!"}}]
["1°C","Lenswood",{"$error":"#REF!"},{"$error":"#REF!"},83.695015650107607,{"$f":"E713-#REF!","v":{"$error":"#REF!"}},null,null,85.2013770628527,{"$f":"I713-#REF!","v":{"$error":"#REF!"}}]
["1°C","Lenswood",{"$error":"#REF!"},{"$error":"#REF!"},76.465498401848393,{"$f":"E714-#REF!","v":{"$error":"#REF!"}},null,null,81.065888386604698,{"$f":"I714-#REF!","v":{"$error":"#REF!"}}]
["1°C","Lenswood",{"$error":"#REF!"},{"$error":"#REF!"},83.782553399885899,{"$f":"E715-#REF!","v":{"$error":"#REF!"}},null,null,86.720570343610206,{"$f":"I715-#REF!","v":{"$error":"#REF!"}}]
["1°C","Lenswood",{"$error":"#REF!"},{"$error":"#REF!"},76.907891027372202,{"$f":"E716-#REF!","v":{"$error":"#REF!"}},null,null,80.702837315672895,{"$f":"I716-#REF!","v":{"$error":"#REF!"}}]
["1°C","Lenswood",{"$error":"#REF!"},{"$error":"#REF!"},82.795125173645502,{"$f":"E717-#REF!","v":{"$error":"#REF!"}},null,null,85.071220989675197,{"$f":"I717-#REF!","v":{"$error":"#REF!"}}]
["1°C","Lenswood",{"$error":"#REF!"},{"$error":"#REF!"},72.319676288147804,{"$f":"E718-#REF!","v":{"$error":"#REF!"}},null,null,73.4699336264283,{"$f":"I718-#REF!","v":{"$error":"#REF!"}}]
["1°C","Lenswood",{"$error":"#REF!"},{"$error":"#REF!"},83.683162970951301,{"$f":"E719-#REF!","v":{"$error":"#REF!"}},null,null,84.200196613145707,{"$f":"I719-#REF!","v":{"$error":"#REF!"}}]
["1°C","Lenswood",{"$error":"#REF!"},{"$error":"#REF!"},77.998773871097697,{"$f":"E720-#REF!","v":{"$error":"#REF!"}},null,null,79.858649591041498,{"$f":"I720-#REF!","v":{"$error":"#REF!"}}]
["1°C","Lenswood",{"$error":"#REF!"},{"$error":"#REF!"},79.314803264899794,{"$f":"E721-#REF!","v":{"$error":"#REF!"}},null,null,82.726689212275005,{"$f":"I721-#REF!","v":{"$error":"#REF!"}}]
["1°C","Lenswood",{"$error":"#REF!"},{"$error":"#REF!"},81.747013413667403,{"$f":"E722-#REF!","v":{"$error":"#REF!"}},null,null,82.887438227543797,{"$f":"I722-#REF!","v":{"$error":"#REF!"}}]
["1°C","Lenswood",{"$error":"#REF!"},{"$error":"#REF!"},78.594981733214993,{"$f":"E723-#REF!","v":{"$error":"#REF!"}},null,null,80.636960894039603,{"$f":"I723-#REF!","v":{"$error":"#REF!"}}]
["1°C","Lenswood",{"$error":"#REF!"},{"$error":"#REF!"},85.104660151489199,{"$f":"E724-#REF!","v":{"$error":"#REF!"}},null,null,86.362921160451705,{"$f":"I724-#REF!","v":{"$error":"#REF!"}}]
["1°C","Lenswood",{"$error":"#REF!"},{"$error":"#REF!"},77.240492715347898,{"$f":"E725-#REF!","v":{"$error":"#REF!"}},null,null,81.487329485635996,{"$f":"I725-#REF!","v":{"$error":"#REF!"}}]
["1°C","Lenswood",{"$error":"#REF!"},{"$error":"#REF!"},77.488958605131998,{"$f":"E726-#REF!","v":{"$error":"#REF!"}},null,null,79.041034323830203,{"$f":"I726-#REF!","v":{"$error":"#REF!"}}]
["1°C","Lenswood",{"$error":"#REF!"},{"$error":"#REF!"},88.149221967851105,{"$f":"E727-#REF!","v":{"$error":"#REF!"}},null,null,89.187430217166593,{"$f":"I727-#REF!","v":{"$error":"#REF!"}}]
["1°C","Lenswood",{"$error":"#REF!"},{"$error":"#REF!"},87.093380357907193,{"$f":"E728-#REF!","v":{"$error":"#REF!"}},null,null,87.073707581809899,{"$f":"I728-#REF!","v":{"$error":"#REF!"}}]
["1°C","Lenswood",{"$error":"#REF!"},{"$error":"#REF!"},73.803114602694706,{"$f":"E729-#REF!","v":{"$error":"#REF!"}},null,null,76.869709871586196,{"$f":"I729-#REF!","v":{"$error":"#REF!"}}]
["1°C","Lenswood",{"$error":"#REF!"},{"$error":"#REF!"},81.047219320867896,{"$f":"E730-#REF!","v":{"$error":"#REF!"}},null,null,83.147709731325406,{"$f":"I730-#REF!","v":{"$error":"#REF!"}}]
["1°C","Lenswood",{"$error":"#REF!"},{"$error":"#REF!"},75.066874718571498,{"$f":"E731-#REF!","v":{"$error":"#REF!"}},null,null,77.708363745138897,{"$f":"I731-#REF!","v":{"$error":"#REF!"}}]
["1°C","Lenswood",{"$error":"#REF!"},{"$error":"#REF!"},82.848082651470094,{"$f":"E732-#REF!","v":{"$error":"#REF!"}},null,null,85.097558698559496,{"$f":"I732-#REF!","v":{"$error":"#REF!"}}]
["1°C","Lenswood",{"$error":"#REF!"},{"$error":"#REF!"},82.818897396061303,{"$f":"E733-#REF!","v":{"$error":"#REF!"}},null,null,84.820596030058695,{"$f":"I733-#REF!","v":{"$error":"#REF!"}}]
["1°C","Lenswood",{"$error":"#REF!"},{"$error":"#REF!"},75.244538632396001,{"$f":"E734-#REF!","v":{"$error":"#REF!"}},null,null,78.277368909983295,{"$f":"I734-#REF!","v":{"$error":"#REF!"}}]
["1°C","Lenswood",{"$error":"#REF!"},{"$error":"#REF!"},82.10091678709,{"$f":"E735-#REF!","v":{"$error":"#REF!"}},null,null,85.308232302611401,{"$f":"I735-#REF!","v":{"$error":"#REF!"}}]
["1°C","Lenswood",{"$error":"#REF!"},{"$error":"#REF!"},84.050454444878397,{"$f":"E736-#REF!","v":{"$error":"#REF!"}},null,null,86.510933748932004,{"$f":"I736-#REF!","v":{"$error":"#REF!"}}]
["1°C","Lenswood",{"$error":"#REF!"},{"$error":"#REF!"},81.687612702557004,{"$f":"E737-#REF!","v":{"$error":"#REF!"}},null,null,83.322044781842493,{"$f":"I737-#REF!","v":{"$error":"#REF!"}}]
["1°C","Lenswood",{"$error":"#REF!"},{"$error":"#REF!"},78.2436479787727,{"$f":"E738-#REF!","v":{"$error":"#REF!"}},null,null,79.670901034077204,{"$f":"I738-#REF!","v":{"$error":"#REF!"}}]
["1°C","Lenswood",{"$error":"#REF!"},{"$error":"#REF!"},82.185095175237194,{"$f":"E739-#REF!","v":{"$error":"#REF!"}},null,null,84.972933247020805,{"$f":"I739-#REF!","v":{"$error":"#REF!"}}]
["1°C","Lenswood",{"$error":"#REF!"},{"$error":"#REF!"},83.257550322199194,{"$f":"E740-#REF!","v":{"$error":"#REF!"}},null,null,87.636689094101101,{"$f":"I740-#REF!","v":{"$error":"#REF!"}}]
["1°C","Lenswood",{"$error":"#REF!"},{"$error":"#REF!"},67.8901866366202,{"$f":"E741-#REF!","v":{"$error":"#REF!"}},null,null,71.655262725128907,{"$f":"I741-#REF!","v":{"$error":"#REF!"}}]
["1°C","Lenswood",{"$error":"#REF!"},{"$error":"#REF!"},70.119851956042993,{"$f":"E742-#REF!","v":{"$error":"#REF!"}},null,null,73.938648874488607,{"$f":"I742-#REF!","v":{"$error":"#REF!"}}]
["1°C","Lenswood",{"$error":"#REF!"},{"$error":"#REF!"},75.321698200228994,{"$f":"E743-#REF!","v":{"$error":"#REF!"}},null,null,75.621495515381397,{"$f":"I743-#REF!","v":{"$error":"#REF!"}}]
["1°C","Lenswood",{"$error":"#REF!"},{"$error":"#REF!"},88.106912992522993,{"$f":"E744-#REF!","v":{"$error":"#REF!"}},null,null,90.814781114736803,{"$f":"I744-#REF!","v":{"$error":"#REF!"}}]
["1°C","Lenswood",{"$error":"#REF!"},{"$error":"#REF!"},74.839653637576006,{"$f":"E745-#REF!","v":{"$error":"#REF!"}},null,null,80.297470722872603,{"$f":"I745-#REF!","v":{"$error":"#REF!"}}]
["1°C","Lenswood",{"$error":"#REF!"},{"$error":"#REF!"},79.240211337003203,{"$f":"E746-#REF!","v":{"$error":"#REF!"}},null,null,80.878850964701002,{"$f":"I746-#REF!","v":{"$error":"#REF!"}}]
["1°C","Lenswood",{"$error":"#REF!"},{"$error":"#REF!"},78.425203203359601,{"$f":"E747-#REF!","v":{"$error":"#REF!"}},null,null,81.316353380593497,{"$f":"I747-#REF!","v":{"$error":"#REF!"}}]
["1°C","Lenswood",{"$error":"#REF!"},{"$error":"#REF!"},75.966628263252801,{"$f":"E748-#REF!","v":{"$error":"#REF!"}},null,null,77.604661728806903,{"$f":"I748-#REF!","v":{"$error":"#REF!"}}]
["1°C","Lenswood",{"$error":"#REF!"},{"$error":"#REF!"},76.492166239529695,{"$f":"E749-#REF!","v":{"$error":"#REF!"}},null,null,78.946691514715297,{"$f":"I749-#REF!","v":{"$error":"#REF!"}}]
["1°C","Lenswood",{"$error":"#REF!"},{"$error":"#REF!"},81.429124555415797,{"$f":"E750-#REF!","v":{"$error":"#REF!"}},null,null,84.118121157569306,{"$f":"I750-#REF!","v":{"$error":"#REF!"}}]
["1°C","Lenswood",{"$error":"#REF!"},{"$error":"#REF!"},73.165563963292698,{"$f":"E751-#REF!","v":{"$error":"#REF!"}},null,null,75.312871579743998,{"$f":"I751-#REF!","v":{"$error":"#REF!"}}]
["1°C","Lenswood",{"$error":"#REF!"},{"$error":"#REF!"},86.098930335647495,{"$f":"E752-#REF!","v":{"$error":"#REF!"}},null,null,88.456157255931004,{"$f":"I752-#REF!","v":{"$error":"#REF!"}}]
["1°C","Lenswood",{"$error":"#REF!"},{"$error":"#REF!"},79.752527003506401,{"$f":"E753-#REF!","v":{"$error":"#REF!"}},null,null,82.109036292335801,{"$f":"I753-#REF!","v":{"$error":"#REF!"}}]
["1°C","Lenswood",{"$error":"#REF!"},{"$error":"#REF!"},82.914752680891894,{"$f":"E754-#REF!","v":{"$error":"#REF!"}},null,null,84.874709951028194,{"$f":"I754-#REF!","v":{"$error":"#REF!"}}]
["1°C","Lenswood",{"$error":"#REF!"},{"$error":"#REF!"},86.302228729890999,{"$f":"E755-#REF!","v":{"$error":"#REF!"}},null,null,89.3002777654239,{"$f":"I755-#REF!","v":{"$error":"#REF!"}}]
["1°C","Lenswood",{"$error":"#REF!"},{"$error":"#REF!"},79.596297211760202,{"$f":"E756-#REF!","v":{"$error":"#REF!"}},null,null,81.954254869871306,{"$f":"I756-#REF!","v":{"$error":"#REF!"}}]
["1°C","Lenswood",{"$error":"#REF!"},{"$error":"#REF!"},76.331669955418405,{"$f":"E757-#REF!","v":{"$error":"#REF!"}},null,null,79.857576240662397,{"$f":"I757-#REF!","v":{"$error":"#REF!"}}]
["1°C","Lenswood",{"$error":"#REF!"},{"$error":"#REF!"},81.953677405631495,{"$f":"E758-#REF!","v":{"$error":"#REF!"}},null,null,82.509659329291296,{"$f":"I758-#REF!","v":{"$error":"#REF!"}}]
["1°C","Lenswood",{"$error":"#REF!"},{"$error":"#REF!"},73.325210379873994,{"$f":"E759-#REF!","v":{"$error":"#REF!"}},null,null,76.815218521476297,{"$f":"I759-#REF!","v":{"$error":"#REF!"}}]
["1°C","Lenswood",{"$error":"#REF!"},{"$error":"#REF!"},82.412196440608795,{"$f":"E760-#REF!","v":{"$error":"#REF!"}},null,null,84.896299585841007,{"$f":"I760-#REF!","v":{"$error":"#REF!"}}]
["1°C","Lenswood",{"$error":"#REF!"},{"$error":"#REF!"},75.881995767085499,{"$f":"E761-#REF!","v":{"$error":"#REF!"}},null,null,78.8346701568085,{"$f":"I761-#REF!","v":{"$error":"#REF!"}}]
["1°C","Lenswood",{"$error":"#REF!"},{"$error":"#REF!"},83.559244177993094,{"$f":"E762-#REF!","v":{"$error":"#REF!"}},null,null,85.958668990734793,{"$f":"I762-#REF!","v":{"$error":"#REF!"}}]
["1°C","Lenswood",{"$error":"#REF!"},{"$error":"#REF!"},84.341325293366694,{"$f":"E763-#REF!","v":{"$error":"#REF!"}},null,null,87.246477073813594,{"$f":"I763-#REF!","v":{"$error":"#REF!"}}]
["1°C","Lenswood",{"$error":"#REF!"},{"$error":"#REF!"},76.915444441267994,{"$f":"E764-#REF!","v":{"$error":"#REF!"}},null,null,78.2193056821488,{"$f":"I764-#REF!","v":{"$error":"#REF!"}}]
["1°C","Lenswood",{"$error":"#REF!"},{"$error":"#REF!"},84.008112884980804,{"$f":"E765-#REF!","v":{"$error":"#REF!"}},null,null,86.092149097063299,{"$f":"I765-#REF!","v":{"$error":"#REF!"}}]
["1°C","Lenswood",{"$error":"#REF!"},{"$error":"#REF!"},78.445784466389995,{"$f":"E766-#REF!","v":{"$error":"#REF!"}},null,null,79.215311782247994,{"$f":"I766-#REF!","v":{"$error":"#REF!"}}]
["1°C","Lenswood",{"$error":"#REF!"},{"$error":"#REF!"},82.127655449889602,{"$f":"E767-#REF!","v":{"$error":"#REF!"}},null,null,86.707833521188206,{"$f":"I767-#REF!","v":{"$error":"#REF!"}}]
["1°C","Lenswood",{"$error":"#REF!"},{"$error":"#REF!"},80.245046485958298,{"$f":"E768-#REF!","v":{"$error":"#REF!"}},null,null,82.347314367193803,{"$f":"I768-#REF!","v":{"$error":"#REF!"}}]
["1°C","Lenswood",{"$error":"#REF!"},{"$error":"#REF!"},81.590598285210305,{"$f":"E769-#REF!","v":{"$error":"#REF!"}},null,null,83.595579691000594,{"$f":"I769-#REF!","v":{"$error":"#REF!"}}]
["1°C","Lenswood",{"$f":"IF(F770>0,1,0)/99","v":{"$error":"#REF!"}},{"$f":"IF(J770>0,1,0)/99","v":{"$error":"#REF!"}},83.893615513685006,{"$f":"E770-#REF!","v":{"$error":"#REF!"}},null,null,85.466251608880995,{"$f":"I770-#REF!","v":{"$error":"#REF!"}}]
["1°C","Lenswood",{"$error":"#REF!"},{"$error":"#REF!"},80.516982978552605,{"$f":"E771-#REF!","v":{"$error":"#REF!"}},null,null,83.134420905673196,{"$f":"I771-#REF!","v":{"$error":"#REF!"}}]
["1°C","Lenswood",{"$error":"#REF!"},{"$error":"#REF!"},75.3904210147942,{"$f":"E772-#REF!","v":{"$error":"#REF!"}},null,null,76.413672986212603,{"$f":"I772-#REF!","v":{"$error":"#REF!"}}]
["1°C","Lenswood",{"$error":"#REF!"},{"$error":"#REF!"},82.800201823650596,{"$f":"E773-#REF!","v":{"$error":"#REF!"}},null,null,85.249776364493002,{"$f":"I773-#REF!","v":{"$error":"#REF!"}}]
["1°C","Lenswood",{"$error":"#REF!"},{"$error":"#REF!"},80.639258876495205,{"$f":"E774-#REF!","v":{"$error":"#REF!"}},null,null,82.130133475420493,{"$f":"I774-#REF!","v":{"$error":"#REF!"}}]
["1°C","Lenswood",{"$error":"#REF!"},{"$error":"#REF!"},75.974046860151105,{"$f":"E775-#REF!","v":{"$error":"#REF!"}},null,null,81.008550483526506,{"$f":"I775-#REF!","v":{"$error":"#REF!"}}]
["1°C","Lenswood",{"$error":"#REF!"},{"$error":"#REF!"},83.556420354028006,{"$f":"E776-#REF!","v":{"$error":"#REF!"}},null,null,86.346333591429001,{"$f":"I776-#REF!","v":{"$error":"#REF!"}}]
["1°C","Lenswood",{"$error":"#REF!"},{"$error":"#REF!"},71.930546842263396,{"$f":"E777-#REF!","v":{"$error":"#REF!"}},null,null,75.336095407452703,{"$f":"I777-#REF!","v":{"$error":"#REF!"}}]
["1°C","Lenswood",{"$error":"#REF!"},{"$error":"#REF!"},76.862663542152504,{"$f":"E778-#REF!","v":{"$error":"#REF!"}},null,null,80.546032692306298,{"$f":"I778-#REF!","v":{"$error":"#REF!"}}]
["1°C","Lenswood",{"$error":"#REF!"},{"$error":"#REF!"},82.682679667296497,{"$f":"E779-#REF!","v":{"$error":"#REF!"}},null,null,85.485894791663796,{"$f":"I779-#REF!","v":{"$error":"#REF!"}}]
["1°C","Lenswood",{"$error":"#REF!"},{"$error":"#REF!"},82.403988693820693,{"$f":"E780-#REF!","v":{"$error":"#REF!"}},null,null,84.113264159376001,{"$f":"I780-#REF!","v":{"$error":"#REF!"}}]
["1°C","Lenswood",{"$error":"#REF!"},{"$error":"#REF!"},83.946624055609007,{"$f":"E781-#REF!","v":{"$error":"#REF!"}},null,null,85.637086636483602,{"$f":"I781-#REF!","v":{"$error":"#REF!"}}]
["1°C","Lenswood",{"$error":"#REF!"},{"$error":"#REF!"},80.083506936851705,{"$f":"E782-#REF!","v":{"$error":"#REF!"}},null,null,80.280390302389804,{"$f":"I782-#REF!","v":{"$error":"#REF!"}}]
["1°C","Lenswood",{"$error":"#REF!"},{"$error":"#REF!"},74.855112385105599,{"$f":"E783-#REF!","v":{"$error":"#REF!"}},null,null,76.285034158404102,{"$f":"I783-#REF!","v":{"$error":"#REF!"}}]
["1°C","Lenswood",{"$error":"#REF!"},{"$error":"#REF!"},84.809015239710504,{"$f":"E784-#REF!","v":{"$error":"#REF!"}},null,null,88.022234216135004,{"$f":"I784-#REF!","v":{"$error":"#REF!"}}]
["1°C","Lenswood",{"$error":"#REF!"},{"$error":"#REF!"},79.443863078323304,{"$f":"E785-#REF!","v":{"$error":"#REF!"}},null,null,82.076590665434495,{"$f":"I785-#REF!","v":{"$error":"#REF!"}}]
["1°C","Lenswood",{"$error":"#REF!"},{"$error":"#REF!"},76.699226924246304,{"$f":"E786-#REF!","v":{"$error":"#REF!"}},null,null,77.029065704648403,{"$f":"I786-#REF!","v":{"$error":"#REF!"}}]
["1°C","Lenswood",{"$error":"#REF!"},{"$error":"#REF!"},79.078153749219595,{"$f":"E787-#REF!","v":{"$error":"#REF!"}},null,null,83.863186822480301,{"$f":"I787-#REF!","v":{"$error":"#REF!"}}]
["1°C","Lenswood",{"$error":"#REF!"},{"$error":"#REF!"},81.174578537924006,{"$f":"E788-#REF!","v":{"$error":"#REF!"}},null,null,83.270794897774707,{"$f":"I788-#REF!","v":{"$error":"#REF!"}}]
["1°C","Lenswood",{"$error":"#REF!"},{"$error":"#REF!"},67.911456023166096,{"$f":"E789-#REF!","v":{"$error":"#REF!"}},null,null,70.433680265808803,{"$f":"I789-#REF!","v":{"$error":"#REF!"}}]
["1°C","Lenswood",{"$error":"#REF!"},{"$error":"#REF!"},84.697499240611194,{"$f":"E790-#REF!","v":{"$error":"#REF!"}},null,null,85.719909397842201,{"$f":"I790-#REF!","v":{"$error":"#REF!"}}]
["1°C","Lenswood",{"$error":"#REF!"},{"$error":"#REF!"},73.954270966116795,{"$f":"E791-#REF!","v":{"$error":"#REF!"}},null,null,74.312877505632699,{"$f":"I791-#REF!","v":{"$error":"#REF!"}}]
["1°C","Lenswood",{"$error":"#REF!"},{"$error":"#REF!"},78.982061292586494,{"$f":"E792-#REF!","v":{"$error":"#REF!"}},null,null,82.564211665007605,{"$f":"I792-#REF!","v":{"$error":"#REF!"}}]
["1°C","Lenswood",{"$error":"#REF!"},{"$error":"#REF!"},76.329303242087505,{"$f":"E793-#REF!","v":{"$error":"#REF!"}},null,null,80.092861132763602,{"$f":"I793-#REF!","v":{"$error":"#REF!"}}]
["1°C","Manjimup",{"$error":"#REF!"},{"$error":"#REF!"},62.086592136875197,{"$f":"E794-#REF!","v":{"$error":"#REF!"}},null,null,68.557953990096095,{"$f":"I794-#REF!","v":{"$error":"#REF!"}}]
["1°C","Manjimup",{"$error":"#REF!"},{"$error":"#REF!"},48.8335721606161,{"$f":"E795-#REF!","v":{"$error":"#REF!"}},null,null,56.359728729685997,{"$f":"I795-#REF!","v":{"$error":"#REF!"}}]
["1°C","Manjimup",{"$error":"#REF!"},{"$error":"#REF!"},44.195177185246799,{"$f":"E796-#REF!","v":{"$error":"#REF!"}},null,null,49.6630853227879,{"$f":"I796-#REF!","v":{"$error":"#REF!"}}]
["1°C","Manjimup",{"$error":"#REF!"},{"$error":"#REF!"},59.999281912435997,{"$f":"E797-#REF!","v":{"$error":"#REF!"}},null,null,61.609225417305197,{"$f":"I797-#REF!","v":{"$error":"#REF!"}}]
["1°C","Manjimup",{"$error":"#REF!"},{"$error":"#REF!"},41.712900017274599,{"$f":"E798-#REF!","v":{"$error":"#REF!"}},null,null,46.851271252163897,{"$f":"I798-#REF!","v":{"$error":"#REF!"}}]
["1°C","Manjimup",{"$error":"#REF!"},{"$error":"#REF!"},64.752378554664105,{"$f":"E799-#REF!","v":{"$error":"#REF!"}},null,null,68.665178745825003,{"$f":"I799-#REF!","v":{"$error":"#REF!"}}]
["1°C","Manjimup",{"$error":"#REF!"},{"$error":"#REF!"},57.698097335595001,{"$f":"E800-#REF!","v":{"$error":"#REF!"}},null,null,65.101496305743396,{"$f":"I800-#REF!","v":{"$error":"#REF!"}}]
["1°C","Manjimup",{"$error":"#REF!"},{"$error":"#REF!"},55.414733468397898,{"$f":"E801-#REF!","v":{"$error":"#REF!"}},null,null,59.815556138644801,{"$f":"I801-#REF!","v":{"$error":"#REF!"}}]
["1°C","Manjimup",{"$error":"#REF!"},{"$error":"#REF!"},55.823566699120001,{"$f":"E802-#REF!","v":{"$error":"#REF!"}},null,null,62.7799480515582,{"$f":"I802-#REF!","v":{"$error":"#REF!"}}]
["1°C","Manjimup",{"$error":"#REF!"},{"$error":"#REF!"},62.007627946492001,{"$f":"E803-#REF!","v":{"$error":"#REF!"}},null,null,65.439918846071606,{"$f":"I803-#REF!","v":{"$error":"#REF!"}}]
["1°C","Manjimup",{"$error":"#REF!"},{"$error":"#REF!"},43.0164744132192,{"$f":"E804-#REF!","v":{"$error":"#REF!"}},null,null,45.274124719247801,{"$f":"I804-#REF!","v":{"$error":"#REF!"}}]
["1°C","Manjimup",{"$error":"#REF!"},{"$error":"#REF!"},60.267685598385498,{"$f":"E805-#REF!","v":{"$error":"#REF!"}},null,null,66.206408789355706,{"$f":"I805-#REF!","v":{"$error":"#REF!"}}]
["1°C","Manjimup",{"$error":"#REF!"},{"$error":"#REF!"},57.833954892106298,{"$f":"E806-#REF!","v":{"$error":"#REF!"}},null,null,60.094234001453998,{"$f":"I806-#REF!","v":{"$error":"#REF!"}}]
["1°C","Manjimup",{"$error":"#REF!"},{"$error":"#REF!"},57.373820486828201,{"$f":"E807-#REF!","v":{"$error":"#REF!"}},null,null,62.194960739460299,{"$f":"I807-#REF!","v":{"$error":"#REF!"}}]
["1°C","Manjimup",{"$error":"#REF!"},{"$error":"#REF!"},58.659307841538897,{"$f":"E808-#REF!","v":{"$error":"#REF!"}},null,null,63.951603684753202,{"$f":"I808-#REF!","v":{"$error":"#REF!"}}]
["1°C","Manjimup",{"$error":"#REF!"},{"$error":"#REF!"},60.998788461208903,{"$f":"E809-#REF!","v":{"$error":"#REF!"}},null,null,64.060484920600501,{"$f":"I809-#REF!","v":{"$error":"#REF!"}}]
["1°C","Manjimup",{"$error":"#REF!"},{"$error":"#REF!"},61.9662226350775,{"$f":"E810-#REF!","v":{"$error":"#REF!"}},null,null,63.529813480877998,{"$f":"I810-#REF!","v":{"$error":"#REF!"}}]
["1°C","Manjimup",{"$error":"#REF!"},{"$error":"#REF!"},52.998804089115602,{"$f":"E811-#REF!","v":{"$error":"#REF!"}},null,null,58.1069590662105,{"$f":"I811-#REF!","v":{"$error":"#REF!"}}]
["1°C","Manjimup",{"$error":"#REF!"},{"$error":"#REF!"},63.642644007320499,{"$f":"E812-#REF!","v":{"$error":"#REF!"}},null,null,66.417084814415205,{"$f":"I812-#REF!","v":{"$error":"#REF!"}}]
["1°C","Manjimup",{"$error":"#REF!"},{"$error":"#REF!"},41.0217946465784,{"$f":"E813-#REF!","v":{"$error":"#REF!"}},null,null,47.159349315020599,{"$f":"I813-#REF!","v":{"$error":"#REF!"}}]
["1°C","Manjimup",{"$error":"#REF!"},{"$error":"#REF!"},58.050391612997203,{"$f":"E814-#REF!","v":{"$error":"#REF!"}},null,null,64.459136775128201,{"$f":"I814-#REF!","v":{"$error":"#REF!"}}]
["1°C","Manjimup",{"$error":"#REF!"},{"$error":"#REF!"},54.7716187393643,{"$f":"E815-#REF!","v":{"$error":"#REF!"}},null,null,61.398324358260901,{"$f":"I815-#REF!","v":{"$error":"#REF!"}}]
["1°C","Manjimup",{"$error":"#REF!"},{"$error":"#REF!"},48.239773670219698,{"$f":"E816-#REF!","v":{"$error":"#REF!"}},null,null,53.414652046531202,{"$f":"I816-#REF!","v":{"$error":"#REF!"}}]
["1°C","Manjimup",{"$error":"#REF!"},{"$error":"#REF!"},47.497437985206197,{"$f":"E817-#REF!","v":{"$error":"#REF!"}},null,null,51.944237365984002,{"$f":"I817-#REF!","v":{"$error":"#REF!"}}]
["1°C","Manjimup",{"$error":"#REF!"},{"$error":"#REF!"},54.9849341702785,{"$f":"E818-#REF!","v":{"$error":"#REF!"}},null,null,63.822773929342098,{"$f":"I818-#REF!","v":{"$error":"#REF!"}}]
["1°C","Manjimup",{"$error":"#REF!"},{"$error":"#REF!"},56.270707086921099,{"$f":"E819-#REF!","v":{"$error":"#REF!"}},null,null,59.876597785133001,{"$f":"I819-#REF!","v":{"$error":"#REF!"}}]
["1°C","Manjimup",{"$error":"#REF!"},{"$error":"#REF!"},53.337288255607596,{"$f":"E820-#REF!","v":{"$error":"#REF!"}},null,null,58.0355007992246,{"$f":"I820-#REF!","v":{"$error":"#REF!"}}]
["1°C","Manjimup",{"$error":"#REF!"},{"$error":"#REF!"},56.431137615948998,{"$f":"E821-#REF!","v":{"$error":"#REF!"}},null,null,63.941901802387001,{"$f":"I821-#REF!","v":{"$error":"#REF!"}}]
["1°C","Manjimup",{"$error":"#REF!"},{"$error":"#REF!"},59.164150078111099,{"$f":"E822-#REF!","v":{"$error":"#REF!"}},null,null,63.109450650758603,{"$f":"I822-#REF!","v":{"$error":"#REF!"}}]
["1°C","Manjimup",{"$error":"#REF!"},{"$error":"#REF!"},46.235347944431503,{"$f":"E823-#REF!","v":{"$error":"#REF!"}},null,null,52.2312379518117,{"$f":"I823-#REF!","v":{"$error":"#REF!"}}]
["1°C","Manjimup",{"$error":"#REF!"},{"$error":"#REF!"},51.098477803248798,{"$f":"E824-#REF!","v":{"$error":"#REF!"}},null,null,57.1830373652259,{"$f":"I824-#REF!","v":{"$error":"#REF!"}}]
["1°C","Manjimup",{"$error":"#REF!"},{"$error":"#REF!"},59.429035114657502,{"$f":"E825-#REF!","v":{"$error":"#REF!"}},null,null,63.980211395959799,{"$f":"I825-#REF!","v":{"$error":"#REF!"}}]
["1°C","Manjimup",{"$error":"#REF!"},{"$error":"#REF!"},67.641180124143801,{"$f":"E826-#REF!","v":{"$error":"#REF!"}},null,null,71.184651089369495,{"$f":"I826-#REF!","v":{"$error":"#REF!"}}]
["1°C","Manjimup",{"$error":"#REF!"},{"$error":"#REF!"},66.605082215387796,{"$f":"E827-#REF!","v":{"$error":"#REF!"}},null,null,73.423402950299604,{"$f":"I827-#REF!","v":{"$error":"#REF!"}}]
["1°C","Manjimup",{"$error":"#REF!"},{"$error":"#REF!"},49.145665259176397,{"$f":"E828-#REF!","v":{"$error":"#REF!"}},null,null,53.218016480952599,{"$f":"I828-#REF!","v":{"$error":"#REF!"}}]
["1°C","Manjimup",{"$error":"#REF!"},{"$error":"#REF!"},59.744631151654197,{"$f":"E829-#REF!","v":{"$error":"#REF!"}},null,null,65.828524161527,{"$f":"I829-#REF!","v":{"$error":"#REF!"}}]
["1°C","Manjimup",{"$error":"#REF!"},{"$error":"#REF!"},54.3266907317782,{"$f":"E830-#REF!","v":{"$error":"#REF!"}},null,null,61.555184420622801,{"$f":"I830-#REF!","v":{"$error":"#REF!"}}]
["1°C","Manjimup",{"$error":"#REF!"},{"$error":"#REF!"},44.838228959457297,{"$f":"E831-#REF!","v":{"$error":"#REF!"}},null,null,50.7144942514634,{"$f":"I831-#REF!","v":{"$error":"#REF!"}}]
["1°C","Manjimup",{"$error":"#REF!"},{"$error":"#REF!"},42.289323982421799,{"$f":"E832-#REF!","v":{"$error":"#REF!"}},null,null,48.071871320720902,{"$f":"I832-#REF!","v":{"$error":"#REF!"}}]
["1°C","Manjimup",{"$error":"#REF!"},{"$error":"#REF!"},45.403319279447999,{"$f":"E833-#REF!","v":{"$error":"#REF!"}},null,null,49.090410510837202,{"$f":"I833-#REF!","v":{"$error":"#REF!"}}]
["1°C","Manjimup",{"$f":"IF(F834>0,1,0)/99","v":{"$error":"#REF!"}},{"$f":"IF(J834>0,1,0)/99","v":{"$error":"#REF!"}},54.916603973797102,{"$f":"E834-#REF!","v":{"$error":"#REF!"}},null,null,61.165026081015199,{"$f":"I834-#REF!","v":{"$error":"#REF!"}}]
["1°C","Manjimup",{"$error":"#REF!"},{"$error":"#REF!"},51.118370730446202,{"$f":"E835-#REF!","v":{"$error":"#REF!"}},null,null,54.623519819473003,{"$f":"I835-#REF!","v":{"$error":"#REF!"}}]
["1°C","Manjimup",{"$error":"#REF!"},{"$error":"#REF!"},50.880053095641102,{"$f":"E836-#REF!","v":{"$error":"#REF!"}},null,null,56.138628487690703,{"$f":"I836-#REF!","v":{"$error":"#REF!"}}]
["1°C","Manjimup",{"$error":"#REF!"},{"$error":"#REF!"},54.672278230238199,{"$f":"E837-#REF!","v":{"$error":"#REF!"}},null,null,60.837746545008997,{"$f":"I837-#REF!","v":{"$error":"#REF!"}}]
["1°C","Manjimup",{"$error":"#REF!"},{"$error":"#REF!"},62.254283138237099,{"$f":"E838-#REF!","v":{"$error":"#REF!"}},null,null,70.689856718146501,{"$f":"I838-#REF!","v":{"$error":"#REF!"}}]
["1°C","Manjimup",{"$error":"#REF!"},{"$error":"#REF!"},65.871909398835001,{"$f":"E839-#REF!","v":{"$error":"#REF!"}},null,null,70.195037812346797,{"$f":"I839-#REF!","v":{"$error":"#REF!"}}]
["1°C","Manjimup",{"$error":"#REF!"},{"$error":"#REF!"},51.761681646138904,{"$f":"E840-#REF!","v":{"$error":"#REF!"}},null,null,55.292761436942001,{"$f":"I840-#REF!","v":{"$error":"#REF!"}}]
["1°C","Manjimup",{"$error":"#REF!"},{"$error":"#REF!"},53.157561510699097,{"$f":"E841-#REF!","v":{"$error":"#REF!"}},null,null,58.0253474254081,{"$f":"I841-#REF!","v":{"$error":"#REF!"}}]
["1°C","Manjimup",{"$error":"#REF!"},{"$error":"#REF!"},40.378991931561004,{"$f":"E842-#REF!","v":{"$error":"#REF!"}},null,null,47.7040638539249,{"$f":"I842-#REF!","v":{"$error":"#REF!"}}]
["1°C","Manjimup",{"$error":"#REF!"},{"$error":"#REF!"},73.201698142704103,{"$f":"E843-#REF!","v":{"$error":"#REF!"}},null,null,76.417810399353002,{"$f":"I843-#REF!","v":{"$error":"#REF!"}}]
["1°C","Manjimup",{"$error":"#REF!"},{"$error":"#REF!"},48.8023011711865,{"$f":"E844-#REF!","v":{"$error":"#REF!"}},null,null,53.737585056509602,{"$f":"I844-#REF!","v":{"$error":"#REF!"}}]
["1°C","Manjimup",{"$error":"#REF!"},{"$error":"#REF!"},42.519265134298998,{"$f":"E845-#REF!","v":{"$error":"#REF!"}},null,null,45.892479976331799,{"$f":"I845-#REF!","v":{"$error":"#REF!"}}]
["1°C","Manjimup",{"$error":"#REF!"},{"$error":"#REF!"},50.715014196411701,{"$f":"E846-#REF!","v":{"$error":"#REF!"}},null,null,55.484544201050497,{"$f":"I846-#REF!","v":{"$error":"#REF!"}}]
["1°C","Manjimup",{"$error":"#REF!"},{"$error":"#REF!"},53.819861985231697,{"$f":"E847-#REF!","v":{"$error":"#REF!"}},null,null,60.3803465201728,{"$f":"I847-#REF!","v":{"$error":"#REF!"}}]
["1°C","Manjimup",{"$error":"#REF!"},{"$error":"#REF!"},57.730656744871197,{"$f":"E848-#REF!","v":{"$error":"#REF!"}},null,null,62.721670674956997,{"$f":"I848-#REF!","v":{"$error":"#REF!"}}]
["1°C","Manjimup",{"$error":"#REF!"},{"$error":"#REF!"},60.736353737708399,{"$f":"E849-#REF!","v":{"$error":"#REF!"}},null,null,65.822360529166303,{"$f":"I849-#REF!","v":{"$error":"#REF!"}}]
["1°C","Manjimup",{"$error":"#REF!"},{"$error":"#REF!"},53.795361541641199,{"$f":"E850-#REF!","v":{"$error":"#REF!"}},null,null,59.930434433800002,{"$f":"I850-#REF!","v":{"$error":"#REF!"}}]
["1°C","Manjimup",{"$error":"#REF!"},{"$error":"#REF!"},67.200756655511796,{"$f":"E851-#REF!","v":{"$error":"#REF!"}},null,null,74.036535753917406,{"$f":"I851-#REF!","v":{"$error":"#REF!"}}]
["1°C","Manjimup",{"$error":"#REF!"},{"$error":"#REF!"},53.1479902220604,{"$f":"E852-#REF!","v":{"$error":"#REF!"}},null,null,59.263539051124503,{"$f":"I852-#REF!","v":{"$error":"#REF!"}}]
["1°C","Manjimup",{"$error":"#REF!"},{"$error":"#REF!"},52.274537852297101,{"$f":"E853-#REF!","v":{"$error":"#REF!"}},null,null,61.105200634442397,{"$f":"I853-#REF!","v":{"$error":"#REF!"}}]
["1°C","Manjimup",{"$error":"#REF!"},{"$error":"#REF!"},63.831024850836599,{"$f":"E854-#REF!","v":{"$error":"#REF!"}},null,null,67.875913137422202,{"$f":"I854-#REF!","v":{"$error":"#REF!"}}]
["1°C","Manjimup",{"$error":"#REF!"},{"$error":"#REF!"},52.683499068577198,{"$f":"E855-#REF!","v":{"$error":"#REF!"}},null,null,57.6896545239536,{"$f":"I855-#REF!","v":{"$error":"#REF!"}}]
["1°C","Manjimup",{"$error":"#REF!"},{"$error":"#REF!"},62.582148119611901,{"$f":"E856-#REF!","v":{"$error":"#REF!"}},null,null,66.446046591003096,{"$f":"I856-#REF!","v":{"$error":"#REF!"}}]
["1°C","Manjimup",{"$error":"#REF!"},{"$error":"#REF!"},60.9515291177756,{"$f":"E857-#REF!","v":{"$error":"#REF!"}},null,null,62.848772049707698,{"$f":"I857-#REF!","v":{"$error":"#REF!"}}]
["1°C","Manjimup",{"$error":"#REF!"},{"$error":"#REF!"},57.828166890616899,{"$f":"E858-#REF!","v":{"$error":"#REF!"}},null,null,59.324018310483197,{"$f":"I858-#REF!","v":{"$error":"#REF!"}}]
["1°C","Manjimup",{"$error":"#REF!"},{"$error":"#REF!"},47.737434825194597,{"$f":"E859-#REF!","v":{"$error":"#REF!"}},null,null,54.189866958655102,{"$f":"I859-#REF!","v":{"$error":"#REF!"}}]
["1°C","Manjimup",{"$error":"#REF!"},{"$error":"#REF!"},45.433276778888803,{"$f":"E860-#REF!","v":{"$error":"#REF!"}},null,null,52.303847233885101,{"$f":"I860-#REF!","v":{"$error":"#REF!"}}]
["1°C","Manjimup",{"$error":"#REF!"},{"$error":"#REF!"},58.603402170700797,{"$f":"E861-#REF!","v":{"$error":"#REF!"}},null,null,63.448788889921701,{"$f":"I861-#REF!","v":{"$error":"#REF!"}}]
["1°C","Manjimup",{"$error":"#REF!"},{"$error":"#REF!"},59.918903699373601,{"$f":"E862-#REF!","v":{"$error":"#REF!"}},null,null,66.537642825867394,{"$f":"I862-#REF!","v":{"$error":"#REF!"}}]
["1°C","Manjimup",{"$error":"#REF!"},{"$error":"#REF!"},57.162927906163397,{"$f":"E863-#REF!","v":{"$error":"#REF!"}},null,null,59.205855977431597,{"$f":"I863-#REF!","v":{"$error":"#REF!"}}]
["1°C","Manjimup",{"$error":"#REF!"},{"$error":"#REF!"},67.138786184687305,{"$f":"E864-#REF!","v":{"$error":"#REF!"}},null,null,73.731246251420799,{"$f":"I864-#REF!","v":{"$error":"#REF!"}}]
["1°C","Manjimup",{"$error":"#REF!"},{"$error":"#REF!"},60.215764584722201,{"$f":"E865-#REF!","v":{"$error":"#REF!"}},null,null,64.671205380424098,{"$f":"I865-#REF!","v":{"$error":"#REF!"}}]
["1°C","Manjimup",{"$error":"#REF!"},{"$error":"#REF!"},41.087539663328101,{"$f":"E866-#REF!","v":{"$error":"#REF!"}},null,null,47.433841468404701,{"$f":"I866-#REF!","v":{"$error":"#REF!"}}]
["1°C","Manjimup",{"$error":"#REF!"},{"$error":"#REF!"},60.570756719104203,{"$f":"E867-#REF!","v":{"$error":"#REF!"}},null,null,65.423615189057998,{"$f":"I867-#REF!","v":{"$error":"#REF!"}}]
["1°C","Manjimup",{"$error":"#REF!"},{"$error":"#REF!"},53.073652666304298,{"$f":"E868-#REF!","v":{"$error":"#REF!"}},null,null,56.015183023957,{"$f":"I868-#REF!","v":{"$error":"#REF!"}}]
["1°C","Manjimup",{"$error":"#REF!"},{"$error":"#REF!"},67.285578072861497,{"$f":"E869-#REF!","v":{"$error":"#REF!"}},null,null,71.120789629020706,{"$f":"I869-#REF!","v":{"$error":"#REF!"}}]
["1°C","Manjimup",{"$error":"#REF!"},{"$error":"#REF!"},52.042885592645398,{"$f":"E870-#REF!","v":{"$error":"#REF!"}},null,null,59.025800550553001,{"$f":"I870-#REF!","v":{"$error":"#REF!"}}]
["1°C","Manjimup",{"$error":"#REF!"},{"$error":"#REF!"},52.7649991604722,{"$f":"E871-#REF!","v":{"$error":"#REF!"}},null,null,56.3428957880135,{"$f":"I871-#REF!","v":{"$error":"#REF!"}}]
["1°C","Manjimup",{"$error":"#REF!"},{"$error":"#REF!"},57.890098827821802,{"$f":"E872-#REF!","v":{"$error":"#REF!"}},null,null,63.381237150578102,{"$f":"I872-#REF!","v":{"$error":"#REF!"}}]
["1°C","Manjimup",{"$error":"#REF!"},{"$error":"#REF!"},67.635353980348995,{"$f":"E873-#REF!","v":{"$error":"#REF!"}},null,null,70.229076264702201,{"$f":"I873-#REF!","v":{"$error":"#REF!"}}]
["1°C","Manjimup",{"$error":"#REF!"},{"$error":"#REF!"},52.534191931695197,{"$f":"E874-#REF!","v":{"$error":"#REF!"}},null,null,57.5599320941391,{"$f":"I874-#REF!","v":{"$error":"#REF!"}}]
["1°C","Manjimup",{"$error":"#REF!"},{"$error":"#REF!"},56.483306467233803,{"$f":"E875-#REF!","v":{"$error":"#REF!"}},null,null,63.163028252884601,{"$f":"I875-#REF!","v":{"$error":"#REF!"}}]
["1°C","Manjimup",{"$error":"#REF!"},{"$error":"#REF!"},64.324151068137994,{"$f":"E876-#REF!","v":{"$error":"#REF!"}},null,null,69.289763704800393,{"$f":"I876-#REF!","v":{"$error":"#REF!"}}]
["1°C","Manjimup",{"$error":"#REF!"},{"$error":"#REF!"},49.665950619836799,{"$f":"E877-#REF!","v":{"$error":"#REF!"}},null,null,54.785439929981997,{"$f":"I877-#REF!","v":{"$error":"#REF!"}}]
["1°C","Manjimup",{"$error":"#REF!"},{"$error":"#REF!"},52.788457936296901,{"$f":"E878-#REF!","v":{"$error":"#REF!"}},null,null,59.446642231153497,{"$f":"I878-#REF!","v":{"$error":"#REF!"}}]
["1°C","Manjimup",{"$error":"#REF!"},{"$error":"#REF!"},53.607162118950598,{"$f":"E879-#REF!","v":{"$error":"#REF!"}},null,null,56.388149649660399,{"$f":"I879-#REF!","v":{"$error":"#REF!"}}]
["1°C","Manjimup",{"$error":"#REF!"},{"$error":"#REF!"},48.839528682644001,{"$f":"E880-#REF!","v":{"$error":"#REF!"}},null,null,53.422350601801902,{"$f":"I880-#REF!","v":{"$error":"#REF!"}}]
["1°C","Manjimup",{"$error":"#REF!"},{"$error":"#REF!"},53.981361535379499,{"$f":"E881-#REF!","v":{"$error":"#REF!"}},null,null,58.006957953474299,{"$f":"I881-#REF!","v":{"$error":"#REF!"}}]
["1°C","Manjimup",{"$error":"#REF!"},{"$error":"#REF!"},49.9784118178952,{"$f":"E882-#REF!","v":{"$error":"#REF!"}},null,null,54.3505259810198,{"$f":"I882-#REF!","v":{"$error":"#REF!"}}]
["1°C","Manjimup",{"$error":"#REF!"},{"$error":"#REF!"},56.280268937786403,{"$f":"E883-#REF!","v":{"$error":"#REF!"}},null,null,61.450772658099297,{"$f":"I883-#REF!","v":{"$error":"#REF!"}}]
["1°C","Manjimup",{"$error":"#REF!"},{"$error":"#REF!"},54.830932289242398,{"$f":"E884-#REF!","v":{"$error":"#REF!"}},null,null,57.796904836303,{"$f":"I884-#REF!","v":{"$error":"#REF!"}}]
["1°C","Manjimup",{"$error":"#REF!"},{"$error":"#REF!"},53.981092430830003,{"$f":"E885-#REF!","v":{"$error":"#REF!"}},null,null,59.064906369245499,{"$f":"I885-#REF!","v":{"$error":"#REF!"}}]
["1°C","Manjimup",{"$error":"#REF!"},{"$error":"#REF!"},51.561335642367702,{"$f":"E886-#REF!","v":{"$error":"#REF!"}},null,null,54.538528973981599,{"$f":"I886-#REF!","v":{"$error":"#REF!"}}]
["1°C","Manjimup",{"$error":"#REF!"},{"$error":"#REF!"},58.788432634373599,{"$f":"E887-#REF!","v":{"$error":"#REF!"}},null,null,64.360373306871296,{"$f":"I887-#REF!","v":{"$error":"#REF!"}}]
["1°C","Manjimup",{"$error":"#REF!"},{"$error":"#REF!"},48.046701341496501,{"$f":"E888-#REF!","v":{"$error":"#REF!"}},null,null,53.579147810568003,{"$f":"I888-#REF!","v":{"$error":"#REF!"}}]
["1°C","Manjimup",{"$error":"#REF!"},{"$error":"#REF!"},54.629349317224303,{"$f":"E889-#REF!","v":{"$error":"#REF!"}},null,null,56.784336996177501,{"$f":"I889-#REF!","v":{"$error":"#REF!"}}]
["1°C","Manjimup",{"$error":"#REF!"},{"$error":"#REF!"},47.821177142664602,{"$f":"E890-#REF!","v":{"$error":"#REF!"}},null,null,53.728330646494797,{"$f":"I890-#REF!","v":{"$error":"#REF!"}}]
["1°C","Manjimup",{"$error":"#REF!"},{"$error":"#REF!"},56.023884349911697,{"$f":"E891-#REF!","v":{"$error":"#REF!"}},null,null,62.684945468756801,{"$f":"I891-#REF!","v":{"$error":"#REF!"}}]
["1°C","Manjimup",{"$error":"#REF!"},{"$error":"#REF!"},52.746631424458997,{"$f":"E892-#REF!","v":{"$error":"#REF!"}},null,null,60.0757353831114,{"$f":"I892-#REF!","v":{"$error":"#REF!"}}]
["1°C","Orange",{"$error":"#REF!"},{"$error":"#REF!"},75.242779980819407,{"$f":"E893-#REF!","v":{"$error":"#REF!"}},null,null,82.562027179589293,{"$f":"I893-#REF!","v":{"$error":"#REF!"}}]
["1°C","Orange",{"$error":"#REF!"},{"$error":"#REF!"},80.697172056024499,{"$f":"E894-#REF!","v":{"$error":"#REF!"}},null,null,85.063741174992998,{"$f":"I894-#REF!","v":{"$error":"#REF!"}}]
["1°C","Orange",{"$error":"#REF!"},{"$error":"#REF!"},83.483332522575196,{"$f":"E895-#REF!","v":{"$error":"#REF!"}},null,null,86.664514780078505,{"$f":"I895-#REF!","v":{"$error":"#REF!"}}]
["1°C","Orange",{"$error":"#REF!"},{"$error":"#REF!"},73.705795037910093,{"$f":"E896-#REF!","v":{"$error":"#REF!"}},null,null,79.713302234818997,{"$f":"I896-#REF!","v":{"$error":"#REF!"}}]
["1°C","Orange",{"$error":"#REF!"},{"$error":"#REF!"},81.072368018986893,{"$f":"E897-#REF!","v":{"$error":"#REF!"}},null,null,83.636094622339996,{"$f":"I897-#REF!","v":{"$error":"#REF!"}}]
["1°C","Orange",{"$f":"IF(F898>0,1,0)/99","v":{"$error":"#REF!"}},{"$f":"IF(J898>0,1,0)/99","v":{"$error":"#REF!"}},82.807848520776005,{"$f":"E898-#REF!","v":{"$error":"#REF!"}},null,null,83.358667186175296,{"$f":"I898-#REF!","v":{"$error":"#REF!"}}]
["1°C","Orange",{"$error":"#REF!"},{"$error":"#REF!"},83.708204112400296,{"$f":"E899-#REF!","v":{"$error":"#REF!"}},null,null,86.1401709604758,{"$f":"I899-#REF!","v":{"$error":"#REF!"}}]
["1°C","Orange",{"$error":"#REF!"},{"$error":"#REF!"},75.823200686426006,{"$f":"E900-#REF!","v":{"$error":"#REF!"}},null,null,80.560550528371706,{"$f":"I900-#REF!","v":{"$error":"#REF!"}}]
["1°C","Orange",{"$error":"#REF!"},{"$error":"#REF!"},68.498264200024295,{"$f":"E901-#REF!","v":{"$error":"#REF!"}},null,null,73.019006623162596,{"$f":"I901-#REF!","v":{"$error":"#REF!"}}]
["1°C","Orange",{"$error":"#REF!"},{"$error":"#REF!"},83.3508984064283,{"$f":"E902-#REF!","v":{"$error":"#REF!"}},null,null,86.830553256891307,{"$f":"I902-#REF!","v":{"$error":"#REF!"}}]
["1°C","Orange",{"$error":"#REF!"},{"$error":"#REF!"},78.164490913598698,{"$f":"E903-#REF!","v":{"$error":"#REF!"}},null,null,79.651298964456004,{"$f":"I903-#REF!","v":{"$error":"#REF!"}}]
["1°C","Orange",{"$error":"#REF!"},{"$error":"#REF!"},82.267971214404497,{"$f":"E904-#REF!","v":{"$error":"#REF!"}},null,null,85.292063133545099,{"$f":"I904-#REF!","v":{"$error":"#REF!"}}]
["1°C","Orange",{"$error":"#REF!"},{"$error":"#REF!"},78.572093391715995,{"$f":"E905-#REF!","v":{"$error":"#REF!"}},null,null,82.389895931098593,{"$f":"I905-#REF!","v":{"$error":"#REF!"}}]
["1°C","Orange",{"$error":"#REF!"},{"$error":"#REF!"},78.885775848468199,{"$f":"E906-#REF!","v":{"$error":"#REF!"}},null,null,84.112195864061803,{"$f":"I906-#REF!","v":{"$error":"#REF!"}}]
["1°C","Orange",{"$error":"#REF!"},{"$error":"#REF!"},79.559272594475601,{"$f":"E907-#REF!","v":{"$error":"#REF!"}},null,null,84.312219856119498,{"$f":"I907-#REF!","v":{"$error":"#REF!"}}]
["1°C","Orange",{"$error":"#REF!"},{"$error":"#REF!"},86.474663882391496,{"$f":"E908-#REF!","v":{"$error":"#REF!"}},null,null,90.399743028594301,{"$f":"I908-#REF!","v":{"$error":"#REF!"}}]
["1°C","Orange",{"$error":"#REF!"},{"$error":"#REF!"},80.255396449569403,{"$f":"E909-#REF!","v":{"$error":"#REF!"}},null,null,84.266456514029997,{"$f":"I909-#REF!","v":{"$error":"#REF!"}}]
["1°C","Orange",{"$error":"#REF!"},{"$error":"#REF!"},81.127249487452303,{"$f":"E910-#REF!","v":{"$error":"#REF!"}},null,null,83.422592717395503,{"$f":"I910-#REF!","v":{"$error":"#REF!"}}]
["1°C","Orange",{"$error":"#REF!"},{"$error":"#REF!"},83.244985326539194,{"$f":"E911-#REF!","v":{"$error":"#REF!"}},null,null,86.311729975882002,{"$f":"I911-#REF!","v":{"$error":"#REF!"}}]
["1°C","Orange",{"$error":"#REF!"},{"$error":"#REF!"},82.135525778889402,{"$f":"E912-#REF!","v":{"$error":"#REF!"}},null,null,85.847023611491096,{"$f":"I912-#REF!","v":{"$error":"#REF!"}}]
["1°C","Orange",{"$error":"#REF!"},{"$error":"#REF!"},79.517997704122706,{"$f":"E913-#REF!","v":{"$error":"#REF!"}},null,null,82.729504309884902,{"$f":"I913-#REF!","v":{"$error":"#REF!"}}]
["1°C","Orange",{"$error":"#REF!"},{"$error":"#REF!"},79.054193544358796,{"$f":"E914-#REF!","v":{"$error":"#REF!"}},null,null,82.419637228984399,{"$f":"I914-#REF!","v":{"$error":"#REF!"}}]
["1°C","Orange",{"$error":"#REF!"},{"$error":"#REF!"},77.080062118365007,{"$f":"E915-#REF!","v":{"$error":"#REF!"}},null,null,80.670870295411902,{"$f":"I915-#REF!","v":{"$error":"#REF!"}}]
["1°C","Orange",{"$error":"#REF!"},{"$error":"#REF!"},82.260819734889907,{"$f":"E916-#REF!","v":{"$error":"#REF!"}},null,null,84.569386580567198,{"$f":"I916-#REF!","v":{"$error":"#REF!"}}]
["1°C","Orange",{"$error":"#REF!"},{"$error":"#REF!"},83.595703638703,{"$f":"E917-#REF!","v":{"$error":"#REF!"}},null,null,85.004083904919597,{"$f":"I917-#REF!","v":{"$error":"#REF!"}}]
["1°C","Orange",{"$error":"#REF!"},{"$error":"#REF!"},79.668266053017504,{"$f":"E918-#REF!","v":{"$error":"#REF!"}},null,null,82.979479609579101,{"$f":"I918-#REF!","v":{"$error":"#REF!"}}]
["1°C","Orange",{"$error":"#REF!"},{"$error":"#REF!"},80.862817741447699,{"$f":"E919-#REF!","v":{"$error":"#REF!"}},null,null,85.957189484691099,{"$f":"I919-#REF!","v":{"$error":"#REF!"}}]
["1°C","Orange",{"$error":"#REF!"},{"$error":"#REF!"},75.674877012310105,{"$f":"E920-#REF!","v":{"$error":"#REF!"}},null,null,79.275698813769495,{"$f":"I920-#REF!","v":{"$error":"#REF!"}}]
["1°C","Orange",{"$error":"#REF!"},{"$error":"#REF!"},81.384894046811993,{"$f":"E921-#REF!","v":{"$error":"#REF!"}},null,null,84.281906671638694,{"$f":"I921-#REF!","v":{"$error":"#REF!"}}]
["1°C","Orange",{"$error":"#REF!"},{"$error":"#REF!"},78.342532316442501,{"$f":"E922-#REF!","v":{"$error":"#REF!"}},null,null,84.404668750855805,{"$f":"I922-#REF!","v":{"$error":"#REF!"}}]
["1°C","Orange",{"$error":"#REF!"},{"$error":"#REF!"},79.843288594152099,{"$f":"E923-#REF!","v":{"$error":"#REF!"}},null,null,82.731286454844295,{"$f":"I923-#REF!","v":{"$error":"#REF!"}}]
["1°C","Orange",{"$error":"#REF!"},{"$error":"#REF!"},74.863801797887305,{"$f":"E924-#REF!","v":{"$error":"#REF!"}},null,null,80.078650155946406,{"$f":"I924-#REF!","v":{"$error":"#REF!"}}]
["1°C","Orange",{"$error":"#REF!"},{"$error":"#REF!"},86.045497719918799,{"$f":"E925-#REF!","v":{"$error":"#REF!"}},null,null,89.244782018994201,{"$f":"I925-#REF!","v":{"$error":"#REF!"}}]
["1°C","Orange",{"$error":"#REF!"},{"$error":"#REF!"},77.533602053874503,{"$f":"E926-#REF!","v":{"$error":"#REF!"}},null,null,81.617707534700997,{"$f":"I926-#REF!","v":{"$error":"#REF!"}}]
["1°C","Orange",{"$error":"#REF!"},{"$error":"#REF!"},81.598725112332502,{"$f":"E927-#REF!","v":{"$error":"#REF!"}},null,null,82.992456723133401,{"$f":"I927-#REF!","v":{"$error":"#REF!"}}]
["1°C","Orange",{"$error":"#REF!"},{"$error":"#REF!"},75.842858102284595,{"$f":"E928-#REF!","v":{"$error":"#REF!"}},null,null,79.632153312163297,{"$f":"I928-#REF!","v":{"$error":"#REF!"}}]
["1°C","Orange",{"$error":"#REF!"},{"$error":"#REF!"},73.227234707471396,{"$f":"E929-#REF!","v":{"$error":"#REF!"}},null,null,76.350261432225494,{"$f":"I929-#REF!","v":{"$error":"#REF!"}}]
["1°C","Orange",{"$error":"#REF!"},{"$error":"#REF!"},79.494185562493996,{"$f":"E930-#REF!","v":{"$error":"#REF!"}},null,null,81.504020903915105,{"$f":"I930-#REF!","v":{"$error":"#REF!"}}]
["1°C","Orange",{"$error":"#REF!"},{"$error":"#REF!"},79.459098542544794,{"$f":"E931-#REF!","v":{"$error":"#REF!"}},null,null,83.410949633259406,{"$f":"I931-#REF!","v":{"$error":"#REF!"}}]
["1°C","Orange",{"$error":"#REF!"},{"$error":"#REF!"},80.673588650178502,{"$f":"E932-#REF!","v":{"$error":"#REF!"}},null,null,82.612220038181107,{"$f":"I932-#REF!","v":{"$error":"#REF!"}}]
["1°C","Orange",{"$error":"#REF!"},{"$error":"#REF!"},79.840061763071603,{"$f":"E933-#REF!","v":{"$error":"#REF!"}},null,null,82.320195820736004,{"$f":"I933-#REF!","v":{"$error":"#REF!"}}]
["1°C","Orange",{"$error":"#REF!"},{"$error":"#REF!"},79.425815883058704,{"$f":"E934-#REF!","v":{"$error":"#REF!"}},null,null,84.278263858238404,{"$f":"I934-#REF!","v":{"$error":"#REF!"}}]
["1°C","Orange",{"$error":"#REF!"},{"$error":"#REF!"},74.177211563891703,{"$f":"E935-#REF!","v":{"$error":"#REF!"}},null,null,78.513712528705597,{"$f":"I935-#REF!","v":{"$error":"#REF!"}}]
["1°C","Orange",{"$error":"#REF!"},{"$error":"#REF!"},73.899099908073694,{"$f":"E936-#REF!","v":{"$error":"#REF!"}},null,null,77.859044498441804,{"$f":"I936-#REF!","v":{"$error":"#REF!"}}]
["1°C","Orange",{"$error":"#REF!"},{"$error":"#REF!"},78.594394215509894,{"$f":"E937-#REF!","v":{"$error":"#REF!"}},null,null,83.724933756413506,{"$f":"I937-#REF!","v":{"$error":"#REF!"}}]
["1°C","Orange",{"$error":"#REF!"},{"$error":"#REF!"},82.998036937158105,{"$f":"E938-#REF!","v":{"$error":"#REF!"}},null,null,86.196664270097699,{"$f":"I938-#REF!","v":{"$error":"#REF!"}}]
["1°C","Orange",{"$error":"#REF!"},{"$error":"#REF!"},75.387854340100205,{"$f":"E939-#REF!","v":{"$error":"#REF!"}},null,null,76.881698225149506,{"$f":"I939-#REF!","v":{"$error":"#REF!"}}]
["1°C","Orange",{"$error":"#REF!"},{"$error":"#REF!"},71.593865489991003,{"$f":"E940-#REF!","v":{"$error":"#REF!"}},null,null,76.574207316650501,{"$f":"I940-#REF!","v":{"$error":"#REF!"}}]
["1°C","Orange",{"$error":"#REF!"},{"$error":"#REF!"},77.006926460577802,{"$f":"E941-#REF!","v":{"$error":"#REF!"}},null,null,81.461358115689706,{"$f":"I941-#REF!","v":{"$error":"#REF!"}}]
["1°C","Orange",{"$error":"#REF!"},{"$error":"#REF!"},85.200841594152195,{"$f":"E942-#REF!","v":{"$error":"#REF!"}},null,null,89.146278819730597,{"$f":"I942-#REF!","v":{"$error":"#REF!"}}]
["1°C","Orange",{"$error":"#REF!"},{"$error":"#REF!"},84.509273117703401,{"$f":"E943-#REF!","v":{"$error":"#REF!"}},null,null,86.133702034077203,{"$f":"I943-#REF!","v":{"$error":"#REF!"}}]
["1°C","Orange",{"$error":"#REF!"},{"$error":"#REF!"},81.935727191161504,{"$f":"E944-#REF!","v":{"$error":"#REF!"}},null,null,84.893116213522305,{"$f":"I944-#REF!","v":{"$error":"#REF!"}}]
["1°C","Orange",{"$error":"#REF!"},{"$error":"#REF!"},75.697926641815101,{"$f":"E945-#REF!","v":{"$error":"#REF!"}},null,null,78.920728025060995,{"$f":"I945-#REF!","v":{"$error":"#REF!"}}]
["1°C","Orange",{"$error":"#REF!"},{"$error":"#REF!"},83.971626183218305,{"$f":"E946-#REF!","v":{"$error":"#REF!"}},null,null,86.323822472440597,{"$f":"I946-#REF!","v":{"$error":"#REF!"}}]
["1°C","Orange",{"$error":"#REF!"},{"$error":"#REF!"},72.856851834863093,{"$f":"E947-#REF!","v":{"$error":"#REF!"}},null,null,73.293839586415103,{"$f":"I947-#REF!","v":{"$error":"#REF!"}}]
["1°C","Orange",{"$error":"#REF!"},{"$error":"#REF!"},81.890429342987005,{"$f":"E948-#REF!","v":{"$error":"#REF!"}},null,null,85.639051520620995,{"$f":"I948-#REF!","v":{"$error":"#REF!"}}]
["1°C","Orange",{"$error":"#REF!"},{"$error":"#REF!"},75.027984873008606,{"$f":"E949-#REF!","v":{"$error":"#REF!"}},null,null,77.800218000838797,{"$f":"I949-#REF!","v":{"$error":"#REF!"}}]
["1°C","Orange",{"$error":"#REF!"},{"$error":"#REF!"},85.466035530531002,{"$f":"E950-#REF!","v":{"$error":"#REF!"}},null,null,89.156911351939996,{"$f":"I950-#REF!","v":{"$error":"#REF!"}}]
["1°C","Orange",{"$error":"#REF!"},{"$error":"#REF!"},75.242198137539802,{"$f":"E951-#REF!","v":{"$error":"#REF!"}},null,null,82.084141206673195,{"$f":"I951-#REF!","v":{"$error":"#REF!"}}]
["1°C","Orange",{"$error":"#REF!"},{"$error":"#REF!"},82.633166317005205,{"$f":"E952-#REF!","v":{"$error":"#REF!"}},null,null,85.857010077575197,{"$f":"I952-#REF!","v":{"$error":"#REF!"}}]
["1°C","Orange",{"$error":"#REF!"},{"$error":"#REF!"},87.484690123922306,{"$f":"E953-#REF!","v":{"$error":"#REF!"}},null,null,87.555921393946406,{"$f":"I953-#REF!","v":{"$error":"#REF!"}}]
["1°C","Orange",{"$error":"#REF!"},{"$error":"#REF!"},74.972936150450494,{"$f":"E954-#REF!","v":{"$error":"#REF!"}},null,null,80.562332155409095,{"$f":"I954-#REF!","v":{"$error":"#REF!"}}]
["1°C","Orange",{"$error":"#REF!"},{"$error":"#REF!"},82.117320823191704,{"$f":"E955-#REF!","v":{"$error":"#REF!"}},null,null,84.878987703090004,{"$f":"I955-#REF!","v":{"$error":"#REF!"}}]
["1°C","Orange",{"$error":"#REF!"},{"$error":"#REF!"},82.565354386539397,{"$f":"E956-#REF!","v":{"$error":"#REF!"}},null,null,84.541510325249206,{"$f":"I956-#REF!","v":{"$error":"#REF!"}}]
["1°C","Orange",{"$error":"#REF!"},{"$error":"#REF!"},80.248225348154705,{"$f":"E957-#REF!","v":{"$error":"#REF!"}},null,null,84.527049952029799,{"$f":"I957-#REF!","v":{"$error":"#REF!"}}]
["1°C","Orange",{"$error":"#REF!"},{"$error":"#REF!"},81.547774432234704,{"$f":"E958-#REF!","v":{"$error":"#REF!"}},null,null,84.537776617031298,{"$f":"I958-#REF!","v":{"$error":"#REF!"}}]
["1°C","Orange",{"$error":"#REF!"},{"$error":"#REF!"},79.622783814909496,{"$f":"E959-#REF!","v":{"$error":"#REF!"}},null,null,82.107734869026203,{"$f":"I959-#REF!","v":{"$error":"#REF!"}}]
["1°C","Orange",{"$error":"#REF!"},{"$error":"#REF!"},84.037939079233297,{"$f":"E960-#REF!","v":{"$error":"#REF!"}},null,null,84.650061374443297,{"$f":"I960-#REF!","v":{"$error":"#REF!"}}]
["1°C","Orange",{"$error":"#REF!"},{"$error":"#REF!"},82.530003243071604,{"$f":"E961-#REF!","v":{"$error":"#REF!"}},null,null,86.381351860058501,{"$f":"I961-#REF!","v":{"$error":"#REF!"}}]
["1°C","Orange",{"$f":"IF(F962>0,1,0)/99","v":{"$error":"#REF!"}},{"$f":"IF(J962>0,1,0)/99","v":{"$error":"#REF!"}},77.1132388243593,{"$f":"E962-#REF!","v":{"$error":"#REF!"}},null,null,82.073930402174994,{"$f":"I962-#REF!","v":{"$error":"#REF!"}}]
["1°C","Orange",{"$error":"#REF!"},{"$error":"#REF!"},87.039358708929996,{"$f":"E963-#REF!","v":{"$error":"#REF!"}},null,null,89.629565858400994,{"$f":"I963-#REF!","v":{"$error":"#REF!"}}]
["1°C","Orange",{"$error":"#REF!"},{"$error":"#REF!"},73.821658993682405,{"$f":"E964-#REF!","v":{"$error":"#REF!"}},null,null,78.857920782102099,{"$f":"I964-#REF!","v":{"$error":"#REF!"}}]
["1°C","Orange",{"$error":"#REF!"},{"$error":"#REF!"},82.979502978423298,{"$f":"E965-#REF!","v":{"$error":"#REF!"}},null,null,85.602653212052601,{"$f":"I965-#REF!","v":{"$error":"#REF!"}}]
["1°C","Orange",{"$error":"#REF!"},{"$error":"#REF!"},81.699588582371703,{"$f":"E966-#REF!","v":{"$error":"#REF!"}},null,null,82.6427119609275,{"$f":"I966-#REF!","v":{"$error":"#REF!"}}]
["1°C","Orange",{"$error":"#REF!"},{"$error":"#REF!"},80.953450591218598,{"$f":"E967-#REF!","v":{"$error":"#REF!"}},null,null,81.991714135061699,{"$f":"I967-#REF!","v":{"$error":"#REF!"}}]
["1°C","Orange",{"$error":"#REF!"},{"$error":"#REF!"},79.753348091992805,{"$f":"E968-#REF!","v":{"$error":"#REF!"}},null,null,84.952821359586906,{"$f":"I968-#REF!","v":{"$error":"#REF!"}}]
["1°C","Orange",{"$error":"#REF!"},{"$error":"#REF!"},79.9195429907152,{"$f":"E969-#REF!","v":{"$error":"#REF!"}},null,null,83.473936824432798,{"$f":"I969-#REF!","v":{"$error":"#REF!"}}]
["1°C","Orange",{"$error":"#REF!"},{"$error":"#REF!"},78.759914334712093,{"$f":"E970-#REF!","v":{"$error":"#REF!"}},null,null,83.032569307758195,{"$f":"I970-#REF!","v":{"$error":"#REF!"}}]
["1°C","Orange",{"$error":"#REF!"},{"$error":"#REF!"},80.061903062389902,{"$f":"E971-#REF!","v":{"$error":"#REF!"}},null,null,82.0657312493408,{"$f":"I971-#REF!","v":{"$error":"#REF!"}}]
["1°C","Orange",{"$error":"#REF!"},{"$error":"#REF!"},83.253341809495495,{"$f":"E972-#REF!","v":{"$error":"#REF!"}},null,null,86.977000497465497,{"$f":"I972-#REF!","v":{"$error":"#REF!"}}]
["1°C","Orange",{"$error":"#REF!"},{"$error":"#REF!"},81.410502875253997,{"$f":"E973-#REF!","v":{"$error":"#REF!"}},null,null,86.354566670449202,{"$f":"I973-#REF!","v":{"$error":"#REF!"}}]
["1°C","Orange",{"$error":"#REF!"},{"$error":"#REF!"},82.518157554196193,{"$f":"E974-#REF!","v":{"$error":"#REF!"}},null,null,83.591290226490202,{"$f":"I974-#REF!","v":{"$error":"#REF!"}}]
["1°C","Orange",{"$error":"#REF!"},{"$error":"#REF!"},76.860390998924402,{"$f":"E975-#REF!","v":{"$error":"#REF!"}},null,null,83.961968538121795,{"$f":"I975-#REF!","v":{"$error":"#REF!"}}]
["1°C","Orange",{"$error":"#REF!"},{"$error":"#REF!"},77.240174538349507,{"$f":"E976-#REF!","v":{"$error":"#REF!"}},null,null,81.719157691352294,{"$f":"I976-#REF!","v":{"$error":"#REF!"}}]
["1°C","Orange",{"$error":"#REF!"},{"$error":"#REF!"},72.771999187066996,{"$f":"E977-#REF!","v":{"$error":"#REF!"}},null,null,76.078960304858398,{"$f":"I977-#REF!","v":{"$error":"#REF!"}}]
["1°C","Orange",{"$error":"#REF!"},{"$error":"#REF!"},77.753257876663099,{"$f":"E978-#REF!","v":{"$error":"#REF!"}},null,null,80.198784670309195,{"$f":"I978-#REF!","v":{"$error":"#REF!"}}]
["1°C","Orange",{"$error":"#REF!"},{"$error":"#REF!"},76.199234167129802,{"$f":"E979-#REF!","v":{"$error":"#REF!"}},null,null,79.801317959224903,{"$f":"I979-#REF!","v":{"$error":"#REF!"}}]
["1°C","Orange",{"$error":"#REF!"},{"$error":"#REF!"},79.118856456111601,{"$f":"E980-#REF!","v":{"$error":"#REF!"}},null,null,85.401704802616905,{"$f":"I980-#REF!","v":{"$error":"#REF!"}}]
["1°C","Orange",{"$error":"#REF!"},{"$error":"#REF!"},74.706089013722604,{"$f":"E981-#REF!","v":{"$error":"#REF!"}},null,null,81.793683355970003,{"$f":"I981-#REF!","v":{"$error":"#REF!"}}]
["1°C","Orange",{"$error":"#REF!"},{"$error":"#REF!"},82.727002848636999,{"$f":"E982-#REF!","v":{"$error":"#REF!"}},null,null,85.223077524241006,{"$f":"I982-#REF!","v":{"$error":"#REF!"}}]
["1°C","Orange",{"$error":"#REF!"},{"$error":"#REF!"},81.464628222237494,{"$f":"E983-#REF!","v":{"$error":"#REF!"}},null,null,84.538578649952001,{"$f":"I983-#REF!","v":{"$error":"#REF!"}}]
["1°C","Orange",{"$error":"#REF!"},{"$error":"#REF!"},77.321086048319899,{"$f":"E984-#REF!","v":{"$error":"#REF!"}},null,null,81.119356888496199,{"$f":"I984-#REF!","v":{"$error":"#REF!"}}]
["1°C","Orange",{"$error":"#REF!"},{"$error":"#REF!"},78.7813884218276,{"$f":"E985-#REF!","v":{"$error":"#REF!"}},null,null,81.631786252105698,{"$f":"I985-#REF!","v":{"$error":"#REF!"}}]
["1°C","Orange",{"$error":"#REF!"},{"$error":"#REF!"},81.812474579858304,{"$f":"E986-#REF!","v":{"$error":"#REF!"}},null,null,84.148454963646799,{"$f":"I986-#REF!","v":{"$error":"#REF!"}}]
["1°C","Orange",{"$error":"#REF!"},{"$error":"#REF!"},74.275874048959807,{"$f":"E987-#REF!","v":{"$error":"#REF!"}},null,null,80.426547393003901,{"$f":"I987-#REF!","v":{"$error":"#REF!"}}]
["1°C","Orange",{"$error":"#REF!"},{"$error":"#REF!"},81.495149494144897,{"$f":"E988-#REF!","v":{"$error":"#REF!"}},null,null,83.937058239011293,{"$f":"I988-#REF!","v":{"$error":"#REF!"}}]
["1°C","Orange",{"$error":"#REF!"},{"$error":"#REF!"},74.828926579944493,{"$f":"E989-#REF!","v":{"$error":"#REF!"}},null,null,77.523458192980698,{"$f":"I989-#REF!","v":{"$error":"#REF!"}}]
["1°C","Orange",{"$error":"#REF!"},{"$error":"#REF!"},79.198587785397706,{"$f":"E990-#REF!","v":{"$error":"#REF!"}},null,null,84.107130984580607,{"$f":"I990-#REF!","v":{"$error":"#REF!"}}]
["1°C","Orange",{"$error":"#REF!"},{"$error":"#REF!"},77.715183564273403,{"$f":"E991-#REF!","v":{"$error":"#REF!"}},null,null,81.862078433401607,{"$f":"I991-#REF!","v":{"$error":"#REF!"}}]
["1°C","Tatura",{"$error":"#REF!"},{"$error":"#REF!"},68.092751545132501,{"$f":"E992-#REF!","v":{"$error":"#REF!"}},null,null,71.119435073416795,{"$f":"I992-#REF!","v":{"$error":"#REF!"}}]
["1°C","Tatura",{"$error":"#REF!"},{"$error":"#REF!"},71.602761942651199,{"$f":"E993-#REF!","v":{"$error":"#REF!"}},null,null,75.510061140848705,{"$f":"I993-#REF!","v":{"$error":"#REF!"}}]
["1°C","Tatura",{"$error":"#REF!"},{"$error":"#REF!"},74.493286452865604,{"$f":"E994-#REF!","v":{"$error":"#REF!"}},null,null,78.312996734958602,{"$f":"I994-#REF!","v":{"$error":"#REF!"}}]
["1°C","Tatura",{"$error":"#REF!"},{"$error":"#REF!"},66.876270843101196,{"$f":"E995-#REF!","v":{"$error":"#REF!"}},null,null,68.596293649150297,{"$f":"I995-#REF!","v":{"$error":"#REF!"}}]
["1°C","Tatura",{"$error":"#REF!"},{"$error":"#REF!"},72.579180732414002,{"$f":"E996-#REF!","v":{"$error":"#REF!"}},null,null,78.583016012703496,{"$f":"I996-#REF!","v":{"$error":"#REF!"}}]
["1°C","Tatura",{"$error":"#REF!"},{"$error":"#REF!"},73.628756562029494,{"$f":"E997-#REF!","v":{"$error":"#REF!"}},null,null,77.242241539914104,{"$f":"I997-#REF!","v":{"$error":"#REF!"}}]
["1°C","Tatura",{"$error":"#REF!"},{"$error":"#REF!"},74.377632963943697,{"$f":"E998-#REF!","v":{"$error":"#REF!"}},null,null,77.374633896705802,{"$f":"I998-#REF!","v":{"$error":"#REF!"}}]
["1°C","Tatura",{"$error":"#REF!"},{"$error":"#REF!"},68.871585773590795,{"$f":"E999-#REF!","v":{"$error":"#REF!"}},null,null,73.705147354978394,{"$f":"I999-#REF!","v":{"$error":"#REF!"}}]
["1°C","Tatura",{"$error":"#REF!"},{"$error":"#REF!"},69.793856356264001,{"$f":"E1000-#REF!","v":{"$error":"#REF!"}},null,null,75.855869439082895,{"$f":"I1000-#REF!","v":{"$error":"#REF!"}}]
["1°C","Tatura",{"$error":"#REF!"},{"$error":"#REF!"},77.598252858758499,{"$f":"E1001-#REF!","v":{"$error":"#REF!"}},null,null,80.722292903626197,{"$f":"I1001-#REF!","v":{"$error":"#REF!"}}]
["1°C","Tatura",{"$error":"#REF!"},{"$error":"#REF!"},66.956584875709197,{"$f":"E1002-#REF!","v":{"$error":"#REF!"}},null,null,71.750410415112199,{"$f":"I1002-#REF!","v":{"$error":"#REF!"}}]
["1°C","Tatura",{"$error":"#REF!"},{"$error":"#REF!"},73.807799222217298,{"$f":"E1003-#REF!","v":{"$error":"#REF!"}},null,null,77.012490424112301,{"$f":"I1003-#REF!","v":{"$error":"#REF!"}}]
["1°C","Tatura",{"$error":"#REF!"},{"$error":"#REF!"},70.161624057676306,{"$f":"E1004-#REF!","v":{"$error":"#REF!"}},null,null,75.460184331353801,{"$f":"I1004-#REF!","v":{"$error":"#REF!"}}]
["1°C","Tatura",{"$error":"#REF!"},{"$error":"#REF!"},72.623304502284199,{"$f":"E1005-#REF!","v":{"$error":"#REF!"}},null,null,76.264180913007607,{"$f":"I1005-#REF!","v":{"$error":"#REF!"}}]
["1°C","Tatura",{"$error":"#REF!"},{"$error":"#REF!"},70.917722437845299,{"$f":"E1006-#REF!","v":{"$error":"#REF!"}},null,null,74.840508710614003,{"$f":"I1006-#REF!","v":{"$error":"#REF!"}}]
["1°C","Tatura",{"$error":"#REF!"},{"$error":"#REF!"},76.764775012841795,{"$f":"E1007-#REF!","v":{"$error":"#REF!"}},null,null,79.590704511618299,{"$f":"I1007-#REF!","v":{"$error":"#REF!"}}]
["1°C","Tatura",{"$error":"#REF!"},{"$error":"#REF!"},75.433311793164606,{"$f":"E1008-#REF!","v":{"$error":"#REF!"}},null,null,80.429318830643595,{"$f":"I1008-#REF!","v":{"$error":"#REF!"}}]
["1°C","Tatura",{"$error":"#REF!"},{"$error":"#REF!"},68.887670210424602,{"$f":"E1009-#REF!","v":{"$error":"#REF!"}},null,null,70.940493014633802,{"$f":"I1009-#REF!","v":{"$error":"#REF!"}}]
["1°C","Tatura",{"$error":"#REF!"},{"$error":"#REF!"},70.522774395477498,{"$f":"E1010-#REF!","v":{"$error":"#REF!"}},null,null,73.733619363274698,{"$f":"I1010-#REF!","v":{"$error":"#REF!"}}]
["1°C","Tatura",{"$error":"#REF!"},{"$error":"#REF!"},69.204856062918495,{"$f":"E1011-#REF!","v":{"$error":"#REF!"}},null,null,73.539329590825801,{"$f":"I1011-#REF!","v":{"$error":"#REF!"}}]
["1°C","Tatura",{"$error":"#REF!"},{"$error":"#REF!"},73.333564734248398,{"$f":"E1012-#REF!","v":{"$error":"#REF!"}},null,null,77.372233245561404,{"$f":"I1012-#REF!","v":{"$error":"#REF!"}}]
["1°C","Tatura",{"$error":"#REF!"},{"$error":"#REF!"},70.338537408954195,{"$f":"E1013-#REF!","v":{"$error":"#REF!"}},null,null,72.396571905723306,{"$f":"I1013-#REF!","v":{"$error":"#REF!"}}]
["1°C","Tatura",{"$error":"#REF!"},{"$error":"#REF!"},69.740343645641602,{"$f":"E1014-#REF!","v":{"$error":"#REF!"}},null,null,73.170902972390905,{"$f":"I1014-#REF!","v":{"$error":"#REF!"}}]
["1°C","Tatura",{"$error":"#REF!"},{"$error":"#REF!"},67.461901402836403,{"$f":"E1015-#REF!","v":{"$error":"#REF!"}},null,null,70.208120273914901,{"$f":"I1015-#REF!","v":{"$error":"#REF!"}}]
["1°C","Tatura",{"$error":"#REF!"},{"$error":"#REF!"},73.198500460421201,{"$f":"E1016-#REF!","v":{"$error":"#REF!"}},null,null,78.628997795028994,{"$f":"I1016-#REF!","v":{"$error":"#REF!"}}]
["1°C","Tatura",{"$error":"#REF!"},{"$error":"#REF!"},70.908822218159798,{"$f":"E1017-#REF!","v":{"$error":"#REF!"}},null,null,75.934532377050502,{"$f":"I1017-#REF!","v":{"$error":"#REF!"}}]
["1°C","Tatura",{"$error":"#REF!"},{"$error":"#REF!"},69.667623634251498,{"$f":"E1018-#REF!","v":{"$error":"#REF!"}},null,null,74.393192655293404,{"$f":"I1018-#REF!","v":{"$error":"#REF!"}}]
["1°C","Tatura",{"$error":"#REF!"},{"$error":"#REF!"},66.721154183734399,{"$f":"E1019-#REF!","v":{"$error":"#REF!"}},null,null,68.512896229643104,{"$f":"I1019-#REF!","v":{"$error":"#REF!"}}]
["1°C","Tatura",{"$error":"#REF!"},{"$error":"#REF!"},72.140742862571699,{"$f":"E1020-#REF!","v":{"$error":"#REF!"}},null,null,76.725280258850404,{"$f":"I1020-#REF!","v":{"$error":"#REF!"}}]
["1°C","Tatura",{"$error":"#REF!"},{"$error":"#REF!"},70.114694980481005,{"$f":"E1021-#REF!","v":{"$error":"#REF!"}},null,null,76.126480545333095,{"$f":"I1021-#REF!","v":{"$error":"#REF!"}}]
["1°C","Tatura",{"$error":"#REF!"},{"$error":"#REF!"},67.286776116278801,{"$f":"E1022-#REF!","v":{"$error":"#REF!"}},null,null,73.793767464536899,{"$f":"I1022-#REF!","v":{"$error":"#REF!"}}]
["1°C","Tatura",{"$error":"#REF!"},{"$error":"#REF!"},70.737659526487306,{"$f":"E1023-#REF!","v":{"$error":"#REF!"}},null,null,75.956426266759706,{"$f":"I1023-#REF!","v":{"$error":"#REF!"}}]
["1°C","Tatura",{"$error":"#REF!"},{"$error":"#REF!"},79.430331991146502,{"$f":"E1024-#REF!","v":{"$error":"#REF!"}},null,null,80.0458974148886,{"$f":"I1024-#REF!","v":{"$error":"#REF!"}}]
["1°C","Tatura",{"$error":"#REF!"},{"$error":"#REF!"},73.845693474499996,{"$f":"E1025-#REF!","v":{"$error":"#REF!"}},null,null,79.984675724812604,{"$f":"I1025-#REF!","v":{"$error":"#REF!"}}]
["1°C","Tatura",{"$f":"IF(F1026>0,1,0)/99","v":{"$error":"#REF!"}},{"$f":"IF(J1026>0,1,0)/99","v":{"$error":"#REF!"}},69.670703589099404,{"$f":"E1026-#REF!","v":{"$error":"#REF!"}},null,null,75.898085092514705,{"$f":"I1026-#REF!","v":{"$error":"#REF!"}}]
["1°C","Tatura",{"$error":"#REF!"},{"$error":"#REF!"},74.676661356660702,{"$f":"E1027-#REF!","v":{"$error":"#REF!"}},null,null,78.273286808690301,{"$f":"I1027-#REF!","v":{"$error":"#REF!"}}]
["1°C","Tatura",{"$error":"#REF!"},{"$error":"#REF!"},68.756159448394399,{"$f":"E1028-#REF!","v":{"$error":"#REF!"}},null,null,70.170489853415802,{"$f":"I1028-#REF!","v":{"$error":"#REF!"}}]
["1°C","Tatura",{"$error":"#REF!"},{"$error":"#REF!"},74.138651665251203,{"$f":"E1029-#REF!","v":{"$error":"#REF!"}},null,null,77.674634956793298,{"$f":"I1029-#REF!","v":{"$error":"#REF!"}}]
["1°C","Tatura",{"$error":"#REF!"},{"$error":"#REF!"},73.4063833834756,{"$f":"E1030-#REF!","v":{"$error":"#REF!"}},null,null,76.899261822817195,{"$f":"I1030-#REF!","v":{"$error":"#REF!"}}]
["1°C","Tatura",{"$error":"#REF!"},{"$error":"#REF!"},69.766636647200997,{"$f":"E1031-#REF!","v":{"$error":"#REF!"}},null,null,72.243793811436106,{"$f":"I1031-#REF!","v":{"$error":"#REF!"}}]
["1°C","Tatura",{"$error":"#REF!"},{"$error":"#REF!"},71.266965483843904,{"$f":"E1032-#REF!","v":{"$error":"#REF!"}},null,null,76.011989474714795,{"$f":"I1032-#REF!","v":{"$error":"#REF!"}}]
["1°C","Tatura",{"$error":"#REF!"},{"$error":"#REF!"},72.035741861103403,{"$f":"E1033-#REF!","v":{"$error":"#REF!"}},null,null,75.603177831087507,{"$f":"I1033-#REF!","v":{"$error":"#REF!"}}]
["1°C","Tatura",{"$error":"#REF!"},{"$error":"#REF!"},66.928999597387204,{"$f":"E1034-#REF!","v":{"$error":"#REF!"}},null,null,73.504390972989398,{"$f":"I1034-#REF!","v":{"$error":"#REF!"}}]
["1°C","Tatura",{"$error":"#REF!"},{"$error":"#REF!"},65.729150556737807,{"$f":"E1035-#REF!","v":{"$error":"#REF!"}},null,null,70.421951398456201,{"$f":"I1035-#REF!","v":{"$error":"#REF!"}}]
["1°C","Tatura",{"$error":"#REF!"},{"$error":"#REF!"},70.588946258715893,{"$f":"E1036-#REF!","v":{"$error":"#REF!"}},null,null,75.379244788353006,{"$f":"I1036-#REF!","v":{"$error":"#REF!"}}]
["1°C","Tatura",{"$error":"#REF!"},{"$error":"#REF!"},74.718959822172295,{"$f":"E1037-#REF!","v":{"$error":"#REF!"}},null,null,80.240634985327205,{"$f":"I1037-#REF!","v":{"$error":"#REF!"}}]
["1°C","Tatura",{"$error":"#REF!"},{"$error":"#REF!"},61.949861790031399,{"$f":"E1038-#REF!","v":{"$error":"#REF!"}},null,null,66.629610691429207,{"$f":"I1038-#REF!","v":{"$error":"#REF!"}}]
["1°C","Tatura",{"$error":"#REF!"},{"$error":"#REF!"},62.5614024538161,{"$f":"E1039-#REF!","v":{"$error":"#REF!"}},null,null,66.0734444697584,{"$f":"I1039-#REF!","v":{"$error":"#REF!"}}]
["1°C","Tatura",{"$error":"#REF!"},{"$error":"#REF!"},64.940770432505204,{"$f":"E1040-#REF!","v":{"$error":"#REF!"}},null,null,69.9509817645597,{"$f":"I1040-#REF!","v":{"$error":"#REF!"}}]
["1°C","Tatura",{"$error":"#REF!"},{"$error":"#REF!"},80.189334625261907,{"$f":"E1041-#REF!","v":{"$error":"#REF!"}},null,null,84.130093341815297,{"$f":"I1041-#REF!","v":{"$error":"#REF!"}}]
["1°C","Tatura",{"$error":"#REF!"},{"$error":"#REF!"},70.456735809944107,{"$f":"E1042-#REF!","v":{"$error":"#REF!"}},null,null,75.0414062143915,{"$f":"I1042-#REF!","v":{"$error":"#REF!"}}]
["1°C","Tatura",{"$error":"#REF!"},{"$error":"#REF!"},74.173450121879995,{"$f":"E1043-#REF!","v":{"$error":"#REF!"}},null,null,77.181863718501702,{"$f":"I1043-#REF!","v":{"$error":"#REF!"}}]
["1°C","Tatura",{"$error":"#REF!"},{"$error":"#REF!"},69.668986065806806,{"$f":"E1044-#REF!","v":{"$error":"#REF!"}},null,null,72.300913153882505,{"$f":"I1044-#REF!","v":{"$error":"#REF!"}}]
["1°C","Tatura",{"$error":"#REF!"},{"$error":"#REF!"},72.674369862008803,{"$f":"E1045-#REF!","v":{"$error":"#REF!"}},null,null,80.123374011199402,{"$f":"I1045-#REF!","v":{"$error":"#REF!"}}]
["1°C","Tatura",{"$error":"#REF!"},{"$error":"#REF!"},69.161899942850596,{"$f":"E1046-#REF!","v":{"$error":"#REF!"}},null,null,71.754292386698296,{"$f":"I1046-#REF!","v":{"$error":"#REF!"}}]
["1°C","Tatura",{"$error":"#REF!"},{"$error":"#REF!"},74.699025806164599,{"$f":"E1047-#REF!","v":{"$error":"#REF!"}},null,null,77.230781221400406,{"$f":"I1047-#REF!","v":{"$error":"#REF!"}}]
["1°C","Tatura",{"$error":"#REF!"},{"$error":"#REF!"},63.229764601771002,{"$f":"E1048-#REF!","v":{"$error":"#REF!"}},null,null,66.760201090886994,{"$f":"I1048-#REF!","v":{"$error":"#REF!"}}]
["1°C","Tatura",{"$error":"#REF!"},{"$error":"#REF!"},78.206993834712094,{"$f":"E1049-#REF!","v":{"$error":"#REF!"}},null,null,84.458369071578502,{"$f":"I1049-#REF!","v":{"$error":"#REF!"}}]
["1°C","Tatura",{"$error":"#REF!"},{"$error":"#REF!"},69.545329154843799,{"$f":"E1050-#REF!","v":{"$error":"#REF!"}},null,null,71.465194972085399,{"$f":"I1050-#REF!","v":{"$error":"#REF!"}}]
["1°C","Tatura",{"$error":"#REF!"},{"$error":"#REF!"},77.048283142189405,{"$f":"E1051-#REF!","v":{"$error":"#REF!"}},null,null,83.4767912465542,{"$f":"I1051-#REF!","v":{"$error":"#REF!"}}]
["1°C","Tatura",{"$error":"#REF!"},{"$error":"#REF!"},77.341723956466794,{"$f":"E1052-#REF!","v":{"$error":"#REF!"}},null,null,81.304194766591806,{"$f":"I1052-#REF!","v":{"$error":"#REF!"}}]
["1°C","Tatura",{"$error":"#REF!"},{"$error":"#REF!"},68.459678666292703,{"$f":"E1053-#REF!","v":{"$error":"#REF!"}},null,null,73.573585986700607,{"$f":"I1053-#REF!","v":{"$error":"#REF!"}}]
["1°C","Tatura",{"$error":"#REF!"},{"$error":"#REF!"},73.697399852505697,{"$f":"E1054-#REF!","v":{"$error":"#REF!"}},null,null,79.609568251323793,{"$f":"I1054-#REF!","v":{"$error":"#REF!"}}]
["1°C","Tatura",{"$error":"#REF!"},{"$error":"#REF!"},72.571048428701403,{"$f":"E1055-#REF!","v":{"$error":"#REF!"}},null,null,75.209858566007497,{"$f":"I1055-#REF!","v":{"$error":"#REF!"}}]
["1°C","Tatura",{"$error":"#REF!"},{"$error":"#REF!"},64.421935779991898,{"$f":"E1056-#REF!","v":{"$error":"#REF!"}},null,null,67.918496593681098,{"$f":"I1056-#REF!","v":{"$error":"#REF!"}}]
["1°C","Tatura",{"$error":"#REF!"},{"$error":"#REF!"},71.540144794942094,{"$f":"E1057-#REF!","v":{"$error":"#REF!"}},null,null,74.845026089798395,{"$f":"I1057-#REF!","v":{"$error":"#REF!"}}]
["1°C","Tatura",{"$error":"#REF!"},{"$error":"#REF!"},67.506377438651995,{"$f":"E1058-#REF!","v":{"$error":"#REF!"}},null,null,72.475389265768897,{"$f":"I1058-#REF!","v":{"$error":"#REF!"}}]
["1°C","Tatura",{"$error":"#REF!"},{"$error":"#REF!"},75.810785332443004,{"$f":"E1059-#REF!","v":{"$error":"#REF!"}},null,null,77.7612361966831,{"$f":"I1059-#REF!","v":{"$error":"#REF!"}}]
["1°C","Tatura",{"$error":"#REF!"},{"$error":"#REF!"},75.767471587453997,{"$f":"E1060-#REF!","v":{"$error":"#REF!"}},null,null,77.952154780283905,{"$f":"I1060-#REF!","v":{"$error":"#REF!"}}]
["1°C","Tatura",{"$error":"#REF!"},{"$error":"#REF!"},65.334811053809901,{"$f":"E1061-#REF!","v":{"$error":"#REF!"}},null,null,69.577784577531901,{"$f":"I1061-#REF!","v":{"$error":"#REF!"}}]
["1°C","Tatura",{"$error":"#REF!"},{"$error":"#REF!"},72.446264284530798,{"$f":"E1062-#REF!","v":{"$error":"#REF!"}},null,null,77.508393538610804,{"$f":"I1062-#REF!","v":{"$error":"#REF!"}}]
["1°C","Tatura",{"$error":"#REF!"},{"$error":"#REF!"},65.319270477889305,{"$f":"E1063-#REF!","v":{"$error":"#REF!"}},null,null,66.4328485077518,{"$f":"I1063-#REF!","v":{"$error":"#REF!"}}]
["1°C","Tatura",{"$error":"#REF!"},{"$error":"#REF!"},70.743501969774002,{"$f":"E1064-#REF!","v":{"$error":"#REF!"}},null,null,75.553200916233905,{"$f":"I1064-#REF!","v":{"$error":"#REF!"}}]
["1°C","Tatura",{"$error":"#REF!"},{"$error":"#REF!"},68.202666246694307,{"$f":"E1065-#REF!","v":{"$error":"#REF!"}},null,null,74.581694842355304,{"$f":"I1065-#REF!","v":{"$error":"#REF!"}}]
["1°C","Tatura",{"$error":"#REF!"},{"$error":"#REF!"},73.653680729327604,{"$f":"E1066-#REF!","v":{"$error":"#REF!"}},null,null,75.561086218486906,{"$f":"I1066-#REF!","v":{"$error":"#REF!"}}]
["1°C","Tatura",{"$error":"#REF!"},{"$error":"#REF!"},72.519455569352203,{"$f":"E1067-#REF!","v":{"$error":"#REF!"}},null,null,76.294114920775797,{"$f":"I1067-#REF!","v":{"$error":"#REF!"}}]
["1°C","Tatura",{"$error":"#REF!"},{"$error":"#REF!"},68.106965619658993,{"$f":"E1068-#REF!","v":{"$error":"#REF!"}},null,null,74.131958465178599,{"$f":"I1068-#REF!","v":{"$error":"#REF!"}}]
["1°C","Tatura",{"$error":"#REF!"},{"$error":"#REF!"},65.584513353380999,{"$f":"E1069-#REF!","v":{"$error":"#REF!"}},null,null,71.308269205204596,{"$f":"I1069-#REF!","v":{"$error":"#REF!"}}]
["1°C","Tatura",{"$error":"#REF!"},{"$error":"#REF!"},71.601156623928006,{"$f":"E1070-#REF!","v":{"$error":"#REF!"}},null,null,75.308048959272099,{"$f":"I1070-#REF!","v":{"$error":"#REF!"}}]
["1°C","Tatura",{"$error":"#REF!"},{"$error":"#REF!"},75.442253928147807,{"$f":"E1071-#REF!","v":{"$error":"#REF!"}},null,null,76.921678538917803,{"$f":"I1071-#REF!","v":{"$error":"#REF!"}}]
["1°C","Tatura",{"$error":"#REF!"},{"$error":"#REF!"},64.606883960174201,{"$f":"E1072-#REF!","v":{"$error":"#REF!"}},null,null,71.754318305852195,{"$f":"I1072-#REF!","v":{"$error":"#REF!"}}]
["1°C","Tatura",{"$error":"#REF!"},{"$error":"#REF!"},76.415612688333297,{"$f":"E1073-#REF!","v":{"$error":"#REF!"}},null,null,80.141358897073104,{"$f":"I1073-#REF!","v":{"$error":"#REF!"}}]
["1°C","Tatura",{"$error":"#REF!"},{"$error":"#REF!"},68.555678924115398,{"$f":"E1074-#REF!","v":{"$error":"#REF!"}},null,null,73.767602912807703,{"$f":"I1074-#REF!","v":{"$error":"#REF!"}}]
["1°C","Tatura",{"$error":"#REF!"},{"$error":"#REF!"},69.116520518757497,{"$f":"E1075-#REF!","v":{"$error":"#REF!"}},null,null,72.802448615430094,{"$f":"I1075-#REF!","v":{"$error":"#REF!"}}]
["1°C","Tatura",{"$error":"#REF!"},{"$error":"#REF!"},71.580284858441502,{"$f":"E1076-#REF!","v":{"$error":"#REF!"}},null,null,74.423749771255302,{"$f":"I1076-#REF!","v":{"$error":"#REF!"}}]
["1°C","Tatura",{"$error":"#REF!"},{"$error":"#REF!"},70.519429249542597,{"$f":"E1077-#REF!","v":{"$error":"#REF!"}},null,null,74.854458885094203,{"$f":"I1077-#REF!","v":{"$error":"#REF!"}}]
["1°C","Tatura",{"$error":"#REF!"},{"$error":"#REF!"},73.318959336083594,{"$f":"E1078-#REF!","v":{"$error":"#REF!"}},null,null,76.198138593436298,{"$f":"I1078-#REF!","v":{"$error":"#REF!"}}]
["1°C","Tatura",{"$error":"#REF!"},{"$error":"#REF!"},67.512204671655795,{"$f":"E1079-#REF!","v":{"$error":"#REF!"}},null,null,72.161511983444797,{"$f":"I1079-#REF!","v":{"$error":"#REF!"}}]
["1°C","Tatura",{"$error":"#REF!"},{"$error":"#REF!"},63.513148534099798,{"$f":"E1080-#REF!","v":{"$error":"#REF!"}},null,null,69.138139943831803,{"$f":"I1080-#REF!","v":{"$error":"#REF!"}}]
["1°C","Tatura",{"$error":"#REF!"},{"$error":"#REF!"},74.100805618027707,{"$f":"E1081-#REF!","v":{"$error":"#REF!"}},null,null,78.761003515718201,{"$f":"I1081-#REF!","v":{"$error":"#REF!"}}]
["1°C","Tatura",{"$error":"#REF!"},{"$error":"#REF!"},64.987407230203502,{"$f":"E1082-#REF!","v":{"$error":"#REF!"}},null,null,70.624741356046997,{"$f":"I1082-#REF!","v":{"$error":"#REF!"}}]
["1°C","Tatura",{"$error":"#REF!"},{"$error":"#REF!"},63.912662468685703,{"$f":"E1083-#REF!","v":{"$error":"#REF!"}},null,null,68.364971537731293,{"$f":"I1083-#REF!","v":{"$error":"#REF!"}}]
["1°C","Tatura",{"$error":"#REF!"},{"$error":"#REF!"},73.287823630562698,{"$f":"E1084-#REF!","v":{"$error":"#REF!"}},null,null,75.342777038711702,{"$f":"I1084-#REF!","v":{"$error":"#REF!"}}]
["1°C","Tatura",{"$error":"#REF!"},{"$error":"#REF!"},73.519351727021601,{"$f":"E1085-#REF!","v":{"$error":"#REF!"}},null,null,78.547036009723698,{"$f":"I1085-#REF!","v":{"$error":"#REF!"}}]
["1°C","Tatura",{"$error":"#REF!"},{"$error":"#REF!"},62.473125310138897,{"$f":"E1086-#REF!","v":{"$error":"#REF!"}},null,null,64.246558032217493,{"$f":"I1086-#REF!","v":{"$error":"#REF!"}}]
["1°C","Tatura",{"$error":"#REF!"},{"$error":"#REF!"},70.145049960386103,{"$f":"E1087-#REF!","v":{"$error":"#REF!"}},null,null,74.864448808972796,{"$f":"I1087-#REF!","v":{"$error":"#REF!"}}]
["1°C","Tatura",{"$error":"#REF!"},{"$error":"#REF!"},63.411481233498002,{"$f":"E1088-#REF!","v":{"$error":"#REF!"}},null,null,66.687738871062706,{"$f":"I1088-#REF!","v":{"$error":"#REF!"}}]
["1°C","Tatura",{"$error":"#REF!"},{"$error":"#REF!"},70.091788457764096,{"$f":"E1089-#REF!","v":{"$error":"#REF!"}},null,null,74.756800582965596,{"$f":"I1089-#REF!","v":{"$error":"#REF!"}}]
["1°C","Tatura",{"$f":"IF(F1090>0,1,0)/99","v":{"$error":"#REF!"}},{"$f":"IF(J1090>0,1,0)/99","v":{"$error":"#REF!"}},63.138840423042502,{"$f":"E1090-#REF!","v":{"$error":"#REF!"}},null,null,68.231649550005201,{"$f":"I1090-#REF!","v":{"$error":"#REF!"}}]
["1°C","Yarra Yalley",{"$error":"#REF!"},{"$error":"#REF!"},76.465908416494301,{"$f":"E1091-#REF!","v":{"$error":"#REF!"}},null,null,77.541125346269098,{"$f":"I1091-#REF!","v":{"$error":"#REF!"}}]
["1°C","Yarra Yalley",{"$error":"#REF!"},{"$error":"#REF!"},77.908333018440501,{"$f":"E1092-#REF!","v":{"$error":"#REF!"}},null,null,82.096320735422907,{"$f":"I1092-#REF!","v":{"$error":"#REF!"}}]
["1°C","Yarra Yalley",{"$error":"#REF!"},{"$error":"#REF!"},81.5909988095502,{"$f":"E1093-#REF!","v":{"$error":"#REF!"}},null,null,85.115331656704896,{"$f":"I1093-#REF!","v":{"$error":"#REF!"}}]
["1°C","Yarra Yalley",{"$error":"#REF!"},{"$error":"#REF!"},76.122446669191007,{"$f":"E1094-#REF!","v":{"$error":"#REF!"}},null,null,77.573156897421796,{"$f":"I1094-#REF!","v":{"$error":"#REF!"}}]
["1°C","Yarra Yalley",{"$error":"#REF!"},{"$error":"#REF!"},80.469341327565203,{"$f":"E1095-#REF!","v":{"$error":"#REF!"}},null,null,83.567133232238902,{"$f":"I1095-#REF!","v":{"$error":"#REF!"}}]
["1°C","Yarra Yalley",{"$error":"#REF!"},{"$error":"#REF!"},79.0239349195203,{"$f":"E1096-#REF!","v":{"$error":"#REF!"}},null,null,81.074395179149406,{"$f":"I1096-#REF!","v":{"$error":"#REF!"}}]
["1°C","Yarra Yalley",{"$error":"#REF!"},{"$error":"#REF!"},81.763936124253206,{"$f":"E1097-#REF!","v":{"$error":"#REF!"}},null,null,83.389157946873596,{"$f":"I1097-#REF!","v":{"$error":"#REF!"}}]
["1°C","Yarra Yalley",{"$error":"#REF!"},{"$error":"#REF!"},74.927074870892199,{"$f":"E1098-#REF!","v":{"$error":"#REF!"}},null,null,78.688590711441506,{"$f":"I1098-#REF!","v":{"$error":"#REF!"}}]
["1°C","Yarra Yalley",{"$error":"#REF!"},{"$error":"#REF!"},76.6095412349366,{"$f":"E1099-#REF!","v":{"$error":"#REF!"}},null,null,78.329749126145501,{"$f":"I1099-#REF!","v":{"$error":"#REF!"}}]
["1°C","Yarra Yalley",{"$error":"#REF!"},{"$error":"#REF!"},83.979938270562101,{"$f":"E1100-#REF!","v":{"$error":"#REF!"}},null,null,87.121485733672799,{"$f":"I1100-#REF!","v":{"$error":"#REF!"}}]
["1°C","Yarra Yalley",{"$error":"#REF!"},{"$error":"#REF!"},75.952631886052103,{"$f":"E1101-#REF!","v":{"$error":"#REF!"}},null,null,77.8194949874933,{"$f":"I1101-#REF!","v":{"$error":"#REF!"}}]
["1°C","Yarra Yalley",{"$error":"#REF!"},{"$error":"#REF!"},83.0394639915705,{"$f":"E1102-#REF!","v":{"$error":"#REF!"}},null,null,84.140891124958003,{"$f":"I1102-#REF!","v":{"$error":"#REF!"}}]
["1°C","Yarra Yalley",{"$error":"#REF!"},{"$error":"#REF!"},73.901367350046698,{"$f":"E1103-#REF!","v":{"$error":"#REF!"}},null,null,78.229449326109005,{"$f":"I1103-#REF!","v":{"$error":"#REF!"}}]
["1°C","Yarra Yalley",{"$error":"#REF!"},{"$error":"#REF!"},82.520266833547595,{"$f":"E1104-#REF!","v":{"$error":"#REF!"}},null,null,85.274608833032204,{"$f":"I1104-#REF!","v":{"$error":"#REF!"}}]
["1°C","Yarra Yalley",{"$error":"#REF!"},{"$error":"#REF!"},80.985198368518596,{"$f":"E1105-#REF!","v":{"$error":"#REF!"}},null,null,82.0187492014485,{"$f":"I1105-#REF!","v":{"$error":"#REF!"}}]
["1°C","Yarra Yalley",{"$error":"#REF!"},{"$error":"#REF!"},81.697281876024903,{"$f":"E1106-#REF!","v":{"$error":"#REF!"}},null,null,85.693555872214304,{"$f":"I1106-#REF!","v":{"$error":"#REF!"}}]
["1°C","Yarra Yalley",{"$error":"#REF!"},{"$error":"#REF!"},79.640729707477504,{"$f":"E1107-#REF!","v":{"$error":"#REF!"}},null,null,84.444989395386102,{"$f":"I1107-#REF!","v":{"$error":"#REF!"}}]
["1°C","Yarra Yalley",{"$error":"#REF!"},{"$error":"#REF!"},75.96724020117,{"$f":"E1108-#REF!","v":{"$error":"#REF!"}},null,null,77.014875150380405,{"$f":"I1108-#REF!","v":{"$error":"#REF!"}}]
["1°C","Yarra Yalley",{"$error":"#REF!"},{"$error":"#REF!"},78.881448142985406,{"$f":"E1109-#REF!","v":{"$error":"#REF!"}},null,null,82.363768610735093,{"$f":"I1109-#REF!","v":{"$error":"#REF!"}}]
["1°C","Yarra Yalley",{"$error":"#REF!"},{"$error":"#REF!"},78.285867087060794,{"$f":"E1110-#REF!","v":{"$error":"#REF!"}},null,null,79.487010715407195,{"$f":"I1110-#REF!","v":{"$error":"#REF!"}}]
["1°C","Yarra Yalley",{"$error":"#REF!"},{"$error":"#REF!"},78.549598589803395,{"$f":"E1111-#REF!","v":{"$error":"#REF!"}},null,null,80.582060502807906,{"$f":"I1111-#REF!","v":{"$error":"#REF!"}}]
["1°C","Yarra Yalley",{"$error":"#REF!"},{"$error":"#REF!"},78.778037384472,{"$f":"E1112-#REF!","v":{"$error":"#REF!"}},null,null,80.329885901843795,{"$f":"I1112-#REF!","v":{"$error":"#REF!"}}]
["1°C","Yarra Yalley",{"$error":"#REF!"},{"$error":"#REF!"},78.270281779290002,{"$f":"E1113-#REF!","v":{"$error":"#REF!"}},null,null,80.380732641233706,{"$f":"I1113-#REF!","v":{"$error":"#REF!"}}]
["1°C","Yarra Yalley",{"$error":"#REF!"},{"$error":"#REF!"},74.469699248177307,{"$f":"E1114-#REF!","v":{"$error":"#REF!"}},null,null,78.615323814151594,{"$f":"I1114-#REF!","v":{"$error":"#REF!"}}]
["1°C","Yarra Yalley",{"$error":"#REF!"},{"$error":"#REF!"},80.811328834659506,{"$f":"E1115-#REF!","v":{"$error":"#REF!"}},null,null,85.1132533857742,{"$f":"I1115-#REF!","v":{"$error":"#REF!"}}]
["1°C","Yarra Yalley",{"$error":"#REF!"},{"$error":"#REF!"},78.008164550377202,{"$f":"E1116-#REF!","v":{"$error":"#REF!"}},null,null,80.683720320669593,{"$f":"I1116-#REF!","v":{"$error":"#REF!"}}]
["1°C","Yarra Yalley",{"$error":"#REF!"},{"$error":"#REF!"},77.648662886884793,{"$f":"E1117-#REF!","v":{"$error":"#REF!"}},null,null,78.915951586226399,{"$f":"I1117-#REF!","v":{"$error":"#REF!"}}]
["1°C","Yarra Yalley",{"$error":"#REF!"},{"$error":"#REF!"},76.764193358644903,{"$f":"E1118-#REF!","v":{"$error":"#REF!"}},null,null,78.150322352845194,{"$f":"I1118-#REF!","v":{"$error":"#REF!"}}]
["1°C","Yarra Yalley",{"$error":"#REF!"},{"$error":"#REF!"},77.364172740690194,{"$f":"E1119-#REF!","v":{"$error":"#REF!"}},null,null,80.491365258804606,{"$f":"I1119-#REF!","v":{"$error":"#REF!"}}]
["1°C","Yarra Yalley",{"$error":"#REF!"},{"$error":"#REF!"},81.918532315563496,{"$f":"E1120-#REF!","v":{"$error":"#REF!"}},null,null,82.754344920554701,{"$f":"I1120-#REF!","v":{"$error":"#REF!"}}]
["1°C","Yarra Yalley",{"$error":"#REF!"},{"$error":"#REF!"},79.393882139698206,{"$f":"E1121-#REF!","v":{"$error":"#REF!"}},null,null,81.110573035111699,{"$f":"I1121-#REF!","v":{"$error":"#REF!"}}]
["1°C","Yarra Yalley",{"$error":"#REF!"},{"$error":"#REF!"},75.192361464879994,{"$f":"E1122-#REF!","v":{"$error":"#REF!"}},null,null,76.966985907735406,{"$f":"I1122-#REF!","v":{"$error":"#REF!"}}]
["1°C","Yarra Yalley",{"$error":"#REF!"},{"$error":"#REF!"},85.246809153039806,{"$f":"E1123-#REF!","v":{"$error":"#REF!"}},null,null,86.755548421974396,{"$f":"I1123-#REF!","v":{"$error":"#REF!"}}]
["1°C","Yarra Yalley",{"$error":"#REF!"},{"$error":"#REF!"},82.303152786380195,{"$f":"E1124-#REF!","v":{"$error":"#REF!"}},null,null,84.114351260863003,{"$f":"I1124-#REF!","v":{"$error":"#REF!"}}]
["1°C","Yarra Yalley",{"$error":"#REF!"},{"$error":"#REF!"},77.947365661577294,{"$f":"E1125-#REF!","v":{"$error":"#REF!"}},null,null,79.898918643885807,{"$f":"I1125-#REF!","v":{"$error":"#REF!"}}]
["1°C","Yarra Yalley",{"$error":"#REF!"},{"$error":"#REF!"},82.983802416326796,{"$f":"E1126-#REF!","v":{"$error":"#REF!"}},null,null,84.6270582562382,{"$f":"I1126-#REF!","v":{"$error":"#REF!"}}]
["1°C","Yarra Yalley",{"$error":"#REF!"},{"$error":"#REF!"},72.262355568444207,{"$f":"E1127-#REF!","v":{"$error":"#REF!"}},null,null,75.160269992124896,{"$f":"I1127-#REF!","v":{"$error":"#REF!"}}]
["1°C","Yarra Yalley",{"$error":"#REF!"},{"$error":"#REF!"},79.9268900453349,{"$f":"E1128-#REF!","v":{"$error":"#REF!"}},null,null,84.605898973165097,{"$f":"I1128-#REF!","v":{"$error":"#REF!"}}]
["1°C","Yarra Yalley",{"$error":"#REF!"},{"$error":"#REF!"},82.464219231757795,{"$f":"E1129-#REF!","v":{"$error":"#REF!"}},null,null,83.773907960550602,{"$f":"I1129-#REF!","v":{"$error":"#REF!"}}]
["1°C","Yarra Yalley",{"$error":"#REF!"},{"$error":"#REF!"},77.040456572657405,{"$f":"E1130-#REF!","v":{"$error":"#REF!"}},null,null,81.486508504043698,{"$f":"I1130-#REF!","v":{"$error":"#REF!"}}]
["1°C","Yarra Yalley",{"$error":"#REF!"},{"$error":"#REF!"},81.323688216030604,{"$f":"E1131-#REF!","v":{"$error":"#REF!"}},null,null,85.336810689654001,{"$f":"I1131-#REF!","v":{"$error":"#REF!"}}]
["1°C","Yarra Yalley",{"$error":"#REF!"},{"$error":"#REF!"},81.697628031751506,{"$f":"E1132-#REF!","v":{"$error":"#REF!"}},null,null,84.812538192617794,{"$f":"I1132-#REF!","v":{"$error":"#REF!"}}]
["1°C","Yarra Yalley",{"$error":"#REF!"},{"$error":"#REF!"},77.968216803310099,{"$f":"E1133-#REF!","v":{"$error":"#REF!"}},null,null,79.692288582124604,{"$f":"I1133-#REF!","v":{"$error":"#REF!"}}]
["1°C","Yarra Yalley",{"$error":"#REF!"},{"$error":"#REF!"},77.2204507983962,{"$f":"E1134-#REF!","v":{"$error":"#REF!"}},null,null,79.152562286091495,{"$f":"I1134-#REF!","v":{"$error":"#REF!"}}]
["1°C","Yarra Yalley",{"$error":"#REF!"},{"$error":"#REF!"},78.318132847646794,{"$f":"E1135-#REF!","v":{"$error":"#REF!"}},null,null,81.971996264357301,{"$f":"I1135-#REF!","v":{"$error":"#REF!"}}]
["1°C","Yarra Yalley",{"$error":"#REF!"},{"$error":"#REF!"},84.485472260367999,{"$f":"E1136-#REF!","v":{"$error":"#REF!"}},null,null,82.540418395476294,{"$f":"I1136-#REF!","v":{"$error":"#REF!"}}]
["1°C","Yarra Yalley",{"$error":"#REF!"},{"$error":"#REF!"},72.868576352430395,{"$f":"E1137-#REF!","v":{"$error":"#REF!"}},null,null,77.180445605224904,{"$f":"I1137-#REF!","v":{"$error":"#REF!"}}]
["1°C","Yarra Yalley",{"$error":"#REF!"},{"$error":"#REF!"},79.903711228256299,{"$f":"E1138-#REF!","v":{"$error":"#REF!"}},null,null,81.530577113814203,{"$f":"I1138-#REF!","v":{"$error":"#REF!"}}]
["1°C","Yarra Yalley",{"$error":"#REF!"},{"$error":"#REF!"},79.031416641627999,{"$f":"E1139-#REF!","v":{"$error":"#REF!"}},null,null,81.390900034748796,{"$f":"I1139-#REF!","v":{"$error":"#REF!"}}]
["1°C","Yarra Yalley",{"$error":"#REF!"},{"$error":"#REF!"},85.534086895435195,{"$f":"E1140-#REF!","v":{"$error":"#REF!"}},null,null,89.423230518433996,{"$f":"I1140-#REF!","v":{"$error":"#REF!"}}]
["1°C","Yarra Yalley",{"$error":"#REF!"},{"$error":"#REF!"},77.963386612568797,{"$f":"E1141-#REF!","v":{"$error":"#REF!"}},null,null,83.134338581544,{"$f":"I1141-#REF!","v":{"$error":"#REF!"}}]
["1°C","Yarra Yalley",{"$error":"#REF!"},{"$error":"#REF!"},79.548191255038006,{"$f":"E1142-#REF!","v":{"$error":"#REF!"}},null,null,81.813899278326403,{"$f":"I1142-#REF!","v":{"$error":"#REF!"}}]
["1°C","Yarra Yalley",{"$error":"#REF!"},{"$error":"#REF!"},78.328959115133202,{"$f":"E1143-#REF!","v":{"$error":"#REF!"}},null,null,79.648967298338803,{"$f":"I1143-#REF!","v":{"$error":"#REF!"}}]
["1°C","Yarra Yalley",{"$error":"#REF!"},{"$error":"#REF!"},80.7520278733693,{"$f":"E1144-#REF!","v":{"$error":"#REF!"}},null,null,83.682347214312998,{"$f":"I1144-#REF!","v":{"$error":"#REF!"}}]
["1°C","Yarra Yalley",{"$error":"#REF!"},{"$error":"#REF!"},75.186106005528302,{"$f":"E1145-#REF!","v":{"$error":"#REF!"}},null,null,79.452074495022103,{"$f":"I1145-#REF!","v":{"$error":"#REF!"}}]
["1°C","Yarra Yalley",{"$error":"#REF!"},{"$error":"#REF!"},80.851550525603898,{"$f":"E1146-#REF!","v":{"$error":"#REF!"}},null,null,82.996078017775801,{"$f":"I1146-#REF!","v":{"$error":"#REF!"}}]
["1°C","Yarra Yalley",{"$error":"#REF!"},{"$error":"#REF!"},77.0248213336954,{"$f":"E1147-#REF!","v":{"$error":"#REF!"}},null,null,80.956704881980997,{"$f":"I1147-#REF!","v":{"$error":"#REF!"}}]
["1°C","Yarra Yalley",{"$error":"#REF!"},{"$error":"#REF!"},84.102572703592898,{"$f":"E1148-#REF!","v":{"$error":"#REF!"}},null,null,85.667736854194303,{"$f":"I1148-#REF!","v":{"$error":"#REF!"}}]
["1°C","Yarra Yalley",{"$error":"#REF!"},{"$error":"#REF!"},76.480494113161399,{"$f":"E1149-#REF!","v":{"$error":"#REF!"}},null,null,80.419208415713001,{"$f":"I1149-#REF!","v":{"$error":"#REF!"}}]
["1°C","Yarra Yalley",{"$error":"#REF!"},{"$error":"#REF!"},82.750150957941798,{"$f":"E1150-#REF!","v":{"$error":"#REF!"}},null,null,85.666257935189194,{"$f":"I1150-#REF!","v":{"$error":"#REF!"}}]
["1°C","Yarra Yalley",{"$error":"#REF!"},{"$error":"#REF!"},86.7257192866184,{"$f":"E1151-#REF!","v":{"$error":"#REF!"}},null,null,86.605665677568695,{"$f":"I1151-#REF!","v":{"$error":"#REF!"}}]
["1°C","Yarra Yalley",{"$error":"#REF!"},{"$error":"#REF!"},77.537311281723206,{"$f":"E1152-#REF!","v":{"$error":"#REF!"}},null,null,77.9599344123002,{"$f":"I1152-#REF!","v":{"$error":"#REF!"}}]
["1°C","Yarra Yalley",{"$error":"#REF!"},{"$error":"#REF!"},80.968731031902806,{"$f":"E1153-#REF!","v":{"$error":"#REF!"}},null,null,84.277395870480106,{"$f":"I1153-#REF!","v":{"$error":"#REF!"}}]
["1°C","Yarra Yalley",{"$f":"IF(F1154>0,1,0)/99","v":{"$error":"#REF!"}},{"$f":"IF(J1154>0,1,0)/99","v":{"$error":"#REF!"}},79.178151203755405,{"$f":"E1154-#REF!","v":{"$error":"#REF!"}},null,null,81.146551593132401,{"$f":"I1154-#REF!","v":{"$error":"#REF!"}}]
["1°C","Yarra Yalley",{"$error":"#REF!"},{"$error":"#REF!"},76.6550169116408,{"$f":"E1155-#REF!","v":{"$error":"#REF!"}},null,null,80.436700306921495,{"$f":"I1155-#REF!","v":{"$error":"#REF!"}}]
["1°C","Yarra Yalley",{"$error":"#REF!"},{"$error":"#REF!"},83.570167627707406,{"$f":"E1156-#REF!","v":{"$error":"#REF!"}},null,null,85.139487667252695,{"$f":"I1156-#REF!","v":{"$error":"#REF!"}}]
["1°C","Yarra Yalley",{"$error":"#REF!"},{"$error":"#REF!"},79.793952325824407,{"$f":"E1157-#REF!","v":{"$error":"#REF!"}},null,null,84.018450524790893,{"$f":"I1157-#REF!","v":{"$error":"#REF!"}}]
["1°C","Yarra Yalley",{"$error":"#REF!"},{"$error":"#REF!"},79.715150061600298,{"$f":"E1158-#REF!","v":{"$error":"#REF!"}},null,null,81.956096579821207,{"$f":"I1158-#REF!","v":{"$error":"#REF!"}}]
["1°C","Yarra Yalley",{"$error":"#REF!"},{"$error":"#REF!"},86.052847014527202,{"$f":"E1159-#REF!","v":{"$error":"#REF!"}},null,null,88.452446751890193,{"$f":"I1159-#REF!","v":{"$error":"#REF!"}}]
["1°C","Yarra Yalley",{"$error":"#REF!"},{"$error":"#REF!"},77.293868259497998,{"$f":"E1160-#REF!","v":{"$error":"#REF!"}},null,null,79.261394834510995,{"$f":"I1160-#REF!","v":{"$error":"#REF!"}}]
["1°C","Yarra Yalley",{"$error":"#REF!"},{"$error":"#REF!"},82.171090198998101,{"$f":"E1161-#REF!","v":{"$error":"#REF!"}},null,null,85.396338889261699,{"$f":"I1161-#REF!","v":{"$error":"#REF!"}}]
["1°C","Yarra Yalley",{"$error":"#REF!"},{"$error":"#REF!"},79.422612862376894,{"$f":"E1162-#REF!","v":{"$error":"#REF!"}},null,null,80.664401396350797,{"$f":"I1162-#REF!","v":{"$error":"#REF!"}}]
["1°C","Yarra Yalley",{"$error":"#REF!"},{"$error":"#REF!"},78.495424690610307,{"$f":"E1163-#REF!","v":{"$error":"#REF!"}},null,null,82.474697873760505,{"$f":"I1163-#REF!","v":{"$error":"#REF!"}}]
["1°C","Yarra Yalley",{"$error":"#REF!"},{"$error":"#REF!"},82.551500230042606,{"$f":"E1164-#REF!","v":{"$error":"#REF!"}},null,null,85.096173180000406,{"$f":"I1164-#REF!","v":{"$error":"#REF!"}}]
["1°C","Yarra Yalley",{"$error":"#REF!"},{"$error":"#REF!"},81.5748121436026,{"$f":"E1165-#REF!","v":{"$error":"#REF!"}},null,null,83.121882504898295,{"$f":"I1165-#REF!","v":{"$error":"#REF!"}}]
["1°C","Yarra Yalley",{"$error":"#REF!"},{"$error":"#REF!"},84.614748891524599,{"$f":"E1166-#REF!","v":{"$error":"#REF!"}},null,null,86.684599043481796,{"$f":"I1166-#REF!","v":{"$error":"#REF!"}}]
["1°C","Yarra Yalley",{"$error":"#REF!"},{"$error":"#REF!"},79.4478580365694,{"$f":"E1167-#REF!","v":{"$error":"#REF!"}},null,null,82.322984731978593,{"$f":"I1167-#REF!","v":{"$error":"#REF!"}}]
["1°C","Yarra Yalley",{"$error":"#REF!"},{"$error":"#REF!"},73.9451835782926,{"$f":"E1168-#REF!","v":{"$error":"#REF!"}},null,null,77.426275775960505,{"$f":"I1168-#REF!","v":{"$error":"#REF!"}}]
["1°C","Yarra Yalley",{"$error":"#REF!"},{"$error":"#REF!"},80.815902320250999,{"$f":"E1169-#REF!","v":{"$error":"#REF!"}},null,null,81.448681041823306,{"$f":"I1169-#REF!","v":{"$error":"#REF!"}}]
["1°C","Yarra Yalley",{"$error":"#REF!"},{"$error":"#REF!"},80.426869815772307,{"$f":"E1170-#REF!","v":{"$error":"#REF!"}},null,null,82.491461657597796,{"$f":"I1170-#REF!","v":{"$error":"#REF!"}}]
["1°C","Yarra Yalley",{"$error":"#REF!"},{"$error":"#REF!"},83.047821094629796,{"$f":"E1171-#REF!","v":{"$error":"#REF!"}},null,null,83.770692239842703,{"$f":"I1171-#REF!","v":{"$error":"#REF!"}}]
["1°C","Yarra Yalley",{"$error":"#REF!"},{"$error":"#REF!"},84.523072287534106,{"$f":"E1172-#REF!","v":{"$error":"#REF!"}},null,null,85.355916946340002,{"$f":"I1172-#REF!","v":{"$error":"#REF!"}}]
["1°C","Yarra Yalley",{"$error":"#REF!"},{"$error":"#REF!"},79.259617491534598,{"$f":"E1173-#REF!","v":{"$error":"#REF!"}},null,null,82.797830587804995,{"$f":"I1173-#REF!","v":{"$error":"#REF!"}}]
["1°C","Yarra Yalley",{"$error":"#REF!"},{"$error":"#REF!"},82.712001546821995,{"$f":"E1174-#REF!","v":{"$error":"#REF!"}},null,null,86.670621353640797,{"$f":"I1174-#REF!","v":{"$error":"#REF!"}}]
["1°C","Yarra Yalley",{"$error":"#REF!"},{"$error":"#REF!"},78.602895424299206,{"$f":"E1175-#REF!","v":{"$error":"#REF!"}},null,null,80.443195823840199,{"$f":"I1175-#REF!","v":{"$error":"#REF!"}}]
["1°C","Yarra Yalley",{"$error":"#REF!"},{"$error":"#REF!"},81.926855289188296,{"$f":"E1176-#REF!","v":{"$error":"#REF!"}},null,null,83.909763558956499,{"$f":"I1176-#REF!","v":{"$error":"#REF!"}}]
["1°C","Yarra Yalley",{"$error":"#REF!"},{"$error":"#REF!"},82.318416126342598,{"$f":"E1177-#REF!","v":{"$error":"#REF!"}},null,null,84.169827856572297,{"$f":"I1177-#REF!","v":{"$error":"#REF!"}}]
["1°C","Yarra Yalley",{"$error":"#REF!"},{"$error":"#REF!"},76.891730905281094,{"$f":"E1178-#REF!","v":{"$error":"#REF!"}},null,null,82.047336176086503,{"$f":"I1178-#REF!","v":{"$error":"#REF!"}}]
["1°C","Yarra Yalley",{"$error":"#REF!"},{"$error":"#REF!"},71.530396119448497,{"$f":"E1179-#REF!","v":{"$error":"#REF!"}},null,null,76.082066912755593,{"$f":"I1179-#REF!","v":{"$error":"#REF!"}}]
["1°C","Yarra Yalley",{"$error":"#REF!"},{"$error":"#REF!"},81.914110338742006,{"$f":"E1180-#REF!","v":{"$error":"#REF!"}},null,null,86.534688467455894,{"$f":"I1180-#REF!","v":{"$error":"#REF!"}}]
["1°C","Yarra Yalley",{"$error":"#REF!"},{"$error":"#REF!"},78.190649723755399,{"$f":"E1181-#REF!","v":{"$error":"#REF!"}},null,null,82.997601150415406,{"$f":"I1181-#REF!","v":{"$error":"#REF!"}}]
["1°C","Yarra Yalley",{"$error":"#REF!"},{"$error":"#REF!"},75.260854872913995,{"$f":"E1182-#REF!","v":{"$error":"#REF!"}},null,null,78.073954783026394,{"$f":"I1182-#REF!","v":{"$error":"#REF!"}}]
["1°C","Yarra Yalley",{"$error":"#REF!"},{"$error":"#REF!"},77.1112460369866,{"$f":"E1183-#REF!","v":{"$error":"#REF!"}},null,null,78.978767632083404,{"$f":"I1183-#REF!","v":{"$error":"#REF!"}}]
["1°C","Yarra Yalley",{"$error":"#REF!"},{"$error":"#REF!"},83.921357822237695,{"$f":"E1184-#REF!","v":{"$error":"#REF!"}},null,null,85.206036495062094,{"$f":"I1184-#REF!","v":{"$error":"#REF!"}}]
["1°C","Yarra Yalley",{"$error":"#REF!"},{"$error":"#REF!"},76.010721640212907,{"$f":"E1185-#REF!","v":{"$error":"#REF!"}},null,null,77.257911321385706,{"$f":"I1185-#REF!","v":{"$error":"#REF!"}}]
["1°C","Yarra Yalley",{"$error":"#REF!"},{"$error":"#REF!"},84.0216020092505,{"$f":"E1186-#REF!","v":{"$error":"#REF!"}},null,null,84.788534963304002,{"$f":"I1186-#REF!","v":{"$error":"#REF!"}}]
["1°C","Yarra Yalley",{"$error":"#REF!"},{"$error":"#REF!"},69.543730446473404,{"$f":"E1187-#REF!","v":{"$error":"#REF!"}},null,null,71.653826585299399,{"$f":"I1187-#REF!","v":{"$error":"#REF!"}}]
["1°C","Yarra Yalley",{"$error":"#REF!"},{"$error":"#REF!"},82.934930273165406,{"$f":"E1188-#REF!","v":{"$error":"#REF!"}},null,null,85.086082546355797,{"$f":"I1188-#REF!","v":{"$error":"#REF!"}}]
["1°C","Yarra Yalley",{"$error":"#REF!"},{"$error":"#REF!"},75.546870169917497,{"$f":"E1189-#REF!","v":{"$error":"#REF!"}},null,null,81.206293050552006,{"$f":"I1189-#REF!","v":{"$error":"#REF!"}}]
["2°C","Huonville",{"$error":"#REF!"},{"$error":"#REF!"},79.237353198436693,{"$f":"E1190-#REF!","v":{"$error":"#REF!"}},null,null,83.717358612856998,{"$f":"I1190-#REF!","v":{"$error":"#REF!"}}]
["2°C","Huonville",{"$error":"#REF!"},{"$error":"#REF!"},81.036509643776995,{"$f":"E1191-#REF!","v":{"$error":"#REF!"}},null,null,84.865969187886506,{"$f":"I1191-#REF!","v":{"$error":"#REF!"}}]
["2°C","Huonville",{"$error":"#REF!"},{"$error":"#REF!"},80.435818736101993,{"$f":"E1192-#REF!","v":{"$error":"#REF!"}},null,null,83.251878883212598,{"$f":"I1192-#REF!","v":{"$error":"#REF!"}}]
["2°C","Huonville",{"$error":"#REF!"},{"$error":"#REF!"},78.081612781796395,{"$f":"E1193-#REF!","v":{"$error":"#REF!"}},null,null,83.416427705300094,{"$f":"I1193-#REF!","v":{"$error":"#REF!"}}]
["2°C","Huonville",{"$error":"#REF!"},{"$error":"#REF!"},81.593082955534499,{"$f":"E1194-#REF!","v":{"$error":"#REF!"}},null,null,85.6724288888106,{"$f":"I1194-#REF!","v":{"$error":"#REF!"}}]
["2°C","Huonville",{"$error":"#REF!"},{"$error":"#REF!"},81.542521662845502,{"$f":"E1195-#REF!","v":{"$error":"#REF!"}},null,null,84.301567623536101,{"$f":"I1195-#REF!","v":{"$error":"#REF!"}}]
["2°C","Huonville",{"$error":"#REF!"},{"$error":"#REF!"},79.355783365874899,{"$f":"E1196-#REF!","v":{"$error":"#REF!"}},null,null,84.627654736321901,{"$f":"I1196-#REF!","v":{"$error":"#REF!"}}]
["2°C","Huonville",{"$error":"#REF!"},{"$error":"#REF!"},76.361898938689507,{"$f":"E1197-#REF!","v":{"$error":"#REF!"}},null,null,80.567140637693598,{"$f":"I1197-#REF!","v":{"$error":"#REF!"}}]
["2°C","Huonville",{"$error":"#REF!"},{"$error":"#REF!"},80.181739806967798,{"$f":"E1198-#REF!","v":{"$error":"#REF!"}},null,null,81.311406115443205,{"$f":"I1198-#REF!","v":{"$error":"#REF!"}}]
["2°C","Huonville",{"$error":"#REF!"},{"$error":"#REF!"},79.885942053086197,{"$f":"E1199-#REF!","v":{"$error":"#REF!"}},null,null,83.613036624563804,{"$f":"I1199-#REF!","v":{"$error":"#REF!"}}]
["2°C","Huonville",{"$error":"#REF!"},{"$error":"#REF!"},73.736202151789399,{"$f":"E1200-#REF!","v":{"$error":"#REF!"}},null,null,80.201183546764995,{"$f":"I1200-#REF!","v":{"$error":"#REF!"}}]
["2°C","Huonville",{"$error":"#REF!"},{"$error":"#REF!"},79.116642701869694,{"$f":"E1201-#REF!","v":{"$error":"#REF!"}},null,null,84.518955098449197,{"$f":"I1201-#REF!","v":{"$error":"#REF!"}}]
["2°C","Huonville",{"$error":"#REF!"},{"$error":"#REF!"},79.730681874297204,{"$f":"E1202-#REF!","v":{"$error":"#REF!"}},null,null,82.563830374445899,{"$f":"I1202-#REF!","v":{"$error":"#REF!"}}]
["2°C","Huonville",{"$error":"#REF!"},{"$error":"#REF!"},80.275524736403497,{"$f":"E1203-#REF!","v":{"$error":"#REF!"}},null,null,84.771388032712395,{"$f":"I1203-#REF!","v":{"$error":"#REF!"}}]
["2°C","Huonville",{"$error":"#REF!"},{"$error":"#REF!"},84.737219226451401,{"$f":"E1204-#REF!","v":{"$error":"#REF!"}},null,null,86.939593870603602,{"$f":"I1204-#REF!","v":{"$error":"#REF!"}}]
["2°C","Huonville",{"$error":"#REF!"},{"$error":"#REF!"},80.112823698226606,{"$f":"E1205-#REF!","v":{"$error":"#REF!"}},null,null,84.437717488301899,{"$f":"I1205-#REF!","v":{"$error":"#REF!"}}]
["2°C","Huonville",{"$error":"#REF!"},{"$error":"#REF!"},83.153554474830401,{"$f":"E1206-#REF!","v":{"$error":"#REF!"}},null,null,86.163658140778494,{"$f":"I1206-#REF!","v":{"$error":"#REF!"}}]
["2°C","Huonville",{"$error":"#REF!"},{"$error":"#REF!"},78.155472985082795,{"$f":"E1207-#REF!","v":{"$error":"#REF!"}},null,null,80.992441375325001,{"$f":"I1207-#REF!","v":{"$error":"#REF!"}}]
["2°C","Huonville",{"$error":"#REF!"},{"$error":"#REF!"},80.127794681548394,{"$f":"E1208-#REF!","v":{"$error":"#REF!"}},null,null,84.848332956556803,{"$f":"I1208-#REF!","v":{"$error":"#REF!"}}]
["2°C","Huonville",{"$error":"#REF!"},{"$error":"#REF!"},79.801116098135395,{"$f":"E1209-#REF!","v":{"$error":"#REF!"}},null,null,81.529468656162706,{"$f":"I1209-#REF!","v":{"$error":"#REF!"}}]
["2°C","Huonville",{"$error":"#REF!"},{"$error":"#REF!"},77.859772231603401,{"$f":"E1210-#REF!","v":{"$error":"#REF!"}},null,null,82.127405586704498,{"$f":"I1210-#REF!","v":{"$error":"#REF!"}}]
["2°C","Huonville",{"$error":"#REF!"},{"$error":"#REF!"},78.617551027340895,{"$f":"E1211-#REF!","v":{"$error":"#REF!"}},null,null,81.811323516616397,{"$f":"I1211-#REF!","v":{"$error":"#REF!"}}]
["2°C","Huonville",{"$error":"#REF!"},{"$error":"#REF!"},84.004488811554197,{"$f":"E1212-#REF!","v":{"$error":"#REF!"}},null,null,87.064585009205302,{"$f":"I1212-#REF!","v":{"$error":"#REF!"}}]
["2°C","Huonville",{"$error":"#REF!"},{"$error":"#REF!"},74.885270474678293,{"$f":"E1213-#REF!","v":{"$error":"#REF!"}},null,null,82.412640760084699,{"$f":"I1213-#REF!","v":{"$error":"#REF!"}}]
["2°C","Huonville",{"$error":"#REF!"},{"$error":"#REF!"},83.134803038575996,{"$f":"E1214-#REF!","v":{"$error":"#REF!"}},null,null,85.507815021322799,{"$f":"I1214-#REF!","v":{"$error":"#REF!"}}]
["2°C","Huonville",{"$error":"#REF!"},{"$error":"#REF!"},83.381260272720098,{"$f":"E1215-#REF!","v":{"$error":"#REF!"}},null,null,85.349307580246901,{"$f":"I1215-#REF!","v":{"$error":"#REF!"}}]
["2°C","Huonville",{"$error":"#REF!"},{"$error":"#REF!"},80.898693477906306,{"$f":"E1216-#REF!","v":{"$error":"#REF!"}},null,null,83.354058421593706,{"$f":"I1216-#REF!","v":{"$error":"#REF!"}}]
["2°C","Huonville",{"$error":"#REF!"},{"$error":"#REF!"},79.855024616087803,{"$f":"E1217-#REF!","v":{"$error":"#REF!"}},null,null,84.251868966796195,{"$f":"I1217-#REF!","v":{"$error":"#REF!"}}]
["2°C","Huonville",{"$f":"IF(F1218>0,1,0)/99","v":{"$error":"#REF!"}},{"$f":"IF(J1218>0,1,0)/99","v":{"$error":"#REF!"}},75.522839345089693,{"$f":"E1218-#REF!","v":{"$error":"#REF!"}},null,null,81.155208387911998,{"$f":"I1218-#REF!","v":{"$error":"#REF!"}}]
["2°C","Huonville",{"$error":"#REF!"},{"$error":"#REF!"},78.003585285840899,{"$f":"E1219-#REF!","v":{"$error":"#REF!"}},null,null,82.128881942763101,{"$f":"I1219-#REF!","v":{"$error":"#REF!"}}]
["2°C","Huonville",{"$error":"#REF!"},{"$error":"#REF!"},77.866817724172094,{"$f":"E1220-#REF!","v":{"$error":"#REF!"}},null,null,82.180416894933998,{"$f":"I1220-#REF!","v":{"$error":"#REF!"}}]
["2°C","Huonville",{"$error":"#REF!"},{"$error":"#REF!"},83.803035959762497,{"$f":"E1221-#REF!","v":{"$error":"#REF!"}},null,null,85.055711853768003,{"$f":"I1221-#REF!","v":{"$error":"#REF!"}}]
["2°C","Huonville",{"$error":"#REF!"},{"$error":"#REF!"},82.9372072461112,{"$f":"E1222-#REF!","v":{"$error":"#REF!"}},null,null,85.786025945966898,{"$f":"I1222-#REF!","v":{"$error":"#REF!"}}]
["2°C","Huonville",{"$error":"#REF!"},{"$error":"#REF!"},82.524675062342197,{"$f":"E1223-#REF!","v":{"$error":"#REF!"}},null,null,85.740069609351707,{"$f":"I1223-#REF!","v":{"$error":"#REF!"}}]
["2°C","Huonville",{"$error":"#REF!"},{"$error":"#REF!"},83.357421390981301,{"$f":"E1224-#REF!","v":{"$error":"#REF!"}},null,null,85.602607158688301,{"$f":"I1224-#REF!","v":{"$error":"#REF!"}}]
["2°C","Huonville",{"$error":"#REF!"},{"$error":"#REF!"},84.646649135940706,{"$f":"E1225-#REF!","v":{"$error":"#REF!"}},null,null,86.599434560148694,{"$f":"I1225-#REF!","v":{"$error":"#REF!"}}]
["2°C","Huonville",{"$error":"#REF!"},{"$error":"#REF!"},75.874134974527905,{"$f":"E1226-#REF!","v":{"$error":"#REF!"}},null,null,80.054384704307694,{"$f":"I1226-#REF!","v":{"$error":"#REF!"}}]
["2°C","Huonville",{"$error":"#REF!"},{"$error":"#REF!"},80.333012619930599,{"$f":"E1227-#REF!","v":{"$error":"#REF!"}},null,null,82.606352103264697,{"$f":"I1227-#REF!","v":{"$error":"#REF!"}}]
["2°C","Huonville",{"$error":"#REF!"},{"$error":"#REF!"},79.132897432914106,{"$f":"E1228-#REF!","v":{"$error":"#REF!"}},null,null,84.157138494322496,{"$f":"I1228-#REF!","v":{"$error":"#REF!"}}]
["2°C","Huonville",{"$error":"#REF!"},{"$error":"#REF!"},80.168400482996304,{"$f":"E1229-#REF!","v":{"$error":"#REF!"}},null,null,84.899285951790404,{"$f":"I1229-#REF!","v":{"$error":"#REF!"}}]
["2°C","Huonville",{"$error":"#REF!"},{"$error":"#REF!"},81.322772245632393,{"$f":"E1230-#REF!","v":{"$error":"#REF!"}},null,null,84.200692817657298,{"$f":"I1230-#REF!","v":{"$error":"#REF!"}}]
["2°C","Huonville",{"$error":"#REF!"},{"$error":"#REF!"},81.416954186266395,{"$f":"E1231-#REF!","v":{"$error":"#REF!"}},null,null,85.964225168056004,{"$f":"I1231-#REF!","v":{"$error":"#REF!"}}]
["2°C","Huonville",{"$error":"#REF!"},{"$error":"#REF!"},80.714346538122498,{"$f":"E1232-#REF!","v":{"$error":"#REF!"}},null,null,85.545884806648999,{"$f":"I1232-#REF!","v":{"$error":"#REF!"}}]
["2°C","Huonville",{"$error":"#REF!"},{"$error":"#REF!"},77.394551099503801,{"$f":"E1233-#REF!","v":{"$error":"#REF!"}},null,null,82.070332302200299,{"$f":"I1233-#REF!","v":{"$error":"#REF!"}}]
["2°C","Huonville",{"$error":"#REF!"},{"$error":"#REF!"},84.261648792333702,{"$f":"E1234-#REF!","v":{"$error":"#REF!"}},null,null,88.018062989376304,{"$f":"I1234-#REF!","v":{"$error":"#REF!"}}]
["2°C","Huonville",{"$error":"#REF!"},{"$error":"#REF!"},80.004744919898897,{"$f":"E1235-#REF!","v":{"$error":"#REF!"}},null,null,87.718075408108405,{"$f":"I1235-#REF!","v":{"$error":"#REF!"}}]
["2°C","Huonville",{"$error":"#REF!"},{"$error":"#REF!"},76.057621679025004,{"$f":"E1236-#REF!","v":{"$error":"#REF!"}},null,null,81.761775214019593,{"$f":"I1236-#REF!","v":{"$error":"#REF!"}}]
["2°C","Huonville",{"$error":"#REF!"},{"$error":"#REF!"},82.009979897680793,{"$f":"E1237-#REF!","v":{"$error":"#REF!"}},null,null,85.261198783683298,{"$f":"I1237-#REF!","v":{"$error":"#REF!"}}]
["2°C","Huonville",{"$error":"#REF!"},{"$error":"#REF!"},79.117828928090404,{"$f":"E1238-#REF!","v":{"$error":"#REF!"}},null,null,83.381339089249806,{"$f":"I1238-#REF!","v":{"$error":"#REF!"}}]
["2°C","Huonville",{"$error":"#REF!"},{"$error":"#REF!"},81.900520032354393,{"$f":"E1239-#REF!","v":{"$error":"#REF!"}},null,null,85.897430994058496,{"$f":"I1239-#REF!","v":{"$error":"#REF!"}}]
["2°C","Huonville",{"$error":"#REF!"},{"$error":"#REF!"},81.071690176862504,{"$f":"E1240-#REF!","v":{"$error":"#REF!"}},null,null,82.355923735568496,{"$f":"I1240-#REF!","v":{"$error":"#REF!"}}]
["2°C","Huonville",{"$error":"#REF!"},{"$error":"#REF!"},79.745452808129599,{"$f":"E1241-#REF!","v":{"$error":"#REF!"}},null,null,84.870347610368697,{"$f":"I1241-#REF!","v":{"$error":"#REF!"}}]
["2°C","Huonville",{"$error":"#REF!"},{"$error":"#REF!"},88.2456018902203,{"$f":"E1242-#REF!","v":{"$error":"#REF!"}},null,null,89.687523406270202,{"$f":"I1242-#REF!","v":{"$error":"#REF!"}}]
["2°C","Huonville",{"$error":"#REF!"},{"$error":"#REF!"},82.547489554458593,{"$f":"E1243-#REF!","v":{"$error":"#REF!"}},null,null,85.214156239518303,{"$f":"I1243-#REF!","v":{"$error":"#REF!"}}]
["2°C","Huonville",{"$error":"#REF!"},{"$error":"#REF!"},76.9523198948188,{"$f":"E1244-#REF!","v":{"$error":"#REF!"}},null,null,82.502018156895005,{"$f":"I1244-#REF!","v":{"$error":"#REF!"}}]
["2°C","Huonville",{"$error":"#REF!"},{"$error":"#REF!"},83.585478010935404,{"$f":"E1245-#REF!","v":{"$error":"#REF!"}},null,null,84.755466935374699,{"$f":"I1245-#REF!","v":{"$error":"#REF!"}}]
["2°C","Huonville",{"$error":"#REF!"},{"$error":"#REF!"},76.232610977664606,{"$f":"E1246-#REF!","v":{"$error":"#REF!"}},null,null,82.627648003347701,{"$f":"I1246-#REF!","v":{"$error":"#REF!"}}]
["2°C","Huonville",{"$error":"#REF!"},{"$error":"#REF!"},85.668555554317905,{"$f":"E1247-#REF!","v":{"$error":"#REF!"}},null,null,87.760232653572999,{"$f":"I1247-#REF!","v":{"$error":"#REF!"}}]
["2°C","Huonville",{"$error":"#REF!"},{"$error":"#REF!"},76.911719533609897,{"$f":"E1248-#REF!","v":{"$error":"#REF!"}},null,null,81.2536367729126,{"$f":"I1248-#REF!","v":{"$error":"#REF!"}}]
["2°C","Huonville",{"$error":"#REF!"},{"$error":"#REF!"},83.721623624668297,{"$f":"E1249-#REF!","v":{"$error":"#REF!"}},null,null,87.290633710733402,{"$f":"I1249-#REF!","v":{"$error":"#REF!"}}]
["2°C","Huonville",{"$error":"#REF!"},{"$error":"#REF!"},86.244667073156094,{"$f":"E1250-#REF!","v":{"$error":"#REF!"}},null,null,89.094856826096404,{"$f":"I1250-#REF!","v":{"$error":"#REF!"}}]
["2°C","Huonville",{"$error":"#REF!"},{"$error":"#REF!"},76.629564609220097,{"$f":"E1251-#REF!","v":{"$error":"#REF!"}},null,null,81.011532322889806,{"$f":"I1251-#REF!","v":{"$error":"#REF!"}}]
["2°C","Huonville",{"$error":"#REF!"},{"$error":"#REF!"},78.223776555315993,{"$f":"E1252-#REF!","v":{"$error":"#REF!"}},null,null,83.609504832673807,{"$f":"I1252-#REF!","v":{"$error":"#REF!"}}]
["2°C","Huonville",{"$error":"#REF!"},{"$error":"#REF!"},82.13755941654,{"$f":"E1253-#REF!","v":{"$error":"#REF!"}},null,null,85.471841683920204,{"$f":"I1253-#REF!","v":{"$error":"#REF!"}}]
["2°C","Huonville",{"$error":"#REF!"},{"$error":"#REF!"},83.790818755921194,{"$f":"E1254-#REF!","v":{"$error":"#REF!"}},null,null,86.953655533627199,{"$f":"I1254-#REF!","v":{"$error":"#REF!"}}]
["2°C","Huonville",{"$error":"#REF!"},{"$error":"#REF!"},81.718828852195301,{"$f":"E1255-#REF!","v":{"$error":"#REF!"}},null,null,84.333053190564996,{"$f":"I1255-#REF!","v":{"$error":"#REF!"}}]
["2°C","Huonville",{"$error":"#REF!"},{"$error":"#REF!"},84.327876115712598,{"$f":"E1256-#REF!","v":{"$error":"#REF!"}},null,null,87.204765992108605,{"$f":"I1256-#REF!","v":{"$error":"#REF!"}}]
["2°C","Huonville",{"$error":"#REF!"},{"$error":"#REF!"},79.204228162877399,{"$f":"E1257-#REF!","v":{"$error":"#REF!"}},null,null,84.183802227539303,{"$f":"I1257-#REF!","v":{"$error":"#REF!"}}]
["2°C","Huonville",{"$error":"#REF!"},{"$error":"#REF!"},82.068478889134298,{"$f":"E1258-#REF!","v":{"$error":"#REF!"}},null,null,84.502649402354294,{"$f":"I1258-#REF!","v":{"$error":"#REF!"}}]
["2°C","Huonville",{"$error":"#REF!"},{"$error":"#REF!"},71.798743679480097,{"$f":"E1259-#REF!","v":{"$error":"#REF!"}},null,null,75.601798720402201,{"$f":"I1259-#REF!","v":{"$error":"#REF!"}}]
["2°C","Huonville",{"$error":"#REF!"},{"$error":"#REF!"},81.305805236035198,{"$f":"E1260-#REF!","v":{"$error":"#REF!"}},null,null,86.019919599626505,{"$f":"I1260-#REF!","v":{"$error":"#REF!"}}]
["2°C","Huonville",{"$error":"#REF!"},{"$error":"#REF!"},77.268416785165797,{"$f":"E1261-#REF!","v":{"$error":"#REF!"}},null,null,82.958516855037701,{"$f":"I1261-#REF!","v":{"$error":"#REF!"}}]
["2°C","Huonville",{"$error":"#REF!"},{"$error":"#REF!"},78.395081416532406,{"$f":"E1262-#REF!","v":{"$error":"#REF!"}},null,null,81.071043625772703,{"$f":"I1262-#REF!","v":{"$error":"#REF!"}}]
["2°C","Huonville",{"$error":"#REF!"},{"$error":"#REF!"},83.766499450905499,{"$f":"E1263-#REF!","v":{"$error":"#REF!"}},null,null,88.236387576278503,{"$f":"I1263-#REF!","v":{"$error":"#REF!"}}]
["2°C","Huonville",{"$error":"#REF!"},{"$error":"#REF!"},79.296104823126996,{"$f":"E1264-#REF!","v":{"$error":"#REF!"}},null,null,83.813146604066205,{"$f":"I1264-#REF!","v":{"$error":"#REF!"}}]
["2°C","Huonville",{"$error":"#REF!"},{"$error":"#REF!"},82.320331283346803,{"$f":"E1265-#REF!","v":{"$error":"#REF!"}},null,null,86.588854152097497,{"$f":"I1265-#REF!","v":{"$error":"#REF!"}}]
["2°C","Huonville",{"$error":"#REF!"},{"$error":"#REF!"},78.293217421964798,{"$f":"E1266-#REF!","v":{"$error":"#REF!"}},null,null,83.062345172976705,{"$f":"I1266-#REF!","v":{"$error":"#REF!"}}]
["2°C","Huonville",{"$error":"#REF!"},{"$error":"#REF!"},74.649688127765501,{"$f":"E1267-#REF!","v":{"$error":"#REF!"}},null,null,79.767169951521197,{"$f":"I1267-#REF!","v":{"$error":"#REF!"}}]
["2°C","Huonville",{"$error":"#REF!"},{"$error":"#REF!"},83.217122598126707,{"$f":"E1268-#REF!","v":{"$error":"#REF!"}},null,null,85.626588233167894,{"$f":"I1268-#REF!","v":{"$error":"#REF!"}}]
["2°C","Huonville",{"$error":"#REF!"},{"$error":"#REF!"},78.5255589874713,{"$f":"E1269-#REF!","v":{"$error":"#REF!"}},null,null,83.960345745115006,{"$f":"I1269-#REF!","v":{"$error":"#REF!"}}]
["2°C","Huonville",{"$error":"#REF!"},{"$error":"#REF!"},80.644785925794395,{"$f":"E1270-#REF!","v":{"$error":"#REF!"}},null,null,86.403709447566001,{"$f":"I1270-#REF!","v":{"$error":"#REF!"}}]
["2°C","Huonville",{"$error":"#REF!"},{"$error":"#REF!"},85.255665801606995,{"$f":"E1271-#REF!","v":{"$error":"#REF!"}},null,null,87.704954196956294,{"$f":"I1271-#REF!","v":{"$error":"#REF!"}}]
["2°C","Huonville",{"$error":"#REF!"},{"$error":"#REF!"},77.392611841783093,{"$f":"E1272-#REF!","v":{"$error":"#REF!"}},null,null,81.665573714407699,{"$f":"I1272-#REF!","v":{"$error":"#REF!"}}]
["2°C","Huonville",{"$error":"#REF!"},{"$error":"#REF!"},83.212277409804301,{"$f":"E1273-#REF!","v":{"$error":"#REF!"}},null,null,84.847294799484402,{"$f":"I1273-#REF!","v":{"$error":"#REF!"}}]
["2°C","Huonville",{"$error":"#REF!"},{"$error":"#REF!"},84.392158469814504,{"$f":"E1274-#REF!","v":{"$error":"#REF!"}},null,null,85.011385371820495,{"$f":"I1274-#REF!","v":{"$error":"#REF!"}}]
["2°C","Huonville",{"$error":"#REF!"},{"$error":"#REF!"},82.122898164986907,{"$f":"E1275-#REF!","v":{"$error":"#REF!"}},null,null,85.196850680820603,{"$f":"I1275-#REF!","v":{"$error":"#REF!"}}]
["2°C","Huonville",{"$error":"#REF!"},{"$error":"#REF!"},82.819669081242694,{"$f":"E1276-#REF!","v":{"$error":"#REF!"}},null,null,84.290163356060603,{"$f":"I1276-#REF!","v":{"$error":"#REF!"}}]
["2°C","Huonville",{"$error":"#REF!"},{"$error":"#REF!"},81.510915924787,{"$f":"E1277-#REF!","v":{"$error":"#REF!"}},null,null,85.559623979595997,{"$f":"I1277-#REF!","v":{"$error":"#REF!"}}]
["2°C","Huonville",{"$error":"#REF!"},{"$error":"#REF!"},72.026567979714798,{"$f":"E1278-#REF!","v":{"$error":"#REF!"}},null,null,76.7378242704211,{"$f":"I1278-#REF!","v":{"$error":"#REF!"}}]
["2°C","Huonville",{"$error":"#REF!"},{"$error":"#REF!"},79.231847727087498,{"$f":"E1279-#REF!","v":{"$error":"#REF!"}},null,null,83.749369142650096,{"$f":"I1279-#REF!","v":{"$error":"#REF!"}}]
["2°C","Huonville",{"$error":"#REF!"},{"$error":"#REF!"},83.626614533036204,{"$f":"E1280-#REF!","v":{"$error":"#REF!"}},null,null,87.313082605591603,{"$f":"I1280-#REF!","v":{"$error":"#REF!"}}]
["2°C","Huonville",{"$error":"#REF!"},{"$error":"#REF!"},74.528344561456706,{"$f":"E1281-#REF!","v":{"$error":"#REF!"}},null,null,79.631471329512195,{"$f":"I1281-#REF!","v":{"$error":"#REF!"}}]
["2°C","Huonville",{"$f":"IF(F1282>0,1,0)/99","v":{"$error":"#REF!"}},{"$f":"IF(J1282>0,1,0)/99","v":{"$error":"#REF!"}},74.795338565642496,{"$f":"E1282-#REF!","v":{"$error":"#REF!"}},null,null,80.952319073502807,{"$f":"I1282-#REF!","v":{"$error":"#REF!"}}]
["2°C","Huonville",{"$error":"#REF!"},{"$error":"#REF!"},83.606597243983998,{"$f":"E1283-#REF!","v":{"$error":"#REF!"}},null,null,87.956865581944498,{"$f":"I1283-#REF!","v":{"$error":"#REF!"}}]
["2°C","Huonville",{"$error":"#REF!"},{"$error":"#REF!"},73.736910499640501,{"$f":"E1284-#REF!","v":{"$error":"#REF!"}},null,null,80.586068268875394,{"$f":"I1284-#REF!","v":{"$error":"#REF!"}}]
["2°C","Huonville",{"$error":"#REF!"},{"$error":"#REF!"},83.280546983978297,{"$f":"E1285-#REF!","v":{"$error":"#REF!"}},null,null,87.948576412702494,{"$f":"I1285-#REF!","v":{"$error":"#REF!"}}]
["2°C","Huonville",{"$error":"#REF!"},{"$error":"#REF!"},70.404737584637999,{"$f":"E1286-#REF!","v":{"$error":"#REF!"}},null,null,77.820027269747399,{"$f":"I1286-#REF!","v":{"$error":"#REF!"}}]
["2°C","Huonville",{"$error":"#REF!"},{"$error":"#REF!"},81.133937583513998,{"$f":"E1287-#REF!","v":{"$error":"#REF!"}},null,null,84.879779255920397,{"$f":"I1287-#REF!","v":{"$error":"#REF!"}}]
["2°C","Huonville",{"$error":"#REF!"},{"$error":"#REF!"},79.679002279339102,{"$f":"E1288-#REF!","v":{"$error":"#REF!"}},null,null,82.687545629618498,{"$f":"I1288-#REF!","v":{"$error":"#REF!"}}]
["2°C","Lenswood",{"$error":"#REF!"},{"$error":"#REF!"},73.480547918040202,{"$f":"E1289-#REF!","v":{"$error":"#REF!"}},null,null,76.038004783938206,{"$f":"I1289-#REF!","v":{"$error":"#REF!"}}]
["2°C","Lenswood",{"$error":"#REF!"},{"$error":"#REF!"},73.127616525340599,{"$f":"E1290-#REF!","v":{"$error":"#REF!"}},null,null,76.193452533271497,{"$f":"I1290-#REF!","v":{"$error":"#REF!"}}]
["2°C","Lenswood",{"$error":"#REF!"},{"$error":"#REF!"},76.758156960508103,{"$f":"E1291-#REF!","v":{"$error":"#REF!"}},null,null,80.104078520831195,{"$f":"I1291-#REF!","v":{"$error":"#REF!"}}]
["2°C","Lenswood",{"$error":"#REF!"},{"$error":"#REF!"},60.402485879929898,{"$f":"E1292-#REF!","v":{"$error":"#REF!"}},null,null,65.148197791602797,{"$f":"I1292-#REF!","v":{"$error":"#REF!"}}]
["2°C","Lenswood",{"$error":"#REF!"},{"$error":"#REF!"},73.645631098558695,{"$f":"E1293-#REF!","v":{"$error":"#REF!"}},null,null,77.202439859228804,{"$f":"I1293-#REF!","v":{"$error":"#REF!"}}]
["2°C","Lenswood",{"$error":"#REF!"},{"$error":"#REF!"},73.597266402162404,{"$f":"E1294-#REF!","v":{"$error":"#REF!"}},null,null,81.016171694288204,{"$f":"I1294-#REF!","v":{"$error":"#REF!"}}]
["2°C","Lenswood",{"$error":"#REF!"},{"$error":"#REF!"},75.146988389574105,{"$f":"E1295-#REF!","v":{"$error":"#REF!"}},null,null,80.383188131487401,{"$f":"I1295-#REF!","v":{"$error":"#REF!"}}]
["2°C","Lenswood",{"$error":"#REF!"},{"$error":"#REF!"},70.661474211413704,{"$f":"E1296-#REF!","v":{"$error":"#REF!"}},null,null,75.783602620464606,{"$f":"I1296-#REF!","v":{"$error":"#REF!"}}]
["2°C","Lenswood",{"$error":"#REF!"},{"$error":"#REF!"},63.646398585405599,{"$f":"E1297-#REF!","v":{"$error":"#REF!"}},null,null,69.174207105091398,{"$f":"I1297-#REF!","v":{"$error":"#REF!"}}]
["2°C","Lenswood",{"$error":"#REF!"},{"$error":"#REF!"},78.498660000076995,{"$f":"E1298-#REF!","v":{"$error":"#REF!"}},null,null,82.891668147893,{"$f":"I1298-#REF!","v":{"$error":"#REF!"}}]
["2°C","Lenswood",{"$error":"#REF!"},{"$error":"#REF!"},59.319328484666798,{"$f":"E1299-#REF!","v":{"$error":"#REF!"}},null,null,65.780568170315107,{"$f":"I1299-#REF!","v":{"$error":"#REF!"}}]
["2°C","Lenswood",{"$error":"#REF!"},{"$error":"#REF!"},76.001204526366394,{"$f":"E1300-#REF!","v":{"$error":"#REF!"}},null,null,81.750452221209699,{"$f":"I1300-#REF!","v":{"$error":"#REF!"}}]
["2°C","Lenswood",{"$error":"#REF!"},{"$error":"#REF!"},70.866219397045498,{"$f":"E1301-#REF!","v":{"$error":"#REF!"}},null,null,76.798376572759196,{"$f":"I1301-#REF!","v":{"$error":"#REF!"}}]
["2°C","Lenswood",{"$error":"#REF!"},{"$error":"#REF!"},70.384459493730404,{"$f":"E1302-#REF!","v":{"$error":"#REF!"}},null,null,76.113459759449,{"$f":"I1302-#REF!","v":{"$error":"#REF!"}}]
["2°C","Lenswood",{"$error":"#REF!"},{"$error":"#REF!"},72.793991076347595,{"$f":"E1303-#REF!","v":{"$error":"#REF!"}},null,null,77.900492124207503,{"$f":"I1303-#REF!","v":{"$error":"#REF!"}}]
["2°C","Lenswood",{"$error":"#REF!"},{"$error":"#REF!"},78.263695117889299,{"$f":"E1304-#REF!","v":{"$error":"#REF!"}},null,null,81.822514193992703,{"$f":"I1304-#REF!","v":{"$error":"#REF!"}}]
["2°C","Lenswood",{"$error":"#REF!"},{"$error":"#REF!"},74.507624652955798,{"$f":"E1305-#REF!","v":{"$error":"#REF!"}},null,null,80.90969198821,{"$f":"I1305-#REF!","v":{"$error":"#REF!"}}]
["2°C","Lenswood",{"$error":"#REF!"},{"$error":"#REF!"},71.066545166253604,{"$f":"E1306-#REF!","v":{"$error":"#REF!"}},null,null,74.236258561895596,{"$f":"I1306-#REF!","v":{"$error":"#REF!"}}]
["2°C","Lenswood",{"$error":"#REF!"},{"$error":"#REF!"},77.7259050142126,{"$f":"E1307-#REF!","v":{"$error":"#REF!"}},null,null,81.758106145799204,{"$f":"I1307-#REF!","v":{"$error":"#REF!"}}]
["2°C","Lenswood",{"$error":"#REF!"},{"$error":"#REF!"},67.838281853948303,{"$f":"E1308-#REF!","v":{"$error":"#REF!"}},null,null,73.331872102749202,{"$f":"I1308-#REF!","v":{"$error":"#REF!"}}]
["2°C","Lenswood",{"$error":"#REF!"},{"$error":"#REF!"},78.593212819869095,{"$f":"E1309-#REF!","v":{"$error":"#REF!"}},null,null,81.474652436433004,{"$f":"I1309-#REF!","v":{"$error":"#REF!"}}]
["2°C","Lenswood",{"$error":"#REF!"},{"$error":"#REF!"},70.602701434423295,{"$f":"E1310-#REF!","v":{"$error":"#REF!"}},null,null,75.071628792022594,{"$f":"I1310-#REF!","v":{"$error":"#REF!"}}]
["2°C","Lenswood",{"$error":"#REF!"},{"$error":"#REF!"},74.476849984908895,{"$f":"E1311-#REF!","v":{"$error":"#REF!"}},null,null,80.083975725735598,{"$f":"I1311-#REF!","v":{"$error":"#REF!"}}]
["2°C","Lenswood",{"$error":"#REF!"},{"$error":"#REF!"},63.004669247034599,{"$f":"E1312-#REF!","v":{"$error":"#REF!"}},null,null,68.346652682569797,{"$f":"I1312-#REF!","v":{"$error":"#REF!"}}]
["2°C","Lenswood",{"$error":"#REF!"},{"$error":"#REF!"},73.2296698521385,{"$f":"E1313-#REF!","v":{"$error":"#REF!"}},null,null,78.956457776865804,{"$f":"I1313-#REF!","v":{"$error":"#REF!"}}]
["2°C","Lenswood",{"$error":"#REF!"},{"$error":"#REF!"},70.322959157114596,{"$f":"E1314-#REF!","v":{"$error":"#REF!"}},null,null,73.908048037250296,{"$f":"I1314-#REF!","v":{"$error":"#REF!"}}]
["2°C","Lenswood",{"$error":"#REF!"},{"$error":"#REF!"},71.576314448005704,{"$f":"E1315-#REF!","v":{"$error":"#REF!"}},null,null,76.977764787821002,{"$f":"I1315-#REF!","v":{"$error":"#REF!"}}]
["2°C","Lenswood",{"$error":"#REF!"},{"$error":"#REF!"},73.351945141845107,{"$f":"E1316-#REF!","v":{"$error":"#REF!"}},null,null,78.007510640289297,{"$f":"I1316-#REF!","v":{"$error":"#REF!"}}]
["2°C","Lenswood",{"$error":"#REF!"},{"$error":"#REF!"},70.826352548335606,{"$f":"E1317-#REF!","v":{"$error":"#REF!"}},null,null,74.585657887910301,{"$f":"I1317-#REF!","v":{"$error":"#REF!"}}]
["2°C","Lenswood",{"$error":"#REF!"},{"$error":"#REF!"},75.776241682880496,{"$f":"E1318-#REF!","v":{"$error":"#REF!"}},null,null,82.258741586294207,{"$f":"I1318-#REF!","v":{"$error":"#REF!"}}]
["2°C","Lenswood",{"$error":"#REF!"},{"$error":"#REF!"},66.081725094269999,{"$f":"E1319-#REF!","v":{"$error":"#REF!"}},null,null,72.592182030200604,{"$f":"I1319-#REF!","v":{"$error":"#REF!"}}]
["2°C","Lenswood",{"$error":"#REF!"},{"$error":"#REF!"},67.981734098571096,{"$f":"E1320-#REF!","v":{"$error":"#REF!"}},null,null,72.5904798270318,{"$f":"I1320-#REF!","v":{"$error":"#REF!"}}]
["2°C","Lenswood",{"$error":"#REF!"},{"$error":"#REF!"},81.695527039210305,{"$f":"E1321-#REF!","v":{"$error":"#REF!"}},null,null,83.981948626190103,{"$f":"I1321-#REF!","v":{"$error":"#REF!"}}]
["2°C","Lenswood",{"$error":"#REF!"},{"$error":"#REF!"},74.824269720736694,{"$f":"E1322-#REF!","v":{"$error":"#REF!"}},null,null,84.234171868862106,{"$f":"I1322-#REF!","v":{"$error":"#REF!"}}]
["2°C","Lenswood",{"$error":"#REF!"},{"$error":"#REF!"},63.825159510689303,{"$f":"E1323-#REF!","v":{"$error":"#REF!"}},null,null,71.980060149823203,{"$f":"I1323-#REF!","v":{"$error":"#REF!"}}]
["2°C","Lenswood",{"$error":"#REF!"},{"$error":"#REF!"},70.957513921840203,{"$f":"E1324-#REF!","v":{"$error":"#REF!"}},null,null,75.344528021846202,{"$f":"I1324-#REF!","v":{"$error":"#REF!"}}]
["2°C","Lenswood",{"$error":"#REF!"},{"$error":"#REF!"},68.488346184238907,{"$f":"E1325-#REF!","v":{"$error":"#REF!"}},null,null,72.015543796434599,{"$f":"I1325-#REF!","v":{"$error":"#REF!"}}]
["2°C","Lenswood",{"$error":"#REF!"},{"$error":"#REF!"},74.440241160070798,{"$f":"E1326-#REF!","v":{"$error":"#REF!"}},null,null,78.5452172652017,{"$f":"I1326-#REF!","v":{"$error":"#REF!"}}]
["2°C","Lenswood",{"$error":"#REF!"},{"$error":"#REF!"},71.672231731250207,{"$f":"E1327-#REF!","v":{"$error":"#REF!"}},null,null,78.775655076900705,{"$f":"I1327-#REF!","v":{"$error":"#REF!"}}]
["2°C","Lenswood",{"$error":"#REF!"},{"$error":"#REF!"},65.336490463408197,{"$f":"E1328-#REF!","v":{"$error":"#REF!"}},null,null,71.074848828846001,{"$f":"I1328-#REF!","v":{"$error":"#REF!"}}]
["2°C","Lenswood",{"$error":"#REF!"},{"$error":"#REF!"},74.333851103506703,{"$f":"E1329-#REF!","v":{"$error":"#REF!"}},null,null,78.448336580112297,{"$f":"I1329-#REF!","v":{"$error":"#REF!"}}]
["2°C","Lenswood",{"$error":"#REF!"},{"$error":"#REF!"},77.467695518817393,{"$f":"E1330-#REF!","v":{"$error":"#REF!"}},null,null,83.074619946118005,{"$f":"I1330-#REF!","v":{"$error":"#REF!"}}]
["2°C","Lenswood",{"$error":"#REF!"},{"$error":"#REF!"},73.151385259734496,{"$f":"E1331-#REF!","v":{"$error":"#REF!"}},null,null,79.306269173067506,{"$f":"I1331-#REF!","v":{"$error":"#REF!"}}]
["2°C","Lenswood",{"$error":"#REF!"},{"$error":"#REF!"},67.953362476652401,{"$f":"E1332-#REF!","v":{"$error":"#REF!"}},null,null,74.234242680203593,{"$f":"I1332-#REF!","v":{"$error":"#REF!"}}]
["2°C","Lenswood",{"$error":"#REF!"},{"$error":"#REF!"},75.380369946274499,{"$f":"E1333-#REF!","v":{"$error":"#REF!"}},null,null,78.586829305408202,{"$f":"I1333-#REF!","v":{"$error":"#REF!"}}]
["2°C","Lenswood",{"$error":"#REF!"},{"$error":"#REF!"},75.139553633216394,{"$f":"E1334-#REF!","v":{"$error":"#REF!"}},null,null,80.578221210312904,{"$f":"I1334-#REF!","v":{"$error":"#REF!"}}]
["2°C","Lenswood",{"$error":"#REF!"},{"$error":"#REF!"},57.537807076476597,{"$f":"E1335-#REF!","v":{"$error":"#REF!"}},null,null,63.346074215772198,{"$f":"I1335-#REF!","v":{"$error":"#REF!"}}]
["2°C","Lenswood",{"$error":"#REF!"},{"$error":"#REF!"},63.851318925637599,{"$f":"E1336-#REF!","v":{"$error":"#REF!"}},null,null,67.307847866960103,{"$f":"I1336-#REF!","v":{"$error":"#REF!"}}]
["2°C","Lenswood",{"$error":"#REF!"},{"$error":"#REF!"},62.347141882421099,{"$f":"E1337-#REF!","v":{"$error":"#REF!"}},null,null,66.118380366438004,{"$f":"I1337-#REF!","v":{"$error":"#REF!"}}]
["2°C","Lenswood",{"$error":"#REF!"},{"$error":"#REF!"},82.842894338080697,{"$f":"E1338-#REF!","v":{"$error":"#REF!"}},null,null,86.429773915412696,{"$f":"I1338-#REF!","v":{"$error":"#REF!"}}]
["2°C","Lenswood",{"$error":"#REF!"},{"$error":"#REF!"},66.116081881704901,{"$f":"E1339-#REF!","v":{"$error":"#REF!"}},null,null,72.3273731714131,{"$f":"I1339-#REF!","v":{"$error":"#REF!"}}]
["2°C","Lenswood",{"$error":"#REF!"},{"$error":"#REF!"},65.143637280318401,{"$f":"E1340-#REF!","v":{"$error":"#REF!"}},null,null,75.1999589396125,{"$f":"I1340-#REF!","v":{"$error":"#REF!"}}]
["2°C","Lenswood",{"$error":"#REF!"},{"$error":"#REF!"},69.046987323839303,{"$f":"E1341-#REF!","v":{"$error":"#REF!"}},null,null,74.167481143520902,{"$f":"I1341-#REF!","v":{"$error":"#REF!"}}]
["2°C","Lenswood",{"$error":"#REF!"},{"$error":"#REF!"},63.3758352268785,{"$f":"E1342-#REF!","v":{"$error":"#REF!"}},null,null,70.816843751639198,{"$f":"I1342-#REF!","v":{"$error":"#REF!"}}]
["2°C","Lenswood",{"$error":"#REF!"},{"$error":"#REF!"},65.679920758403796,{"$f":"E1343-#REF!","v":{"$error":"#REF!"}},null,null,71.666437847002797,{"$f":"I1343-#REF!","v":{"$error":"#REF!"}}]
["2°C","Lenswood",{"$error":"#REF!"},{"$error":"#REF!"},70.612330537823695,{"$f":"E1344-#REF!","v":{"$error":"#REF!"}},null,null,77.9378177252526,{"$f":"I1344-#REF!","v":{"$error":"#REF!"}}]
["2°C","Lenswood",{"$error":"#REF!"},{"$error":"#REF!"},67.576690504585599,{"$f":"E1345-#REF!","v":{"$error":"#REF!"}},null,null,70.891085159374299,{"$f":"I1345-#REF!","v":{"$error":"#REF!"}}]
["2°C","Lenswood",{"$f":"IF(F1346>0,1,0)/99","v":{"$error":"#REF!"}},{"$f":"IF(J1346>0,1,0)/99","v":{"$error":"#REF!"}},78.731597440697797,{"$f":"E1346-#REF!","v":{"$error":"#REF!"}},null,null,81.936474636188606,{"$f":"I1346-#REF!","v":{"$error":"#REF!"}}]
["2°C","Lenswood",{"$error":"#REF!"},{"$error":"#REF!"},69.860572137356797,{"$f":"E1347-#REF!","v":{"$error":"#REF!"}},null,null,77.038995524714593,{"$f":"I1347-#REF!","v":{"$error":"#REF!"}}]
["2°C","Lenswood",{"$error":"#REF!"},{"$error":"#REF!"},74.523263171642,{"$f":"E1348-#REF!","v":{"$error":"#REF!"}},null,null,80.215929614876003,{"$f":"I1348-#REF!","v":{"$error":"#REF!"}}]
["2°C","Lenswood",{"$error":"#REF!"},{"$error":"#REF!"},77.950496574571005,{"$f":"E1349-#REF!","v":{"$error":"#REF!"}},null,null,83.589420298569493,{"$f":"I1349-#REF!","v":{"$error":"#REF!"}}]
["2°C","Lenswood",{"$error":"#REF!"},{"$error":"#REF!"},70.860276700580798,{"$f":"E1350-#REF!","v":{"$error":"#REF!"}},null,null,76.385863456566796,{"$f":"I1350-#REF!","v":{"$error":"#REF!"}}]
["2°C","Lenswood",{"$error":"#REF!"},{"$error":"#REF!"},67.046870787906997,{"$f":"E1351-#REF!","v":{"$error":"#REF!"}},null,null,71.817349732829399,{"$f":"I1351-#REF!","v":{"$error":"#REF!"}}]
["2°C","Lenswood",{"$error":"#REF!"},{"$error":"#REF!"},74.297670561704905,{"$f":"E1352-#REF!","v":{"$error":"#REF!"}},null,null,78.585036141096097,{"$f":"I1352-#REF!","v":{"$error":"#REF!"}}]
["2°C","Lenswood",{"$error":"#REF!"},{"$error":"#REF!"},63.748262729378901,{"$f":"E1353-#REF!","v":{"$error":"#REF!"}},null,null,69.828807445741703,{"$f":"I1353-#REF!","v":{"$error":"#REF!"}}]
["2°C","Lenswood",{"$error":"#REF!"},{"$error":"#REF!"},73.097025900361999,{"$f":"E1354-#REF!","v":{"$error":"#REF!"}},null,null,80.226810613900298,{"$f":"I1354-#REF!","v":{"$error":"#REF!"}}]
["2°C","Lenswood",{"$error":"#REF!"},{"$error":"#REF!"},67.903873470825104,{"$f":"E1355-#REF!","v":{"$error":"#REF!"}},null,null,72.192406187514294,{"$f":"I1355-#REF!","v":{"$error":"#REF!"}}]
["2°C","Lenswood",{"$error":"#REF!"},{"$error":"#REF!"},74.656776705361906,{"$f":"E1356-#REF!","v":{"$error":"#REF!"}},null,null,80.868906872047205,{"$f":"I1356-#REF!","v":{"$error":"#REF!"}}]
["2°C","Lenswood",{"$error":"#REF!"},{"$error":"#REF!"},73.279205084386703,{"$f":"E1357-#REF!","v":{"$error":"#REF!"}},null,null,81.124254810379796,{"$f":"I1357-#REF!","v":{"$error":"#REF!"}}]
["2°C","Lenswood",{"$error":"#REF!"},{"$error":"#REF!"},65.973916154130904,{"$f":"E1358-#REF!","v":{"$error":"#REF!"}},null,null,72.036826679125198,{"$f":"I1358-#REF!","v":{"$error":"#REF!"}}]
["2°C","Lenswood",{"$error":"#REF!"},{"$error":"#REF!"},75.823719093753496,{"$f":"E1359-#REF!","v":{"$error":"#REF!"}},null,null,80.152109069865205,{"$f":"I1359-#REF!","v":{"$error":"#REF!"}}]
["2°C","Lenswood",{"$error":"#REF!"},{"$error":"#REF!"},67.189372217670396,{"$f":"E1360-#REF!","v":{"$error":"#REF!"}},null,null,74.119223265775005,{"$f":"I1360-#REF!","v":{"$error":"#REF!"}}]
["2°C","Lenswood",{"$error":"#REF!"},{"$error":"#REF!"},73.544638355967393,{"$f":"E1361-#REF!","v":{"$error":"#REF!"}},null,null,78.679163536273506,{"$f":"I1361-#REF!","v":{"$error":"#REF!"}}]
["2°C","Lenswood",{"$error":"#REF!"},{"$error":"#REF!"},73.807987750731996,{"$f":"E1362-#REF!","v":{"$error":"#REF!"}},null,null,76.615816619917197,{"$f":"I1362-#REF!","v":{"$error":"#REF!"}}]
["2°C","Lenswood",{"$error":"#REF!"},{"$error":"#REF!"},74.588661514498796,{"$f":"E1363-#REF!","v":{"$error":"#REF!"}},null,null,79.775895902781997,{"$f":"I1363-#REF!","v":{"$error":"#REF!"}}]
["2°C","Lenswood",{"$error":"#REF!"},{"$error":"#REF!"},71.134235804779095,{"$f":"E1364-#REF!","v":{"$error":"#REF!"}},null,null,79.086676060530394,{"$f":"I1364-#REF!","v":{"$error":"#REF!"}}]
["2°C","Lenswood",{"$error":"#REF!"},{"$error":"#REF!"},72.652434374229301,{"$f":"E1365-#REF!","v":{"$error":"#REF!"}},null,null,76.092896697187498,{"$f":"I1365-#REF!","v":{"$error":"#REF!"}}]
["2°C","Lenswood",{"$error":"#REF!"},{"$error":"#REF!"},60.226815188590997,{"$f":"E1366-#REF!","v":{"$error":"#REF!"}},null,null,71.420923039223993,{"$f":"I1366-#REF!","v":{"$error":"#REF!"}}]
["2°C","Lenswood",{"$error":"#REF!"},{"$error":"#REF!"},74.929150686675598,{"$f":"E1367-#REF!","v":{"$error":"#REF!"}},null,null,80.194283934244595,{"$f":"I1367-#REF!","v":{"$error":"#REF!"}}]
["2°C","Lenswood",{"$error":"#REF!"},{"$error":"#REF!"},71.583484463938404,{"$f":"E1368-#REF!","v":{"$error":"#REF!"}},null,null,76.510923161105296,{"$f":"I1368-#REF!","v":{"$error":"#REF!"}}]
["2°C","Lenswood",{"$error":"#REF!"},{"$error":"#REF!"},65.523650196994794,{"$f":"E1369-#REF!","v":{"$error":"#REF!"}},null,null,72.788223122515106,{"$f":"I1369-#REF!","v":{"$error":"#REF!"}}]
["2°C","Lenswood",{"$error":"#REF!"},{"$error":"#REF!"},76.7648662332074,{"$f":"E1370-#REF!","v":{"$error":"#REF!"}},null,null,83.453847871981793,{"$f":"I1370-#REF!","v":{"$error":"#REF!"}}]
["2°C","Lenswood",{"$error":"#REF!"},{"$error":"#REF!"},62.6051188133154,{"$f":"E1371-#REF!","v":{"$error":"#REF!"}},null,null,68.877227198191306,{"$f":"I1371-#REF!","v":{"$error":"#REF!"}}]
["2°C","Lenswood",{"$error":"#REF!"},{"$error":"#REF!"},68.352763668717898,{"$f":"E1372-#REF!","v":{"$error":"#REF!"}},null,null,73.238760923050194,{"$f":"I1372-#REF!","v":{"$error":"#REF!"}}]
["2°C","Lenswood",{"$error":"#REF!"},{"$error":"#REF!"},70.3239397916537,{"$f":"E1373-#REF!","v":{"$error":"#REF!"}},null,null,77.591021134671394,{"$f":"I1373-#REF!","v":{"$error":"#REF!"}}]
["2°C","Lenswood",{"$error":"#REF!"},{"$error":"#REF!"},70.124150642555094,{"$f":"E1374-#REF!","v":{"$error":"#REF!"}},null,null,78.004386881169097,{"$f":"I1374-#REF!","v":{"$error":"#REF!"}}]
["2°C","Lenswood",{"$error":"#REF!"},{"$error":"#REF!"},75.391024604047004,{"$f":"E1375-#REF!","v":{"$error":"#REF!"}},null,null,81.111603293026505,{"$f":"I1375-#REF!","v":{"$error":"#REF!"}}]
["2°C","Lenswood",{"$error":"#REF!"},{"$error":"#REF!"},71.794358338342505,{"$f":"E1376-#REF!","v":{"$error":"#REF!"}},null,null,76.311201068429298,{"$f":"I1376-#REF!","v":{"$error":"#REF!"}}]
["2°C","Lenswood",{"$error":"#REF!"},{"$error":"#REF!"},67.035249526204197,{"$f":"E1377-#REF!","v":{"$error":"#REF!"}},null,null,72.376823223435494,{"$f":"I1377-#REF!","v":{"$error":"#REF!"}}]
["2°C","Lenswood",{"$error":"#REF!"},{"$error":"#REF!"},75.199362374689997,{"$f":"E1378-#REF!","v":{"$error":"#REF!"}},null,null,82.509890459587197,{"$f":"I1378-#REF!","v":{"$error":"#REF!"}}]
["2°C","Lenswood",{"$error":"#REF!"},{"$error":"#REF!"},69.983696676155802,{"$f":"E1379-#REF!","v":{"$error":"#REF!"}},null,null,73.608585920171194,{"$f":"I1379-#REF!","v":{"$error":"#REF!"}}]
["2°C","Lenswood",{"$error":"#REF!"},{"$error":"#REF!"},69.461444655196004,{"$f":"E1380-#REF!","v":{"$error":"#REF!"}},null,null,73.231311572401907,{"$f":"I1380-#REF!","v":{"$error":"#REF!"}}]
["2°C","Lenswood",{"$error":"#REF!"},{"$error":"#REF!"},69.9761091538697,{"$f":"E1381-#REF!","v":{"$error":"#REF!"}},null,null,75.553786910000696,{"$f":"I1381-#REF!","v":{"$error":"#REF!"}}]
["2°C","Lenswood",{"$error":"#REF!"},{"$error":"#REF!"},68.155617955198593,{"$f":"E1382-#REF!","v":{"$error":"#REF!"}},null,null,76.088825260069498,{"$f":"I1382-#REF!","v":{"$error":"#REF!"}}]
["2°C","Lenswood",{"$error":"#REF!"},{"$error":"#REF!"},56.846130346457997,{"$f":"E1383-#REF!","v":{"$error":"#REF!"}},null,null,63.417669642875701,{"$f":"I1383-#REF!","v":{"$error":"#REF!"}}]
["2°C","Lenswood",{"$error":"#REF!"},{"$error":"#REF!"},75.065612101719907,{"$f":"E1384-#REF!","v":{"$error":"#REF!"}},null,null,80.888481132790304,{"$f":"I1384-#REF!","v":{"$error":"#REF!"}}]
["2°C","Lenswood",{"$error":"#REF!"},{"$error":"#REF!"},63.131043848108803,{"$f":"E1385-#REF!","v":{"$error":"#REF!"}},null,null,70.459240462832597,{"$f":"I1385-#REF!","v":{"$error":"#REF!"}}]
["2°C","Lenswood",{"$error":"#REF!"},{"$error":"#REF!"},70.738969422271893,{"$f":"E1386-#REF!","v":{"$error":"#REF!"}},null,null,76.357054947563299,{"$f":"I1386-#REF!","v":{"$error":"#REF!"}}]
["2°C","Lenswood",{"$error":"#REF!"},{"$error":"#REF!"},64.541185531845201,{"$f":"E1387-#REF!","v":{"$error":"#REF!"}},null,null,71.3034637461096,{"$f":"I1387-#REF!","v":{"$error":"#REF!"}}]
["2°C","Manjimup",{"$error":"#REF!"},{"$error":"#REF!"},43.776949025810403,{"$f":"E1388-#REF!","v":{"$error":"#REF!"}},null,null,59.534288345473399,{"$f":"I1388-#REF!","v":{"$error":"#REF!"}}]
["2°C","Manjimup",{"$error":"#REF!"},{"$error":"#REF!"},32.920207217644602,{"$f":"E1389-#REF!","v":{"$error":"#REF!"}},null,null,45.635209669001298,{"$f":"I1389-#REF!","v":{"$error":"#REF!"}}]
["2°C","Manjimup",{"$error":"#REF!"},{"$error":"#REF!"},28.5539166306148,{"$f":"E1390-#REF!","v":{"$error":"#REF!"}},null,null,42.1969744618685,{"$f":"I1390-#REF!","v":{"$error":"#REF!"}}]
["2°C","Manjimup",{"$error":"#REF!"},{"$error":"#REF!"},41.609413609099299,{"$f":"E1391-#REF!","v":{"$error":"#REF!"}},null,null,54.307483484582598,{"$f":"I1391-#REF!","v":{"$error":"#REF!"}}]
["2°C","Manjimup",{"$error":"#REF!"},{"$error":"#REF!"},31.2383684568467,{"$f":"E1392-#REF!","v":{"$error":"#REF!"}},null,null,38.440696105687401,{"$f":"I1392-#REF!","v":{"$error":"#REF!"}}]
["2°C","Manjimup",{"$error":"#REF!"},{"$error":"#REF!"},49.970689233755301,{"$f":"E1393-#REF!","v":{"$error":"#REF!"}},null,null,63.734978065431797,{"$f":"I1393-#REF!","v":{"$error":"#REF!"}}]
["2°C","Manjimup",{"$error":"#REF!"},{"$error":"#REF!"},46.663615548267501,{"$f":"E1394-#REF!","v":{"$error":"#REF!"}},null,null,56.352532200192002,{"$f":"I1394-#REF!","v":{"$error":"#REF!"}}]
["2°C","Manjimup",{"$error":"#REF!"},{"$error":"#REF!"},40.433339554680799,{"$f":"E1395-#REF!","v":{"$error":"#REF!"}},null,null,52.617620169947998,{"$f":"I1395-#REF!","v":{"$error":"#REF!"}}]
["2°C","Manjimup",{"$error":"#REF!"},{"$error":"#REF!"},38.505930031629703,{"$f":"E1396-#REF!","v":{"$error":"#REF!"}},null,null,50.9482020789372,{"$f":"I1396-#REF!","v":{"$error":"#REF!"}}]
["2°C","Manjimup",{"$error":"#REF!"},{"$error":"#REF!"},49.270566832660499,{"$f":"E1397-#REF!","v":{"$error":"#REF!"}},null,null,62.2103230085145,{"$f":"I1397-#REF!","v":{"$error":"#REF!"}}]
["2°C","Manjimup",{"$error":"#REF!"},{"$error":"#REF!"},27.839193669434799,{"$f":"E1398-#REF!","v":{"$error":"#REF!"}},null,null,39.266710980129098,{"$f":"I1398-#REF!","v":{"$error":"#REF!"}}]
["2°C","Manjimup",{"$error":"#REF!"},{"$error":"#REF!"},47.932710085081403,{"$f":"E1399-#REF!","v":{"$error":"#REF!"}},null,null,55.672291040319799,{"$f":"I1399-#REF!","v":{"$error":"#REF!"}}]
["2°C","Manjimup",{"$error":"#REF!"},{"$error":"#REF!"},43.453456174022399,{"$f":"E1400-#REF!","v":{"$error":"#REF!"}},null,null,54.812263093308303,{"$f":"I1400-#REF!","v":{"$error":"#REF!"}}]
["2°C","Manjimup",{"$error":"#REF!"},{"$error":"#REF!"},42.992620797213803,{"$f":"E1401-#REF!","v":{"$error":"#REF!"}},null,null,55.722421496196503,{"$f":"I1401-#REF!","v":{"$error":"#REF!"}}]
["2°C","Manjimup",{"$error":"#REF!"},{"$error":"#REF!"},45.4370104886641,{"$f":"E1402-#REF!","v":{"$error":"#REF!"}},null,null,57.4688009699695,{"$f":"I1402-#REF!","v":{"$error":"#REF!"}}]
["2°C","Manjimup",{"$error":"#REF!"},{"$error":"#REF!"},46.995376284669,{"$f":"E1403-#REF!","v":{"$error":"#REF!"}},null,null,58.391575301157701,{"$f":"I1403-#REF!","v":{"$error":"#REF!"}}]
["2°C","Manjimup",{"$error":"#REF!"},{"$error":"#REF!"},49.373840753294701,{"$f":"E1404-#REF!","v":{"$error":"#REF!"}},null,null,61.093801432254303,{"$f":"I1404-#REF!","v":{"$error":"#REF!"}}]
["2°C","Manjimup",{"$error":"#REF!"},{"$error":"#REF!"},39.347972845660301,{"$f":"E1405-#REF!","v":{"$error":"#REF!"}},null,null,51.755389290850502,{"$f":"I1405-#REF!","v":{"$error":"#REF!"}}]
["2°C","Manjimup",{"$error":"#REF!"},{"$error":"#REF!"},50.157458222788399,{"$f":"E1406-#REF!","v":{"$error":"#REF!"}},null,null,61.401744395904601,{"$f":"I1406-#REF!","v":{"$error":"#REF!"}}]
["2°C","Manjimup",{"$error":"#REF!"},{"$error":"#REF!"},30.8716822010005,{"$f":"E1407-#REF!","v":{"$error":"#REF!"}},null,null,38.3340726131051,{"$f":"I1407-#REF!","v":{"$error":"#REF!"}}]
["2°C","Manjimup",{"$error":"#REF!"},{"$error":"#REF!"},48.133298452314001,{"$f":"E1408-#REF!","v":{"$error":"#REF!"}},null,null,57.434730882584702,{"$f":"I1408-#REF!","v":{"$error":"#REF!"}}]
["2°C","Manjimup",{"$error":"#REF!"},{"$error":"#REF!"},39.214247488971097,{"$f":"E1409-#REF!","v":{"$error":"#REF!"}},null,null,50.243851470161601,{"$f":"I1409-#REF!","v":{"$error":"#REF!"}}]
["2°C","Manjimup",{"$f":"IF(F1410>0,1,0)/99","v":{"$error":"#REF!"}},{"$f":"IF(J1410>0,1,0)/99","v":{"$error":"#REF!"}},35.867441211288799,{"$f":"E1410-#REF!","v":{"$error":"#REF!"}},null,null,46.529568580279502,{"$f":"I1410-#REF!","v":{"$error":"#REF!"}}]
["2°C","Manjimup",{"$error":"#REF!"},{"$error":"#REF!"},37.323395561032498,{"$f":"E1411-#REF!","v":{"$error":"#REF!"}},null,null,46.270109851004598,{"$f":"I1411-#REF!","v":{"$error":"#REF!"}}]
["2°C","Manjimup",{"$error":"#REF!"},{"$error":"#REF!"},45.406169148550099,{"$f":"E1412-#REF!","v":{"$error":"#REF!"}},null,null,54.799557925053797,{"$f":"I1412-#REF!","v":{"$error":"#REF!"}}]
["2°C","Manjimup",{"$error":"#REF!"},{"$error":"#REF!"},43.826115369953499,{"$f":"E1413-#REF!","v":{"$error":"#REF!"}},null,null,56.018717595113401,{"$f":"I1413-#REF!","v":{"$error":"#REF!"}}]
["2°C","Manjimup",{"$error":"#REF!"},{"$error":"#REF!"},40.157547937178002,{"$f":"E1414-#REF!","v":{"$error":"#REF!"}},null,null,51.224732339119399,{"$f":"I1414-#REF!","v":{"$error":"#REF!"}}]
["2°C","Manjimup",{"$error":"#REF!"},{"$error":"#REF!"},44.763244518752103,{"$f":"E1415-#REF!","v":{"$error":"#REF!"}},null,null,54.860391331588403,{"$f":"I1415-#REF!","v":{"$error":"#REF!"}}]
["2°C","Manjimup",{"$error":"#REF!"},{"$error":"#REF!"},46.6120161089341,{"$f":"E1416-#REF!","v":{"$error":"#REF!"}},null,null,56.7044386104361,{"$f":"I1416-#REF!","v":{"$error":"#REF!"}}]
["2°C","Manjimup",{"$error":"#REF!"},{"$error":"#REF!"},34.532508535414202,{"$f":"E1417-#REF!","v":{"$error":"#REF!"}},null,null,46.193007364187203,{"$f":"I1417-#REF!","v":{"$error":"#REF!"}}]
["2°C","Manjimup",{"$error":"#REF!"},{"$error":"#REF!"},39.764094960257601,{"$f":"E1418-#REF!","v":{"$error":"#REF!"}},null,null,49.869786765909303,{"$f":"I1418-#REF!","v":{"$error":"#REF!"}}]
["2°C","Manjimup",{"$error":"#REF!"},{"$error":"#REF!"},46.956866572899699,{"$f":"E1419-#REF!","v":{"$error":"#REF!"}},null,null,57.170123269787901,{"$f":"I1419-#REF!","v":{"$error":"#REF!"}}]
["2°C","Manjimup",{"$error":"#REF!"},{"$error":"#REF!"},55.466984250621401,{"$f":"E1420-#REF!","v":{"$error":"#REF!"}},null,null,64.026534698507305,{"$f":"I1420-#REF!","v":{"$error":"#REF!"}}]
["2°C","Manjimup",{"$error":"#REF!"},{"$error":"#REF!"},53.774263644483597,{"$f":"E1421-#REF!","v":{"$error":"#REF!"}},null,null,62.388627937765499,{"$f":"I1421-#REF!","v":{"$error":"#REF!"}}]
["2°C","Manjimup",{"$error":"#REF!"},{"$error":"#REF!"},37.512177675417803,{"$f":"E1422-#REF!","v":{"$error":"#REF!"}},null,null,45.073356416653098,{"$f":"I1422-#REF!","v":{"$error":"#REF!"}}]
["2°C","Manjimup",{"$error":"#REF!"},{"$error":"#REF!"},49.5675710823513,{"$f":"E1423-#REF!","v":{"$error":"#REF!"}},null,null,58.4728685021431,{"$f":"I1423-#REF!","v":{"$error":"#REF!"}}]
["2°C","Manjimup",{"$error":"#REF!"},{"$error":"#REF!"},42.776747178692801,{"$f":"E1424-#REF!","v":{"$error":"#REF!"}},null,null,50.553764676163098,{"$f":"I1424-#REF!","v":{"$error":"#REF!"}}]
["2°C","Manjimup",{"$error":"#REF!"},{"$error":"#REF!"},31.552905299110002,{"$f":"E1425-#REF!","v":{"$error":"#REF!"}},null,null,44.124677177854103,{"$f":"I1425-#REF!","v":{"$error":"#REF!"}}]
["2°C","Manjimup",{"$error":"#REF!"},{"$error":"#REF!"},28.05485942868,{"$f":"E1426-#REF!","v":{"$error":"#REF!"}},null,null,38.900690792869398,{"$f":"I1426-#REF!","v":{"$error":"#REF!"}}]
["2°C","Manjimup",{"$error":"#REF!"},{"$error":"#REF!"},34.481363025872497,{"$f":"E1427-#REF!","v":{"$error":"#REF!"}},null,null,43.235447972221998,{"$f":"I1427-#REF!","v":{"$error":"#REF!"}}]
["2°C","Manjimup",{"$error":"#REF!"},{"$error":"#REF!"},47.602859301319697,{"$f":"E1428-#REF!","v":{"$error":"#REF!"}},null,null,54.1389981994447,{"$f":"I1428-#REF!","v":{"$error":"#REF!"}}]
["2°C","Manjimup",{"$error":"#REF!"},{"$error":"#REF!"},42.851950235929699,{"$f":"E1429-#REF!","v":{"$error":"#REF!"}},null,null,48.744109314080603,{"$f":"I1429-#REF!","v":{"$error":"#REF!"}}]
["2°C","Manjimup",{"$error":"#REF!"},{"$error":"#REF!"},43.257030296871498,{"$f":"E1430-#REF!","v":{"$error":"#REF!"}},null,null,50.513104977890997,{"$f":"I1430-#REF!","v":{"$error":"#REF!"}}]
["2°C","Manjimup",{"$error":"#REF!"},{"$error":"#REF!"},40.057586349634597,{"$f":"E1431-#REF!","v":{"$error":"#REF!"}},null,null,49.321366630392703,{"$f":"I1431-#REF!","v":{"$error":"#REF!"}}]
["2°C","Manjimup",{"$error":"#REF!"},{"$error":"#REF!"},52.230860505190499,{"$f":"E1432-#REF!","v":{"$error":"#REF!"}},null,null,61.998027051064,{"$f":"I1432-#REF!","v":{"$error":"#REF!"}}]
["2°C","Manjimup",{"$error":"#REF!"},{"$error":"#REF!"},57.992896127338803,{"$f":"E1433-#REF!","v":{"$error":"#REF!"}},null,null,62.811441162521298,{"$f":"I1433-#REF!","v":{"$error":"#REF!"}}]
["2°C","Manjimup",{"$error":"#REF!"},{"$error":"#REF!"},37.0281216472439,{"$f":"E1434-#REF!","v":{"$error":"#REF!"}},null,null,49.197009690580799,{"$f":"I1434-#REF!","v":{"$error":"#REF!"}}]
["2°C","Manjimup",{"$error":"#REF!"},{"$error":"#REF!"},43.2479670225596,{"$f":"E1435-#REF!","v":{"$error":"#REF!"}},null,null,50.618113908155102,{"$f":"I1435-#REF!","v":{"$error":"#REF!"}}]
["2°C","Manjimup",{"$error":"#REF!"},{"$error":"#REF!"},22.034287292552001,{"$f":"E1436-#REF!","v":{"$error":"#REF!"}},null,null,36.185136512206199,{"$f":"I1436-#REF!","v":{"$error":"#REF!"}}]
["2°C","Manjimup",{"$error":"#REF!"},{"$error":"#REF!"},58.264502990111701,{"$f":"E1437-#REF!","v":{"$error":"#REF!"}},null,null,67.8460226665118,{"$f":"I1437-#REF!","v":{"$error":"#REF!"}}]
["2°C","Manjimup",{"$error":"#REF!"},{"$error":"#REF!"},38.062244385310002,{"$f":"E1438-#REF!","v":{"$error":"#REF!"}},null,null,48.718489905883203,{"$f":"I1438-#REF!","v":{"$error":"#REF!"}}]
["2°C","Manjimup",{"$error":"#REF!"},{"$error":"#REF!"},27.8088116495523,{"$f":"E1439-#REF!","v":{"$error":"#REF!"}},null,null,38.6116153415377,{"$f":"I1439-#REF!","v":{"$error":"#REF!"}}]
["2°C","Manjimup",{"$error":"#REF!"},{"$error":"#REF!"},41.744168910504598,{"$f":"E1440-#REF!","v":{"$error":"#REF!"}},null,null,47.537194604097301,{"$f":"I1440-#REF!","v":{"$error":"#REF!"}}]
["2°C","Manjimup",{"$error":"#REF!"},{"$error":"#REF!"},39.105735849569697,{"$f":"E1441-#REF!","v":{"$error":"#REF!"}},null,null,51.192274442125999,{"$f":"I1441-#REF!","v":{"$error":"#REF!"}}]
["2°C","Manjimup",{"$error":"#REF!"},{"$error":"#REF!"},43.728487012868896,{"$f":"E1442-#REF!","v":{"$error":"#REF!"}},null,null,55.958637559047297,{"$f":"I1442-#REF!","v":{"$error":"#REF!"}}]
["2°C","Manjimup",{"$error":"#REF!"},{"$error":"#REF!"},48.030894693788902,{"$f":"E1443-#REF!","v":{"$error":"#REF!"}},null,null,60.212060152405201,{"$f":"I1443-#REF!","v":{"$error":"#REF!"}}]
["2°C","Manjimup",{"$error":"#REF!"},{"$error":"#REF!"},44.016716216478102,{"$f":"E1444-#REF!","v":{"$error":"#REF!"}},null,null,51.494045699333299,{"$f":"I1444-#REF!","v":{"$error":"#REF!"}}]
["2°C","Manjimup",{"$error":"#REF!"},{"$error":"#REF!"},52.300725891964603,{"$f":"E1445-#REF!","v":{"$error":"#REF!"}},null,null,66.767954372204201,{"$f":"I1445-#REF!","v":{"$error":"#REF!"}}]
["2°C","Manjimup",{"$error":"#REF!"},{"$error":"#REF!"},41.003006007702297,{"$f":"E1446-#REF!","v":{"$error":"#REF!"}},null,null,52.780408517024703,{"$f":"I1446-#REF!","v":{"$error":"#REF!"}}]
["2°C","Manjimup",{"$error":"#REF!"},{"$error":"#REF!"},40.037760757955503,{"$f":"E1447-#REF!","v":{"$error":"#REF!"}},null,null,50.302688074937599,{"$f":"I1447-#REF!","v":{"$error":"#REF!"}}]
["2°C","Manjimup",{"$error":"#REF!"},{"$error":"#REF!"},51.038915115015101,{"$f":"E1448-#REF!","v":{"$error":"#REF!"}},null,null,58.191891153542997,{"$f":"I1448-#REF!","v":{"$error":"#REF!"}}]
["2°C","Manjimup",{"$error":"#REF!"},{"$error":"#REF!"},42.170439216401803,{"$f":"E1449-#REF!","v":{"$error":"#REF!"}},null,null,51.1241344304674,{"$f":"I1449-#REF!","v":{"$error":"#REF!"}}]
["2°C","Manjimup",{"$error":"#REF!"},{"$error":"#REF!"},48.797462129993498,{"$f":"E1450-#REF!","v":{"$error":"#REF!"}},null,null,60.523147820953199,{"$f":"I1450-#REF!","v":{"$error":"#REF!"}}]
["2°C","Manjimup",{"$error":"#REF!"},{"$error":"#REF!"},48.495691311597497,{"$f":"E1451-#REF!","v":{"$error":"#REF!"}},null,null,56.792558528883603,{"$f":"I1451-#REF!","v":{"$error":"#REF!"}}]
["2°C","Manjimup",{"$error":"#REF!"},{"$error":"#REF!"},41.591535388167998,{"$f":"E1452-#REF!","v":{"$error":"#REF!"}},null,null,56.044568173443103,{"$f":"I1452-#REF!","v":{"$error":"#REF!"}}]
["2°C","Manjimup",{"$error":"#REF!"},{"$error":"#REF!"},35.920418151519897,{"$f":"E1453-#REF!","v":{"$error":"#REF!"}},null,null,45.845581329992299,{"$f":"I1453-#REF!","v":{"$error":"#REF!"}}]
["2°C","Manjimup",{"$error":"#REF!"},{"$error":"#REF!"},32.202935702804503,{"$f":"E1454-#REF!","v":{"$error":"#REF!"}},null,null,45.564435182269101,{"$f":"I1454-#REF!","v":{"$error":"#REF!"}}]
["2°C","Manjimup",{"$error":"#REF!"},{"$error":"#REF!"},47.6331653850606,{"$f":"E1455-#REF!","v":{"$error":"#REF!"}},null,null,57.425400252682003,{"$f":"I1455-#REF!","v":{"$error":"#REF!"}}]
["2°C","Manjimup",{"$error":"#REF!"},{"$error":"#REF!"},48.311439430423697,{"$f":"E1456-#REF!","v":{"$error":"#REF!"}},null,null,55.645411414419399,{"$f":"I1456-#REF!","v":{"$error":"#REF!"}}]
["2°C","Manjimup",{"$error":"#REF!"},{"$error":"#REF!"},43.576920014349398,{"$f":"E1457-#REF!","v":{"$error":"#REF!"}},null,null,54.718739650790504,{"$f":"I1457-#REF!","v":{"$error":"#REF!"}}]
["2°C","Manjimup",{"$error":"#REF!"},{"$error":"#REF!"},50.5834467050028,{"$f":"E1458-#REF!","v":{"$error":"#REF!"}},null,null,66.264870969806907,{"$f":"I1458-#REF!","v":{"$error":"#REF!"}}]
["2°C","Manjimup",{"$error":"#REF!"},{"$error":"#REF!"},47.5506539407193,{"$f":"E1459-#REF!","v":{"$error":"#REF!"}},null,null,57.924682953792001,{"$f":"I1459-#REF!","v":{"$error":"#REF!"}}]
["2°C","Manjimup",{"$error":"#REF!"},{"$error":"#REF!"},26.9839447215377,{"$f":"E1460-#REF!","v":{"$error":"#REF!"}},null,null,39.683371129427002,{"$f":"I1460-#REF!","v":{"$error":"#REF!"}}]
["2°C","Manjimup",{"$error":"#REF!"},{"$error":"#REF!"},49.112025549135502,{"$f":"E1461-#REF!","v":{"$error":"#REF!"}},null,null,58.205179528636599,{"$f":"I1461-#REF!","v":{"$error":"#REF!"}}]
["2°C","Manjimup",{"$error":"#REF!"},{"$error":"#REF!"},36.957594080809002,{"$f":"E1462-#REF!","v":{"$error":"#REF!"}},null,null,51.139945535931901,{"$f":"I1462-#REF!","v":{"$error":"#REF!"}}]
["2°C","Manjimup",{"$error":"#REF!"},{"$error":"#REF!"},55.405835341756301,{"$f":"E1463-#REF!","v":{"$error":"#REF!"}},null,null,64.736834199129106,{"$f":"I1463-#REF!","v":{"$error":"#REF!"}}]
["2°C","Manjimup",{"$error":"#REF!"},{"$error":"#REF!"},36.4956372591217,{"$f":"E1464-#REF!","v":{"$error":"#REF!"}},null,null,48.439313340196598,{"$f":"I1464-#REF!","v":{"$error":"#REF!"}}]
["2°C","Manjimup",{"$error":"#REF!"},{"$error":"#REF!"},37.914214735887199,{"$f":"E1465-#REF!","v":{"$error":"#REF!"}},null,null,51.6746741650771,{"$f":"I1465-#REF!","v":{"$error":"#REF!"}}]
["2°C","Manjimup",{"$error":"#REF!"},{"$error":"#REF!"},47.280320272981498,{"$f":"E1466-#REF!","v":{"$error":"#REF!"}},null,null,56.048090516991699,{"$f":"I1466-#REF!","v":{"$error":"#REF!"}}]
["2°C","Manjimup",{"$error":"#REF!"},{"$error":"#REF!"},59.0717773501134,{"$f":"E1467-#REF!","v":{"$error":"#REF!"}},null,null,65.524357760425005,{"$f":"I1467-#REF!","v":{"$error":"#REF!"}}]
["2°C","Manjimup",{"$error":"#REF!"},{"$error":"#REF!"},36.995098297564397,{"$f":"E1468-#REF!","v":{"$error":"#REF!"}},null,null,51.801105790578802,{"$f":"I1468-#REF!","v":{"$error":"#REF!"}}]
["2°C","Manjimup",{"$error":"#REF!"},{"$error":"#REF!"},43.041162473302798,{"$f":"E1469-#REF!","v":{"$error":"#REF!"}},null,null,54.794829229813402,{"$f":"I1469-#REF!","v":{"$error":"#REF!"}}]
["2°C","Manjimup",{"$error":"#REF!"},{"$error":"#REF!"},51.010643750931898,{"$f":"E1470-#REF!","v":{"$error":"#REF!"}},null,null,62.476671529314501,{"$f":"I1470-#REF!","v":{"$error":"#REF!"}}]
["2°C","Manjimup",{"$error":"#REF!"},{"$error":"#REF!"},34.103021824485502,{"$f":"E1471-#REF!","v":{"$error":"#REF!"}},null,null,45.538174682477703,{"$f":"I1471-#REF!","v":{"$error":"#REF!"}}]
["2°C","Manjimup",{"$error":"#REF!"},{"$error":"#REF!"},40.025817959835202,{"$f":"E1472-#REF!","v":{"$error":"#REF!"}},null,null,51.219782108689003,{"$f":"I1472-#REF!","v":{"$error":"#REF!"}}]
["2°C","Manjimup",{"$error":"#REF!"},{"$error":"#REF!"},40.615328715345598,{"$f":"E1473-#REF!","v":{"$error":"#REF!"}},null,null,50.891216835151198,{"$f":"I1473-#REF!","v":{"$error":"#REF!"}}]
["2°C","Manjimup",{"$f":"IF(F1474>0,1,0)/99","v":{"$error":"#REF!"}},{"$f":"IF(J1474>0,1,0)/99","v":{"$error":"#REF!"}},37.581483941429603,{"$f":"E1474-#REF!","v":{"$error":"#REF!"}},null,null,45.8902681209265,{"$f":"I1474-#REF!","v":{"$error":"#REF!"}}]
["2°C","Manjimup",{"$error":"#REF!"},{"$error":"#REF!"},43.183144042812302,{"$f":"E1475-#REF!","v":{"$error":"#REF!"}},null,null,51.962994651647698,{"$f":"I1475-#REF!","v":{"$error":"#REF!"}}]
["2°C","Manjimup",{"$error":"#REF!"},{"$error":"#REF!"},36.771362113945798,{"$f":"E1476-#REF!","v":{"$error":"#REF!"}},null,null,45.802384176044598,{"$f":"I1476-#REF!","v":{"$error":"#REF!"}}]
["2°C","Manjimup",{"$error":"#REF!"},{"$error":"#REF!"},46.6454900282762,{"$f":"E1477-#REF!","v":{"$error":"#REF!"}},null,null,56.057682186417402,{"$f":"I1477-#REF!","v":{"$error":"#REF!"}}]
["2°C","Manjimup",{"$error":"#REF!"},{"$error":"#REF!"},39.8025831091187,{"$f":"E1478-#REF!","v":{"$error":"#REF!"}},null,null,51.150978561024203,{"$f":"I1478-#REF!","v":{"$error":"#REF!"}}]
["2°C","Manjimup",{"$error":"#REF!"},{"$error":"#REF!"},39.583477227297699,{"$f":"E1479-#REF!","v":{"$error":"#REF!"}},null,null,52.877383283750099,{"$f":"I1479-#REF!","v":{"$error":"#REF!"}}]
["2°C","Manjimup",{"$error":"#REF!"},{"$error":"#REF!"},41.57023978942,{"$f":"E1480-#REF!","v":{"$error":"#REF!"}},null,null,49.199458444150601,{"$f":"I1480-#REF!","v":{"$error":"#REF!"}}]
["2°C","Manjimup",{"$error":"#REF!"},{"$error":"#REF!"},44.695724969518501,{"$f":"E1481-#REF!","v":{"$error":"#REF!"}},null,null,56.593249941540797,{"$f":"I1481-#REF!","v":{"$error":"#REF!"}}]
["2°C","Manjimup",{"$error":"#REF!"},{"$error":"#REF!"},39.888986178912603,{"$f":"E1482-#REF!","v":{"$error":"#REF!"}},null,null,46.366084723744798,{"$f":"I1482-#REF!","v":{"$error":"#REF!"}}]
["2°C","Manjimup",{"$error":"#REF!"},{"$error":"#REF!"},36.634867762555402,{"$f":"E1483-#REF!","v":{"$error":"#REF!"}},null,null,51.7863725563789,{"$f":"I1483-#REF!","v":{"$error":"#REF!"}}]
["2°C","Manjimup",{"$error":"#REF!"},{"$error":"#REF!"},33.112071366635902,{"$f":"E1484-#REF!","v":{"$error":"#REF!"}},null,null,44.714158889466098,{"$f":"I1484-#REF!","v":{"$error":"#REF!"}}]
["2°C","Manjimup",{"$error":"#REF!"},{"$error":"#REF!"},44.422266457081101,{"$f":"E1485-#REF!","v":{"$error":"#REF!"}},null,null,55.9017846579154,{"$f":"I1485-#REF!","v":{"$error":"#REF!"}}]
["2°C","Manjimup",{"$error":"#REF!"},{"$error":"#REF!"},42.470338899246698,{"$f":"E1486-#REF!","v":{"$error":"#REF!"}},null,null,51.605220446572602,{"$f":"I1486-#REF!","v":{"$error":"#REF!"}}]
["2°C","Orange",{"$error":"#REF!"},{"$error":"#REF!"},68.852855775349795,{"$f":"E1487-#REF!","v":{"$error":"#REF!"}},null,null,76.5820274050742,{"$f":"I1487-#REF!","v":{"$error":"#REF!"}}]
["2°C","Orange",{"$error":"#REF!"},{"$error":"#REF!"},71.365877823410599,{"$f":"E1488-#REF!","v":{"$error":"#REF!"}},null,null,80.400442522343496,{"$f":"I1488-#REF!","v":{"$error":"#REF!"}}]
["2°C","Orange",{"$error":"#REF!"},{"$error":"#REF!"},76.910000138978404,{"$f":"E1489-#REF!","v":{"$error":"#REF!"}},null,null,84.067531802161,{"$f":"I1489-#REF!","v":{"$error":"#REF!"}}]
["2°C","Orange",{"$error":"#REF!"},{"$error":"#REF!"},65.162715073540596,{"$f":"E1490-#REF!","v":{"$error":"#REF!"}},null,null,73.020874031296898,{"$f":"I1490-#REF!","v":{"$error":"#REF!"}}]
["2°C","Orange",{"$error":"#REF!"},{"$error":"#REF!"},74.117749003318394,{"$f":"E1491-#REF!","v":{"$error":"#REF!"}},null,null,81.513067869872401,{"$f":"I1491-#REF!","v":{"$error":"#REF!"}}]
["2°C","Orange",{"$error":"#REF!"},{"$error":"#REF!"},72.433315956475795,{"$f":"E1492-#REF!","v":{"$error":"#REF!"}},null,null,82.552605389498197,{"$f":"I1492-#REF!","v":{"$error":"#REF!"}}]
["2°C","Orange",{"$error":"#REF!"},{"$error":"#REF!"},80.606684453128906,{"$f":"E1493-#REF!","v":{"$error":"#REF!"}},null,null,85.280732442725295,{"$f":"I1493-#REF!","v":{"$error":"#REF!"}}]
["2°C","Orange",{"$error":"#REF!"},{"$error":"#REF!"},71.839512850064096,{"$f":"E1494-#REF!","v":{"$error":"#REF!"}},null,null,79.172756885315806,{"$f":"I1494-#REF!","v":{"$error":"#REF!"}}]
["2°C","Orange",{"$error":"#REF!"},{"$error":"#REF!"},62.975798582393999,{"$f":"E1495-#REF!","v":{"$error":"#REF!"}},null,null,68.911797840662302,{"$f":"I1495-#REF!","v":{"$error":"#REF!"}}]
["2°C","Orange",{"$error":"#REF!"},{"$error":"#REF!"},73.6332609811503,{"$f":"E1496-#REF!","v":{"$error":"#REF!"}},null,null,82.938459632973306,{"$f":"I1496-#REF!","v":{"$error":"#REF!"}}]
["2°C","Orange",{"$error":"#REF!"},{"$error":"#REF!"},63.764812700490303,{"$f":"E1497-#REF!","v":{"$error":"#REF!"}},null,null,77.189914084709102,{"$f":"I1497-#REF!","v":{"$error":"#REF!"}}]
["2°C","Orange",{"$error":"#REF!"},{"$error":"#REF!"},74.515289707722701,{"$f":"E1498-#REF!","v":{"$error":"#REF!"}},null,null,82.270920638834298,{"$f":"I1498-#REF!","v":{"$error":"#REF!"}}]
["2°C","Orange",{"$error":"#REF!"},{"$error":"#REF!"},71.467678781731607,{"$f":"E1499-#REF!","v":{"$error":"#REF!"}},null,null,78.087174844495195,{"$f":"I1499-#REF!","v":{"$error":"#REF!"}}]
["2°C","Orange",{"$error":"#REF!"},{"$error":"#REF!"},71.636795413252898,{"$f":"E1500-#REF!","v":{"$error":"#REF!"}},null,null,79.826143720427297,{"$f":"I1500-#REF!","v":{"$error":"#REF!"}}]
["2°C","Orange",{"$error":"#REF!"},{"$error":"#REF!"},68.619586691421304,{"$f":"E1501-#REF!","v":{"$error":"#REF!"}},null,null,80.524269771351399,{"$f":"I1501-#REF!","v":{"$error":"#REF!"}}]
["2°C","Orange",{"$error":"#REF!"},{"$error":"#REF!"},77.787063177047997,{"$f":"E1502-#REF!","v":{"$error":"#REF!"}},null,null,84.939950127529002,{"$f":"I1502-#REF!","v":{"$error":"#REF!"}}]
["2°C","Orange",{"$error":"#REF!"},{"$error":"#REF!"},77.385886965234207,{"$f":"E1503-#REF!","v":{"$error":"#REF!"}},null,null,82.577403059508399,{"$f":"I1503-#REF!","v":{"$error":"#REF!"}}]
["2°C","Orange",{"$error":"#REF!"},{"$error":"#REF!"},70.985966131682403,{"$f":"E1504-#REF!","v":{"$error":"#REF!"}},null,null,80.471469855808706,{"$f":"I1504-#REF!","v":{"$error":"#REF!"}}]
["2°C","Orange",{"$error":"#REF!"},{"$error":"#REF!"},77.619959293397798,{"$f":"E1505-#REF!","v":{"$error":"#REF!"}},null,null,82.920446549194097,{"$f":"I1505-#REF!","v":{"$error":"#REF!"}}]
["2°C","Orange",{"$error":"#REF!"},{"$error":"#REF!"},72.469299245016401,{"$f":"E1506-#REF!","v":{"$error":"#REF!"}},null,null,82.468093953877997,{"$f":"I1506-#REF!","v":{"$error":"#REF!"}}]
["2°C","Orange",{"$error":"#REF!"},{"$error":"#REF!"},75.061764642613198,{"$f":"E1507-#REF!","v":{"$error":"#REF!"}},null,null,79.352614537633997,{"$f":"I1507-#REF!","v":{"$error":"#REF!"}}]
["2°C","Orange",{"$error":"#REF!"},{"$error":"#REF!"},66.339653377260106,{"$f":"E1508-#REF!","v":{"$error":"#REF!"}},null,null,80.648464040492698,{"$f":"I1508-#REF!","v":{"$error":"#REF!"}}]
["2°C","Orange",{"$error":"#REF!"},{"$error":"#REF!"},67.425150336903101,{"$f":"E1509-#REF!","v":{"$error":"#REF!"}},null,null,77.1456661178714,{"$f":"I1509-#REF!","v":{"$error":"#REF!"}}]
["2°C","Orange",{"$error":"#REF!"},{"$error":"#REF!"},71.340178287120594,{"$f":"E1510-#REF!","v":{"$error":"#REF!"}},null,null,81.710309423450596,{"$f":"I1510-#REF!","v":{"$error":"#REF!"}}]
["2°C","Orange",{"$error":"#REF!"},{"$error":"#REF!"},74.112748259840501,{"$f":"E1511-#REF!","v":{"$error":"#REF!"}},null,null,86.055842814728095,{"$f":"I1511-#REF!","v":{"$error":"#REF!"}}]
["2°C","Orange",{"$error":"#REF!"},{"$error":"#REF!"},71.678172877900295,{"$f":"E1512-#REF!","v":{"$error":"#REF!"}},null,null,80.972739699329694,{"$f":"I1512-#REF!","v":{"$error":"#REF!"}}]
["2°C","Orange",{"$error":"#REF!"},{"$error":"#REF!"},76.103129375150004,{"$f":"E1513-#REF!","v":{"$error":"#REF!"}},null,null,82.568320094240306,{"$f":"I1513-#REF!","v":{"$error":"#REF!"}}]
["2°C","Orange",{"$error":"#REF!"},{"$error":"#REF!"},71.922678439923999,{"$f":"E1514-#REF!","v":{"$error":"#REF!"}},null,null,75.614712708023802,{"$f":"I1514-#REF!","v":{"$error":"#REF!"}}]
["2°C","Orange",{"$error":"#REF!"},{"$error":"#REF!"},71.325363554961797,{"$f":"E1515-#REF!","v":{"$error":"#REF!"}},null,null,82.193588222204397,{"$f":"I1515-#REF!","v":{"$error":"#REF!"}}]
["2°C","Orange",{"$error":"#REF!"},{"$error":"#REF!"},73.126867681508102,{"$f":"E1516-#REF!","v":{"$error":"#REF!"}},null,null,78.452994874397106,{"$f":"I1516-#REF!","v":{"$error":"#REF!"}}]
["2°C","Orange",{"$error":"#REF!"},{"$error":"#REF!"},69.524063941177204,{"$f":"E1517-#REF!","v":{"$error":"#REF!"}},null,null,81.045296867958598,{"$f":"I1517-#REF!","v":{"$error":"#REF!"}}]
["2°C","Orange",{"$error":"#REF!"},{"$error":"#REF!"},69.495655087779497,{"$f":"E1518-#REF!","v":{"$error":"#REF!"}},null,null,75.219498936109702,{"$f":"I1518-#REF!","v":{"$error":"#REF!"}}]
["2°C","Orange",{"$error":"#REF!"},{"$error":"#REF!"},81.9248120261488,{"$f":"E1519-#REF!","v":{"$error":"#REF!"}},null,null,85.396631979705404,{"$f":"I1519-#REF!","v":{"$error":"#REF!"}}]
["2°C","Orange",{"$error":"#REF!"},{"$error":"#REF!"},71.803822431206598,{"$f":"E1520-#REF!","v":{"$error":"#REF!"}},null,null,77.514813976786002,{"$f":"I1520-#REF!","v":{"$error":"#REF!"}}]
["2°C","Orange",{"$error":"#REF!"},{"$error":"#REF!"},74.916154529848797,{"$f":"E1521-#REF!","v":{"$error":"#REF!"}},null,null,81.733287188294995,{"$f":"I1521-#REF!","v":{"$error":"#REF!"}}]
["2°C","Orange",{"$error":"#REF!"},{"$error":"#REF!"},67.318093797719698,{"$f":"E1522-#REF!","v":{"$error":"#REF!"}},null,null,76.061668120192095,{"$f":"I1522-#REF!","v":{"$error":"#REF!"}}]
["2°C","Orange",{"$error":"#REF!"},{"$error":"#REF!"},67.718308445547393,{"$f":"E1523-#REF!","v":{"$error":"#REF!"}},null,null,72.378861448181198,{"$f":"I1523-#REF!","v":{"$error":"#REF!"}}]
["2°C","Orange",{"$error":"#REF!"},{"$error":"#REF!"},74.618172507039702,{"$f":"E1524-#REF!","v":{"$error":"#REF!"}},null,null,81.528467044018598,{"$f":"I1524-#REF!","v":{"$error":"#REF!"}}]
["2°C","Orange",{"$error":"#REF!"},{"$error":"#REF!"},71.049332527584298,{"$f":"E1525-#REF!","v":{"$error":"#REF!"}},null,null,79.088540408198298,{"$f":"I1525-#REF!","v":{"$error":"#REF!"}}]
["2°C","Orange",{"$error":"#REF!"},{"$error":"#REF!"},69.935439866749604,{"$f":"E1526-#REF!","v":{"$error":"#REF!"}},null,null,81.622398610489995,{"$f":"I1526-#REF!","v":{"$error":"#REF!"}}]
["2°C","Orange",{"$error":"#REF!"},{"$error":"#REF!"},68.980755125463105,{"$f":"E1527-#REF!","v":{"$error":"#REF!"}},null,null,78.369829242065904,{"$f":"I1527-#REF!","v":{"$error":"#REF!"}}]
["2°C","Orange",{"$error":"#REF!"},{"$error":"#REF!"},69.635653144733794,{"$f":"E1528-#REF!","v":{"$error":"#REF!"}},null,null,77.966757027707104,{"$f":"I1528-#REF!","v":{"$error":"#REF!"}}]
["2°C","Orange",{"$error":"#REF!"},{"$error":"#REF!"},69.415340363168397,{"$f":"E1529-#REF!","v":{"$error":"#REF!"}},null,null,75.0595189279544,{"$f":"I1529-#REF!","v":{"$error":"#REF!"}}]
["2°C","Orange",{"$error":"#REF!"},{"$error":"#REF!"},60.914933216736102,{"$f":"E1530-#REF!","v":{"$error":"#REF!"}},null,null,73.884578731926297,{"$f":"I1530-#REF!","v":{"$error":"#REF!"}}]
["2°C","Orange",{"$error":"#REF!"},{"$error":"#REF!"},72.526865967603499,{"$f":"E1531-#REF!","v":{"$error":"#REF!"}},null,null,78.842113270829998,{"$f":"I1531-#REF!","v":{"$error":"#REF!"}}]
["2°C","Orange",{"$error":"#REF!"},{"$error":"#REF!"},79.148505411586399,{"$f":"E1532-#REF!","v":{"$error":"#REF!"}},null,null,83.960018943791596,{"$f":"I1532-#REF!","v":{"$error":"#REF!"}}]
["2°C","Orange",{"$error":"#REF!"},{"$error":"#REF!"},68.415404652004199,{"$f":"E1533-#REF!","v":{"$error":"#REF!"}},null,null,75.289127730150696,{"$f":"I1533-#REF!","v":{"$error":"#REF!"}}]
["2°C","Orange",{"$error":"#REF!"},{"$error":"#REF!"},61.98119938784,{"$f":"E1534-#REF!","v":{"$error":"#REF!"}},null,null,69.990092753559594,{"$f":"I1534-#REF!","v":{"$error":"#REF!"}}]
["2°C","Orange",{"$error":"#REF!"},{"$error":"#REF!"},68.960234386523794,{"$f":"E1535-#REF!","v":{"$error":"#REF!"}},null,null,75.140569882581303,{"$f":"I1535-#REF!","v":{"$error":"#REF!"}}]
["2°C","Orange",{"$error":"#REF!"},{"$error":"#REF!"},78.422441260853006,{"$f":"E1536-#REF!","v":{"$error":"#REF!"}},null,null,86.061133585455295,{"$f":"I1536-#REF!","v":{"$error":"#REF!"}}]
["2°C","Orange",{"$error":"#REF!"},{"$error":"#REF!"},73.102303459739701,{"$f":"E1537-#REF!","v":{"$error":"#REF!"}},null,null,84.603572537141702,{"$f":"I1537-#REF!","v":{"$error":"#REF!"}}]
["2°C","Orange",{"$f":"IF(F1538>0,1,0)/99","v":{"$error":"#REF!"}},{"$f":"IF(J1538>0,1,0)/99","v":{"$error":"#REF!"}},67.630626116970703,{"$f":"E1538-#REF!","v":{"$error":"#REF!"}},null,null,82.906814411214597,{"$f":"I1538-#REF!","v":{"$error":"#REF!"}}]
["2°C","Orange",{"$error":"#REF!"},{"$error":"#REF!"},71.299369018198306,{"$f":"E1539-#REF!","v":{"$error":"#REF!"}},null,null,74.053289348730601,{"$f":"I1539-#REF!","v":{"$error":"#REF!"}}]
["2°C","Orange",{"$error":"#REF!"},{"$error":"#REF!"},76.423725740122904,{"$f":"E1540-#REF!","v":{"$error":"#REF!"}},null,null,83.735866802696293,{"$f":"I1540-#REF!","v":{"$error":"#REF!"}}]
["2°C","Orange",{"$error":"#REF!"},{"$error":"#REF!"},68.362429508466903,{"$f":"E1541-#REF!","v":{"$error":"#REF!"}},null,null,71.329543902705197,{"$f":"I1541-#REF!","v":{"$error":"#REF!"}}]
["2°C","Orange",{"$error":"#REF!"},{"$error":"#REF!"},76.253915685587998,{"$f":"E1542-#REF!","v":{"$error":"#REF!"}},null,null,84.773355966154696,{"$f":"I1542-#REF!","v":{"$error":"#REF!"}}]
["2°C","Orange",{"$error":"#REF!"},{"$error":"#REF!"},66.024452345809706,{"$f":"E1543-#REF!","v":{"$error":"#REF!"}},null,null,74.458049679926802,{"$f":"I1543-#REF!","v":{"$error":"#REF!"}}]
["2°C","Orange",{"$error":"#REF!"},{"$error":"#REF!"},80.834681527116402,{"$f":"E1544-#REF!","v":{"$error":"#REF!"}},null,null,86.370180477155003,{"$f":"I1544-#REF!","v":{"$error":"#REF!"}}]
["2°C","Orange",{"$error":"#REF!"},{"$error":"#REF!"},69.083511693091793,{"$f":"E1545-#REF!","v":{"$error":"#REF!"}},null,null,74.148171033027694,{"$f":"I1545-#REF!","v":{"$error":"#REF!"}}]
["2°C","Orange",{"$error":"#REF!"},{"$error":"#REF!"},79.041913455373106,{"$f":"E1546-#REF!","v":{"$error":"#REF!"}},null,null,83.324846432562694,{"$f":"I1546-#REF!","v":{"$error":"#REF!"}}]
["2°C","Orange",{"$error":"#REF!"},{"$error":"#REF!"},80.973890458503604,{"$f":"E1547-#REF!","v":{"$error":"#REF!"}},null,null,87.992771168768996,{"$f":"I1547-#REF!","v":{"$error":"#REF!"}}]
["2°C","Orange",{"$error":"#REF!"},{"$error":"#REF!"},70.292405742656001,{"$f":"E1548-#REF!","v":{"$error":"#REF!"}},null,null,76.255572155463696,{"$f":"I1548-#REF!","v":{"$error":"#REF!"}}]
["2°C","Orange",{"$error":"#REF!"},{"$error":"#REF!"},73.645200812825195,{"$f":"E1549-#REF!","v":{"$error":"#REF!"}},null,null,80.693006077160007,{"$f":"I1549-#REF!","v":{"$error":"#REF!"}}]
["2°C","Orange",{"$error":"#REF!"},{"$error":"#REF!"},76.472964796880603,{"$f":"E1550-#REF!","v":{"$error":"#REF!"}},null,null,81.191624045392601,{"$f":"I1550-#REF!","v":{"$error":"#REF!"}}]
["2°C","Orange",{"$error":"#REF!"},{"$error":"#REF!"},71.241314862894598,{"$f":"E1551-#REF!","v":{"$error":"#REF!"}},null,null,81.414362888345195,{"$f":"I1551-#REF!","v":{"$error":"#REF!"}}]
["2°C","Orange",{"$error":"#REF!"},{"$error":"#REF!"},76.248974968325101,{"$f":"E1552-#REF!","v":{"$error":"#REF!"}},null,null,83.435524584316298,{"$f":"I1552-#REF!","v":{"$error":"#REF!"}}]
["2°C","Orange",{"$error":"#REF!"},{"$error":"#REF!"},71.904316018332096,{"$f":"E1553-#REF!","v":{"$error":"#REF!"}},null,null,80.257054969096203,{"$f":"I1553-#REF!","v":{"$error":"#REF!"}}]
["2°C","Orange",{"$error":"#REF!"},{"$error":"#REF!"},78.691920903733404,{"$f":"E1554-#REF!","v":{"$error":"#REF!"}},null,null,85.061405804046203,{"$f":"I1554-#REF!","v":{"$error":"#REF!"}}]
["2°C","Orange",{"$error":"#REF!"},{"$error":"#REF!"},75.884460331569599,{"$f":"E1555-#REF!","v":{"$error":"#REF!"}},null,null,83.537276108310905,{"$f":"I1555-#REF!","v":{"$error":"#REF!"}}]
["2°C","Orange",{"$error":"#REF!"},{"$error":"#REF!"},67.746425911420801,{"$f":"E1556-#REF!","v":{"$error":"#REF!"}},null,null,75.888241632220101,{"$f":"I1556-#REF!","v":{"$error":"#REF!"}}]
["2°C","Orange",{"$error":"#REF!"},{"$error":"#REF!"},78.320780065676601,{"$f":"E1557-#REF!","v":{"$error":"#REF!"}},null,null,87.835173516965298,{"$f":"I1557-#REF!","v":{"$error":"#REF!"}}]
["2°C","Orange",{"$error":"#REF!"},{"$error":"#REF!"},65.464209173912593,{"$f":"E1558-#REF!","v":{"$error":"#REF!"}},null,null,73.151458953054004,{"$f":"I1558-#REF!","v":{"$error":"#REF!"}}]
["2°C","Orange",{"$error":"#REF!"},{"$error":"#REF!"},73.549390846587002,{"$f":"E1559-#REF!","v":{"$error":"#REF!"}},null,null,82.012609936614595,{"$f":"I1559-#REF!","v":{"$error":"#REF!"}}]
["2°C","Orange",{"$error":"#REF!"},{"$error":"#REF!"},74.581538724529693,{"$f":"E1560-#REF!","v":{"$error":"#REF!"}},null,null,81.809663457545,{"$f":"I1560-#REF!","v":{"$error":"#REF!"}}]
["2°C","Orange",{"$error":"#REF!"},{"$error":"#REF!"},73.354166923901204,{"$f":"E1561-#REF!","v":{"$error":"#REF!"}},null,null,81.700170532974894,{"$f":"I1561-#REF!","v":{"$error":"#REF!"}}]
["2°C","Orange",{"$error":"#REF!"},{"$error":"#REF!"},71.101743019458993,{"$f":"E1562-#REF!","v":{"$error":"#REF!"}},null,null,79.242395323528797,{"$f":"I1562-#REF!","v":{"$error":"#REF!"}}]
["2°C","Orange",{"$error":"#REF!"},{"$error":"#REF!"},73.198974934739994,{"$f":"E1563-#REF!","v":{"$error":"#REF!"}},null,null,79.290411153888996,{"$f":"I1563-#REF!","v":{"$error":"#REF!"}}]
["2°C","Orange",{"$error":"#REF!"},{"$error":"#REF!"},69.4810075204512,{"$f":"E1564-#REF!","v":{"$error":"#REF!"}},null,null,77.193051533806596,{"$f":"I1564-#REF!","v":{"$error":"#REF!"}}]
["2°C","Orange",{"$error":"#REF!"},{"$error":"#REF!"},73.248107209327401,{"$f":"E1565-#REF!","v":{"$error":"#REF!"}},null,null,80.369072015046896,{"$f":"I1565-#REF!","v":{"$error":"#REF!"}}]
["2°C","Orange",{"$error":"#REF!"},{"$error":"#REF!"},76.242363427637997,{"$f":"E1566-#REF!","v":{"$error":"#REF!"}},null,null,82.833245747061397,{"$f":"I1566-#REF!","v":{"$error":"#REF!"}}]
["2°C","Orange",{"$error":"#REF!"},{"$error":"#REF!"},70.460466199558894,{"$f":"E1567-#REF!","v":{"$error":"#REF!"}},null,null,81.604246452842403,{"$f":"I1567-#REF!","v":{"$error":"#REF!"}}]
["2°C","Orange",{"$error":"#REF!"},{"$error":"#REF!"},77.884607399991395,{"$f":"E1568-#REF!","v":{"$error":"#REF!"}},null,null,81.790754879825499,{"$f":"I1568-#REF!","v":{"$error":"#REF!"}}]
["2°C","Orange",{"$error":"#REF!"},{"$error":"#REF!"},68.229540114571606,{"$f":"E1569-#REF!","v":{"$error":"#REF!"}},null,null,78.919158501905798,{"$f":"I1569-#REF!","v":{"$error":"#REF!"}}]
["2°C","Orange",{"$error":"#REF!"},{"$error":"#REF!"},70.955718134791894,{"$f":"E1570-#REF!","v":{"$error":"#REF!"}},null,null,77.723086337834999,{"$f":"I1570-#REF!","v":{"$error":"#REF!"}}]
["2°C","Orange",{"$error":"#REF!"},{"$error":"#REF!"},62.287907684386603,{"$f":"E1571-#REF!","v":{"$error":"#REF!"}},null,null,73.235051136176097,{"$f":"I1571-#REF!","v":{"$error":"#REF!"}}]
["2°C","Orange",{"$error":"#REF!"},{"$error":"#REF!"},72.064782715416001,{"$f":"E1572-#REF!","v":{"$error":"#REF!"}},null,null,75.811882194903504,{"$f":"I1572-#REF!","v":{"$error":"#REF!"}}]
["2°C","Orange",{"$error":"#REF!"},{"$error":"#REF!"},71.014406114742002,{"$f":"E1573-#REF!","v":{"$error":"#REF!"}},null,null,76.764784146675694,{"$f":"I1573-#REF!","v":{"$error":"#REF!"}}]
["2°C","Orange",{"$error":"#REF!"},{"$error":"#REF!"},70.123044146889896,{"$f":"E1574-#REF!","v":{"$error":"#REF!"}},null,null,80.736155173485002,{"$f":"I1574-#REF!","v":{"$error":"#REF!"}}]
["2°C","Orange",{"$error":"#REF!"},{"$error":"#REF!"},65.319351893793893,{"$f":"E1575-#REF!","v":{"$error":"#REF!"}},null,null,74.786623138266904,{"$f":"I1575-#REF!","v":{"$error":"#REF!"}}]
["2°C","Orange",{"$error":"#REF!"},{"$error":"#REF!"},79.799368333554199,{"$f":"E1576-#REF!","v":{"$error":"#REF!"}},null,null,81.749148138765705,{"$f":"I1576-#REF!","v":{"$error":"#REF!"}}]
["2°C","Orange",{"$error":"#REF!"},{"$error":"#REF!"},72.636509578465805,{"$f":"E1577-#REF!","v":{"$error":"#REF!"}},null,null,80.145345755100195,{"$f":"I1577-#REF!","v":{"$error":"#REF!"}}]
["2°C","Orange",{"$error":"#REF!"},{"$error":"#REF!"},68.308033933037706,{"$f":"E1578-#REF!","v":{"$error":"#REF!"}},null,null,77.105649327360297,{"$f":"I1578-#REF!","v":{"$error":"#REF!"}}]
["2°C","Orange",{"$error":"#REF!"},{"$error":"#REF!"},69.278760409982297,{"$f":"E1579-#REF!","v":{"$error":"#REF!"}},null,null,79.005304859499802,{"$f":"I1579-#REF!","v":{"$error":"#REF!"}}]
["2°C","Orange",{"$error":"#REF!"},{"$error":"#REF!"},73.375307296374999,{"$f":"E1580-#REF!","v":{"$error":"#REF!"}},null,null,80.514004960273297,{"$f":"I1580-#REF!","v":{"$error":"#REF!"}}]
["2°C","Orange",{"$error":"#REF!"},{"$error":"#REF!"},64.919824110337501,{"$f":"E1581-#REF!","v":{"$error":"#REF!"}},null,null,74.503935178123896,{"$f":"I1581-#REF!","v":{"$error":"#REF!"}}]
["2°C","Orange",{"$error":"#REF!"},{"$error":"#REF!"},73.134753527550004,{"$f":"E1582-#REF!","v":{"$error":"#REF!"}},null,null,80.202732401757999,{"$f":"I1582-#REF!","v":{"$error":"#REF!"}}]
["2°C","Orange",{"$error":"#REF!"},{"$error":"#REF!"},67.207879769979996,{"$f":"E1583-#REF!","v":{"$error":"#REF!"}},null,null,72.653458330701596,{"$f":"I1583-#REF!","v":{"$error":"#REF!"}}]
["2°C","Orange",{"$error":"#REF!"},{"$error":"#REF!"},68.512023612721507,{"$f":"E1584-#REF!","v":{"$error":"#REF!"}},null,null,79.492333843259999,{"$f":"I1584-#REF!","v":{"$error":"#REF!"}}]
["2°C","Orange",{"$error":"#REF!"},{"$error":"#REF!"},65.4693715023202,{"$f":"E1585-#REF!","v":{"$error":"#REF!"}},null,null,79.437559987905004,{"$f":"I1585-#REF!","v":{"$error":"#REF!"}}]
["2°C","Tatura",{"$error":"#REF!"},{"$error":"#REF!"},60.987400699402002,{"$f":"E1586-#REF!","v":{"$error":"#REF!"}},null,null,66.948342810547402,{"$f":"I1586-#REF!","v":{"$error":"#REF!"}}]
["2°C","Tatura",{"$error":"#REF!"},{"$error":"#REF!"},57.464607973465199,{"$f":"E1587-#REF!","v":{"$error":"#REF!"}},null,null,68.198940747433198,{"$f":"I1587-#REF!","v":{"$error":"#REF!"}}]
["2°C","Tatura",{"$error":"#REF!"},{"$error":"#REF!"},64.522367110556601,{"$f":"E1588-#REF!","v":{"$error":"#REF!"}},null,null,74.130237272105106,{"$f":"I1588-#REF!","v":{"$error":"#REF!"}}]
["2°C","Tatura",{"$error":"#REF!"},{"$error":"#REF!"},58.359728900750802,{"$f":"E1589-#REF!","v":{"$error":"#REF!"}},null,null,65.336059365763205,{"$f":"I1589-#REF!","v":{"$error":"#REF!"}}]
["2°C","Tatura",{"$error":"#REF!"},{"$error":"#REF!"},59.565959112892997,{"$f":"E1590-#REF!","v":{"$error":"#REF!"}},null,null,71.269169641151805,{"$f":"I1590-#REF!","v":{"$error":"#REF!"}}]
["2°C","Tatura",{"$error":"#REF!"},{"$error":"#REF!"},65.872995631660501,{"$f":"E1591-#REF!","v":{"$error":"#REF!"}},null,null,73.443931807521594,{"$f":"I1591-#REF!","v":{"$error":"#REF!"}}]
["2°C","Tatura",{"$error":"#REF!"},{"$error":"#REF!"},62.107519705667798,{"$f":"E1592-#REF!","v":{"$error":"#REF!"}},null,null,71.7050144446644,{"$f":"I1592-#REF!","v":{"$error":"#REF!"}}]
["2°C","Tatura",{"$error":"#REF!"},{"$error":"#REF!"},60.212099924660301,{"$f":"E1593-#REF!","v":{"$error":"#REF!"}},null,null,67.124945749642606,{"$f":"I1593-#REF!","v":{"$error":"#REF!"}}]
["2°C","Tatura",{"$error":"#REF!"},{"$error":"#REF!"},63.313492618010898,{"$f":"E1594-#REF!","v":{"$error":"#REF!"}},null,null,70.342993661757006,{"$f":"I1594-#REF!","v":{"$error":"#REF!"}}]
["2°C","Tatura",{"$error":"#REF!"},{"$error":"#REF!"},67.333372350483302,{"$f":"E1595-#REF!","v":{"$error":"#REF!"}},null,null,77.105444690568802,{"$f":"I1595-#REF!","v":{"$error":"#REF!"}}]
["2°C","Tatura",{"$error":"#REF!"},{"$error":"#REF!"},55.165660642732398,{"$f":"E1596-#REF!","v":{"$error":"#REF!"}},null,null,65.068165273037394,{"$f":"I1596-#REF!","v":{"$error":"#REF!"}}]
["2°C","Tatura",{"$error":"#REF!"},{"$error":"#REF!"},66.226885963515599,{"$f":"E1597-#REF!","v":{"$error":"#REF!"}},null,null,71.098222732587701,{"$f":"I1597-#REF!","v":{"$error":"#REF!"}}]
["2°C","Tatura",{"$error":"#REF!"},{"$error":"#REF!"},64.352307976238507,{"$f":"E1598-#REF!","v":{"$error":"#REF!"}},null,null,70.086336093092001,{"$f":"I1598-#REF!","v":{"$error":"#REF!"}}]
["2°C","Tatura",{"$error":"#REF!"},{"$error":"#REF!"},63.0957191414183,{"$f":"E1599-#REF!","v":{"$error":"#REF!"}},null,null,72.372677489842403,{"$f":"I1599-#REF!","v":{"$error":"#REF!"}}]
["2°C","Tatura",{"$error":"#REF!"},{"$error":"#REF!"},58.978515567634503,{"$f":"E1600-#REF!","v":{"$error":"#REF!"}},null,null,68.446707133223896,{"$f":"I1600-#REF!","v":{"$error":"#REF!"}}]
["2°C","Tatura",{"$error":"#REF!"},{"$error":"#REF!"},63.456957106241497,{"$f":"E1601-#REF!","v":{"$error":"#REF!"}},null,null,77.509030206018906,{"$f":"I1601-#REF!","v":{"$error":"#REF!"}}]
["2°C","Tatura",{"$f":"IF(F1602>0,1,0)/99","v":{"$error":"#REF!"}},{"$f":"IF(J1602>0,1,0)/99","v":{"$error":"#REF!"}},66.422252683139703,{"$f":"E1602-#REF!","v":{"$error":"#REF!"}},null,null,74.349521909792998,{"$f":"I1602-#REF!","v":{"$error":"#REF!"}}]
["2°C","Tatura",{"$error":"#REF!"},{"$error":"#REF!"},57.710730583463999,{"$f":"E1603-#REF!","v":{"$error":"#REF!"}},null,null,67.485596404688394,{"$f":"I1603-#REF!","v":{"$error":"#REF!"}}]
["2°C","Tatura",{"$error":"#REF!"},{"$error":"#REF!"},61.237032588445203,{"$f":"E1604-#REF!","v":{"$error":"#REF!"}},null,null,70.667681903079497,{"$f":"I1604-#REF!","v":{"$error":"#REF!"}}]
["2°C","Tatura",{"$error":"#REF!"},{"$error":"#REF!"},57.5322253492063,{"$f":"E1605-#REF!","v":{"$error":"#REF!"}},null,null,66.629339568432002,{"$f":"I1605-#REF!","v":{"$error":"#REF!"}}]
["2°C","Tatura",{"$error":"#REF!"},{"$error":"#REF!"},65.142203869347199,{"$f":"E1606-#REF!","v":{"$error":"#REF!"}},null,null,71.791787132349,{"$f":"I1606-#REF!","v":{"$error":"#REF!"}}]
["2°C","Tatura",{"$error":"#REF!"},{"$error":"#REF!"},61.259221755842503,{"$f":"E1607-#REF!","v":{"$error":"#REF!"}},null,null,69.557946220429301,{"$f":"I1607-#REF!","v":{"$error":"#REF!"}}]
["2°C","Tatura",{"$error":"#REF!"},{"$error":"#REF!"},61.016062038815697,{"$f":"E1608-#REF!","v":{"$error":"#REF!"}},null,null,66.0655463499955,{"$f":"I1608-#REF!","v":{"$error":"#REF!"}}]
["2°C","Tatura",{"$error":"#REF!"},{"$error":"#REF!"},55.629642987732602,{"$f":"E1609-#REF!","v":{"$error":"#REF!"}},null,null,66.686984039533698,{"$f":"I1609-#REF!","v":{"$error":"#REF!"}}]
["2°C","Tatura",{"$error":"#REF!"},{"$error":"#REF!"},60.095882018534297,{"$f":"E1610-#REF!","v":{"$error":"#REF!"}},null,null,71.383978243907805,{"$f":"I1610-#REF!","v":{"$error":"#REF!"}}]
["2°C","Tatura",{"$error":"#REF!"},{"$error":"#REF!"},60.142159735777,{"$f":"E1611-#REF!","v":{"$error":"#REF!"}},null,null,69.346150322739305,{"$f":"I1611-#REF!","v":{"$error":"#REF!"}}]
["2°C","Tatura",{"$error":"#REF!"},{"$error":"#REF!"},57.188252176837501,{"$f":"E1612-#REF!","v":{"$error":"#REF!"}},null,null,66.997972569056003,{"$f":"I1612-#REF!","v":{"$error":"#REF!"}}]
["2°C","Tatura",{"$error":"#REF!"},{"$error":"#REF!"},56.371854702554401,{"$f":"E1613-#REF!","v":{"$error":"#REF!"}},null,null,66.616687805020206,{"$f":"I1613-#REF!","v":{"$error":"#REF!"}}]
["2°C","Tatura",{"$error":"#REF!"},{"$error":"#REF!"},63.759732823044999,{"$f":"E1614-#REF!","v":{"$error":"#REF!"}},null,null,71.216440205110203,{"$f":"I1614-#REF!","v":{"$error":"#REF!"}}]
["2°C","Tatura",{"$error":"#REF!"},{"$error":"#REF!"},59.423198466982001,{"$f":"E1615-#REF!","v":{"$error":"#REF!"}},null,null,68.992789478930902,{"$f":"I1615-#REF!","v":{"$error":"#REF!"}}]
["2°C","Tatura",{"$error":"#REF!"},{"$error":"#REF!"},60.503853797558499,{"$f":"E1616-#REF!","v":{"$error":"#REF!"}},null,null,66.739563393897797,{"$f":"I1616-#REF!","v":{"$error":"#REF!"}}]
["2°C","Tatura",{"$error":"#REF!"},{"$error":"#REF!"},57.216563549366803,{"$f":"E1617-#REF!","v":{"$error":"#REF!"}},null,null,67.085037315846193,{"$f":"I1617-#REF!","v":{"$error":"#REF!"}}]
["2°C","Tatura",{"$error":"#REF!"},{"$error":"#REF!"},66.676389309060099,{"$f":"E1618-#REF!","v":{"$error":"#REF!"}},null,null,78.896180130885298,{"$f":"I1618-#REF!","v":{"$error":"#REF!"}}]
["2°C","Tatura",{"$error":"#REF!"},{"$error":"#REF!"},63.929563399078098,{"$f":"E1619-#REF!","v":{"$error":"#REF!"}},null,null,71.800373337195794,{"$f":"I1619-#REF!","v":{"$error":"#REF!"}}]
["2°C","Tatura",{"$error":"#REF!"},{"$error":"#REF!"},58.024119623135903,{"$f":"E1620-#REF!","v":{"$error":"#REF!"}},null,null,65.503243841540595,{"$f":"I1620-#REF!","v":{"$error":"#REF!"}}]
["2°C","Tatura",{"$error":"#REF!"},{"$error":"#REF!"},63.377968668105503,{"$f":"E1621-#REF!","v":{"$error":"#REF!"}},null,null,72.157706874069703,{"$f":"I1621-#REF!","v":{"$error":"#REF!"}}]
["2°C","Tatura",{"$error":"#REF!"},{"$error":"#REF!"},59.267077371238997,{"$f":"E1622-#REF!","v":{"$error":"#REF!"}},null,null,67.047027955558903,{"$f":"I1622-#REF!","v":{"$error":"#REF!"}}]
["2°C","Tatura",{"$error":"#REF!"},{"$error":"#REF!"},62.522416735440999,{"$f":"E1623-#REF!","v":{"$error":"#REF!"}},null,null,72.353830016162604,{"$f":"I1623-#REF!","v":{"$error":"#REF!"}}]
["2°C","Tatura",{"$error":"#REF!"},{"$error":"#REF!"},65.034776241977298,{"$f":"E1624-#REF!","v":{"$error":"#REF!"}},null,null,72.621202447990996,{"$f":"I1624-#REF!","v":{"$error":"#REF!"}}]
["2°C","Tatura",{"$error":"#REF!"},{"$error":"#REF!"},58.713040747857903,{"$f":"E1625-#REF!","v":{"$error":"#REF!"}},null,null,68.301326888804695,{"$f":"I1625-#REF!","v":{"$error":"#REF!"}}]
["2°C","Tatura",{"$error":"#REF!"},{"$error":"#REF!"},58.908673468360803,{"$f":"E1626-#REF!","v":{"$error":"#REF!"}},null,null,70.327554235371196,{"$f":"I1626-#REF!","v":{"$error":"#REF!"}}]
["2°C","Tatura",{"$error":"#REF!"},{"$error":"#REF!"},58.647311675867599,{"$f":"E1627-#REF!","v":{"$error":"#REF!"}},null,null,71.447592118671395,{"$f":"I1627-#REF!","v":{"$error":"#REF!"}}]
["2°C","Tatura",{"$error":"#REF!"},{"$error":"#REF!"},59.969292558617703,{"$f":"E1628-#REF!","v":{"$error":"#REF!"}},null,null,66.7419285042387,{"$f":"I1628-#REF!","v":{"$error":"#REF!"}}]
["2°C","Tatura",{"$error":"#REF!"},{"$error":"#REF!"},53.275110277266101,{"$f":"E1629-#REF!","v":{"$error":"#REF!"}},null,null,65.861620800943498,{"$f":"I1629-#REF!","v":{"$error":"#REF!"}}]
["2°C","Tatura",{"$error":"#REF!"},{"$error":"#REF!"},60.591567330717801,{"$f":"E1630-#REF!","v":{"$error":"#REF!"}},null,null,70.588889680342007,{"$f":"I1630-#REF!","v":{"$error":"#REF!"}}]
["2°C","Tatura",{"$error":"#REF!"},{"$error":"#REF!"},65.186967000306296,{"$f":"E1631-#REF!","v":{"$error":"#REF!"}},null,null,73.398096006164096,{"$f":"I1631-#REF!","v":{"$error":"#REF!"}}]
["2°C","Tatura",{"$error":"#REF!"},{"$error":"#REF!"},47.523323001365902,{"$f":"E1632-#REF!","v":{"$error":"#REF!"}},null,null,59.5099560885429,{"$f":"I1632-#REF!","v":{"$error":"#REF!"}}]
["2°C","Tatura",{"$error":"#REF!"},{"$error":"#REF!"},55.466338727923699,{"$f":"E1633-#REF!","v":{"$error":"#REF!"}},null,null,61.400730471991899,{"$f":"I1633-#REF!","v":{"$error":"#REF!"}}]
["2°C","Tatura",{"$error":"#REF!"},{"$error":"#REF!"},51.599208992720399,{"$f":"E1634-#REF!","v":{"$error":"#REF!"}},null,null,63.559110058501702,{"$f":"I1634-#REF!","v":{"$error":"#REF!"}}]
["2°C","Tatura",{"$error":"#REF!"},{"$error":"#REF!"},68.424265932040299,{"$f":"E1635-#REF!","v":{"$error":"#REF!"}},null,null,78.255957259701105,{"$f":"I1635-#REF!","v":{"$error":"#REF!"}}]
["2°C","Tatura",{"$error":"#REF!"},{"$error":"#REF!"},58.248862675667702,{"$f":"E1636-#REF!","v":{"$error":"#REF!"}},null,null,69.539181260385106,{"$f":"I1636-#REF!","v":{"$error":"#REF!"}}]
["2°C","Tatura",{"$error":"#REF!"},{"$error":"#REF!"},60.227700507615701,{"$f":"E1637-#REF!","v":{"$error":"#REF!"}},null,null,71.523949704050594,{"$f":"I1637-#REF!","v":{"$error":"#REF!"}}]
["2°C","Tatura",{"$error":"#REF!"},{"$error":"#REF!"},57.790773318372104,{"$f":"E1638-#REF!","v":{"$error":"#REF!"}},null,null,66.347135730386299,{"$f":"I1638-#REF!","v":{"$error":"#REF!"}}]
["2°C","Tatura",{"$error":"#REF!"},{"$error":"#REF!"},63.749771590090603,{"$f":"E1639-#REF!","v":{"$error":"#REF!"}},null,null,71.716098962060997,{"$f":"I1639-#REF!","v":{"$error":"#REF!"}}]
["2°C","Tatura",{"$error":"#REF!"},{"$error":"#REF!"},60.6977651969802,{"$f":"E1640-#REF!","v":{"$error":"#REF!"}},null,null,67.468009484991995,{"$f":"I1640-#REF!","v":{"$error":"#REF!"}}]
["2°C","Tatura",{"$error":"#REF!"},{"$error":"#REF!"},64.918080851844806,{"$f":"E1641-#REF!","v":{"$error":"#REF!"}},null,null,73.358988741673301,{"$f":"I1641-#REF!","v":{"$error":"#REF!"}}]
["2°C","Tatura",{"$error":"#REF!"},{"$error":"#REF!"},54.663791184386199,{"$f":"E1642-#REF!","v":{"$error":"#REF!"}},null,null,64.166594980925197,{"$f":"I1642-#REF!","v":{"$error":"#REF!"}}]
["2°C","Tatura",{"$error":"#REF!"},{"$error":"#REF!"},68.875167395570998,{"$f":"E1643-#REF!","v":{"$error":"#REF!"}},null,null,77.224040695230698,{"$f":"I1643-#REF!","v":{"$error":"#REF!"}}]
["2°C","Tatura",{"$error":"#REF!"},{"$error":"#REF!"},60.048068581263401,{"$f":"E1644-#REF!","v":{"$error":"#REF!"}},null,null,68.383131118880499,{"$f":"I1644-#REF!","v":{"$error":"#REF!"}}]
["2°C","Tatura",{"$error":"#REF!"},{"$error":"#REF!"},67.207312478249705,{"$f":"E1645-#REF!","v":{"$error":"#REF!"}},null,null,76.458826898644602,{"$f":"I1645-#REF!","v":{"$error":"#REF!"}}]
["2°C","Tatura",{"$error":"#REF!"},{"$error":"#REF!"},65.285100053351201,{"$f":"E1646-#REF!","v":{"$error":"#REF!"}},null,null,73.884939903267593,{"$f":"I1646-#REF!","v":{"$error":"#REF!"}}]
["2°C","Tatura",{"$error":"#REF!"},{"$error":"#REF!"},59.361454082204602,{"$f":"E1647-#REF!","v":{"$error":"#REF!"}},null,null,67.6969686604114,{"$f":"I1647-#REF!","v":{"$error":"#REF!"}}]
["2°C","Tatura",{"$error":"#REF!"},{"$error":"#REF!"},67.342780527970106,{"$f":"E1648-#REF!","v":{"$error":"#REF!"}},null,null,73.807841708610994,{"$f":"I1648-#REF!","v":{"$error":"#REF!"}}]
["2°C","Tatura",{"$error":"#REF!"},{"$error":"#REF!"},60.190579329988601,{"$f":"E1649-#REF!","v":{"$error":"#REF!"}},null,null,69.993946150076198,{"$f":"I1649-#REF!","v":{"$error":"#REF!"}}]
["2°C","Tatura",{"$error":"#REF!"},{"$error":"#REF!"},53.596834974080899,{"$f":"E1650-#REF!","v":{"$error":"#REF!"}},null,null,61.914096090839998,{"$f":"I1650-#REF!","v":{"$error":"#REF!"}}]
["2°C","Tatura",{"$error":"#REF!"},{"$error":"#REF!"},61.774412124685597,{"$f":"E1651-#REF!","v":{"$error":"#REF!"}},null,null,68.689052552646302,{"$f":"I1651-#REF!","v":{"$error":"#REF!"}}]
["2°C","Tatura",{"$error":"#REF!"},{"$error":"#REF!"},59.562405179637302,{"$f":"E1652-#REF!","v":{"$error":"#REF!"}},null,null,66.076658513373403,{"$f":"I1652-#REF!","v":{"$error":"#REF!"}}]
["2°C","Tatura",{"$error":"#REF!"},{"$error":"#REF!"},63.844044536191397,{"$f":"E1653-#REF!","v":{"$error":"#REF!"}},null,null,71.784717112246398,{"$f":"I1653-#REF!","v":{"$error":"#REF!"}}]
["2°C","Tatura",{"$error":"#REF!"},{"$error":"#REF!"},64.075506068223703,{"$f":"E1654-#REF!","v":{"$error":"#REF!"}},null,null,74.146092253224893,{"$f":"I1654-#REF!","v":{"$error":"#REF!"}}]
["2°C","Tatura",{"$error":"#REF!"},{"$error":"#REF!"},57.941418848200499,{"$f":"E1655-#REF!","v":{"$error":"#REF!"}},null,null,63.186696664399399,{"$f":"I1655-#REF!","v":{"$error":"#REF!"}}]
["2°C","Tatura",{"$error":"#REF!"},{"$error":"#REF!"},59.460129505629702,{"$f":"E1656-#REF!","v":{"$error":"#REF!"}},null,null,68.463291174177698,{"$f":"I1656-#REF!","v":{"$error":"#REF!"}}]
["2°C","Tatura",{"$error":"#REF!"},{"$error":"#REF!"},56.164590013818398,{"$f":"E1657-#REF!","v":{"$error":"#REF!"}},null,null,63.449312630477898,{"$f":"I1657-#REF!","v":{"$error":"#REF!"}}]
["2°C","Tatura",{"$error":"#REF!"},{"$error":"#REF!"},58.5155923715798,{"$f":"E1658-#REF!","v":{"$error":"#REF!"}},null,null,68.253161202059104,{"$f":"I1658-#REF!","v":{"$error":"#REF!"}}]
["2°C","Tatura",{"$error":"#REF!"},{"$error":"#REF!"},58.552276983815197,{"$f":"E1659-#REF!","v":{"$error":"#REF!"}},null,null,69.557219126837097,{"$f":"I1659-#REF!","v":{"$error":"#REF!"}}]
["2°C","Tatura",{"$error":"#REF!"},{"$error":"#REF!"},65.494478714939206,{"$f":"E1660-#REF!","v":{"$error":"#REF!"}},null,null,73.130242837727806,{"$f":"I1660-#REF!","v":{"$error":"#REF!"}}]
["2°C","Tatura",{"$error":"#REF!"},{"$error":"#REF!"},62.685684782646,{"$f":"E1661-#REF!","v":{"$error":"#REF!"}},null,null,72.1496716336177,{"$f":"I1661-#REF!","v":{"$error":"#REF!"}}]
["2°C","Tatura",{"$error":"#REF!"},{"$error":"#REF!"},58.083383117953503,{"$f":"E1662-#REF!","v":{"$error":"#REF!"}},null,null,67.295519328396594,{"$f":"I1662-#REF!","v":{"$error":"#REF!"}}]
["2°C","Tatura",{"$error":"#REF!"},{"$error":"#REF!"},52.935855382219799,{"$f":"E1663-#REF!","v":{"$error":"#REF!"}},null,null,64.793301869704194,{"$f":"I1663-#REF!","v":{"$error":"#REF!"}}]
["2°C","Tatura",{"$error":"#REF!"},{"$error":"#REF!"},64.062318670939305,{"$f":"E1664-#REF!","v":{"$error":"#REF!"}},null,null,68.799348402796099,{"$f":"I1664-#REF!","v":{"$error":"#REF!"}}]
["2°C","Tatura",{"$error":"#REF!"},{"$error":"#REF!"},62.550139453916003,{"$f":"E1665-#REF!","v":{"$error":"#REF!"}},null,null,73.909770114376101,{"$f":"I1665-#REF!","v":{"$error":"#REF!"}}]
["2°C","Tatura",{"$f":"IF(F1666>0,1,0)/99","v":{"$error":"#REF!"}},{"$f":"IF(J1666>0,1,0)/99","v":{"$error":"#REF!"}},52.230652583015001,{"$f":"E1666-#REF!","v":{"$error":"#REF!"}},null,null,61.471793285742997,{"$f":"I1666-#REF!","v":{"$error":"#REF!"}}]
["2°C","Tatura",{"$error":"#REF!"},{"$error":"#REF!"},66.855406321368505,{"$f":"E1667-#REF!","v":{"$error":"#REF!"}},null,null,74.139719151192693,{"$f":"I1667-#REF!","v":{"$error":"#REF!"}}]
["2°C","Tatura",{"$error":"#REF!"},{"$error":"#REF!"},57.180388415579003,{"$f":"E1668-#REF!","v":{"$error":"#REF!"}},null,null,67.528637215126494,{"$f":"I1668-#REF!","v":{"$error":"#REF!"}}]
["2°C","Tatura",{"$error":"#REF!"},{"$error":"#REF!"},57.180644053932099,{"$f":"E1669-#REF!","v":{"$error":"#REF!"}},null,null,65.328519681555804,{"$f":"I1669-#REF!","v":{"$error":"#REF!"}}]
["2°C","Tatura",{"$error":"#REF!"},{"$error":"#REF!"},61.954155640678799,{"$f":"E1670-#REF!","v":{"$error":"#REF!"}},null,null,70.241124713665698,{"$f":"I1670-#REF!","v":{"$error":"#REF!"}}]
["2°C","Tatura",{"$error":"#REF!"},{"$error":"#REF!"},61.898889667704204,{"$f":"E1671-#REF!","v":{"$error":"#REF!"}},null,null,72.036423495931103,{"$f":"I1671-#REF!","v":{"$error":"#REF!"}}]
["2°C","Tatura",{"$error":"#REF!"},{"$error":"#REF!"},64.709514472462303,{"$f":"E1672-#REF!","v":{"$error":"#REF!"}},null,null,72.099922727921097,{"$f":"I1672-#REF!","v":{"$error":"#REF!"}}]
["2°C","Tatura",{"$error":"#REF!"},{"$error":"#REF!"},55.1728592581958,{"$f":"E1673-#REF!","v":{"$error":"#REF!"}},null,null,64.2132488246598,{"$f":"I1673-#REF!","v":{"$error":"#REF!"}}]
["2°C","Tatura",{"$error":"#REF!"},{"$error":"#REF!"},54.302559905940598,{"$f":"E1674-#REF!","v":{"$error":"#REF!"}},null,null,65.0129888012398,{"$f":"I1674-#REF!","v":{"$error":"#REF!"}}]
["2°C","Tatura",{"$error":"#REF!"},{"$error":"#REF!"},67.292048767808595,{"$f":"E1675-#REF!","v":{"$error":"#REF!"}},null,null,74.228578759627496,{"$f":"I1675-#REF!","v":{"$error":"#REF!"}}]
["2°C","Tatura",{"$error":"#REF!"},{"$error":"#REF!"},55.988570366923803,{"$f":"E1676-#REF!","v":{"$error":"#REF!"}},null,null,64.612923322635993,{"$f":"I1676-#REF!","v":{"$error":"#REF!"}}]
["2°C","Tatura",{"$error":"#REF!"},{"$error":"#REF!"},52.211678525357001,{"$f":"E1677-#REF!","v":{"$error":"#REF!"}},null,null,61.633079112502699,{"$f":"I1677-#REF!","v":{"$error":"#REF!"}}]
["2°C","Tatura",{"$error":"#REF!"},{"$error":"#REF!"},60.886947013009298,{"$f":"E1678-#REF!","v":{"$error":"#REF!"}},null,null,72.1745338173682,{"$f":"I1678-#REF!","v":{"$error":"#REF!"}}]
["2°C","Tatura",{"$error":"#REF!"},{"$error":"#REF!"},63.882748025579502,{"$f":"E1679-#REF!","v":{"$error":"#REF!"}},null,null,72.103844189788305,{"$f":"I1679-#REF!","v":{"$error":"#REF!"}}]
["2°C","Tatura",{"$error":"#REF!"},{"$error":"#REF!"},49.845661546223297,{"$f":"E1680-#REF!","v":{"$error":"#REF!"}},null,null,61.6338249822794,{"$f":"I1680-#REF!","v":{"$error":"#REF!"}}]
["2°C","Tatura",{"$error":"#REF!"},{"$error":"#REF!"},58.935994604224,{"$f":"E1681-#REF!","v":{"$error":"#REF!"}},null,null,69.356233570666404,{"$f":"I1681-#REF!","v":{"$error":"#REF!"}}]
["2°C","Tatura",{"$error":"#REF!"},{"$error":"#REF!"},56.542656059096601,{"$f":"E1682-#REF!","v":{"$error":"#REF!"}},null,null,61.533105867673598,{"$f":"I1682-#REF!","v":{"$error":"#REF!"}}]
["2°C","Tatura",{"$error":"#REF!"},{"$error":"#REF!"},60.171123055776,{"$f":"E1683-#REF!","v":{"$error":"#REF!"}},null,null,68.899332021559005,{"$f":"I1683-#REF!","v":{"$error":"#REF!"}}]
["2°C","Tatura",{"$error":"#REF!"},{"$error":"#REF!"},48.795275321140899,{"$f":"E1684-#REF!","v":{"$error":"#REF!"}},null,null,61.002570167335897,{"$f":"I1684-#REF!","v":{"$error":"#REF!"}}]
["2°C","Yarra Yalley",{"$error":"#REF!"},{"$error":"#REF!"},65.886241532999506,{"$f":"E1685-#REF!","v":{"$error":"#REF!"}},null,null,71.973315224011898,{"$f":"I1685-#REF!","v":{"$error":"#REF!"}}]
["2°C","Yarra Yalley",{"$error":"#REF!"},{"$error":"#REF!"},69.486824363489504,{"$f":"E1686-#REF!","v":{"$error":"#REF!"}},null,null,77.334848562428107,{"$f":"I1686-#REF!","v":{"$error":"#REF!"}}]
["2°C","Yarra Yalley",{"$error":"#REF!"},{"$error":"#REF!"},75.300013515246206,{"$f":"E1687-#REF!","v":{"$error":"#REF!"}},null,null,81.181069382306106,{"$f":"I1687-#REF!","v":{"$error":"#REF!"}}]
["2°C","Yarra Yalley",{"$error":"#REF!"},{"$error":"#REF!"},66.486087142613599,{"$f":"E1688-#REF!","v":{"$error":"#REF!"}},null,null,73.531563093362195,{"$f":"I1688-#REF!","v":{"$error":"#REF!"}}]
["2°C","Yarra Yalley",{"$error":"#REF!"},{"$error":"#REF!"},69.973456850803601,{"$f":"E1689-#REF!","v":{"$error":"#REF!"}},null,null,78.092585811407204,{"$f":"I1689-#REF!","v":{"$error":"#REF!"}}]
["2°C","Yarra Yalley",{"$error":"#REF!"},{"$error":"#REF!"},70.370319795090296,{"$f":"E1690-#REF!","v":{"$error":"#REF!"}},null,null,78.741918184211997,{"$f":"I1690-#REF!","v":{"$error":"#REF!"}}]
["2°C","Yarra Yalley",{"$error":"#REF!"},{"$error":"#REF!"},70.503647070786499,{"$f":"E1691-#REF!","v":{"$error":"#REF!"}},null,null,78.621032266943899,{"$f":"I1691-#REF!","v":{"$error":"#REF!"}}]
["2°C","Yarra Yalley",{"$error":"#REF!"},{"$error":"#REF!"},64.181193038960402,{"$f":"E1692-#REF!","v":{"$error":"#REF!"}},null,null,73.612942681321996,{"$f":"I1692-#REF!","v":{"$error":"#REF!"}}]
["2°C","Yarra Yalley",{"$error":"#REF!"},{"$error":"#REF!"},69.736521448356001,{"$f":"E1693-#REF!","v":{"$error":"#REF!"}},null,null,75.792069512340007,{"$f":"I1693-#REF!","v":{"$error":"#REF!"}}]
["2°C","Yarra Yalley",{"$error":"#REF!"},{"$error":"#REF!"},76.573320587168695,{"$f":"E1694-#REF!","v":{"$error":"#REF!"}},null,null,83.539903549914797,{"$f":"I1694-#REF!","v":{"$error":"#REF!"}}]
["2°C","Yarra Yalley",{"$error":"#REF!"},{"$error":"#REF!"},67.6462869862373,{"$f":"E1695-#REF!","v":{"$error":"#REF!"}},null,null,73.980695481957,{"$f":"I1695-#REF!","v":{"$error":"#REF!"}}]
["2°C","Yarra Yalley",{"$error":"#REF!"},{"$error":"#REF!"},71.688345534300296,{"$f":"E1696-#REF!","v":{"$error":"#REF!"}},null,null,81.841401386030398,{"$f":"I1696-#REF!","v":{"$error":"#REF!"}}]
["2°C","Yarra Yalley",{"$error":"#REF!"},{"$error":"#REF!"},66.816755149543695,{"$f":"E1697-#REF!","v":{"$error":"#REF!"}},null,null,71.921049486705101,{"$f":"I1697-#REF!","v":{"$error":"#REF!"}}]
["2°C","Yarra Yalley",{"$error":"#REF!"},{"$error":"#REF!"},74.669372685687506,{"$f":"E1698-#REF!","v":{"$error":"#REF!"}},null,null,80.351550682235299,{"$f":"I1698-#REF!","v":{"$error":"#REF!"}}]
["2°C","Yarra Yalley",{"$error":"#REF!"},{"$error":"#REF!"},74.258335454071499,{"$f":"E1699-#REF!","v":{"$error":"#REF!"}},null,null,78.626413062412396,{"$f":"I1699-#REF!","v":{"$error":"#REF!"}}]
["2°C","Yarra Yalley",{"$error":"#REF!"},{"$error":"#REF!"},69.946406988471097,{"$f":"E1700-#REF!","v":{"$error":"#REF!"}},null,null,79.7486853416858,{"$f":"I1700-#REF!","v":{"$error":"#REF!"}}]
["2°C","Yarra Yalley",{"$error":"#REF!"},{"$error":"#REF!"},72.899991243834194,{"$f":"E1701-#REF!","v":{"$error":"#REF!"}},null,null,77.352135513563098,{"$f":"I1701-#REF!","v":{"$error":"#REF!"}}]
["2°C","Yarra Yalley",{"$error":"#REF!"},{"$error":"#REF!"},65.207069299706504,{"$f":"E1702-#REF!","v":{"$error":"#REF!"}},null,null,74.224632186250602,{"$f":"I1702-#REF!","v":{"$error":"#REF!"}}]
["2°C","Yarra Yalley",{"$error":"#REF!"},{"$error":"#REF!"},73.051588002369996,{"$f":"E1703-#REF!","v":{"$error":"#REF!"}},null,null,78.384421082401104,{"$f":"I1703-#REF!","v":{"$error":"#REF!"}}]
["2°C","Yarra Yalley",{"$error":"#REF!"},{"$error":"#REF!"},67.612341306373196,{"$f":"E1704-#REF!","v":{"$error":"#REF!"}},null,null,74.767504429055606,{"$f":"I1704-#REF!","v":{"$error":"#REF!"}}]
["2°C","Yarra Yalley",{"$error":"#REF!"},{"$error":"#REF!"},69.053099325848393,{"$f":"E1705-#REF!","v":{"$error":"#REF!"}},null,null,75.533334111352701,{"$f":"I1705-#REF!","v":{"$error":"#REF!"}}]
["2°C","Yarra Yalley",{"$error":"#REF!"},{"$error":"#REF!"},70.334344702176196,{"$f":"E1706-#REF!","v":{"$error":"#REF!"}},null,null,77.759922537673404,{"$f":"I1706-#REF!","v":{"$error":"#REF!"}}]
["2°C","Yarra Yalley",{"$error":"#REF!"},{"$error":"#REF!"},70.437465283915202,{"$f":"E1707-#REF!","v":{"$error":"#REF!"}},null,null,76.344991003850396,{"$f":"I1707-#REF!","v":{"$error":"#REF!"}}]
["2°C","Yarra Yalley",{"$error":"#REF!"},{"$error":"#REF!"},67.318105234054698,{"$f":"E1708-#REF!","v":{"$error":"#REF!"}},null,null,73.173458790387699,{"$f":"I1708-#REF!","v":{"$error":"#REF!"}}]
["2°C","Yarra Yalley",{"$error":"#REF!"},{"$error":"#REF!"},70.711233961203803,{"$f":"E1709-#REF!","v":{"$error":"#REF!"}},null,null,81.637514563902002,{"$f":"I1709-#REF!","v":{"$error":"#REF!"}}]
["2°C","Yarra Yalley",{"$error":"#REF!"},{"$error":"#REF!"},68.543588980209194,{"$f":"E1710-#REF!","v":{"$error":"#REF!"}},null,null,76.592657149903104,{"$f":"I1710-#REF!","v":{"$error":"#REF!"}}]
["2°C","Yarra Yalley",{"$error":"#REF!"},{"$error":"#REF!"},71.840672154433605,{"$f":"E1711-#REF!","v":{"$error":"#REF!"}},null,null,77.087675716810594,{"$f":"I1711-#REF!","v":{"$error":"#REF!"}}]
["2°C","Yarra Yalley",{"$error":"#REF!"},{"$error":"#REF!"},67.2751601873927,{"$f":"E1712-#REF!","v":{"$error":"#REF!"}},null,null,74.372443949578397,{"$f":"I1712-#REF!","v":{"$error":"#REF!"}}]
["2°C","Yarra Yalley",{"$error":"#REF!"},{"$error":"#REF!"},69.725901310376898,{"$f":"E1713-#REF!","v":{"$error":"#REF!"}},null,null,77.425281292149194,{"$f":"I1713-#REF!","v":{"$error":"#REF!"}}]
["2°C","Yarra Yalley",{"$error":"#REF!"},{"$error":"#REF!"},70.174463380460296,{"$f":"E1714-#REF!","v":{"$error":"#REF!"}},null,null,80.166362572076494,{"$f":"I1714-#REF!","v":{"$error":"#REF!"}}]
["2°C","Yarra Yalley",{"$error":"#REF!"},{"$error":"#REF!"},66.759720409087805,{"$f":"E1715-#REF!","v":{"$error":"#REF!"}},null,null,73.931830623297401,{"$f":"I1715-#REF!","v":{"$error":"#REF!"}}]
["2°C","Yarra Yalley",{"$error":"#REF!"},{"$error":"#REF!"},63.795730720604404,{"$f":"E1716-#REF!","v":{"$error":"#REF!"}},null,null,74.918955089583903,{"$f":"I1716-#REF!","v":{"$error":"#REF!"}}]
["2°C","Yarra Yalley",{"$error":"#REF!"},{"$error":"#REF!"},76.974576032758804,{"$f":"E1717-#REF!","v":{"$error":"#REF!"}},null,null,85.435527858527294,{"$f":"I1717-#REF!","v":{"$error":"#REF!"}}]
["2°C","Yarra Yalley",{"$error":"#REF!"},{"$error":"#REF!"},72.697510291103995,{"$f":"E1718-#REF!","v":{"$error":"#REF!"}},null,null,80.658915739471993,{"$f":"I1718-#REF!","v":{"$error":"#REF!"}}]
["2°C","Yarra Yalley",{"$error":"#REF!"},{"$error":"#REF!"},67.4323031725866,{"$f":"E1719-#REF!","v":{"$error":"#REF!"}},null,null,75.597578821402095,{"$f":"I1719-#REF!","v":{"$error":"#REF!"}}]
["2°C","Yarra Yalley",{"$error":"#REF!"},{"$error":"#REF!"},71.602881150512999,{"$f":"E1720-#REF!","v":{"$error":"#REF!"}},null,null,81.456572094480293,{"$f":"I1720-#REF!","v":{"$error":"#REF!"}}]
["2°C","Yarra Yalley",{"$error":"#REF!"},{"$error":"#REF!"},66.624227201969802,{"$f":"E1721-#REF!","v":{"$error":"#REF!"}},null,null,72.520978479056794,{"$f":"I1721-#REF!","v":{"$error":"#REF!"}}]
["2°C","Yarra Yalley",{"$error":"#REF!"},{"$error":"#REF!"},72.812828483648502,{"$f":"E1722-#REF!","v":{"$error":"#REF!"}},null,null,78.099943666075902,{"$f":"I1722-#REF!","v":{"$error":"#REF!"}}]
["2°C","Yarra Yalley",{"$error":"#REF!"},{"$error":"#REF!"},74.902305742881794,{"$f":"E1723-#REF!","v":{"$error":"#REF!"}},null,null,82.587098610770596,{"$f":"I1723-#REF!","v":{"$error":"#REF!"}}]
["2°C","Yarra Yalley",{"$error":"#REF!"},{"$error":"#REF!"},70.294893791491006,{"$f":"E1724-#REF!","v":{"$error":"#REF!"}},null,null,76.273344625609795,{"$f":"I1724-#REF!","v":{"$error":"#REF!"}}]
["2°C","Yarra Yalley",{"$error":"#REF!"},{"$error":"#REF!"},72.476046713691503,{"$f":"E1725-#REF!","v":{"$error":"#REF!"}},null,null,78.752325801746807,{"$f":"I1725-#REF!","v":{"$error":"#REF!"}}]
["2°C","Yarra Yalley",{"$error":"#REF!"},{"$error":"#REF!"},73.0978905571544,{"$f":"E1726-#REF!","v":{"$error":"#REF!"}},null,null,80.426691826185703,{"$f":"I1726-#REF!","v":{"$error":"#REF!"}}]
["2°C","Yarra Yalley",{"$error":"#REF!"},{"$error":"#REF!"},70.216689929924399,{"$f":"E1727-#REF!","v":{"$error":"#REF!"}},null,null,75.971519401040894,{"$f":"I1727-#REF!","v":{"$error":"#REF!"}}]
["2°C","Yarra Yalley",{"$error":"#REF!"},{"$error":"#REF!"},69.144970025707707,{"$f":"E1728-#REF!","v":{"$error":"#REF!"}},null,null,76.281640662334297,{"$f":"I1728-#REF!","v":{"$error":"#REF!"}}]
["2°C","Yarra Yalley",{"$error":"#REF!"},{"$error":"#REF!"},71.509331986041204,{"$f":"E1729-#REF!","v":{"$error":"#REF!"}},null,null,77.0674104651427,{"$f":"I1729-#REF!","v":{"$error":"#REF!"}}]
["2°C","Yarra Yalley",{"$f":"IF(F1730>0,1,0)/99","v":{"$error":"#REF!"}},{"$f":"IF(J1730>0,1,0)/99","v":{"$error":"#REF!"}},72.149557587086804,{"$f":"E1730-#REF!","v":{"$error":"#REF!"}},null,null,79.998698997830004,{"$f":"I1730-#REF!","v":{"$error":"#REF!"}}]
["2°C","Yarra Yalley",{"$error":"#REF!"},{"$error":"#REF!"},63.086645902753403,{"$f":"E1731-#REF!","v":{"$error":"#REF!"}},null,null,72.482976952323796,{"$f":"I1731-#REF!","v":{"$error":"#REF!"}}]
["2°C","Yarra Yalley",{"$error":"#REF!"},{"$error":"#REF!"},69.249820259039595,{"$f":"E1732-#REF!","v":{"$error":"#REF!"}},null,null,78.732214662902194,{"$f":"I1732-#REF!","v":{"$error":"#REF!"}}]
["2°C","Yarra Yalley",{"$error":"#REF!"},{"$error":"#REF!"},64.266474690446003,{"$f":"E1733-#REF!","v":{"$error":"#REF!"}},null,null,78.734838827650606,{"$f":"I1733-#REF!","v":{"$error":"#REF!"}}]
["2°C","Yarra Yalley",{"$error":"#REF!"},{"$error":"#REF!"},81.451838373812706,{"$f":"E1734-#REF!","v":{"$error":"#REF!"}},null,null,86.1261784406191,{"$f":"I1734-#REF!","v":{"$error":"#REF!"}}]
["2°C","Yarra Yalley",{"$error":"#REF!"},{"$error":"#REF!"},66.386043909290194,{"$f":"E1735-#REF!","v":{"$error":"#REF!"}},null,null,76.270042766560707,{"$f":"I1735-#REF!","v":{"$error":"#REF!"}}]
["2°C","Yarra Yalley",{"$error":"#REF!"},{"$error":"#REF!"},64.4500344201236,{"$f":"E1736-#REF!","v":{"$error":"#REF!"}},null,null,75.967767869434795,{"$f":"I1736-#REF!","v":{"$error":"#REF!"}}]
["2°C","Yarra Yalley",{"$error":"#REF!"},{"$error":"#REF!"},69.205074796210795,{"$f":"E1737-#REF!","v":{"$error":"#REF!"}},null,null,76.426387111955194,{"$f":"I1737-#REF!","v":{"$error":"#REF!"}}]
["2°C","Yarra Yalley",{"$error":"#REF!"},{"$error":"#REF!"},68.795479023876496,{"$f":"E1738-#REF!","v":{"$error":"#REF!"}},null,null,78.602417486934698,{"$f":"I1738-#REF!","v":{"$error":"#REF!"}}]
["2°C","Yarra Yalley",{"$error":"#REF!"},{"$error":"#REF!"},65.031474744160406,{"$f":"E1739-#REF!","v":{"$error":"#REF!"}},null,null,74.211181681657607,{"$f":"I1739-#REF!","v":{"$error":"#REF!"}}]
["2°C","Yarra Yalley",{"$error":"#REF!"},{"$error":"#REF!"},71.589933979044503,{"$f":"E1740-#REF!","v":{"$error":"#REF!"}},null,null,79.654691674721604,{"$f":"I1740-#REF!","v":{"$error":"#REF!"}}]
["2°C","Yarra Yalley",{"$error":"#REF!"},{"$error":"#REF!"},67.416830582122401,{"$f":"E1741-#REF!","v":{"$error":"#REF!"}},null,null,74.869356442522005,{"$f":"I1741-#REF!","v":{"$error":"#REF!"}}]
["2°C","Yarra Yalley",{"$error":"#REF!"},{"$error":"#REF!"},76.599430751476604,{"$f":"E1742-#REF!","v":{"$error":"#REF!"}},null,null,83.061486982592697,{"$f":"I1742-#REF!","v":{"$error":"#REF!"}}]
["2°C","Yarra Yalley",{"$error":"#REF!"},{"$error":"#REF!"},65.805997685859595,{"$f":"E1743-#REF!","v":{"$error":"#REF!"}},null,null,75.465112535022101,{"$f":"I1743-#REF!","v":{"$error":"#REF!"}}]
["2°C","Yarra Yalley",{"$error":"#REF!"},{"$error":"#REF!"},74.483957878391905,{"$f":"E1744-#REF!","v":{"$error":"#REF!"}},null,null,80.477247096372906,{"$f":"I1744-#REF!","v":{"$error":"#REF!"}}]
["2°C","Yarra Yalley",{"$error":"#REF!"},{"$error":"#REF!"},79.121065792332402,{"$f":"E1745-#REF!","v":{"$error":"#REF!"}},null,null,86.0005715620714,{"$f":"I1745-#REF!","v":{"$error":"#REF!"}}]
["2°C","Yarra Yalley",{"$error":"#REF!"},{"$error":"#REF!"},69.827763620919995,{"$f":"E1746-#REF!","v":{"$error":"#REF!"}},null,null,78.0335738492236,{"$f":"I1746-#REF!","v":{"$error":"#REF!"}}]
["2°C","Yarra Yalley",{"$error":"#REF!"},{"$error":"#REF!"},71.689654448035498,{"$f":"E1747-#REF!","v":{"$error":"#REF!"}},null,null,81.186396261186104,{"$f":"I1747-#REF!","v":{"$error":"#REF!"}}]
["2°C","Yarra Yalley",{"$error":"#REF!"},{"$error":"#REF!"},71.328615498941801,{"$f":"E1748-#REF!","v":{"$error":"#REF!"}},null,null,77.989449135077905,{"$f":"I1748-#REF!","v":{"$error":"#REF!"}}]
["2°C","Yarra Yalley",{"$error":"#REF!"},{"$error":"#REF!"},68.016395092767198,{"$f":"E1749-#REF!","v":{"$error":"#REF!"}},null,null,74.028998262636705,{"$f":"I1749-#REF!","v":{"$error":"#REF!"}}]
["2°C","Yarra Yalley",{"$error":"#REF!"},{"$error":"#REF!"},77.717192968464005,{"$f":"E1750-#REF!","v":{"$error":"#REF!"}},null,null,83.098624276293194,{"$f":"I1750-#REF!","v":{"$error":"#REF!"}}]
["2°C","Yarra Yalley",{"$error":"#REF!"},{"$error":"#REF!"},75.652249786994204,{"$f":"E1751-#REF!","v":{"$error":"#REF!"}},null,null,77.858991792601998,{"$f":"I1751-#REF!","v":{"$error":"#REF!"}}]
["2°C","Yarra Yalley",{"$error":"#REF!"},{"$error":"#REF!"},72.594190388594001,{"$f":"E1752-#REF!","v":{"$error":"#REF!"}},null,null,77.408032880921994,{"$f":"I1752-#REF!","v":{"$error":"#REF!"}}]
["2°C","Yarra Yalley",{"$error":"#REF!"},{"$error":"#REF!"},78.461570324067196,{"$f":"E1753-#REF!","v":{"$error":"#REF!"}},null,null,84.282124982722195,{"$f":"I1753-#REF!","v":{"$error":"#REF!"}}]
["2°C","Yarra Yalley",{"$error":"#REF!"},{"$error":"#REF!"},67.637326778974497,{"$f":"E1754-#REF!","v":{"$error":"#REF!"}},null,null,75.063789483272998,{"$f":"I1754-#REF!","v":{"$error":"#REF!"}}]
["2°C","Yarra Yalley",{"$error":"#REF!"},{"$error":"#REF!"},71.983158968674104,{"$f":"E1755-#REF!","v":{"$error":"#REF!"}},null,null,80.439591616122598,{"$f":"I1755-#REF!","v":{"$error":"#REF!"}}]
["2°C","Yarra Yalley",{"$error":"#REF!"},{"$error":"#REF!"},69.130289261039195,{"$f":"E1756-#REF!","v":{"$error":"#REF!"}},null,null,75.363870341503002,{"$f":"I1756-#REF!","v":{"$error":"#REF!"}}]
["2°C","Yarra Yalley",{"$error":"#REF!"},{"$error":"#REF!"},66.957586502497904,{"$f":"E1757-#REF!","v":{"$error":"#REF!"}},null,null,77.711947739619504,{"$f":"I1757-#REF!","v":{"$error":"#REF!"}}]
["2°C","Yarra Yalley",{"$error":"#REF!"},{"$error":"#REF!"},70.504944626760107,{"$f":"E1758-#REF!","v":{"$error":"#REF!"}},null,null,79.525473476253495,{"$f":"I1758-#REF!","v":{"$error":"#REF!"}}]
["2°C","Yarra Yalley",{"$error":"#REF!"},{"$error":"#REF!"},74.016167112801597,{"$f":"E1759-#REF!","v":{"$error":"#REF!"}},null,null,79.966047354663601,{"$f":"I1759-#REF!","v":{"$error":"#REF!"}}]
["2°C","Yarra Yalley",{"$error":"#REF!"},{"$error":"#REF!"},76.660796728796001,{"$f":"E1760-#REF!","v":{"$error":"#REF!"}},null,null,82.565873043815301,{"$f":"I1760-#REF!","v":{"$error":"#REF!"}}]
["2°C","Yarra Yalley",{"$error":"#REF!"},{"$error":"#REF!"},72.785825619791098,{"$f":"E1761-#REF!","v":{"$error":"#REF!"}},null,null,79.305044292185002,{"$f":"I1761-#REF!","v":{"$error":"#REF!"}}]
["2°C","Yarra Yalley",{"$error":"#REF!"},{"$error":"#REF!"},63.821855612110397,{"$f":"E1762-#REF!","v":{"$error":"#REF!"}},null,null,72.305210948139006,{"$f":"I1762-#REF!","v":{"$error":"#REF!"}}]
["2°C","Yarra Yalley",{"$error":"#REF!"},{"$error":"#REF!"},73.084547178969302,{"$f":"E1763-#REF!","v":{"$error":"#REF!"}},null,null,79.715681762718205,{"$f":"I1763-#REF!","v":{"$error":"#REF!"}}]
["2°C","Yarra Yalley",{"$error":"#REF!"},{"$error":"#REF!"},71.040459058591594,{"$f":"E1764-#REF!","v":{"$error":"#REF!"}},null,null,78.978382156136007,{"$f":"I1764-#REF!","v":{"$error":"#REF!"}}]
["2°C","Yarra Yalley",{"$error":"#REF!"},{"$error":"#REF!"},71.575332558011198,{"$f":"E1765-#REF!","v":{"$error":"#REF!"}},null,null,79.7565158954894,{"$f":"I1765-#REF!","v":{"$error":"#REF!"}}]
["2°C","Yarra Yalley",{"$error":"#REF!"},{"$error":"#REF!"},76.001264306320607,{"$f":"E1766-#REF!","v":{"$error":"#REF!"}},null,null,82.4852675430527,{"$f":"I1766-#REF!","v":{"$error":"#REF!"}}]
["2°C","Yarra Yalley",{"$error":"#REF!"},{"$error":"#REF!"},66.652153825784296,{"$f":"E1767-#REF!","v":{"$error":"#REF!"}},null,null,78.126713791045205,{"$f":"I1767-#REF!","v":{"$error":"#REF!"}}]
["2°C","Yarra Yalley",{"$error":"#REF!"},{"$error":"#REF!"},72.118134681554494,{"$f":"E1768-#REF!","v":{"$error":"#REF!"}},null,null,82.030310013733498,{"$f":"I1768-#REF!","v":{"$error":"#REF!"}}]
["2°C","Yarra Yalley",{"$error":"#REF!"},{"$error":"#REF!"},70.732060073233598,{"$f":"E1769-#REF!","v":{"$error":"#REF!"}},null,null,76.129404352997597,{"$f":"I1769-#REF!","v":{"$error":"#REF!"}}]
["2°C","Yarra Yalley",{"$error":"#REF!"},{"$error":"#REF!"},72.963807481356895,{"$f":"E1770-#REF!","v":{"$error":"#REF!"}},null,null,80.178002892625301,{"$f":"I1770-#REF!","v":{"$error":"#REF!"}}]
["2°C","Yarra Yalley",{"$error":"#REF!"},{"$error":"#REF!"},76.633918250167397,{"$f":"E1771-#REF!","v":{"$error":"#REF!"}},null,null,81.102096426578896,{"$f":"I1771-#REF!","v":{"$error":"#REF!"}}]
["2°C","Yarra Yalley",{"$error":"#REF!"},{"$error":"#REF!"},69.901933015409895,{"$f":"E1772-#REF!","v":{"$error":"#REF!"}},null,null,76.621980469428095,{"$f":"I1772-#REF!","v":{"$error":"#REF!"}}]
["2°C","Yarra Yalley",{"$error":"#REF!"},{"$error":"#REF!"},62.766596625918098,{"$f":"E1773-#REF!","v":{"$error":"#REF!"}},null,null,70.863387961963497,{"$f":"I1773-#REF!","v":{"$error":"#REF!"}}]
["2°C","Yarra Yalley",{"$error":"#REF!"},{"$error":"#REF!"},72.929766018683395,{"$f":"E1774-#REF!","v":{"$error":"#REF!"}},null,null,81.053874460835203,{"$f":"I1774-#REF!","v":{"$error":"#REF!"}}]
["2°C","Yarra Yalley",{"$error":"#REF!"},{"$error":"#REF!"},67.002320628485194,{"$f":"E1775-#REF!","v":{"$error":"#REF!"}},null,null,77.392860022437205,{"$f":"I1775-#REF!","v":{"$error":"#REF!"}}]
["2°C","Yarra Yalley",{"$error":"#REF!"},{"$error":"#REF!"},67.969668162726606,{"$f":"E1776-#REF!","v":{"$error":"#REF!"}},null,null,75.075964515274606,{"$f":"I1776-#REF!","v":{"$error":"#REF!"}}]
["2°C","Yarra Yalley",{"$error":"#REF!"},{"$error":"#REF!"},69.866177770915399,{"$f":"E1777-#REF!","v":{"$error":"#REF!"}},null,null,77.392839349566998,{"$f":"I1777-#REF!","v":{"$error":"#REF!"}}]
["2°C","Yarra Yalley",{"$error":"#REF!"},{"$error":"#REF!"},74.072962694340006,{"$f":"E1778-#REF!","v":{"$error":"#REF!"}},null,null,82.3881455483276,{"$f":"I1778-#REF!","v":{"$error":"#REF!"}}]
["2°C","Yarra Yalley",{"$error":"#REF!"},{"$error":"#REF!"},63.264915774364702,{"$f":"E1779-#REF!","v":{"$error":"#REF!"}},null,null,71.5122869020759,{"$f":"I1779-#REF!","v":{"$error":"#REF!"}}]
["2°C","Yarra Yalley",{"$error":"#REF!"},{"$error":"#REF!"},72.443617865573202,{"$f":"E1780-#REF!","v":{"$error":"#REF!"}},null,null,82.788972001464003,{"$f":"I1780-#REF!","v":{"$error":"#REF!"}}]
["2°C","Yarra Yalley",{"$error":"#REF!"},{"$error":"#REF!"},61.473385352136297,{"$f":"E1781-#REF!","v":{"$error":"#REF!"}},null,null,68.452212562696801,{"$f":"I1781-#REF!","v":{"$error":"#REF!"}}]
["2°C","Yarra Yalley",{"$error":"#REF!"},{"$error":"#REF!"},72.946273099782502,{"$f":"E1782-#REF!","v":{"$error":"#REF!"}},null,null,80.305025585065806,{"$f":"I1782-#REF!","v":{"$error":"#REF!"}}]
["2°C","Yarra Yalley",{"$error":"#REF!"},{"$error":"#REF!"},68.767804172615001,{"$f":"E1783-#REF!","v":{"$error":"#REF!"}},null,null,77.333049980020306,{"$f":"I1783-#REF!","v":{"$error":"#REF!"}}]
["3°C","Huonville",{"$error":"#REF!"},{"$error":"#REF!"},71.091021120339903,{"$f":"E1784-#REF!","v":{"$error":"#REF!"}},null,null,79.107595542466498,{"$f":"I1784-#REF!","v":{"$error":"#REF!"}}]
["3°C","Huonville",{"$error":"#REF!"},{"$error":"#REF!"},73.519934944730693,{"$f":"E1785-#REF!","v":{"$error":"#REF!"}},null,null,80.034640187678406,{"$f":"I1785-#REF!","v":{"$error":"#REF!"}}]
["3°C","Huonville",{"$error":"#REF!"},{"$error":"#REF!"},76.151969941081106,{"$f":"E1786-#REF!","v":{"$error":"#REF!"}},null,null,80.877713594483296,{"$f":"I1786-#REF!","v":{"$error":"#REF!"}}]
["3°C","Huonville",{"$error":"#REF!"},{"$error":"#REF!"},68.846188632337501,{"$f":"E1787-#REF!","v":{"$error":"#REF!"}},null,null,77.423115826827697,{"$f":"I1787-#REF!","v":{"$error":"#REF!"}}]
["3°C","Huonville",{"$error":"#REF!"},{"$error":"#REF!"},74.676578027853694,{"$f":"E1788-#REF!","v":{"$error":"#REF!"}},null,null,80.755763760223601,{"$f":"I1788-#REF!","v":{"$error":"#REF!"}}]
["3°C","Huonville",{"$error":"#REF!"},{"$error":"#REF!"},76.403981445252995,{"$f":"E1789-#REF!","v":{"$error":"#REF!"}},null,null,83.0954770026907,{"$f":"I1789-#REF!","v":{"$error":"#REF!"}}]
["3°C","Huonville",{"$error":"#REF!"},{"$error":"#REF!"},72.325281920038094,{"$f":"E1790-#REF!","v":{"$error":"#REF!"}},null,null,80.929426807979098,{"$f":"I1790-#REF!","v":{"$error":"#REF!"}}]
["3°C","Huonville",{"$error":"#REF!"},{"$error":"#REF!"},72.503875611327601,{"$f":"E1791-#REF!","v":{"$error":"#REF!"}},null,null,77.692895434777398,{"$f":"I1791-#REF!","v":{"$error":"#REF!"}}]
["3°C","Huonville",{"$error":"#REF!"},{"$error":"#REF!"},74.075092094238997,{"$f":"E1792-#REF!","v":{"$error":"#REF!"}},null,null,79.9886215955963,{"$f":"I1792-#REF!","v":{"$error":"#REF!"}}]
["3°C","Huonville",{"$error":"#REF!"},{"$error":"#REF!"},73.487045060940403,{"$f":"E1793-#REF!","v":{"$error":"#REF!"}},null,null,79.867831349193693,{"$f":"I1793-#REF!","v":{"$error":"#REF!"}}]
["3°C","Huonville",{"$f":"IF(F1794>0,1,0)/99","v":{"$error":"#REF!"}},{"$f":"IF(J1794>0,1,0)/99","v":{"$error":"#REF!"}},66.038689753176698,{"$f":"E1794-#REF!","v":{"$error":"#REF!"}},null,null,75.285675240664602,{"$f":"I1794-#REF!","v":{"$error":"#REF!"}}]
["3°C","Huonville",{"$error":"#REF!"},{"$error":"#REF!"},73.086849019924898,{"$f":"E1795-#REF!","v":{"$error":"#REF!"}},null,null,81.449252315742498,{"$f":"I1795-#REF!","v":{"$error":"#REF!"}}]
["3°C","Huonville",{"$error":"#REF!"},{"$error":"#REF!"},73.582390227972496,{"$f":"E1796-#REF!","v":{"$error":"#REF!"}},null,null,80.834111669360396,{"$f":"I1796-#REF!","v":{"$error":"#REF!"}}]
["3°C","Huonville",{"$error":"#REF!"},{"$error":"#REF!"},75.380772396415693,{"$f":"E1797-#REF!","v":{"$error":"#REF!"}},null,null,80.495428388967994,{"$f":"I1797-#REF!","v":{"$error":"#REF!"}}]
["3°C","Huonville",{"$error":"#REF!"},{"$error":"#REF!"},77.168742219844503,{"$f":"E1798-#REF!","v":{"$error":"#REF!"}},null,null,86.1406219926006,{"$f":"I1798-#REF!","v":{"$error":"#REF!"}}]
["3°C","Huonville",{"$error":"#REF!"},{"$error":"#REF!"},72.401534387043199,{"$f":"E1799-#REF!","v":{"$error":"#REF!"}},null,null,80.722671154498201,{"$f":"I1799-#REF!","v":{"$error":"#REF!"}}]
["3°C","Huonville",{"$error":"#REF!"},{"$error":"#REF!"},78.465034858845002,{"$f":"E1800-#REF!","v":{"$error":"#REF!"}},null,null,85.455719584876803,{"$f":"I1800-#REF!","v":{"$error":"#REF!"}}]
["3°C","Huonville",{"$error":"#REF!"},{"$error":"#REF!"},68.1727578552468,{"$f":"E1801-#REF!","v":{"$error":"#REF!"}},null,null,77.367588241714202,{"$f":"I1801-#REF!","v":{"$error":"#REF!"}}]
["3°C","Huonville",{"$error":"#REF!"},{"$error":"#REF!"},75.400206656471198,{"$f":"E1802-#REF!","v":{"$error":"#REF!"}},null,null,81.263016652226398,{"$f":"I1802-#REF!","v":{"$error":"#REF!"}}]
["3°C","Huonville",{"$error":"#REF!"},{"$error":"#REF!"},72.951248381245307,{"$f":"E1803-#REF!","v":{"$error":"#REF!"}},null,null,78.912180345348403,{"$f":"I1803-#REF!","v":{"$error":"#REF!"}}]
["3°C","Huonville",{"$error":"#REF!"},{"$error":"#REF!"},71.468459532965099,{"$f":"E1804-#REF!","v":{"$error":"#REF!"}},null,null,77.77145343718,{"$f":"I1804-#REF!","v":{"$error":"#REF!"}}]
["3°C","Huonville",{"$error":"#REF!"},{"$error":"#REF!"},71.286900605416207,{"$f":"E1805-#REF!","v":{"$error":"#REF!"}},null,null,79.455028542061598,{"$f":"I1805-#REF!","v":{"$error":"#REF!"}}]
["3°C","Huonville",{"$error":"#REF!"},{"$error":"#REF!"},76.616095715388397,{"$f":"E1806-#REF!","v":{"$error":"#REF!"}},null,null,85.166945064912397,{"$f":"I1806-#REF!","v":{"$error":"#REF!"}}]
["3°C","Huonville",{"$error":"#REF!"},{"$error":"#REF!"},67.232429672852007,{"$f":"E1807-#REF!","v":{"$error":"#REF!"}},null,null,76.188230028287805,{"$f":"I1807-#REF!","v":{"$error":"#REF!"}}]
["3°C","Huonville",{"$error":"#REF!"},{"$error":"#REF!"},79.055166573446002,{"$f":"E1808-#REF!","v":{"$error":"#REF!"}},null,null,84.007595130576206,{"$f":"I1808-#REF!","v":{"$error":"#REF!"}}]
["3°C","Huonville",{"$error":"#REF!"},{"$error":"#REF!"},78.518985951971004,{"$f":"E1809-#REF!","v":{"$error":"#REF!"}},null,null,82.485931335320402,{"$f":"I1809-#REF!","v":{"$error":"#REF!"}}]
["3°C","Huonville",{"$error":"#REF!"},{"$error":"#REF!"},74.849808101128701,{"$f":"E1810-#REF!","v":{"$error":"#REF!"}},null,null,79.087341943629895,{"$f":"I1810-#REF!","v":{"$error":"#REF!"}}]
["3°C","Huonville",{"$error":"#REF!"},{"$error":"#REF!"},73.428231213158497,{"$f":"E1811-#REF!","v":{"$error":"#REF!"}},null,null,81.480875457032795,{"$f":"I1811-#REF!","v":{"$error":"#REF!"}}]
["3°C","Huonville",{"$error":"#REF!"},{"$error":"#REF!"},67.961107893172198,{"$f":"E1812-#REF!","v":{"$error":"#REF!"}},null,null,77.308323467545193,{"$f":"I1812-#REF!","v":{"$error":"#REF!"}}]
["3°C","Huonville",{"$error":"#REF!"},{"$error":"#REF!"},71.172229409351601,{"$f":"E1813-#REF!","v":{"$error":"#REF!"}},null,null,78.662264798686195,{"$f":"I1813-#REF!","v":{"$error":"#REF!"}}]
["3°C","Huonville",{"$error":"#REF!"},{"$error":"#REF!"},70.575650028672996,{"$f":"E1814-#REF!","v":{"$error":"#REF!"}},null,null,79.124877709833697,{"$f":"I1814-#REF!","v":{"$error":"#REF!"}}]
["3°C","Huonville",{"$error":"#REF!"},{"$error":"#REF!"},77.498718908671904,{"$f":"E1815-#REF!","v":{"$error":"#REF!"}},null,null,85.141983941138406,{"$f":"I1815-#REF!","v":{"$error":"#REF!"}}]
["3°C","Huonville",{"$error":"#REF!"},{"$error":"#REF!"},79.375596053475206,{"$f":"E1816-#REF!","v":{"$error":"#REF!"}},null,null,85.135232391712094,{"$f":"I1816-#REF!","v":{"$error":"#REF!"}}]
["3°C","Huonville",{"$error":"#REF!"},{"$error":"#REF!"},75.377733729255098,{"$f":"E1817-#REF!","v":{"$error":"#REF!"}},null,null,83.494112434697399,{"$f":"I1817-#REF!","v":{"$error":"#REF!"}}]
["3°C","Huonville",{"$error":"#REF!"},{"$error":"#REF!"},75.400499389746102,{"$f":"E1818-#REF!","v":{"$error":"#REF!"}},null,null,83.925582529772697,{"$f":"I1818-#REF!","v":{"$error":"#REF!"}}]
["3°C","Huonville",{"$error":"#REF!"},{"$error":"#REF!"},78.995724560907306,{"$f":"E1819-#REF!","v":{"$error":"#REF!"}},null,null,84.475553403112002,{"$f":"I1819-#REF!","v":{"$error":"#REF!"}}]
["3°C","Huonville",{"$error":"#REF!"},{"$error":"#REF!"},68.886129442266906,{"$f":"E1820-#REF!","v":{"$error":"#REF!"}},null,null,75.860432147232004,{"$f":"I1820-#REF!","v":{"$error":"#REF!"}}]
["3°C","Huonville",{"$error":"#REF!"},{"$error":"#REF!"},73.814050641298394,{"$f":"E1821-#REF!","v":{"$error":"#REF!"}},null,null,79.988539957768097,{"$f":"I1821-#REF!","v":{"$error":"#REF!"}}]
["3°C","Huonville",{"$error":"#REF!"},{"$error":"#REF!"},72.346181009476595,{"$f":"E1822-#REF!","v":{"$error":"#REF!"}},null,null,80.913832440893501,{"$f":"I1822-#REF!","v":{"$error":"#REF!"}}]
["3°C","Huonville",{"$error":"#REF!"},{"$error":"#REF!"},77.462011241164404,{"$f":"E1823-#REF!","v":{"$error":"#REF!"}},null,null,82.524181136435899,{"$f":"I1823-#REF!","v":{"$error":"#REF!"}}]
["3°C","Huonville",{"$error":"#REF!"},{"$error":"#REF!"},73.541802066512403,{"$f":"E1824-#REF!","v":{"$error":"#REF!"}},null,null,82.274416850113298,{"$f":"I1824-#REF!","v":{"$error":"#REF!"}}]
["3°C","Huonville",{"$error":"#REF!"},{"$error":"#REF!"},74.941248876484906,{"$f":"E1825-#REF!","v":{"$error":"#REF!"}},null,null,81.597558956127898,{"$f":"I1825-#REF!","v":{"$error":"#REF!"}}]
["3°C","Huonville",{"$error":"#REF!"},{"$error":"#REF!"},76.0028919309364,{"$f":"E1826-#REF!","v":{"$error":"#REF!"}},null,null,84.1351868401497,{"$f":"I1826-#REF!","v":{"$error":"#REF!"}}]
["3°C","Huonville",{"$error":"#REF!"},{"$error":"#REF!"},71.742651182868798,{"$f":"E1827-#REF!","v":{"$error":"#REF!"}},null,null,78.651847632727396,{"$f":"I1827-#REF!","v":{"$error":"#REF!"}}]
["3°C","Huonville",{"$error":"#REF!"},{"$error":"#REF!"},78.787944437897494,{"$f":"E1828-#REF!","v":{"$error":"#REF!"}},null,null,85.358159417300996,{"$f":"I1828-#REF!","v":{"$error":"#REF!"}}]
["3°C","Huonville",{"$error":"#REF!"},{"$error":"#REF!"},75.601212303767198,{"$f":"E1829-#REF!","v":{"$error":"#REF!"}},null,null,80.483833167629001,{"$f":"I1829-#REF!","v":{"$error":"#REF!"}}]
["3°C","Huonville",{"$error":"#REF!"},{"$error":"#REF!"},69.401584783049998,{"$f":"E1830-#REF!","v":{"$error":"#REF!"}},null,null,79.824130489559806,{"$f":"I1830-#REF!","v":{"$error":"#REF!"}}]
["3°C","Huonville",{"$error":"#REF!"},{"$error":"#REF!"},74.538796280680302,{"$f":"E1831-#REF!","v":{"$error":"#REF!"}},null,null,81.793098548978193,{"$f":"I1831-#REF!","v":{"$error":"#REF!"}}]
["3°C","Huonville",{"$error":"#REF!"},{"$error":"#REF!"},73.523587990683794,{"$f":"E1832-#REF!","v":{"$error":"#REF!"}},null,null,80.424830840076794,{"$f":"I1832-#REF!","v":{"$error":"#REF!"}}]
["3°C","Huonville",{"$error":"#REF!"},{"$error":"#REF!"},77.278368970052597,{"$f":"E1833-#REF!","v":{"$error":"#REF!"}},null,null,82.934365990463803,{"$f":"I1833-#REF!","v":{"$error":"#REF!"}}]
["3°C","Huonville",{"$error":"#REF!"},{"$error":"#REF!"},73.284316240633501,{"$f":"E1834-#REF!","v":{"$error":"#REF!"}},null,null,80.293145083547799,{"$f":"I1834-#REF!","v":{"$error":"#REF!"}}]
["3°C","Huonville",{"$error":"#REF!"},{"$error":"#REF!"},71.743558879157106,{"$f":"E1835-#REF!","v":{"$error":"#REF!"}},null,null,83.585345073376999,{"$f":"I1835-#REF!","v":{"$error":"#REF!"}}]
["3°C","Huonville",{"$error":"#REF!"},{"$error":"#REF!"},82.217075252880207,{"$f":"E1836-#REF!","v":{"$error":"#REF!"}},null,null,87.968869927354305,{"$f":"I1836-#REF!","v":{"$error":"#REF!"}}]
["3°C","Huonville",{"$error":"#REF!"},{"$error":"#REF!"},75.247409489188101,{"$f":"E1837-#REF!","v":{"$error":"#REF!"}},null,null,81.519409748884897,{"$f":"I1837-#REF!","v":{"$error":"#REF!"}}]
["3°C","Huonville",{"$error":"#REF!"},{"$error":"#REF!"},70.528786724643695,{"$f":"E1838-#REF!","v":{"$error":"#REF!"}},null,null,78.612526524425206,{"$f":"I1838-#REF!","v":{"$error":"#REF!"}}]
["3°C","Huonville",{"$error":"#REF!"},{"$error":"#REF!"},75.397444711983994,{"$f":"E1839-#REF!","v":{"$error":"#REF!"}},null,null,82.479513489052593,{"$f":"I1839-#REF!","v":{"$error":"#REF!"}}]
["3°C","Huonville",{"$error":"#REF!"},{"$error":"#REF!"},70.853744812781898,{"$f":"E1840-#REF!","v":{"$error":"#REF!"}},null,null,76.914995106354894,{"$f":"I1840-#REF!","v":{"$error":"#REF!"}}]
["3°C","Huonville",{"$error":"#REF!"},{"$error":"#REF!"},79.513054293059795,{"$f":"E1841-#REF!","v":{"$error":"#REF!"}},null,null,84.622914228995199,{"$f":"I1841-#REF!","v":{"$error":"#REF!"}}]
["3°C","Huonville",{"$error":"#REF!"},{"$error":"#REF!"},69.486119023878501,{"$f":"E1842-#REF!","v":{"$error":"#REF!"}},null,null,78.972817905000795,{"$f":"I1842-#REF!","v":{"$error":"#REF!"}}]
["3°C","Huonville",{"$error":"#REF!"},{"$error":"#REF!"},80.021397823521198,{"$f":"E1843-#REF!","v":{"$error":"#REF!"}},null,null,82.768355172995498,{"$f":"I1843-#REF!","v":{"$error":"#REF!"}}]
["3°C","Huonville",{"$error":"#REF!"},{"$error":"#REF!"},83.586812270619902,{"$f":"E1844-#REF!","v":{"$error":"#REF!"}},null,null,89.153293527837803,{"$f":"I1844-#REF!","v":{"$error":"#REF!"}}]
["3°C","Huonville",{"$error":"#REF!"},{"$error":"#REF!"},71.494934960482993,{"$f":"E1845-#REF!","v":{"$error":"#REF!"}},null,null,77.703721379823406,{"$f":"I1845-#REF!","v":{"$error":"#REF!"}}]
["3°C","Huonville",{"$error":"#REF!"},{"$error":"#REF!"},72.507501257880605,{"$f":"E1846-#REF!","v":{"$error":"#REF!"}},null,null,80.414153622994206,{"$f":"I1846-#REF!","v":{"$error":"#REF!"}}]
["3°C","Huonville",{"$error":"#REF!"},{"$error":"#REF!"},73.444219720529006,{"$f":"E1847-#REF!","v":{"$error":"#REF!"}},null,null,83.022994008861005,{"$f":"I1847-#REF!","v":{"$error":"#REF!"}}]
["3°C","Huonville",{"$error":"#REF!"},{"$error":"#REF!"},75.669782048745006,{"$f":"E1848-#REF!","v":{"$error":"#REF!"}},null,null,84.361419612011204,{"$f":"I1848-#REF!","v":{"$error":"#REF!"}}]
["3°C","Huonville",{"$error":"#REF!"},{"$error":"#REF!"},74.599289945479597,{"$f":"E1849-#REF!","v":{"$error":"#REF!"}},null,null,83.652011373001699,{"$f":"I1849-#REF!","v":{"$error":"#REF!"}}]
["3°C","Huonville",{"$error":"#REF!"},{"$error":"#REF!"},80.741684847718005,{"$f":"E1850-#REF!","v":{"$error":"#REF!"}},null,null,85.327632412601204,{"$f":"I1850-#REF!","v":{"$error":"#REF!"}}]
["3°C","Huonville",{"$error":"#REF!"},{"$error":"#REF!"},75.156173577357094,{"$f":"E1851-#REF!","v":{"$error":"#REF!"}},null,null,80.380813877137399,{"$f":"I1851-#REF!","v":{"$error":"#REF!"}}]
["3°C","Huonville",{"$error":"#REF!"},{"$error":"#REF!"},78.167134803305899,{"$f":"E1852-#REF!","v":{"$error":"#REF!"}},null,null,84.616113856921103,{"$f":"I1852-#REF!","v":{"$error":"#REF!"}}]
["3°C","Huonville",{"$error":"#REF!"},{"$error":"#REF!"},63.941150052678999,{"$f":"E1853-#REF!","v":{"$error":"#REF!"}},null,null,72.693350385952598,{"$f":"I1853-#REF!","v":{"$error":"#REF!"}}]
["3°C","Huonville",{"$error":"#REF!"},{"$error":"#REF!"},75.226793598419704,{"$f":"E1854-#REF!","v":{"$error":"#REF!"}},null,null,84.387404149344206,{"$f":"I1854-#REF!","v":{"$error":"#REF!"}}]
["3°C","Huonville",{"$error":"#REF!"},{"$error":"#REF!"},71.149603142192603,{"$f":"E1855-#REF!","v":{"$error":"#REF!"}},null,null,77.544993881686196,{"$f":"I1855-#REF!","v":{"$error":"#REF!"}}]
["3°C","Huonville",{"$error":"#REF!"},{"$error":"#REF!"},71.800723463477794,{"$f":"E1856-#REF!","v":{"$error":"#REF!"}},null,null,79.226794565806898,{"$f":"I1856-#REF!","v":{"$error":"#REF!"}}]
["3°C","Huonville",{"$error":"#REF!"},{"$error":"#REF!"},76.931341775898304,{"$f":"E1857-#REF!","v":{"$error":"#REF!"}},null,null,83.701805756498402,{"$f":"I1857-#REF!","v":{"$error":"#REF!"}}]
["3°C","Huonville",{"$f":"IF(F1858>0,1,0)/99","v":{"$error":"#REF!"}},{"$f":"IF(J1858>0,1,0)/99","v":{"$error":"#REF!"}},73.687176353665606,{"$f":"E1858-#REF!","v":{"$error":"#REF!"}},null,null,80.948219615870201,{"$f":"I1858-#REF!","v":{"$error":"#REF!"}}]
["3°C","Huonville",{"$error":"#REF!"},{"$error":"#REF!"},74.860065226536094,{"$f":"E1859-#REF!","v":{"$error":"#REF!"}},null,null,84.299282311598006,{"$f":"I1859-#REF!","v":{"$error":"#REF!"}}]
["3°C","Huonville",{"$error":"#REF!"},{"$error":"#REF!"},70.083665424781898,{"$f":"E1860-#REF!","v":{"$error":"#REF!"}},null,null,79.476047998971197,{"$f":"I1860-#REF!","v":{"$error":"#REF!"}}]
["3°C","Huonville",{"$error":"#REF!"},{"$error":"#REF!"},62.373060015238401,{"$f":"E1861-#REF!","v":{"$error":"#REF!"}},null,null,76.001644382043196,{"$f":"I1861-#REF!","v":{"$error":"#REF!"}}]
["3°C","Huonville",{"$error":"#REF!"},{"$error":"#REF!"},78.661319956361396,{"$f":"E1862-#REF!","v":{"$error":"#REF!"}},null,null,83.370939866373703,{"$f":"I1862-#REF!","v":{"$error":"#REF!"}}]
["3°C","Huonville",{"$error":"#REF!"},{"$error":"#REF!"},72.456929153228103,{"$f":"E1863-#REF!","v":{"$error":"#REF!"}},null,null,81.196535437052503,{"$f":"I1863-#REF!","v":{"$error":"#REF!"}}]
["3°C","Huonville",{"$error":"#REF!"},{"$error":"#REF!"},74.062079282782605,{"$f":"E1864-#REF!","v":{"$error":"#REF!"}},null,null,83.608602862231294,{"$f":"I1864-#REF!","v":{"$error":"#REF!"}}]
["3°C","Huonville",{"$error":"#REF!"},{"$error":"#REF!"},80.701290678485705,{"$f":"E1865-#REF!","v":{"$error":"#REF!"}},null,null,86.441190110231403,{"$f":"I1865-#REF!","v":{"$error":"#REF!"}}]
["3°C","Huonville",{"$error":"#REF!"},{"$error":"#REF!"},70.486655322665499,{"$f":"E1866-#REF!","v":{"$error":"#REF!"}},null,null,77.822462062679406,{"$f":"I1866-#REF!","v":{"$error":"#REF!"}}]
["3°C","Huonville",{"$error":"#REF!"},{"$error":"#REF!"},76.087409496597303,{"$f":"E1867-#REF!","v":{"$error":"#REF!"}},null,null,84.798625717640405,{"$f":"I1867-#REF!","v":{"$error":"#REF!"}}]
["3°C","Huonville",{"$error":"#REF!"},{"$error":"#REF!"},78.358706485739702,{"$f":"E1868-#REF!","v":{"$error":"#REF!"}},null,null,84.326925870708195,{"$f":"I1868-#REF!","v":{"$error":"#REF!"}}]
["3°C","Huonville",{"$error":"#REF!"},{"$error":"#REF!"},76.1196887435176,{"$f":"E1869-#REF!","v":{"$error":"#REF!"}},null,null,83.312541102221203,{"$f":"I1869-#REF!","v":{"$error":"#REF!"}}]
["3°C","Huonville",{"$error":"#REF!"},{"$error":"#REF!"},76.712687037099698,{"$f":"E1870-#REF!","v":{"$error":"#REF!"}},null,null,83.618387971299597,{"$f":"I1870-#REF!","v":{"$error":"#REF!"}}]
["3°C","Huonville",{"$error":"#REF!"},{"$error":"#REF!"},76.288493400808207,{"$f":"E1871-#REF!","v":{"$error":"#REF!"}},null,null,81.500286810575403,{"$f":"I1871-#REF!","v":{"$error":"#REF!"}}]
["3°C","Huonville",{"$error":"#REF!"},{"$error":"#REF!"},62.268440738617699,{"$f":"E1872-#REF!","v":{"$error":"#REF!"}},null,null,72.040308041563605,{"$f":"I1872-#REF!","v":{"$error":"#REF!"}}]
["3°C","Huonville",{"$error":"#REF!"},{"$error":"#REF!"},72.039550665405997,{"$f":"E1873-#REF!","v":{"$error":"#REF!"}},null,null,82.579744033683099,{"$f":"I1873-#REF!","v":{"$error":"#REF!"}}]
["3°C","Huonville",{"$error":"#REF!"},{"$error":"#REF!"},76.353499197091395,{"$f":"E1874-#REF!","v":{"$error":"#REF!"}},null,null,83.575521300362695,{"$f":"I1874-#REF!","v":{"$error":"#REF!"}}]
["3°C","Huonville",{"$error":"#REF!"},{"$error":"#REF!"},66.024947864731999,{"$f":"E1875-#REF!","v":{"$error":"#REF!"}},null,null,75.127286078367803,{"$f":"I1875-#REF!","v":{"$error":"#REF!"}}]
["3°C","Huonville",{"$error":"#REF!"},{"$error":"#REF!"},70.290687354320696,{"$f":"E1876-#REF!","v":{"$error":"#REF!"}},null,null,77.887179086472202,{"$f":"I1876-#REF!","v":{"$error":"#REF!"}}]
["3°C","Huonville",{"$error":"#REF!"},{"$error":"#REF!"},80.606646716785306,{"$f":"E1877-#REF!","v":{"$error":"#REF!"}},null,null,85.718045959334205,{"$f":"I1877-#REF!","v":{"$error":"#REF!"}}]
["3°C","Huonville",{"$error":"#REF!"},{"$error":"#REF!"},68.690516722145404,{"$f":"E1878-#REF!","v":{"$error":"#REF!"}},null,null,75.152310596967396,{"$f":"I1878-#REF!","v":{"$error":"#REF!"}}]
["3°C","Huonville",{"$error":"#REF!"},{"$error":"#REF!"},77.593664604795293,{"$f":"E1879-#REF!","v":{"$error":"#REF!"}},null,null,83.982813776923095,{"$f":"I1879-#REF!","v":{"$error":"#REF!"}}]
["3°C","Huonville",{"$error":"#REF!"},{"$error":"#REF!"},65.577242080990004,{"$f":"E1880-#REF!","v":{"$error":"#REF!"}},null,null,71.410151803594701,{"$f":"I1880-#REF!","v":{"$error":"#REF!"}}]
["3°C","Huonville",{"$error":"#REF!"},{"$error":"#REF!"},74.116559918185402,{"$f":"E1881-#REF!","v":{"$error":"#REF!"}},null,null,80.997766135040294,{"$f":"I1881-#REF!","v":{"$error":"#REF!"}}]
["3°C","Huonville",{"$error":"#REF!"},{"$error":"#REF!"},74.107519904279499,{"$f":"E1882-#REF!","v":{"$error":"#REF!"}},null,null,81.6396781418307,{"$f":"I1882-#REF!","v":{"$error":"#REF!"}}]
["3°C","Lenswood",{"$error":"#REF!"},{"$error":"#REF!"},62.2411583784816,{"$f":"E1883-#REF!","v":{"$error":"#REF!"}},null,null,70.905969683157707,{"$f":"I1883-#REF!","v":{"$error":"#REF!"}}]
["3°C","Lenswood",{"$error":"#REF!"},{"$error":"#REF!"},60.736524337570998,{"$f":"E1884-#REF!","v":{"$error":"#REF!"}},null,null,70.130874193627903,{"$f":"I1884-#REF!","v":{"$error":"#REF!"}}]
["3°C","Lenswood",{"$error":"#REF!"},{"$error":"#REF!"},65.122048939758898,{"$f":"E1885-#REF!","v":{"$error":"#REF!"}},null,null,74.3908213047186,{"$f":"I1885-#REF!","v":{"$error":"#REF!"}}]
["3°C","Lenswood",{"$error":"#REF!"},{"$error":"#REF!"},51.345661768541497,{"$f":"E1886-#REF!","v":{"$error":"#REF!"}},null,null,59.990427181559298,{"$f":"I1886-#REF!","v":{"$error":"#REF!"}}]
["3°C","Lenswood",{"$error":"#REF!"},{"$error":"#REF!"},56.153909227535799,{"$f":"E1887-#REF!","v":{"$error":"#REF!"}},null,null,70.067383363010705,{"$f":"I1887-#REF!","v":{"$error":"#REF!"}}]
["3°C","Lenswood",{"$error":"#REF!"},{"$error":"#REF!"},63.121029964965302,{"$f":"E1888-#REF!","v":{"$error":"#REF!"}},null,null,73.272539065938403,{"$f":"I1888-#REF!","v":{"$error":"#REF!"}}]
["3°C","Lenswood",{"$error":"#REF!"},{"$error":"#REF!"},60.854493483961001,{"$f":"E1889-#REF!","v":{"$error":"#REF!"}},null,null,73.468319739932994,{"$f":"I1889-#REF!","v":{"$error":"#REF!"}}]
["3°C","Lenswood",{"$error":"#REF!"},{"$error":"#REF!"},59.295072095888699,{"$f":"E1890-#REF!","v":{"$error":"#REF!"}},null,null,68.374894455269995,{"$f":"I1890-#REF!","v":{"$error":"#REF!"}}]
["3°C","Lenswood",{"$error":"#REF!"},{"$error":"#REF!"},51.302414668251899,{"$f":"E1891-#REF!","v":{"$error":"#REF!"}},null,null,61.6819781782173,{"$f":"I1891-#REF!","v":{"$error":"#REF!"}}]
["3°C","Lenswood",{"$error":"#REF!"},{"$error":"#REF!"},63.956935142069298,{"$f":"E1892-#REF!","v":{"$error":"#REF!"}},null,null,77.366399654630797,{"$f":"I1892-#REF!","v":{"$error":"#REF!"}}]
["3°C","Lenswood",{"$error":"#REF!"},{"$error":"#REF!"},48.841230560756102,{"$f":"E1893-#REF!","v":{"$error":"#REF!"}},null,null,57.554588134535599,{"$f":"I1893-#REF!","v":{"$error":"#REF!"}}]
["3°C","Lenswood",{"$error":"#REF!"},{"$error":"#REF!"},66.512246861104302,{"$f":"E1894-#REF!","v":{"$error":"#REF!"}},null,null,74.513248147431995,{"$f":"I1894-#REF!","v":{"$error":"#REF!"}}]
["3°C","Lenswood",{"$error":"#REF!"},{"$error":"#REF!"},60.100781263864199,{"$f":"E1895-#REF!","v":{"$error":"#REF!"}},null,null,66.989365446567902,{"$f":"I1895-#REF!","v":{"$error":"#REF!"}}]
["3°C","Lenswood",{"$error":"#REF!"},{"$error":"#REF!"},58.648434375822703,{"$f":"E1896-#REF!","v":{"$error":"#REF!"}},null,null,69.343503833489194,{"$f":"I1896-#REF!","v":{"$error":"#REF!"}}]
["3°C","Lenswood",{"$error":"#REF!"},{"$error":"#REF!"},61.653201447108103,{"$f":"E1897-#REF!","v":{"$error":"#REF!"}},null,null,70.552684534438498,{"$f":"I1897-#REF!","v":{"$error":"#REF!"}}]
["3°C","Lenswood",{"$error":"#REF!"},{"$error":"#REF!"},63.6484533912095,{"$f":"E1898-#REF!","v":{"$error":"#REF!"}},null,null,74.127808049656807,{"$f":"I1898-#REF!","v":{"$error":"#REF!"}}]
["3°C","Lenswood",{"$error":"#REF!"},{"$error":"#REF!"},64.517709014405199,{"$f":"E1899-#REF!","v":{"$error":"#REF!"}},null,null,71.728527351706504,{"$f":"I1899-#REF!","v":{"$error":"#REF!"}}]
["3°C","Lenswood",{"$error":"#REF!"},{"$error":"#REF!"},59.456859972471698,{"$f":"E1900-#REF!","v":{"$error":"#REF!"}},null,null,66.003160764473506,{"$f":"I1900-#REF!","v":{"$error":"#REF!"}}]
["3°C","Lenswood",{"$error":"#REF!"},{"$error":"#REF!"},69.865649914599999,{"$f":"E1901-#REF!","v":{"$error":"#REF!"}},null,null,77.191429397661807,{"$f":"I1901-#REF!","v":{"$error":"#REF!"}}]
["3°C","Lenswood",{"$error":"#REF!"},{"$error":"#REF!"},55.756712539871302,{"$f":"E1902-#REF!","v":{"$error":"#REF!"}},null,null,66.436909594405194,{"$f":"I1902-#REF!","v":{"$error":"#REF!"}}]
["3°C","Lenswood",{"$error":"#REF!"},{"$error":"#REF!"},67.900438396728404,{"$f":"E1903-#REF!","v":{"$error":"#REF!"}},null,null,76.487307620446302,{"$f":"I1903-#REF!","v":{"$error":"#REF!"}}]
["3°C","Lenswood",{"$error":"#REF!"},{"$error":"#REF!"},59.865011416439799,{"$f":"E1904-#REF!","v":{"$error":"#REF!"}},null,null,68.5101630152365,{"$f":"I1904-#REF!","v":{"$error":"#REF!"}}]
["3°C","Lenswood",{"$error":"#REF!"},{"$error":"#REF!"},62.021085502112903,{"$f":"E1905-#REF!","v":{"$error":"#REF!"}},null,null,72.4264896885242,{"$f":"I1905-#REF!","v":{"$error":"#REF!"}}]
["3°C","Lenswood",{"$error":"#REF!"},{"$error":"#REF!"},50.319712304928501,{"$f":"E1906-#REF!","v":{"$error":"#REF!"}},null,null,60.683211163434102,{"$f":"I1906-#REF!","v":{"$error":"#REF!"}}]
["3°C","Lenswood",{"$error":"#REF!"},{"$error":"#REF!"},62.689392806247803,{"$f":"E1907-#REF!","v":{"$error":"#REF!"}},null,null,73.212506048132198,{"$f":"I1907-#REF!","v":{"$error":"#REF!"}}]
["3°C","Lenswood",{"$error":"#REF!"},{"$error":"#REF!"},59.193705328922199,{"$f":"E1908-#REF!","v":{"$error":"#REF!"}},null,null,68.194947150372002,{"$f":"I1908-#REF!","v":{"$error":"#REF!"}}]
["3°C","Lenswood",{"$error":"#REF!"},{"$error":"#REF!"},58.2017919306127,{"$f":"E1909-#REF!","v":{"$error":"#REF!"}},null,null,70.405912463810594,{"$f":"I1909-#REF!","v":{"$error":"#REF!"}}]
["3°C","Lenswood",{"$error":"#REF!"},{"$error":"#REF!"},63.257167125968103,{"$f":"E1910-#REF!","v":{"$error":"#REF!"}},null,null,73.017749730454696,{"$f":"I1910-#REF!","v":{"$error":"#REF!"}}]
["3°C","Lenswood",{"$error":"#REF!"},{"$error":"#REF!"},61.996460101608498,{"$f":"E1911-#REF!","v":{"$error":"#REF!"}},null,null,68.912692102363295,{"$f":"I1911-#REF!","v":{"$error":"#REF!"}}]
["3°C","Lenswood",{"$error":"#REF!"},{"$error":"#REF!"},65.384485013573993,{"$f":"E1912-#REF!","v":{"$error":"#REF!"}},null,null,74.083992358199097,{"$f":"I1912-#REF!","v":{"$error":"#REF!"}}]
["3°C","Lenswood",{"$error":"#REF!"},{"$error":"#REF!"},53.457140049197399,{"$f":"E1913-#REF!","v":{"$error":"#REF!"}},null,null,64.177128592282898,{"$f":"I1913-#REF!","v":{"$error":"#REF!"}}]
["3°C","Lenswood",{"$error":"#REF!"},{"$error":"#REF!"},52.314363856674298,{"$f":"E1914-#REF!","v":{"$error":"#REF!"}},null,null,65.670865578650194,{"$f":"I1914-#REF!","v":{"$error":"#REF!"}}]
["3°C","Lenswood",{"$error":"#REF!"},{"$error":"#REF!"},70.740115793931693,{"$f":"E1915-#REF!","v":{"$error":"#REF!"}},null,null,80.860905076014205,{"$f":"I1915-#REF!","v":{"$error":"#REF!"}}]
["3°C","Lenswood",{"$error":"#REF!"},{"$error":"#REF!"},65.994097668901105,{"$f":"E1916-#REF!","v":{"$error":"#REF!"}},null,null,73.618786148502807,{"$f":"I1916-#REF!","v":{"$error":"#REF!"}}]
["3°C","Lenswood",{"$error":"#REF!"},{"$error":"#REF!"},54.188968359893003,{"$f":"E1917-#REF!","v":{"$error":"#REF!"}},null,null,61.596065227446097,{"$f":"I1917-#REF!","v":{"$error":"#REF!"}}]
["3°C","Lenswood",{"$error":"#REF!"},{"$error":"#REF!"},60.667844633865499,{"$f":"E1918-#REF!","v":{"$error":"#REF!"}},null,null,70.774585431057304,{"$f":"I1918-#REF!","v":{"$error":"#REF!"}}]
["3°C","Lenswood",{"$error":"#REF!"},{"$error":"#REF!"},56.512232214369298,{"$f":"E1919-#REF!","v":{"$error":"#REF!"}},null,null,65.122143162554906,{"$f":"I1919-#REF!","v":{"$error":"#REF!"}}]
["3°C","Lenswood",{"$error":"#REF!"},{"$error":"#REF!"},62.366570865625398,{"$f":"E1920-#REF!","v":{"$error":"#REF!"}},null,null,72.846163913108398,{"$f":"I1920-#REF!","v":{"$error":"#REF!"}}]
["3°C","Lenswood",{"$error":"#REF!"},{"$error":"#REF!"},62.035205086516903,{"$f":"E1921-#REF!","v":{"$error":"#REF!"}},null,null,70.047781215380795,{"$f":"I1921-#REF!","v":{"$error":"#REF!"}}]
["3°C","Lenswood",{"$f":"IF(F1922>0,1,0)/99","v":{"$error":"#REF!"}},{"$f":"IF(J1922>0,1,0)/99","v":{"$error":"#REF!"}},54.138782746154,{"$f":"E1922-#REF!","v":{"$error":"#REF!"}},null,null,64.006911254090497,{"$f":"I1922-#REF!","v":{"$error":"#REF!"}}]
["3°C","Lenswood",{"$error":"#REF!"},{"$error":"#REF!"},62.546342490930002,{"$f":"E1923-#REF!","v":{"$error":"#REF!"}},null,null,73.709376641526106,{"$f":"I1923-#REF!","v":{"$error":"#REF!"}}]
["3°C","Lenswood",{"$error":"#REF!"},{"$error":"#REF!"},64.468069664654294,{"$f":"E1924-#REF!","v":{"$error":"#REF!"}},null,null,76.0445804061209,{"$f":"I1924-#REF!","v":{"$error":"#REF!"}}]
["3°C","Lenswood",{"$error":"#REF!"},{"$error":"#REF!"},62.175939085191601,{"$f":"E1925-#REF!","v":{"$error":"#REF!"}},null,null,69.652670432938706,{"$f":"I1925-#REF!","v":{"$error":"#REF!"}}]
["3°C","Lenswood",{"$error":"#REF!"},{"$error":"#REF!"},57.300657893996103,{"$f":"E1926-#REF!","v":{"$error":"#REF!"}},null,null,66.538575854518399,{"$f":"I1926-#REF!","v":{"$error":"#REF!"}}]
["3°C","Lenswood",{"$error":"#REF!"},{"$error":"#REF!"},60.299512303247496,{"$f":"E1927-#REF!","v":{"$error":"#REF!"}},null,null,71.686661940307005,{"$f":"I1927-#REF!","v":{"$error":"#REF!"}}]
["3°C","Lenswood",{"$error":"#REF!"},{"$error":"#REF!"},63.406742627710301,{"$f":"E1928-#REF!","v":{"$error":"#REF!"}},null,null,72.349889362274794,{"$f":"I1928-#REF!","v":{"$error":"#REF!"}}]
["3°C","Lenswood",{"$error":"#REF!"},{"$error":"#REF!"},48.727728772115697,{"$f":"E1929-#REF!","v":{"$error":"#REF!"}},null,null,56.266032996065199,{"$f":"I1929-#REF!","v":{"$error":"#REF!"}}]
["3°C","Lenswood",{"$error":"#REF!"},{"$error":"#REF!"},55.145760719527502,{"$f":"E1930-#REF!","v":{"$error":"#REF!"}},null,null,62.612765153159103,{"$f":"I1930-#REF!","v":{"$error":"#REF!"}}]
["3°C","Lenswood",{"$error":"#REF!"},{"$error":"#REF!"},51.017280057774599,{"$f":"E1931-#REF!","v":{"$error":"#REF!"}},null,null,60.126649581402098,{"$f":"I1931-#REF!","v":{"$error":"#REF!"}}]
["3°C","Lenswood",{"$error":"#REF!"},{"$error":"#REF!"},74.034530666997597,{"$f":"E1932-#REF!","v":{"$error":"#REF!"}},null,null,82.444205598569795,{"$f":"I1932-#REF!","v":{"$error":"#REF!"}}]
["3°C","Lenswood",{"$error":"#REF!"},{"$error":"#REF!"},54.2950280363467,{"$f":"E1933-#REF!","v":{"$error":"#REF!"}},null,null,64.469439571640393,{"$f":"I1933-#REF!","v":{"$error":"#REF!"}}]
["3°C","Lenswood",{"$error":"#REF!"},{"$error":"#REF!"},49.585781927145398,{"$f":"E1934-#REF!","v":{"$error":"#REF!"}},null,null,61.253097876466001,{"$f":"I1934-#REF!","v":{"$error":"#REF!"}}]
["3°C","Lenswood",{"$error":"#REF!"},{"$error":"#REF!"},55.1199463103532,{"$f":"E1935-#REF!","v":{"$error":"#REF!"}},null,null,65.704221453617606,{"$f":"I1935-#REF!","v":{"$error":"#REF!"}}]
["3°C","Lenswood",{"$error":"#REF!"},{"$error":"#REF!"},52.454823570281697,{"$f":"E1936-#REF!","v":{"$error":"#REF!"}},null,null,63.160124207039502,{"$f":"I1936-#REF!","v":{"$error":"#REF!"}}]
["3°C","Lenswood",{"$error":"#REF!"},{"$error":"#REF!"},52.806036512527498,{"$f":"E1937-#REF!","v":{"$error":"#REF!"}},null,null,63.858164755114501,{"$f":"I1937-#REF!","v":{"$error":"#REF!"}}]
["3°C","Lenswood",{"$error":"#REF!"},{"$error":"#REF!"},57.784406226533598,{"$f":"E1938-#REF!","v":{"$error":"#REF!"}},null,null,69.463735145340607,{"$f":"I1938-#REF!","v":{"$error":"#REF!"}}]
["3°C","Lenswood",{"$error":"#REF!"},{"$error":"#REF!"},57.342142307709501,{"$f":"E1939-#REF!","v":{"$error":"#REF!"}},null,null,65.031990222155201,{"$f":"I1939-#REF!","v":{"$error":"#REF!"}}]
["3°C","Lenswood",{"$error":"#REF!"},{"$error":"#REF!"},66.952571157074303,{"$f":"E1940-#REF!","v":{"$error":"#REF!"}},null,null,78.2724232500277,{"$f":"I1940-#REF!","v":{"$error":"#REF!"}}]
["3°C","Lenswood",{"$error":"#REF!"},{"$error":"#REF!"},56.269012542914801,{"$f":"E1941-#REF!","v":{"$error":"#REF!"}},null,null,68.077082579625298,{"$f":"I1941-#REF!","v":{"$error":"#REF!"}}]
["3°C","Lenswood",{"$error":"#REF!"},{"$error":"#REF!"},59.258646390269099,{"$f":"E1942-#REF!","v":{"$error":"#REF!"}},null,null,72.6226443914545,{"$f":"I1942-#REF!","v":{"$error":"#REF!"}}]
["3°C","Lenswood",{"$error":"#REF!"},{"$error":"#REF!"},65.602058193960801,{"$f":"E1943-#REF!","v":{"$error":"#REF!"}},null,null,77.246723069427404,{"$f":"I1943-#REF!","v":{"$error":"#REF!"}}]
["3°C","Lenswood",{"$error":"#REF!"},{"$error":"#REF!"},59.259822684939799,{"$f":"E1944-#REF!","v":{"$error":"#REF!"}},null,null,70.714975205252003,{"$f":"I1944-#REF!","v":{"$error":"#REF!"}}]
["3°C","Lenswood",{"$error":"#REF!"},{"$error":"#REF!"},58.461266536237503,{"$f":"E1945-#REF!","v":{"$error":"#REF!"}},null,null,65.117461085253794,{"$f":"I1945-#REF!","v":{"$error":"#REF!"}}]
["3°C","Lenswood",{"$error":"#REF!"},{"$error":"#REF!"},60.534212760795,{"$f":"E1946-#REF!","v":{"$error":"#REF!"}},null,null,71.715063402441203,{"$f":"I1946-#REF!","v":{"$error":"#REF!"}}]
["3°C","Lenswood",{"$error":"#REF!"},{"$error":"#REF!"},56.563991429007302,{"$f":"E1947-#REF!","v":{"$error":"#REF!"}},null,null,61.900554852786101,{"$f":"I1947-#REF!","v":{"$error":"#REF!"}}]
["3°C","Lenswood",{"$error":"#REF!"},{"$error":"#REF!"},63.943111976957503,{"$f":"E1948-#REF!","v":{"$error":"#REF!"}},null,null,70.982598940680006,{"$f":"I1948-#REF!","v":{"$error":"#REF!"}}]
["3°C","Lenswood",{"$error":"#REF!"},{"$error":"#REF!"},55.478330810882198,{"$f":"E1949-#REF!","v":{"$error":"#REF!"}},null,null,67.311208209869605,{"$f":"I1949-#REF!","v":{"$error":"#REF!"}}]
["3°C","Lenswood",{"$error":"#REF!"},{"$error":"#REF!"},67.053583272552601,{"$f":"E1950-#REF!","v":{"$error":"#REF!"}},null,null,74.016838752768194,{"$f":"I1950-#REF!","v":{"$error":"#REF!"}}]
["3°C","Lenswood",{"$error":"#REF!"},{"$error":"#REF!"},62.7489122516631,{"$f":"E1951-#REF!","v":{"$error":"#REF!"}},null,null,72.929916523626105,{"$f":"I1951-#REF!","v":{"$error":"#REF!"}}]
["3°C","Lenswood",{"$error":"#REF!"},{"$error":"#REF!"},55.027989946953198,{"$f":"E1952-#REF!","v":{"$error":"#REF!"}},null,null,65.027950143496895,{"$f":"I1952-#REF!","v":{"$error":"#REF!"}}]
["3°C","Lenswood",{"$error":"#REF!"},{"$error":"#REF!"},60.409272949999298,{"$f":"E1953-#REF!","v":{"$error":"#REF!"}},null,null,74.743305482794,{"$f":"I1953-#REF!","v":{"$error":"#REF!"}}]
["3°C","Lenswood",{"$error":"#REF!"},{"$error":"#REF!"},59.437203282989501,{"$f":"E1954-#REF!","v":{"$error":"#REF!"}},null,null,66.928291954483498,{"$f":"I1954-#REF!","v":{"$error":"#REF!"}}]
["3°C","Lenswood",{"$error":"#REF!"},{"$error":"#REF!"},62.121571761619698,{"$f":"E1955-#REF!","v":{"$error":"#REF!"}},null,null,72.551958110139594,{"$f":"I1955-#REF!","v":{"$error":"#REF!"}}]
["3°C","Lenswood",{"$error":"#REF!"},{"$error":"#REF!"},60.6627410795912,{"$f":"E1956-#REF!","v":{"$error":"#REF!"}},null,null,72.426642956448802,{"$f":"I1956-#REF!","v":{"$error":"#REF!"}}]
["3°C","Lenswood",{"$error":"#REF!"},{"$error":"#REF!"},64.7379301130388,{"$f":"E1957-#REF!","v":{"$error":"#REF!"}},null,null,74.363735881165297,{"$f":"I1957-#REF!","v":{"$error":"#REF!"}}]
["3°C","Lenswood",{"$error":"#REF!"},{"$error":"#REF!"},60.679909435618001,{"$f":"E1958-#REF!","v":{"$error":"#REF!"}},null,null,69.972456345120605,{"$f":"I1958-#REF!","v":{"$error":"#REF!"}}]
["3°C","Lenswood",{"$error":"#REF!"},{"$error":"#REF!"},60.893746940401101,{"$f":"E1959-#REF!","v":{"$error":"#REF!"}},null,null,71.418478808349207,{"$f":"I1959-#REF!","v":{"$error":"#REF!"}}]
["3°C","Lenswood",{"$error":"#REF!"},{"$error":"#REF!"},49.303318094544402,{"$f":"E1960-#REF!","v":{"$error":"#REF!"}},null,null,59.273359910303398,{"$f":"I1960-#REF!","v":{"$error":"#REF!"}}]
["3°C","Lenswood",{"$error":"#REF!"},{"$error":"#REF!"},66.238633168132594,{"$f":"E1961-#REF!","v":{"$error":"#REF!"}},null,null,72.271355301697994,{"$f":"I1961-#REF!","v":{"$error":"#REF!"}}]
["3°C","Lenswood",{"$error":"#REF!"},{"$error":"#REF!"},60.4485648503574,{"$f":"E1962-#REF!","v":{"$error":"#REF!"}},null,null,69.866422436321201,{"$f":"I1962-#REF!","v":{"$error":"#REF!"}}]
["3°C","Lenswood",{"$error":"#REF!"},{"$error":"#REF!"},48.974030672782703,{"$f":"E1963-#REF!","v":{"$error":"#REF!"}},null,null,64.035261505109204,{"$f":"I1963-#REF!","v":{"$error":"#REF!"}}]
["3°C","Lenswood",{"$error":"#REF!"},{"$error":"#REF!"},64.104423010537204,{"$f":"E1964-#REF!","v":{"$error":"#REF!"}},null,null,74.334333645983705,{"$f":"I1964-#REF!","v":{"$error":"#REF!"}}]
["3°C","Lenswood",{"$error":"#REF!"},{"$error":"#REF!"},49.230312611692398,{"$f":"E1965-#REF!","v":{"$error":"#REF!"}},null,null,58.9507867033102,{"$f":"I1965-#REF!","v":{"$error":"#REF!"}}]
["3°C","Lenswood",{"$error":"#REF!"},{"$error":"#REF!"},54.832596343627301,{"$f":"E1966-#REF!","v":{"$error":"#REF!"}},null,null,66.664638767319204,{"$f":"I1966-#REF!","v":{"$error":"#REF!"}}]
["3°C","Lenswood",{"$error":"#REF!"},{"$error":"#REF!"},61.9196358820681,{"$f":"E1967-#REF!","v":{"$error":"#REF!"}},null,null,69.711765135074003,{"$f":"I1967-#REF!","v":{"$error":"#REF!"}}]
["3°C","Lenswood",{"$error":"#REF!"},{"$error":"#REF!"},57.103049084573101,{"$f":"E1968-#REF!","v":{"$error":"#REF!"}},null,null,69.242712639889206,{"$f":"I1968-#REF!","v":{"$error":"#REF!"}}]
["3°C","Lenswood",{"$error":"#REF!"},{"$error":"#REF!"},65.3373515608113,{"$f":"E1969-#REF!","v":{"$error":"#REF!"}},null,null,74.929045248984806,{"$f":"I1969-#REF!","v":{"$error":"#REF!"}}]
["3°C","Lenswood",{"$error":"#REF!"},{"$error":"#REF!"},60.325245206124897,{"$f":"E1970-#REF!","v":{"$error":"#REF!"}},null,null,70.013363981127995,{"$f":"I1970-#REF!","v":{"$error":"#REF!"}}]
["3°C","Lenswood",{"$error":"#REF!"},{"$error":"#REF!"},53.969641541023002,{"$f":"E1971-#REF!","v":{"$error":"#REF!"}},null,null,63.9010493490117,{"$f":"I1971-#REF!","v":{"$error":"#REF!"}}]
["3°C","Lenswood",{"$error":"#REF!"},{"$error":"#REF!"},58.190598267285999,{"$f":"E1972-#REF!","v":{"$error":"#REF!"}},null,null,73.285557734665204,{"$f":"I1972-#REF!","v":{"$error":"#REF!"}}]
["3°C","Lenswood",{"$error":"#REF!"},{"$error":"#REF!"},56.178205268130199,{"$f":"E1973-#REF!","v":{"$error":"#REF!"}},null,null,68.467643602010995,{"$f":"I1973-#REF!","v":{"$error":"#REF!"}}]
["3°C","Lenswood",{"$error":"#REF!"},{"$error":"#REF!"},57.299159045202501,{"$f":"E1974-#REF!","v":{"$error":"#REF!"}},null,null,67.232169895486606,{"$f":"I1974-#REF!","v":{"$error":"#REF!"}}]
["3°C","Lenswood",{"$error":"#REF!"},{"$error":"#REF!"},61.120865005880702,{"$f":"E1975-#REF!","v":{"$error":"#REF!"}},null,null,69.284002062930597,{"$f":"I1975-#REF!","v":{"$error":"#REF!"}}]
["3°C","Lenswood",{"$error":"#REF!"},{"$error":"#REF!"},55.210567158247898,{"$f":"E1976-#REF!","v":{"$error":"#REF!"}},null,null,67.135330112943606,{"$f":"I1976-#REF!","v":{"$error":"#REF!"}}]
["3°C","Lenswood",{"$error":"#REF!"},{"$error":"#REF!"},48.768046676728801,{"$f":"E1977-#REF!","v":{"$error":"#REF!"}},null,null,54.478923295016997,{"$f":"I1977-#REF!","v":{"$error":"#REF!"}}]
["3°C","Lenswood",{"$error":"#REF!"},{"$error":"#REF!"},63.546228486347196,{"$f":"E1978-#REF!","v":{"$error":"#REF!"}},null,null,73.122967628913102,{"$f":"I1978-#REF!","v":{"$error":"#REF!"}}]
["3°C","Lenswood",{"$error":"#REF!"},{"$error":"#REF!"},52.394179671921499,{"$f":"E1979-#REF!","v":{"$error":"#REF!"}},null,null,60.833278344318501,{"$f":"I1979-#REF!","v":{"$error":"#REF!"}}]
["3°C","Lenswood",{"$error":"#REF!"},{"$error":"#REF!"},59.101425954356301,{"$f":"E1980-#REF!","v":{"$error":"#REF!"}},null,null,68.932178986290396,{"$f":"I1980-#REF!","v":{"$error":"#REF!"}}]
["3°C","Lenswood",{"$error":"#REF!"},{"$error":"#REF!"},48.196191112540603,{"$f":"E1981-#REF!","v":{"$error":"#REF!"}},null,null,61.692524561227998,{"$f":"I1981-#REF!","v":{"$error":"#REF!"}}]
["3°C","Manjimup",{"$error":"#REF!"},{"$error":"#REF!"},29.9463354163532,{"$f":"E1982-#REF!","v":{"$error":"#REF!"}},null,null,50.222563721161997,{"$f":"I1982-#REF!","v":{"$error":"#REF!"}}]
["3°C","Manjimup",{"$error":"#REF!"},{"$error":"#REF!"},22.7638855346272,{"$f":"E1983-#REF!","v":{"$error":"#REF!"}},null,null,34.423261431534897,{"$f":"I1983-#REF!","v":{"$error":"#REF!"}}]
["3°C","Manjimup",{"$error":"#REF!"},{"$error":"#REF!"},12.981412054756699,{"$f":"E1984-#REF!","v":{"$error":"#REF!"}},null,null,30.2549211993862,{"$f":"I1984-#REF!","v":{"$error":"#REF!"}}]
["3°C","Manjimup",{"$error":"#REF!"},{"$error":"#REF!"},28.090253956419499,{"$f":"E1985-#REF!","v":{"$error":"#REF!"}},null,null,45.648421297220899,{"$f":"I1985-#REF!","v":{"$error":"#REF!"}}]
["3°C","Manjimup",{"$f":"IF(F1986>0,1,0)/99","v":{"$error":"#REF!"}},{"$f":"IF(J1986>0,1,0)/99","v":{"$error":"#REF!"}},18.863463064278001,{"$f":"E1986-#REF!","v":{"$error":"#REF!"}},null,null,32.595751710644002,{"$f":"I1986-#REF!","v":{"$error":"#REF!"}}]
["3°C","Manjimup",{"$error":"#REF!"},{"$error":"#REF!"},40.272442542670099,{"$f":"E1987-#REF!","v":{"$error":"#REF!"}},null,null,54.401971740349403,{"$f":"I1987-#REF!","v":{"$error":"#REF!"}}]
["3°C","Manjimup",{"$error":"#REF!"},{"$error":"#REF!"},37.0030010315865,{"$f":"E1988-#REF!","v":{"$error":"#REF!"}},null,null,47.9634193031237,{"$f":"I1988-#REF!","v":{"$error":"#REF!"}}]
["3°C","Manjimup",{"$error":"#REF!"},{"$error":"#REF!"},30.6552732120531,{"$f":"E1989-#REF!","v":{"$error":"#REF!"}},null,null,43.147644273217601,{"$f":"I1989-#REF!","v":{"$error":"#REF!"}}]
["3°C","Manjimup",{"$error":"#REF!"},{"$error":"#REF!"},27.751223882026601,{"$f":"E1990-#REF!","v":{"$error":"#REF!"}},null,null,42.570293832588199,{"$f":"I1990-#REF!","v":{"$error":"#REF!"}}]
["3°C","Manjimup",{"$error":"#REF!"},{"$error":"#REF!"},36.692752531123901,{"$f":"E1991-#REF!","v":{"$error":"#REF!"}},null,null,51.565349178508797,{"$f":"I1991-#REF!","v":{"$error":"#REF!"}}]
["3°C","Manjimup",{"$error":"#REF!"},{"$error":"#REF!"},19.1030707649387,{"$f":"E1992-#REF!","v":{"$error":"#REF!"}},null,null,29.773138168626499,{"$f":"I1992-#REF!","v":{"$error":"#REF!"}}]
["3°C","Manjimup",{"$error":"#REF!"},{"$error":"#REF!"},36.461806960865701,{"$f":"E1993-#REF!","v":{"$error":"#REF!"}},null,null,51.726123386278701,{"$f":"I1993-#REF!","v":{"$error":"#REF!"}}]
["3°C","Manjimup",{"$error":"#REF!"},{"$error":"#REF!"},33.953062586773001,{"$f":"E1994-#REF!","v":{"$error":"#REF!"}},null,null,47.5127576630221,{"$f":"I1994-#REF!","v":{"$error":"#REF!"}}]
["3°C","Manjimup",{"$error":"#REF!"},{"$error":"#REF!"},28.986546954923199,{"$f":"E1995-#REF!","v":{"$error":"#REF!"}},null,null,48.836103263872403,{"$f":"I1995-#REF!","v":{"$error":"#REF!"}}]
["3°C","Manjimup",{"$error":"#REF!"},{"$error":"#REF!"},33.849948048665702,{"$f":"E1996-#REF!","v":{"$error":"#REF!"}},null,null,49.3828103597181,{"$f":"I1996-#REF!","v":{"$error":"#REF!"}}]
["3°C","Manjimup",{"$error":"#REF!"},{"$error":"#REF!"},33.915768025239998,{"$f":"E1997-#REF!","v":{"$error":"#REF!"}},null,null,48.228562967747202,{"$f":"I1997-#REF!","v":{"$error":"#REF!"}}]
["3°C","Manjimup",{"$error":"#REF!"},{"$error":"#REF!"},37.000276891067699,{"$f":"E1998-#REF!","v":{"$error":"#REF!"}},null,null,51.483057818905401,{"$f":"I1998-#REF!","v":{"$error":"#REF!"}}]
["3°C","Manjimup",{"$error":"#REF!"},{"$error":"#REF!"},24.363918337446901,{"$f":"E1999-#REF!","v":{"$error":"#REF!"}},null,null,42.974593595668701,{"$f":"I1999-#REF!","v":{"$error":"#REF!"}}]
["3°C","Manjimup",{"$error":"#REF!"},{"$error":"#REF!"},35.563793138756601,{"$f":"E2000-#REF!","v":{"$error":"#REF!"}},null,null,57.283458839754402,{"$f":"I2000-#REF!","v":{"$error":"#REF!"}}]
["3°C","Manjimup",{"$error":"#REF!"},{"$error":"#REF!"},20.045815675065299,{"$f":"E2001-#REF!","v":{"$error":"#REF!"}},null,null,32.386738387510398,{"$f":"I2001-#REF!","v":{"$error":"#REF!"}}]
["3°C","Manjimup",{"$error":"#REF!"},{"$error":"#REF!"},36.973779142179303,{"$f":"E2002-#REF!","v":{"$error":"#REF!"}},null,null,49.228099756114801,{"$f":"I2002-#REF!","v":{"$error":"#REF!"}}]
["3°C","Manjimup",{"$error":"#REF!"},{"$error":"#REF!"},31.031229903088001,{"$f":"E2003-#REF!","v":{"$error":"#REF!"}},null,null,42.461215998592998,{"$f":"I2003-#REF!","v":{"$error":"#REF!"}}]
["3°C","Manjimup",{"$error":"#REF!"},{"$error":"#REF!"},24.333301423512498,{"$f":"E2004-#REF!","v":{"$error":"#REF!"}},null,null,37.600146550442801,{"$f":"I2004-#REF!","v":{"$error":"#REF!"}}]
["3°C","Manjimup",{"$error":"#REF!"},{"$error":"#REF!"},25.8801470136512,{"$f":"E2005-#REF!","v":{"$error":"#REF!"}},null,null,39.363645894727902,{"$f":"I2005-#REF!","v":{"$error":"#REF!"}}]
["3°C","Manjimup",{"$error":"#REF!"},{"$error":"#REF!"},34.3195297134626,{"$f":"E2006-#REF!","v":{"$error":"#REF!"}},null,null,47.344768283057299,{"$f":"I2006-#REF!","v":{"$error":"#REF!"}}]
["3°C","Manjimup",{"$error":"#REF!"},{"$error":"#REF!"},30.604193198292201,{"$f":"E2007-#REF!","v":{"$error":"#REF!"}},null,null,48.3175152717508,{"$f":"I2007-#REF!","v":{"$error":"#REF!"}}]
["3°C","Manjimup",{"$error":"#REF!"},{"$error":"#REF!"},32.147647022235503,{"$f":"E2008-#REF!","v":{"$error":"#REF!"}},null,null,44.140591950738198,{"$f":"I2008-#REF!","v":{"$error":"#REF!"}}]
["3°C","Manjimup",{"$error":"#REF!"},{"$error":"#REF!"},33.958353337841103,{"$f":"E2009-#REF!","v":{"$error":"#REF!"}},null,null,48.161880813218801,{"$f":"I2009-#REF!","v":{"$error":"#REF!"}}]
["3°C","Manjimup",{"$error":"#REF!"},{"$error":"#REF!"},31.826178666773099,{"$f":"E2010-#REF!","v":{"$error":"#REF!"}},null,null,49.828996230456703,{"$f":"I2010-#REF!","v":{"$error":"#REF!"}}]
["3°C","Manjimup",{"$error":"#REF!"},{"$error":"#REF!"},22.245757757367201,{"$f":"E2011-#REF!","v":{"$error":"#REF!"}},null,null,37.425883538495,{"$f":"I2011-#REF!","v":{"$error":"#REF!"}}]
["3°C","Manjimup",{"$error":"#REF!"},{"$error":"#REF!"},24.754284676267002,{"$f":"E2012-#REF!","v":{"$error":"#REF!"}},null,null,40.945257175010802,{"$f":"I2012-#REF!","v":{"$error":"#REF!"}}]
["3°C","Manjimup",{"$error":"#REF!"},{"$error":"#REF!"},35.948873837782699,{"$f":"E2013-#REF!","v":{"$error":"#REF!"}},null,null,49.975235880558898,{"$f":"I2013-#REF!","v":{"$error":"#REF!"}}]
["3°C","Manjimup",{"$error":"#REF!"},{"$error":"#REF!"},42.439625211934299,{"$f":"E2014-#REF!","v":{"$error":"#REF!"}},null,null,59.108310933920798,{"$f":"I2014-#REF!","v":{"$error":"#REF!"}}]
["3°C","Manjimup",{"$error":"#REF!"},{"$error":"#REF!"},39.114403258282998,{"$f":"E2015-#REF!","v":{"$error":"#REF!"}},null,null,55.881876151887802,{"$f":"I2015-#REF!","v":{"$error":"#REF!"}}]
["3°C","Manjimup",{"$error":"#REF!"},{"$error":"#REF!"},23.5311565369066,{"$f":"E2016-#REF!","v":{"$error":"#REF!"}},null,null,38.791439520430998,{"$f":"I2016-#REF!","v":{"$error":"#REF!"}}]
["3°C","Manjimup",{"$error":"#REF!"},{"$error":"#REF!"},39.071554536995201,{"$f":"E2017-#REF!","v":{"$error":"#REF!"}},null,null,51.361474323924398,{"$f":"I2017-#REF!","v":{"$error":"#REF!"}}]
["3°C","Manjimup",{"$error":"#REF!"},{"$error":"#REF!"},27.893306976561899,{"$f":"E2018-#REF!","v":{"$error":"#REF!"}},null,null,47.434150733122401,{"$f":"I2018-#REF!","v":{"$error":"#REF!"}}]
["3°C","Manjimup",{"$error":"#REF!"},{"$error":"#REF!"},20.194246685962302,{"$f":"E2019-#REF!","v":{"$error":"#REF!"}},null,null,33.920236888236403,{"$f":"I2019-#REF!","v":{"$error":"#REF!"}}]
["3°C","Manjimup",{"$error":"#REF!"},{"$error":"#REF!"},14.33225276826,{"$f":"E2020-#REF!","v":{"$error":"#REF!"}},null,null,30.288204898934701,{"$f":"I2020-#REF!","v":{"$error":"#REF!"}}]
["3°C","Manjimup",{"$error":"#REF!"},{"$error":"#REF!"},21.612176137821201,{"$f":"E2021-#REF!","v":{"$error":"#REF!"}},null,null,35.9590377730499,{"$f":"I2021-#REF!","v":{"$error":"#REF!"}}]
["3°C","Manjimup",{"$error":"#REF!"},{"$error":"#REF!"},34.867114227893197,{"$f":"E2022-#REF!","v":{"$error":"#REF!"}},null,null,49.740891909757799,{"$f":"I2022-#REF!","v":{"$error":"#REF!"}}]
["3°C","Manjimup",{"$error":"#REF!"},{"$error":"#REF!"},28.8686917415585,{"$f":"E2023-#REF!","v":{"$error":"#REF!"}},null,null,44.929031539893302,{"$f":"I2023-#REF!","v":{"$error":"#REF!"}}]
["3°C","Manjimup",{"$error":"#REF!"},{"$error":"#REF!"},31.830332553241501,{"$f":"E2024-#REF!","v":{"$error":"#REF!"}},null,null,47.437681473299897,{"$f":"I2024-#REF!","v":{"$error":"#REF!"}}]
["3°C","Manjimup",{"$error":"#REF!"},{"$error":"#REF!"},28.925766665880101,{"$f":"E2025-#REF!","v":{"$error":"#REF!"}},null,null,44.769266609744697,{"$f":"I2025-#REF!","v":{"$error":"#REF!"}}]
["3°C","Manjimup",{"$error":"#REF!"},{"$error":"#REF!"},38.945654210846499,{"$f":"E2026-#REF!","v":{"$error":"#REF!"}},null,null,55.556792129859801,{"$f":"I2026-#REF!","v":{"$error":"#REF!"}}]
["3°C","Manjimup",{"$error":"#REF!"},{"$error":"#REF!"},46.510492225106503,{"$f":"E2027-#REF!","v":{"$error":"#REF!"}},null,null,60.276996825826302,{"$f":"I2027-#REF!","v":{"$error":"#REF!"}}]
["3°C","Manjimup",{"$error":"#REF!"},{"$error":"#REF!"},26.069727393292599,{"$f":"E2028-#REF!","v":{"$error":"#REF!"}},null,null,39.111608717203403,{"$f":"I2028-#REF!","v":{"$error":"#REF!"}}]
["3°C","Manjimup",{"$error":"#REF!"},{"$error":"#REF!"},37.033456497485503,{"$f":"E2029-#REF!","v":{"$error":"#REF!"}},null,null,43.530983776502701,{"$f":"I2029-#REF!","v":{"$error":"#REF!"}}]
["3°C","Manjimup",{"$error":"#REF!"},{"$error":"#REF!"},14.0609486236824,{"$f":"E2030-#REF!","v":{"$error":"#REF!"}},null,null,26.1414196830574,{"$f":"I2030-#REF!","v":{"$error":"#REF!"}}]
["3°C","Manjimup",{"$error":"#REF!"},{"$error":"#REF!"},41.9463644445227,{"$f":"E2031-#REF!","v":{"$error":"#REF!"}},null,null,60.387781692570996,{"$f":"I2031-#REF!","v":{"$error":"#REF!"}}]
["3°C","Manjimup",{"$error":"#REF!"},{"$error":"#REF!"},30.7816590031555,{"$f":"E2032-#REF!","v":{"$error":"#REF!"}},null,null,40.995953723087702,{"$f":"I2032-#REF!","v":{"$error":"#REF!"}}]
["3°C","Manjimup",{"$error":"#REF!"},{"$error":"#REF!"},17.942822020167,{"$f":"E2033-#REF!","v":{"$error":"#REF!"}},null,null,28.875528597979201,{"$f":"I2033-#REF!","v":{"$error":"#REF!"}}]
["3°C","Manjimup",{"$error":"#REF!"},{"$error":"#REF!"},25.1354733182819,{"$f":"E2034-#REF!","v":{"$error":"#REF!"}},null,null,43.053654231154397,{"$f":"I2034-#REF!","v":{"$error":"#REF!"}}]
["3°C","Manjimup",{"$error":"#REF!"},{"$error":"#REF!"},22.095589697325899,{"$f":"E2035-#REF!","v":{"$error":"#REF!"}},null,null,44.064589621111701,{"$f":"I2035-#REF!","v":{"$error":"#REF!"}}]
["3°C","Manjimup",{"$error":"#REF!"},{"$error":"#REF!"},32.107912030580302,{"$f":"E2036-#REF!","v":{"$error":"#REF!"}},null,null,46.099468015856701,{"$f":"I2036-#REF!","v":{"$error":"#REF!"}}]
["3°C","Manjimup",{"$error":"#REF!"},{"$error":"#REF!"},36.628635620641901,{"$f":"E2037-#REF!","v":{"$error":"#REF!"}},null,null,51.458270381162102,{"$f":"I2037-#REF!","v":{"$error":"#REF!"}}]
["3°C","Manjimup",{"$error":"#REF!"},{"$error":"#REF!"},30.6189195710975,{"$f":"E2038-#REF!","v":{"$error":"#REF!"}},null,null,44.437979208816898,{"$f":"I2038-#REF!","v":{"$error":"#REF!"}}]
["3°C","Manjimup",{"$error":"#REF!"},{"$error":"#REF!"},40.020405658441199,{"$f":"E2039-#REF!","v":{"$error":"#REF!"}},null,null,56.9078733620793,{"$f":"I2039-#REF!","v":{"$error":"#REF!"}}]
["3°C","Manjimup",{"$error":"#REF!"},{"$error":"#REF!"},25.929298839428899,{"$f":"E2040-#REF!","v":{"$error":"#REF!"}},null,null,41.485055162480798,{"$f":"I2040-#REF!","v":{"$error":"#REF!"}}]
["3°C","Manjimup",{"$error":"#REF!"},{"$error":"#REF!"},30.103184045626701,{"$f":"E2041-#REF!","v":{"$error":"#REF!"}},null,null,43.616150461990301,{"$f":"I2041-#REF!","v":{"$error":"#REF!"}}]
["3°C","Manjimup",{"$error":"#REF!"},{"$error":"#REF!"},36.190063655485602,{"$f":"E2042-#REF!","v":{"$error":"#REF!"}},null,null,52.826927976381903,{"$f":"I2042-#REF!","v":{"$error":"#REF!"}}]
["3°C","Manjimup",{"$error":"#REF!"},{"$error":"#REF!"},34.121222699679599,{"$f":"E2043-#REF!","v":{"$error":"#REF!"}},null,null,44.593803534985099,{"$f":"I2043-#REF!","v":{"$error":"#REF!"}}]
["3°C","Manjimup",{"$error":"#REF!"},{"$error":"#REF!"},40.087472025578997,{"$f":"E2044-#REF!","v":{"$error":"#REF!"}},null,null,50.039882240646598,{"$f":"I2044-#REF!","v":{"$error":"#REF!"}}]
["3°C","Manjimup",{"$error":"#REF!"},{"$error":"#REF!"},30.782941539010501,{"$f":"E2045-#REF!","v":{"$error":"#REF!"}},null,null,49.654267261035102,{"$f":"I2045-#REF!","v":{"$error":"#REF!"}}]
["3°C","Manjimup",{"$error":"#REF!"},{"$error":"#REF!"},28.093078273632901,{"$f":"E2046-#REF!","v":{"$error":"#REF!"}},null,null,44.768880508083598,{"$f":"I2046-#REF!","v":{"$error":"#REF!"}}]
["3°C","Manjimup",{"$error":"#REF!"},{"$error":"#REF!"},21.8958424421381,{"$f":"E2047-#REF!","v":{"$error":"#REF!"}},null,null,38.822165301551202,{"$f":"I2047-#REF!","v":{"$error":"#REF!"}}]
["3°C","Manjimup",{"$error":"#REF!"},{"$error":"#REF!"},24.421892351855799,{"$f":"E2048-#REF!","v":{"$error":"#REF!"}},null,null,37.137226781068698,{"$f":"I2048-#REF!","v":{"$error":"#REF!"}}]
["3°C","Manjimup",{"$error":"#REF!"},{"$error":"#REF!"},34.0951775668266,{"$f":"E2049-#REF!","v":{"$error":"#REF!"}},null,null,49.037045897346999,{"$f":"I2049-#REF!","v":{"$error":"#REF!"}}]
["3°C","Manjimup",{"$f":"IF(F2050>0,1,0)/99","v":{"$error":"#REF!"}},{"$f":"IF(J2050>0,1,0)/99","v":{"$error":"#REF!"}},30.142474472526501,{"$f":"E2050-#REF!","v":{"$error":"#REF!"}},null,null,51.080432729512999,{"$f":"I2050-#REF!","v":{"$error":"#REF!"}}]
["3°C","Manjimup",{"$error":"#REF!"},{"$error":"#REF!"},29.048918114501799,{"$f":"E2051-#REF!","v":{"$error":"#REF!"}},null,null,47.649231883543798,{"$f":"I2051-#REF!","v":{"$error":"#REF!"}}]
["3°C","Manjimup",{"$error":"#REF!"},{"$error":"#REF!"},41.204354941983198,{"$f":"E2052-#REF!","v":{"$error":"#REF!"}},null,null,58.263324494546701,{"$f":"I2052-#REF!","v":{"$error":"#REF!"}}]
["3°C","Manjimup",{"$error":"#REF!"},{"$error":"#REF!"},33.052457373965701,{"$f":"E2053-#REF!","v":{"$error":"#REF!"}},null,null,49.643169218294801,{"$f":"I2053-#REF!","v":{"$error":"#REF!"}}]
["3°C","Manjimup",{"$error":"#REF!"},{"$error":"#REF!"},19.144527989532499,{"$f":"E2054-#REF!","v":{"$error":"#REF!"}},null,null,29.731542347928801,{"$f":"I2054-#REF!","v":{"$error":"#REF!"}}]
["3°C","Manjimup",{"$error":"#REF!"},{"$error":"#REF!"},35.966020417019699,{"$f":"E2055-#REF!","v":{"$error":"#REF!"}},null,null,52.322758216729198,{"$f":"I2055-#REF!","v":{"$error":"#REF!"}}]
["3°C","Manjimup",{"$error":"#REF!"},{"$error":"#REF!"},24.134042350351798,{"$f":"E2056-#REF!","v":{"$error":"#REF!"}},null,null,42.9728126981719,{"$f":"I2056-#REF!","v":{"$error":"#REF!"}}]
["3°C","Manjimup",{"$error":"#REF!"},{"$error":"#REF!"},40.847325429485402,{"$f":"E2057-#REF!","v":{"$error":"#REF!"}},null,null,55.327248509189701,{"$f":"I2057-#REF!","v":{"$error":"#REF!"}}]
["3°C","Manjimup",{"$error":"#REF!"},{"$error":"#REF!"},23.920657235512898,{"$f":"E2058-#REF!","v":{"$error":"#REF!"}},null,null,38.841131395866597,{"$f":"I2058-#REF!","v":{"$error":"#REF!"}}]
["3°C","Manjimup",{"$error":"#REF!"},{"$error":"#REF!"},31.984699893481,{"$f":"E2059-#REF!","v":{"$error":"#REF!"}},null,null,41.446802841012001,{"$f":"I2059-#REF!","v":{"$error":"#REF!"}}]
["3°C","Manjimup",{"$error":"#REF!"},{"$error":"#REF!"},34.108658425973402,{"$f":"E2060-#REF!","v":{"$error":"#REF!"}},null,null,48.725559316734198,{"$f":"I2060-#REF!","v":{"$error":"#REF!"}}]
["3°C","Manjimup",{"$error":"#REF!"},{"$error":"#REF!"},44.394142277567802,{"$f":"E2061-#REF!","v":{"$error":"#REF!"}},null,null,59.398349879297001,{"$f":"I2061-#REF!","v":{"$error":"#REF!"}}]
["3°C","Manjimup",{"$error":"#REF!"},{"$error":"#REF!"},21.758586604999401,{"$f":"E2062-#REF!","v":{"$error":"#REF!"}},null,null,42.143158777250299,{"$f":"I2062-#REF!","v":{"$error":"#REF!"}}]
["3°C","Manjimup",{"$error":"#REF!"},{"$error":"#REF!"},24.206145832081202,{"$f":"E2063-#REF!","v":{"$error":"#REF!"}},null,null,44.6587981672414,{"$f":"I2063-#REF!","v":{"$error":"#REF!"}}]
["3°C","Manjimup",{"$error":"#REF!"},{"$error":"#REF!"},38.832171338583997,{"$f":"E2064-#REF!","v":{"$error":"#REF!"}},null,null,53.163918662516302,{"$f":"I2064-#REF!","v":{"$error":"#REF!"}}]
["3°C","Manjimup",{"$error":"#REF!"},{"$error":"#REF!"},21.1475797380354,{"$f":"E2065-#REF!","v":{"$error":"#REF!"}},null,null,38.1895065901424,{"$f":"I2065-#REF!","v":{"$error":"#REF!"}}]
["3°C","Manjimup",{"$error":"#REF!"},{"$error":"#REF!"},25.006857418827401,{"$f":"E2066-#REF!","v":{"$error":"#REF!"}},null,null,42.074475654004203,{"$f":"I2066-#REF!","v":{"$error":"#REF!"}}]
["3°C","Manjimup",{"$error":"#REF!"},{"$error":"#REF!"},27.078233361902701,{"$f":"E2067-#REF!","v":{"$error":"#REF!"}},null,null,41.6532455479134,{"$f":"I2067-#REF!","v":{"$error":"#REF!"}}]
["3°C","Manjimup",{"$error":"#REF!"},{"$error":"#REF!"},25.5411102952968,{"$f":"E2068-#REF!","v":{"$error":"#REF!"}},null,null,38.433793041268302,{"$f":"I2068-#REF!","v":{"$error":"#REF!"}}]
["3°C","Manjimup",{"$error":"#REF!"},{"$error":"#REF!"},33.200828128496099,{"$f":"E2069-#REF!","v":{"$error":"#REF!"}},null,null,44.322400670255398,{"$f":"I2069-#REF!","v":{"$error":"#REF!"}}]
["3°C","Manjimup",{"$error":"#REF!"},{"$error":"#REF!"},20.841253677103399,{"$f":"E2070-#REF!","v":{"$error":"#REF!"}},null,null,37.318292629604201,{"$f":"I2070-#REF!","v":{"$error":"#REF!"}}]
["3°C","Manjimup",{"$error":"#REF!"},{"$error":"#REF!"},31.756058396468301,{"$f":"E2071-#REF!","v":{"$error":"#REF!"}},null,null,47.686167830233202,{"$f":"I2071-#REF!","v":{"$error":"#REF!"}}]
["3°C","Manjimup",{"$error":"#REF!"},{"$error":"#REF!"},27.040638380493501,{"$f":"E2072-#REF!","v":{"$error":"#REF!"}},null,null,43.935739316030102,{"$f":"I2072-#REF!","v":{"$error":"#REF!"}}]
["3°C","Manjimup",{"$error":"#REF!"},{"$error":"#REF!"},24.868172528378601,{"$f":"E2073-#REF!","v":{"$error":"#REF!"}},null,null,44.953057986125003,{"$f":"I2073-#REF!","v":{"$error":"#REF!"}}]
["3°C","Manjimup",{"$error":"#REF!"},{"$error":"#REF!"},27.976601571702499,{"$f":"E2074-#REF!","v":{"$error":"#REF!"}},null,null,42.8044746222862,{"$f":"I2074-#REF!","v":{"$error":"#REF!"}}]
["3°C","Manjimup",{"$error":"#REF!"},{"$error":"#REF!"},30.918064486855499,{"$f":"E2075-#REF!","v":{"$error":"#REF!"}},null,null,47.537572713521698,{"$f":"I2075-#REF!","v":{"$error":"#REF!"}}]
["3°C","Manjimup",{"$error":"#REF!"},{"$error":"#REF!"},30.151442234526598,{"$f":"E2076-#REF!","v":{"$error":"#REF!"}},null,null,39.983900393911597,{"$f":"I2076-#REF!","v":{"$error":"#REF!"}}]
["3°C","Manjimup",{"$error":"#REF!"},{"$error":"#REF!"},27.641171249284302,{"$f":"E2077-#REF!","v":{"$error":"#REF!"}},null,null,44.282817683227201,{"$f":"I2077-#REF!","v":{"$error":"#REF!"}}]
["3°C","Manjimup",{"$error":"#REF!"},{"$error":"#REF!"},21.956160118096001,{"$f":"E2078-#REF!","v":{"$error":"#REF!"}},null,null,35.199730955599499,{"$f":"I2078-#REF!","v":{"$error":"#REF!"}}]
["3°C","Manjimup",{"$error":"#REF!"},{"$error":"#REF!"},32.5371733791834,{"$f":"E2079-#REF!","v":{"$error":"#REF!"}},null,null,45.990421210079802,{"$f":"I2079-#REF!","v":{"$error":"#REF!"}}]
["3°C","Manjimup",{"$error":"#REF!"},{"$error":"#REF!"},27.925218836148801,{"$f":"E2080-#REF!","v":{"$error":"#REF!"}},null,null,44.223000133324199,{"$f":"I2080-#REF!","v":{"$error":"#REF!"}}]
["3°C","Orange",{"$error":"#REF!"},{"$error":"#REF!"},61.693385139911101,{"$f":"E2081-#REF!","v":{"$error":"#REF!"}},null,null,74.2736534747592,{"$f":"I2081-#REF!","v":{"$error":"#REF!"}}]
["3°C","Orange",{"$error":"#REF!"},{"$error":"#REF!"},57.850560451114603,{"$f":"E2082-#REF!","v":{"$error":"#REF!"}},null,null,78.604652254815093,{"$f":"I2082-#REF!","v":{"$error":"#REF!"}}]
["3°C","Orange",{"$error":"#REF!"},{"$error":"#REF!"},64.457224596993797,{"$f":"E2083-#REF!","v":{"$error":"#REF!"}},null,null,81.617315185612796,{"$f":"I2083-#REF!","v":{"$error":"#REF!"}}]
["3°C","Orange",{"$error":"#REF!"},{"$error":"#REF!"},56.383833572768303,{"$f":"E2084-#REF!","v":{"$error":"#REF!"}},null,null,66.459074949928706,{"$f":"I2084-#REF!","v":{"$error":"#REF!"}}]
["3°C","Orange",{"$error":"#REF!"},{"$error":"#REF!"},62.939096229205298,{"$f":"E2085-#REF!","v":{"$error":"#REF!"}},null,null,77.4861724073956,{"$f":"I2085-#REF!","v":{"$error":"#REF!"}}]
["3°C","Orange",{"$error":"#REF!"},{"$error":"#REF!"},61.813105827183499,{"$f":"E2086-#REF!","v":{"$error":"#REF!"}},null,null,74.579297353491896,{"$f":"I2086-#REF!","v":{"$error":"#REF!"}}]
["3°C","Orange",{"$error":"#REF!"},{"$error":"#REF!"},69.857341231992194,{"$f":"E2087-#REF!","v":{"$error":"#REF!"}},null,null,84.012726668639004,{"$f":"I2087-#REF!","v":{"$error":"#REF!"}}]
["3°C","Orange",{"$error":"#REF!"},{"$error":"#REF!"},61.459084069228602,{"$f":"E2088-#REF!","v":{"$error":"#REF!"}},null,null,75.373502112013597,{"$f":"I2088-#REF!","v":{"$error":"#REF!"}}]
["3°C","Orange",{"$error":"#REF!"},{"$error":"#REF!"},50.056916338249899,{"$f":"E2089-#REF!","v":{"$error":"#REF!"}},null,null,65.153362601531697,{"$f":"I2089-#REF!","v":{"$error":"#REF!"}}]
["3°C","Orange",{"$error":"#REF!"},{"$error":"#REF!"},65.093402308527203,{"$f":"E2090-#REF!","v":{"$error":"#REF!"}},null,null,76.501030041042199,{"$f":"I2090-#REF!","v":{"$error":"#REF!"}}]
["3°C","Orange",{"$error":"#REF!"},{"$error":"#REF!"},58.079312698714901,{"$f":"E2091-#REF!","v":{"$error":"#REF!"}},null,null,67.358839703507002,{"$f":"I2091-#REF!","v":{"$error":"#REF!"}}]
["3°C","Orange",{"$error":"#REF!"},{"$error":"#REF!"},66.631547084302795,{"$f":"E2092-#REF!","v":{"$error":"#REF!"}},null,null,81.415289297439998,{"$f":"I2092-#REF!","v":{"$error":"#REF!"}}]
["3°C","Orange",{"$error":"#REF!"},{"$error":"#REF!"},60.686876802740699,{"$f":"E2093-#REF!","v":{"$error":"#REF!"}},null,null,75.791848430920794,{"$f":"I2093-#REF!","v":{"$error":"#REF!"}}]
["3°C","Orange",{"$error":"#REF!"},{"$error":"#REF!"},59.067124269513997,{"$f":"E2094-#REF!","v":{"$error":"#REF!"}},null,null,76.327866137283806,{"$f":"I2094-#REF!","v":{"$error":"#REF!"}}]
["3°C","Orange",{"$error":"#REF!"},{"$error":"#REF!"},61.145067902346902,{"$f":"E2095-#REF!","v":{"$error":"#REF!"}},null,null,73.358720436768905,{"$f":"I2095-#REF!","v":{"$error":"#REF!"}}]
["3°C","Orange",{"$error":"#REF!"},{"$error":"#REF!"},62.749385553388997,{"$f":"E2096-#REF!","v":{"$error":"#REF!"}},null,null,80.507041983231005,{"$f":"I2096-#REF!","v":{"$error":"#REF!"}}]
["3°C","Orange",{"$error":"#REF!"},{"$error":"#REF!"},69.243884407845002,{"$f":"E2097-#REF!","v":{"$error":"#REF!"}},null,null,80.1778082020532,{"$f":"I2097-#REF!","v":{"$error":"#REF!"}}]
["3°C","Orange",{"$error":"#REF!"},{"$error":"#REF!"},60.752092422187303,{"$f":"E2098-#REF!","v":{"$error":"#REF!"}},null,null,78.523206371660606,{"$f":"I2098-#REF!","v":{"$error":"#REF!"}}]
["3°C","Orange",{"$error":"#REF!"},{"$error":"#REF!"},68.627178252158302,{"$f":"E2099-#REF!","v":{"$error":"#REF!"}},null,null,79.519146337018,{"$f":"I2099-#REF!","v":{"$error":"#REF!"}}]
["3°C","Orange",{"$error":"#REF!"},{"$error":"#REF!"},62.608869208994697,{"$f":"E2100-#REF!","v":{"$error":"#REF!"}},null,null,78.109265762879204,{"$f":"I2100-#REF!","v":{"$error":"#REF!"}}]
["3°C","Orange",{"$error":"#REF!"},{"$error":"#REF!"},66.462275162653,{"$f":"E2101-#REF!","v":{"$error":"#REF!"}},null,null,78.575124724890898,{"$f":"I2101-#REF!","v":{"$error":"#REF!"}}]
["3°C","Orange",{"$error":"#REF!"},{"$error":"#REF!"},59.926861313044803,{"$f":"E2102-#REF!","v":{"$error":"#REF!"}},null,null,76.269725927570903,{"$f":"I2102-#REF!","v":{"$error":"#REF!"}}]
["3°C","Orange",{"$error":"#REF!"},{"$error":"#REF!"},60.061393743606899,{"$f":"E2103-#REF!","v":{"$error":"#REF!"}},null,null,72.012728579703094,{"$f":"I2103-#REF!","v":{"$error":"#REF!"}}]
["3°C","Orange",{"$error":"#REF!"},{"$error":"#REF!"},60.884777367256397,{"$f":"E2104-#REF!","v":{"$error":"#REF!"}},null,null,75.214070664093697,{"$f":"I2104-#REF!","v":{"$error":"#REF!"}}]
["3°C","Orange",{"$error":"#REF!"},{"$error":"#REF!"},66.394388280528702,{"$f":"E2105-#REF!","v":{"$error":"#REF!"}},null,null,78.368227431338397,{"$f":"I2105-#REF!","v":{"$error":"#REF!"}}]
["3°C","Orange",{"$error":"#REF!"},{"$error":"#REF!"},60.100903566923002,{"$f":"E2106-#REF!","v":{"$error":"#REF!"}},null,null,75.356472089829197,{"$f":"I2106-#REF!","v":{"$error":"#REF!"}}]
["3°C","Orange",{"$error":"#REF!"},{"$error":"#REF!"},63.051504840377,{"$f":"E2107-#REF!","v":{"$error":"#REF!"}},null,null,78.974328110837405,{"$f":"I2107-#REF!","v":{"$error":"#REF!"}}]
["3°C","Orange",{"$error":"#REF!"},{"$error":"#REF!"},60.5425863526049,{"$f":"E2108-#REF!","v":{"$error":"#REF!"}},null,null,73.418762261612898,{"$f":"I2108-#REF!","v":{"$error":"#REF!"}}]
["3°C","Orange",{"$error":"#REF!"},{"$error":"#REF!"},62.742932800062199,{"$f":"E2109-#REF!","v":{"$error":"#REF!"}},null,null,75.356256212950697,{"$f":"I2109-#REF!","v":{"$error":"#REF!"}}]
["3°C","Orange",{"$error":"#REF!"},{"$error":"#REF!"},60.4070953822551,{"$f":"E2110-#REF!","v":{"$error":"#REF!"}},null,null,75.409366316815394,{"$f":"I2110-#REF!","v":{"$error":"#REF!"}}]
["3°C","Orange",{"$error":"#REF!"},{"$error":"#REF!"},60.0756839860152,{"$f":"E2111-#REF!","v":{"$error":"#REF!"}},null,null,72.105697508467799,{"$f":"I2111-#REF!","v":{"$error":"#REF!"}}]
["3°C","Orange",{"$error":"#REF!"},{"$error":"#REF!"},59.8312472992057,{"$f":"E2112-#REF!","v":{"$error":"#REF!"}},null,null,73.617035605266295,{"$f":"I2112-#REF!","v":{"$error":"#REF!"}}]
["3°C","Orange",{"$error":"#REF!"},{"$error":"#REF!"},74.745265117528007,{"$f":"E2113-#REF!","v":{"$error":"#REF!"}},null,null,85.771103123421199,{"$f":"I2113-#REF!","v":{"$error":"#REF!"}}]
["3°C","Orange",{"$f":"IF(F2114>0,1,0)/99","v":{"$error":"#REF!"}},{"$f":"IF(J2114>0,1,0)/99","v":{"$error":"#REF!"}},58.268686571290701,{"$f":"E2114-#REF!","v":{"$error":"#REF!"}},null,null,75.459276307702098,{"$f":"I2114-#REF!","v":{"$error":"#REF!"}}]
["3°C","Orange",{"$error":"#REF!"},{"$error":"#REF!"},60.189243438781901,{"$f":"E2115-#REF!","v":{"$error":"#REF!"}},null,null,77.702595602962404,{"$f":"I2115-#REF!","v":{"$error":"#REF!"}}]
["3°C","Orange",{"$error":"#REF!"},{"$error":"#REF!"},61.557843349255499,{"$f":"E2116-#REF!","v":{"$error":"#REF!"}},null,null,73.874999481966896,{"$f":"I2116-#REF!","v":{"$error":"#REF!"}}]
["3°C","Orange",{"$error":"#REF!"},{"$error":"#REF!"},60.150241190243001,{"$f":"E2117-#REF!","v":{"$error":"#REF!"}},null,null,71.781531832624594,{"$f":"I2117-#REF!","v":{"$error":"#REF!"}}]
["3°C","Orange",{"$error":"#REF!"},{"$error":"#REF!"},64.255532914236596,{"$f":"E2118-#REF!","v":{"$error":"#REF!"}},null,null,77.950373163607495,{"$f":"I2118-#REF!","v":{"$error":"#REF!"}}]
["3°C","Orange",{"$error":"#REF!"},{"$error":"#REF!"},62.691540120245001,{"$f":"E2119-#REF!","v":{"$error":"#REF!"}},null,null,74.5840616339283,{"$f":"I2119-#REF!","v":{"$error":"#REF!"}}]
["3°C","Orange",{"$error":"#REF!"},{"$error":"#REF!"},56.3113035615822,{"$f":"E2120-#REF!","v":{"$error":"#REF!"}},null,null,72.842810417757605,{"$f":"I2120-#REF!","v":{"$error":"#REF!"}}]
["3°C","Orange",{"$error":"#REF!"},{"$error":"#REF!"},57.923349416998697,{"$f":"E2121-#REF!","v":{"$error":"#REF!"}},null,null,75.004812744413798,{"$f":"I2121-#REF!","v":{"$error":"#REF!"}}]
["3°C","Orange",{"$error":"#REF!"},{"$error":"#REF!"},56.516801022838997,{"$f":"E2122-#REF!","v":{"$error":"#REF!"}},null,null,73.420746954874701,{"$f":"I2122-#REF!","v":{"$error":"#REF!"}}]
["3°C","Orange",{"$error":"#REF!"},{"$error":"#REF!"},59.454215343287203,{"$f":"E2123-#REF!","v":{"$error":"#REF!"}},null,null,72.399203254057298,{"$f":"I2123-#REF!","v":{"$error":"#REF!"}}]
["3°C","Orange",{"$error":"#REF!"},{"$error":"#REF!"},53.853739003529,{"$f":"E2124-#REF!","v":{"$error":"#REF!"}},null,null,67.191267868269307,{"$f":"I2124-#REF!","v":{"$error":"#REF!"}}]
["3°C","Orange",{"$error":"#REF!"},{"$error":"#REF!"},59.920576564333501,{"$f":"E2125-#REF!","v":{"$error":"#REF!"}},null,null,76.545847908517004,{"$f":"I2125-#REF!","v":{"$error":"#REF!"}}]
["3°C","Orange",{"$error":"#REF!"},{"$error":"#REF!"},68.015997513759501,{"$f":"E2126-#REF!","v":{"$error":"#REF!"}},null,null,80.764123887512994,{"$f":"I2126-#REF!","v":{"$error":"#REF!"}}]
["3°C","Orange",{"$error":"#REF!"},{"$error":"#REF!"},57.809902095982103,{"$f":"E2127-#REF!","v":{"$error":"#REF!"}},null,null,72.720339682946701,{"$f":"I2127-#REF!","v":{"$error":"#REF!"}}]
["3°C","Orange",{"$error":"#REF!"},{"$error":"#REF!"},51.242486893901599,{"$f":"E2128-#REF!","v":{"$error":"#REF!"}},null,null,64.235935394012998,{"$f":"I2128-#REF!","v":{"$error":"#REF!"}}]
["3°C","Orange",{"$error":"#REF!"},{"$error":"#REF!"},53.033637625715599,{"$f":"E2129-#REF!","v":{"$error":"#REF!"}},null,null,72.994190760212305,{"$f":"I2129-#REF!","v":{"$error":"#REF!"}}]
["3°C","Orange",{"$error":"#REF!"},{"$error":"#REF!"},68.250464494561797,{"$f":"E2130-#REF!","v":{"$error":"#REF!"}},null,null,80.852894403042498,{"$f":"I2130-#REF!","v":{"$error":"#REF!"}}]
["3°C","Orange",{"$error":"#REF!"},{"$error":"#REF!"},65.066672033971003,{"$f":"E2131-#REF!","v":{"$error":"#REF!"}},null,null,78.086195749783997,{"$f":"I2131-#REF!","v":{"$error":"#REF!"}}]
["3°C","Orange",{"$error":"#REF!"},{"$error":"#REF!"},55.620277141002703,{"$f":"E2132-#REF!","v":{"$error":"#REF!"}},null,null,74.612064709117902,{"$f":"I2132-#REF!","v":{"$error":"#REF!"}}]
["3°C","Orange",{"$error":"#REF!"},{"$error":"#REF!"},59.612007470508303,{"$f":"E2133-#REF!","v":{"$error":"#REF!"}},null,null,72.794238534991095,{"$f":"I2133-#REF!","v":{"$error":"#REF!"}}]
["3°C","Orange",{"$error":"#REF!"},{"$error":"#REF!"},67.233709929917296,{"$f":"E2134-#REF!","v":{"$error":"#REF!"}},null,null,80.1998150381187,{"$f":"I2134-#REF!","v":{"$error":"#REF!"}}]
["3°C","Orange",{"$error":"#REF!"},{"$error":"#REF!"},59.614591021226303,{"$f":"E2135-#REF!","v":{"$error":"#REF!"}},null,null,71.460712236719601,{"$f":"I2135-#REF!","v":{"$error":"#REF!"}}]
["3°C","Orange",{"$error":"#REF!"},{"$error":"#REF!"},68.978375707646094,{"$f":"E2136-#REF!","v":{"$error":"#REF!"}},null,null,80.540805242520307,{"$f":"I2136-#REF!","v":{"$error":"#REF!"}}]
["3°C","Orange",{"$error":"#REF!"},{"$error":"#REF!"},58.910979060703497,{"$f":"E2137-#REF!","v":{"$error":"#REF!"}},null,null,70.279949847801305,{"$f":"I2137-#REF!","v":{"$error":"#REF!"}}]
["3°C","Orange",{"$error":"#REF!"},{"$error":"#REF!"},75.671728667148003,{"$f":"E2138-#REF!","v":{"$error":"#REF!"}},null,null,83.004712746943497,{"$f":"I2138-#REF!","v":{"$error":"#REF!"}}]
["3°C","Orange",{"$error":"#REF!"},{"$error":"#REF!"},57.086144035473097,{"$f":"E2139-#REF!","v":{"$error":"#REF!"}},null,null,72.122655314841694,{"$f":"I2139-#REF!","v":{"$error":"#REF!"}}]
["3°C","Orange",{"$error":"#REF!"},{"$error":"#REF!"},67.906143186069599,{"$f":"E2140-#REF!","v":{"$error":"#REF!"}},null,null,80.815824921188593,{"$f":"I2140-#REF!","v":{"$error":"#REF!"}}]
["3°C","Orange",{"$error":"#REF!"},{"$error":"#REF!"},70.675058723657997,{"$f":"E2141-#REF!","v":{"$error":"#REF!"}},null,null,86.259945730121999,{"$f":"I2141-#REF!","v":{"$error":"#REF!"}}]
["3°C","Orange",{"$error":"#REF!"},{"$error":"#REF!"},60.029387154216003,{"$f":"E2142-#REF!","v":{"$error":"#REF!"}},null,null,72.583880665194499,{"$f":"I2142-#REF!","v":{"$error":"#REF!"}}]
["3°C","Orange",{"$error":"#REF!"},{"$error":"#REF!"},61.681005003022499,{"$f":"E2143-#REF!","v":{"$error":"#REF!"}},null,null,79.231949873000403,{"$f":"I2143-#REF!","v":{"$error":"#REF!"}}]
["3°C","Orange",{"$error":"#REF!"},{"$error":"#REF!"},67.624761888672296,{"$f":"E2144-#REF!","v":{"$error":"#REF!"}},null,null,79.294565507900202,{"$f":"I2144-#REF!","v":{"$error":"#REF!"}}]
["3°C","Orange",{"$error":"#REF!"},{"$error":"#REF!"},60.247742045467,{"$f":"E2145-#REF!","v":{"$error":"#REF!"}},null,null,75.983432231517597,{"$f":"I2145-#REF!","v":{"$error":"#REF!"}}]
["3°C","Orange",{"$error":"#REF!"},{"$error":"#REF!"},63.424139551328601,{"$f":"E2146-#REF!","v":{"$error":"#REF!"}},null,null,80.724331507278393,{"$f":"I2146-#REF!","v":{"$error":"#REF!"}}]
["3°C","Orange",{"$error":"#REF!"},{"$error":"#REF!"},60.184987459126503,{"$f":"E2147-#REF!","v":{"$error":"#REF!"}},null,null,77.512431120101695,{"$f":"I2147-#REF!","v":{"$error":"#REF!"}}]
["3°C","Orange",{"$error":"#REF!"},{"$error":"#REF!"},69.274693560421198,{"$f":"E2148-#REF!","v":{"$error":"#REF!"}},null,null,81.972915166822702,{"$f":"I2148-#REF!","v":{"$error":"#REF!"}}]
["3°C","Orange",{"$error":"#REF!"},{"$error":"#REF!"},65.992122125688596,{"$f":"E2149-#REF!","v":{"$error":"#REF!"}},null,null,79.539034728539406,{"$f":"I2149-#REF!","v":{"$error":"#REF!"}}]
["3°C","Orange",{"$error":"#REF!"},{"$error":"#REF!"},58.760106671881402,{"$f":"E2150-#REF!","v":{"$error":"#REF!"}},null,null,72.679445425955393,{"$f":"I2150-#REF!","v":{"$error":"#REF!"}}]
["3°C","Orange",{"$error":"#REF!"},{"$error":"#REF!"},70.250310824897397,{"$f":"E2151-#REF!","v":{"$error":"#REF!"}},null,null,82.845179203625307,{"$f":"I2151-#REF!","v":{"$error":"#REF!"}}]
["3°C","Orange",{"$error":"#REF!"},{"$error":"#REF!"},59.298299692486303,{"$f":"E2152-#REF!","v":{"$error":"#REF!"}},null,null,68.304381503872506,{"$f":"I2152-#REF!","v":{"$error":"#REF!"}}]
["3°C","Orange",{"$error":"#REF!"},{"$error":"#REF!"},61.447291043038298,{"$f":"E2153-#REF!","v":{"$error":"#REF!"}},null,null,79.587623120066695,{"$f":"I2153-#REF!","v":{"$error":"#REF!"}}]
["3°C","Orange",{"$error":"#REF!"},{"$error":"#REF!"},62.805848635649703,{"$f":"E2154-#REF!","v":{"$error":"#REF!"}},null,null,79.641959526015299,{"$f":"I2154-#REF!","v":{"$error":"#REF!"}}]
["3°C","Orange",{"$error":"#REF!"},{"$error":"#REF!"},64.465482200186202,{"$f":"E2155-#REF!","v":{"$error":"#REF!"}},null,null,79.102575638773203,{"$f":"I2155-#REF!","v":{"$error":"#REF!"}}]
["3°C","Orange",{"$error":"#REF!"},{"$error":"#REF!"},62.386544854561699,{"$f":"E2156-#REF!","v":{"$error":"#REF!"}},null,null,77.722276645464603,{"$f":"I2156-#REF!","v":{"$error":"#REF!"}}]
["3°C","Orange",{"$error":"#REF!"},{"$error":"#REF!"},63.200718024456499,{"$f":"E2157-#REF!","v":{"$error":"#REF!"}},null,null,76.131252276966094,{"$f":"I2157-#REF!","v":{"$error":"#REF!"}}]
["3°C","Orange",{"$error":"#REF!"},{"$error":"#REF!"},57.793924141668299,{"$f":"E2158-#REF!","v":{"$error":"#REF!"}},null,null,76.208326420080496,{"$f":"I2158-#REF!","v":{"$error":"#REF!"}}]
["3°C","Orange",{"$error":"#REF!"},{"$error":"#REF!"},64.521166803831093,{"$f":"E2159-#REF!","v":{"$error":"#REF!"}},null,null,74.962168909609204,{"$f":"I2159-#REF!","v":{"$error":"#REF!"}}]
["3°C","Orange",{"$error":"#REF!"},{"$error":"#REF!"},65.995913043521398,{"$f":"E2160-#REF!","v":{"$error":"#REF!"}},null,null,78.889664744742504,{"$f":"I2160-#REF!","v":{"$error":"#REF!"}}]
["3°C","Orange",{"$error":"#REF!"},{"$error":"#REF!"},60.051592145066998,{"$f":"E2161-#REF!","v":{"$error":"#REF!"}},null,null,76.440221332586304,{"$f":"I2161-#REF!","v":{"$error":"#REF!"}}]
["3°C","Orange",{"$error":"#REF!"},{"$error":"#REF!"},72.247996236314293,{"$f":"E2162-#REF!","v":{"$error":"#REF!"}},null,null,80.391863665341802,{"$f":"I2162-#REF!","v":{"$error":"#REF!"}}]
["3°C","Orange",{"$error":"#REF!"},{"$error":"#REF!"},52.361209563084401,{"$f":"E2163-#REF!","v":{"$error":"#REF!"}},null,null,74.801928762026407,{"$f":"I2163-#REF!","v":{"$error":"#REF!"}}]
["3°C","Orange",{"$error":"#REF!"},{"$error":"#REF!"},60.270421602064403,{"$f":"E2164-#REF!","v":{"$error":"#REF!"}},null,null,72.733492897507304,{"$f":"I2164-#REF!","v":{"$error":"#REF!"}}]
["3°C","Orange",{"$error":"#REF!"},{"$error":"#REF!"},55.598631306378003,{"$f":"E2165-#REF!","v":{"$error":"#REF!"}},null,null,67.540493904446905,{"$f":"I2165-#REF!","v":{"$error":"#REF!"}}]
["3°C","Orange",{"$error":"#REF!"},{"$error":"#REF!"},58.252237727270703,{"$f":"E2166-#REF!","v":{"$error":"#REF!"}},null,null,73.702604133453605,{"$f":"I2166-#REF!","v":{"$error":"#REF!"}}]
["3°C","Orange",{"$error":"#REF!"},{"$error":"#REF!"},58.390381368343398,{"$f":"E2167-#REF!","v":{"$error":"#REF!"}},null,null,73.719678280123702,{"$f":"I2167-#REF!","v":{"$error":"#REF!"}}]
["3°C","Orange",{"$error":"#REF!"},{"$error":"#REF!"},59.6426359615769,{"$f":"E2168-#REF!","v":{"$error":"#REF!"}},null,null,72.614925234727195,{"$f":"I2168-#REF!","v":{"$error":"#REF!"}}]
["3°C","Orange",{"$error":"#REF!"},{"$error":"#REF!"},56.372808366238402,{"$f":"E2169-#REF!","v":{"$error":"#REF!"}},null,null,72.691290737687794,{"$f":"I2169-#REF!","v":{"$error":"#REF!"}}]
["3°C","Orange",{"$error":"#REF!"},{"$error":"#REF!"},69.958321763884697,{"$f":"E2170-#REF!","v":{"$error":"#REF!"}},null,null,81.625933563889305,{"$f":"I2170-#REF!","v":{"$error":"#REF!"}}]
["3°C","Orange",{"$error":"#REF!"},{"$error":"#REF!"},61.4987050593625,{"$f":"E2171-#REF!","v":{"$error":"#REF!"}},null,null,75.8676095846279,{"$f":"I2171-#REF!","v":{"$error":"#REF!"}}]
["3°C","Orange",{"$error":"#REF!"},{"$error":"#REF!"},60.702834865828699,{"$f":"E2172-#REF!","v":{"$error":"#REF!"}},null,null,72.344413893685797,{"$f":"I2172-#REF!","v":{"$error":"#REF!"}}]
["3°C","Orange",{"$error":"#REF!"},{"$error":"#REF!"},53.921606250368299,{"$f":"E2173-#REF!","v":{"$error":"#REF!"}},null,null,72.513193576448501,{"$f":"I2173-#REF!","v":{"$error":"#REF!"}}]
["3°C","Orange",{"$error":"#REF!"},{"$error":"#REF!"},62.789420525003898,{"$f":"E2174-#REF!","v":{"$error":"#REF!"}},null,null,78.271853852786606,{"$f":"I2174-#REF!","v":{"$error":"#REF!"}}]
["3°C","Orange",{"$error":"#REF!"},{"$error":"#REF!"},52.6266208571897,{"$f":"E2175-#REF!","v":{"$error":"#REF!"}},null,null,70.359961504246499,{"$f":"I2175-#REF!","v":{"$error":"#REF!"}}]
["3°C","Orange",{"$error":"#REF!"},{"$error":"#REF!"},62.055313902925199,{"$f":"E2176-#REF!","v":{"$error":"#REF!"}},null,null,76.746626062157006,{"$f":"I2176-#REF!","v":{"$error":"#REF!"}}]
["3°C","Orange",{"$error":"#REF!"},{"$error":"#REF!"},57.793072422367104,{"$f":"E2177-#REF!","v":{"$error":"#REF!"}},null,null,68.582428474526694,{"$f":"I2177-#REF!","v":{"$error":"#REF!"}}]
["3°C","Orange",{"$f":"IF(F2178>0,1,0)/99","v":{"$error":"#REF!"}},{"$f":"IF(J2178>0,1,0)/99","v":{"$error":"#REF!"}},58.879777571689303,{"$f":"E2178-#REF!","v":{"$error":"#REF!"}},null,null,74.541943560575703,{"$f":"I2178-#REF!","v":{"$error":"#REF!"}}]
["3°C","Orange",{"$error":"#REF!"},{"$error":"#REF!"},55.650715107945501,{"$f":"E2179-#REF!","v":{"$error":"#REF!"}},null,null,75.341186755825603,{"$f":"I2179-#REF!","v":{"$error":"#REF!"}}]
["3°C","Tatura",{"$error":"#REF!"},{"$error":"#REF!"},50.023491089780102,{"$f":"E2180-#REF!","v":{"$error":"#REF!"}},null,null,63.459206219084798,{"$f":"I2180-#REF!","v":{"$error":"#REF!"}}]
["3°C","Tatura",{"$error":"#REF!"},{"$error":"#REF!"},44.607184234671998,{"$f":"E2181-#REF!","v":{"$error":"#REF!"}},null,null,63.595347292797904,{"$f":"I2181-#REF!","v":{"$error":"#REF!"}}]
["3°C","Tatura",{"$error":"#REF!"},{"$error":"#REF!"},51.247187276210298,{"$f":"E2182-#REF!","v":{"$error":"#REF!"}},null,null,67.647932481983304,{"$f":"I2182-#REF!","v":{"$error":"#REF!"}}]
["3°C","Tatura",{"$error":"#REF!"},{"$error":"#REF!"},45.1919461516909,{"$f":"E2183-#REF!","v":{"$error":"#REF!"}},null,null,59.670714344735401,{"$f":"I2183-#REF!","v":{"$error":"#REF!"}}]
["3°C","Tatura",{"$error":"#REF!"},{"$error":"#REF!"},44.810211390130398,{"$f":"E2184-#REF!","v":{"$error":"#REF!"}},null,null,61.1644072398406,{"$f":"I2184-#REF!","v":{"$error":"#REF!"}}]
["3°C","Tatura",{"$error":"#REF!"},{"$error":"#REF!"},54.563082858405899,{"$f":"E2185-#REF!","v":{"$error":"#REF!"}},null,null,68.322135199090098,{"$f":"I2185-#REF!","v":{"$error":"#REF!"}}]
["3°C","Tatura",{"$error":"#REF!"},{"$error":"#REF!"},49.7245082834187,{"$f":"E2186-#REF!","v":{"$error":"#REF!"}},null,null,65.130357555704606,{"$f":"I2186-#REF!","v":{"$error":"#REF!"}}]
["3°C","Tatura",{"$error":"#REF!"},{"$error":"#REF!"},43.752408622261903,{"$f":"E2187-#REF!","v":{"$error":"#REF!"}},null,null,61.654819750835998,{"$f":"I2187-#REF!","v":{"$error":"#REF!"}}]
["3°C","Tatura",{"$error":"#REF!"},{"$error":"#REF!"},49.311967968153503,{"$f":"E2188-#REF!","v":{"$error":"#REF!"}},null,null,67.208054545894399,{"$f":"I2188-#REF!","v":{"$error":"#REF!"}}]
["3°C","Tatura",{"$error":"#REF!"},{"$error":"#REF!"},55.239594204541802,{"$f":"E2189-#REF!","v":{"$error":"#REF!"}},null,null,70.361857390164801,{"$f":"I2189-#REF!","v":{"$error":"#REF!"}}]
["3°C","Tatura",{"$error":"#REF!"},{"$error":"#REF!"},49.045274548548498,{"$f":"E2190-#REF!","v":{"$error":"#REF!"}},null,null,58.492073734711902,{"$f":"I2190-#REF!","v":{"$error":"#REF!"}}]
["3°C","Tatura",{"$error":"#REF!"},{"$error":"#REF!"},48.911240689912603,{"$f":"E2191-#REF!","v":{"$error":"#REF!"}},null,null,67.798743639671997,{"$f":"I2191-#REF!","v":{"$error":"#REF!"}}]
["3°C","Tatura",{"$error":"#REF!"},{"$error":"#REF!"},49.727031187809096,{"$f":"E2192-#REF!","v":{"$error":"#REF!"}},null,null,65.148635066806193,{"$f":"I2192-#REF!","v":{"$error":"#REF!"}}]
["3°C","Tatura",{"$error":"#REF!"},{"$error":"#REF!"},54.536868770350999,{"$f":"E2193-#REF!","v":{"$error":"#REF!"}},null,null,65.723655710561005,{"$f":"I2193-#REF!","v":{"$error":"#REF!"}}]
["3°C","Tatura",{"$error":"#REF!"},{"$error":"#REF!"},48.423436710515503,{"$f":"E2194-#REF!","v":{"$error":"#REF!"}},null,null,62.1616886114588,{"$f":"I2194-#REF!","v":{"$error":"#REF!"}}]
["3°C","Tatura",{"$error":"#REF!"},{"$error":"#REF!"},51.352370459659902,{"$f":"E2195-#REF!","v":{"$error":"#REF!"}},null,null,65.2515497968852,{"$f":"I2195-#REF!","v":{"$error":"#REF!"}}]
["3°C","Tatura",{"$error":"#REF!"},{"$error":"#REF!"},53.3349854098945,{"$f":"E2196-#REF!","v":{"$error":"#REF!"}},null,null,66.9787377400406,{"$f":"I2196-#REF!","v":{"$error":"#REF!"}}]
["3°C","Tatura",{"$error":"#REF!"},{"$error":"#REF!"},45.574297623323197,{"$f":"E2197-#REF!","v":{"$error":"#REF!"}},null,null,59.4692623717389,{"$f":"I2197-#REF!","v":{"$error":"#REF!"}}]
["3°C","Tatura",{"$error":"#REF!"},{"$error":"#REF!"},51.671213664753303,{"$f":"E2198-#REF!","v":{"$error":"#REF!"}},null,null,65.844887103405199,{"$f":"I2198-#REF!","v":{"$error":"#REF!"}}]
["3°C","Tatura",{"$error":"#REF!"},{"$error":"#REF!"},44.8467796707452,{"$f":"E2199-#REF!","v":{"$error":"#REF!"}},null,null,59.644971721946398,{"$f":"I2199-#REF!","v":{"$error":"#REF!"}}]
["3°C","Tatura",{"$error":"#REF!"},{"$error":"#REF!"},52.951526688881501,{"$f":"E2200-#REF!","v":{"$error":"#REF!"}},null,null,67.2626282985388,{"$f":"I2200-#REF!","v":{"$error":"#REF!"}}]
["3°C","Tatura",{"$error":"#REF!"},{"$error":"#REF!"},54.428504356279703,{"$f":"E2201-#REF!","v":{"$error":"#REF!"}},null,null,64.185757620050097,{"$f":"I2201-#REF!","v":{"$error":"#REF!"}}]
["3°C","Tatura",{"$error":"#REF!"},{"$error":"#REF!"},45.879374942918702,{"$f":"E2202-#REF!","v":{"$error":"#REF!"}},null,null,62.419788207235598,{"$f":"I2202-#REF!","v":{"$error":"#REF!"}}]
["3°C","Tatura",{"$error":"#REF!"},{"$error":"#REF!"},44.075606271290198,{"$f":"E2203-#REF!","v":{"$error":"#REF!"}},null,null,58.106172490509898,{"$f":"I2203-#REF!","v":{"$error":"#REF!"}}]
["3°C","Tatura",{"$error":"#REF!"},{"$error":"#REF!"},49.248052898076899,{"$f":"E2204-#REF!","v":{"$error":"#REF!"}},null,null,62.255203093381098,{"$f":"I2204-#REF!","v":{"$error":"#REF!"}}]
["3°C","Tatura",{"$error":"#REF!"},{"$error":"#REF!"},48.303814136275101,{"$f":"E2205-#REF!","v":{"$error":"#REF!"}},null,null,62.119783363647002,{"$f":"I2205-#REF!","v":{"$error":"#REF!"}}]
["3°C","Tatura",{"$error":"#REF!"},{"$error":"#REF!"},47.6789784819915,{"$f":"E2206-#REF!","v":{"$error":"#REF!"}},null,null,62.242486139362697,{"$f":"I2206-#REF!","v":{"$error":"#REF!"}}]
["3°C","Tatura",{"$error":"#REF!"},{"$error":"#REF!"},48.897697873152801,{"$f":"E2207-#REF!","v":{"$error":"#REF!"}},null,null,61.142923820288402,{"$f":"I2207-#REF!","v":{"$error":"#REF!"}}]
["3°C","Tatura",{"$error":"#REF!"},{"$error":"#REF!"},52.837460566754203,{"$f":"E2208-#REF!","v":{"$error":"#REF!"}},null,null,65.658604055683398,{"$f":"I2208-#REF!","v":{"$error":"#REF!"}}]
["3°C","Tatura",{"$error":"#REF!"},{"$error":"#REF!"},44.525849527710001,{"$f":"E2209-#REF!","v":{"$error":"#REF!"}},null,null,63.293487778905799,{"$f":"I2209-#REF!","v":{"$error":"#REF!"}}]
["3°C","Tatura",{"$error":"#REF!"},{"$error":"#REF!"},45.107370065236097,{"$f":"E2210-#REF!","v":{"$error":"#REF!"}},null,null,63.776677027043498,{"$f":"I2210-#REF!","v":{"$error":"#REF!"}}]
["3°C","Tatura",{"$error":"#REF!"},{"$error":"#REF!"},42.401566741462503,{"$f":"E2211-#REF!","v":{"$error":"#REF!"}},null,null,61.603225855284599,{"$f":"I2211-#REF!","v":{"$error":"#REF!"}}]
["3°C","Tatura",{"$error":"#REF!"},{"$error":"#REF!"},52.209704373353901,{"$f":"E2212-#REF!","v":{"$error":"#REF!"}},null,null,72.079279203155906,{"$f":"I2212-#REF!","v":{"$error":"#REF!"}}]
["3°C","Tatura",{"$error":"#REF!"},{"$error":"#REF!"},51.752612498317497,{"$f":"E2213-#REF!","v":{"$error":"#REF!"}},null,null,64.847749301195705,{"$f":"I2213-#REF!","v":{"$error":"#REF!"}}]
["3°C","Tatura",{"$error":"#REF!"},{"$error":"#REF!"},43.920949327310304,{"$f":"E2214-#REF!","v":{"$error":"#REF!"}},null,null,62.836210254557102,{"$f":"I2214-#REF!","v":{"$error":"#REF!"}}]
["3°C","Tatura",{"$error":"#REF!"},{"$error":"#REF!"},51.444471840231998,{"$f":"E2215-#REF!","v":{"$error":"#REF!"}},null,null,67.500176508003904,{"$f":"I2215-#REF!","v":{"$error":"#REF!"}}]
["3°C","Tatura",{"$error":"#REF!"},{"$error":"#REF!"},52.009279732222602,{"$f":"E2216-#REF!","v":{"$error":"#REF!"}},null,null,63.486450197659202,{"$f":"I2216-#REF!","v":{"$error":"#REF!"}}]
["3°C","Tatura",{"$error":"#REF!"},{"$error":"#REF!"},52.508540443585602,{"$f":"E2217-#REF!","v":{"$error":"#REF!"}},null,null,64.826279239954204,{"$f":"I2217-#REF!","v":{"$error":"#REF!"}}]
["3°C","Tatura",{"$error":"#REF!"},{"$error":"#REF!"},51.659843171338203,{"$f":"E2218-#REF!","v":{"$error":"#REF!"}},null,null,65.560711089443103,{"$f":"I2218-#REF!","v":{"$error":"#REF!"}}]
["3°C","Tatura",{"$error":"#REF!"},{"$error":"#REF!"},44.477050153858997,{"$f":"E2219-#REF!","v":{"$error":"#REF!"}},null,null,61.780218493871601,{"$f":"I2219-#REF!","v":{"$error":"#REF!"}}]
["3°C","Tatura",{"$error":"#REF!"},{"$error":"#REF!"},46.660040028996299,{"$f":"E2220-#REF!","v":{"$error":"#REF!"}},null,null,62.734144726769898,{"$f":"I2220-#REF!","v":{"$error":"#REF!"}}]
["3°C","Tatura",{"$error":"#REF!"},{"$error":"#REF!"},47.516131983575903,{"$f":"E2221-#REF!","v":{"$error":"#REF!"}},null,null,62.609990956564197,{"$f":"I2221-#REF!","v":{"$error":"#REF!"}}]
["3°C","Tatura",{"$error":"#REF!"},{"$error":"#REF!"},45.268805467572498,{"$f":"E2222-#REF!","v":{"$error":"#REF!"}},null,null,62.307156479531102,{"$f":"I2222-#REF!","v":{"$error":"#REF!"}}]
["3°C","Tatura",{"$error":"#REF!"},{"$error":"#REF!"},42.630281161455102,{"$f":"E2223-#REF!","v":{"$error":"#REF!"}},null,null,56.483883689738597,{"$f":"I2223-#REF!","v":{"$error":"#REF!"}}]
["3°C","Tatura",{"$error":"#REF!"},{"$error":"#REF!"},47.270477888445903,{"$f":"E2224-#REF!","v":{"$error":"#REF!"}},null,null,61.639221951752603,{"$f":"I2224-#REF!","v":{"$error":"#REF!"}}]
["3°C","Tatura",{"$error":"#REF!"},{"$error":"#REF!"},48.854245273161297,{"$f":"E2225-#REF!","v":{"$error":"#REF!"}},null,null,66.9924622153504,{"$f":"I2225-#REF!","v":{"$error":"#REF!"}}]
["3°C","Tatura",{"$error":"#REF!"},{"$error":"#REF!"},31.1824400363327,{"$f":"E2226-#REF!","v":{"$error":"#REF!"}},null,null,49.9510567520392,{"$f":"I2226-#REF!","v":{"$error":"#REF!"}}]
["3°C","Tatura",{"$error":"#REF!"},{"$error":"#REF!"},39.033750041873098,{"$f":"E2227-#REF!","v":{"$error":"#REF!"}},null,null,56.7501778283034,{"$f":"I2227-#REF!","v":{"$error":"#REF!"}}]
["3°C","Tatura",{"$error":"#REF!"},{"$error":"#REF!"},40.782570805000198,{"$f":"E2228-#REF!","v":{"$error":"#REF!"}},null,null,57.1286081586234,{"$f":"I2228-#REF!","v":{"$error":"#REF!"}}]
["3°C","Tatura",{"$error":"#REF!"},{"$error":"#REF!"},55.074183240126203,{"$f":"E2229-#REF!","v":{"$error":"#REF!"}},null,null,71.639829380873806,{"$f":"I2229-#REF!","v":{"$error":"#REF!"}}]
["3°C","Tatura",{"$error":"#REF!"},{"$error":"#REF!"},41.413428032015901,{"$f":"E2230-#REF!","v":{"$error":"#REF!"}},null,null,61.747094664468001,{"$f":"I2230-#REF!","v":{"$error":"#REF!"}}]
["3°C","Tatura",{"$error":"#REF!"},{"$error":"#REF!"},40.988287546600503,{"$f":"E2231-#REF!","v":{"$error":"#REF!"}},null,null,63.044095288198001,{"$f":"I2231-#REF!","v":{"$error":"#REF!"}}]
["3°C","Tatura",{"$error":"#REF!"},{"$error":"#REF!"},47.445662288139602,{"$f":"E2232-#REF!","v":{"$error":"#REF!"}},null,null,59.574558509509103,{"$f":"I2232-#REF!","v":{"$error":"#REF!"}}]
["3°C","Tatura",{"$error":"#REF!"},{"$error":"#REF!"},52.025668645851702,{"$f":"E2233-#REF!","v":{"$error":"#REF!"}},null,null,66.231904452122393,{"$f":"I2233-#REF!","v":{"$error":"#REF!"}}]
["3°C","Tatura",{"$error":"#REF!"},{"$error":"#REF!"},49.968379130480002,{"$f":"E2234-#REF!","v":{"$error":"#REF!"}},null,null,62.2032902568032,{"$f":"I2234-#REF!","v":{"$error":"#REF!"}}]
["3°C","Tatura",{"$error":"#REF!"},{"$error":"#REF!"},54.054815131529701,{"$f":"E2235-#REF!","v":{"$error":"#REF!"}},null,null,67.395915512297194,{"$f":"I2235-#REF!","v":{"$error":"#REF!"}}]
["3°C","Tatura",{"$error":"#REF!"},{"$error":"#REF!"},42.496447384229,{"$f":"E2236-#REF!","v":{"$error":"#REF!"}},null,null,57.736898318801401,{"$f":"I2236-#REF!","v":{"$error":"#REF!"}}]
["3°C","Tatura",{"$error":"#REF!"},{"$error":"#REF!"},58.403357882570901,{"$f":"E2237-#REF!","v":{"$error":"#REF!"}},null,null,71.6042281462082,{"$f":"I2237-#REF!","v":{"$error":"#REF!"}}]
["3°C","Tatura",{"$error":"#REF!"},{"$error":"#REF!"},48.043898728099599,{"$f":"E2238-#REF!","v":{"$error":"#REF!"}},null,null,63.2116832903965,{"$f":"I2238-#REF!","v":{"$error":"#REF!"}}]
["3°C","Tatura",{"$error":"#REF!"},{"$error":"#REF!"},49.347289102472097,{"$f":"E2239-#REF!","v":{"$error":"#REF!"}},null,null,70.101251571546896,{"$f":"I2239-#REF!","v":{"$error":"#REF!"}}]
["3°C","Tatura",{"$error":"#REF!"},{"$error":"#REF!"},52.8667733577607,{"$f":"E2240-#REF!","v":{"$error":"#REF!"}},null,null,68.645722362169494,{"$f":"I2240-#REF!","v":{"$error":"#REF!"}}]
["3°C","Tatura",{"$error":"#REF!"},{"$error":"#REF!"},44.401208900675101,{"$f":"E2241-#REF!","v":{"$error":"#REF!"}},null,null,62.091828700961102,{"$f":"I2241-#REF!","v":{"$error":"#REF!"}}]
["3°C","Tatura",{"$f":"IF(F2242>0,1,0)/99","v":{"$error":"#REF!"}},{"$f":"IF(J2242>0,1,0)/99","v":{"$error":"#REF!"}},51.398043105051599,{"$f":"E2242-#REF!","v":{"$error":"#REF!"}},null,null,69.606213417497301,{"$f":"I2242-#REF!","v":{"$error":"#REF!"}}]
["3°C","Tatura",{"$error":"#REF!"},{"$error":"#REF!"},46.347267776460903,{"$f":"E2243-#REF!","v":{"$error":"#REF!"}},null,null,62.571859707537101,{"$f":"I2243-#REF!","v":{"$error":"#REF!"}}]
["3°C","Tatura",{"$error":"#REF!"},{"$error":"#REF!"},37.456737534596698,{"$f":"E2244-#REF!","v":{"$error":"#REF!"}},null,null,55.015199542857196,{"$f":"I2244-#REF!","v":{"$error":"#REF!"}}]
["3°C","Tatura",{"$error":"#REF!"},{"$error":"#REF!"},49.573102441614303,{"$f":"E2245-#REF!","v":{"$error":"#REF!"}},null,null,66.217288677448593,{"$f":"I2245-#REF!","v":{"$error":"#REF!"}}]
["3°C","Tatura",{"$error":"#REF!"},{"$error":"#REF!"},47.227253293837101,{"$f":"E2246-#REF!","v":{"$error":"#REF!"}},null,null,63.029459340452803,{"$f":"I2246-#REF!","v":{"$error":"#REF!"}}]
["3°C","Tatura",{"$error":"#REF!"},{"$error":"#REF!"},49.072666095596098,{"$f":"E2247-#REF!","v":{"$error":"#REF!"}},null,null,65.879834283329203,{"$f":"I2247-#REF!","v":{"$error":"#REF!"}}]
["3°C","Tatura",{"$error":"#REF!"},{"$error":"#REF!"},48.438196192575901,{"$f":"E2248-#REF!","v":{"$error":"#REF!"}},null,null,67.973055738681893,{"$f":"I2248-#REF!","v":{"$error":"#REF!"}}]
["3°C","Tatura",{"$error":"#REF!"},{"$error":"#REF!"},47.5976765388179,{"$f":"E2249-#REF!","v":{"$error":"#REF!"}},null,null,59.000505861711098,{"$f":"I2249-#REF!","v":{"$error":"#REF!"}}]
["3°C","Tatura",{"$error":"#REF!"},{"$error":"#REF!"},50.891915182259901,{"$f":"E2250-#REF!","v":{"$error":"#REF!"}},null,null,65.225028769585407,{"$f":"I2250-#REF!","v":{"$error":"#REF!"}}]
["3°C","Tatura",{"$error":"#REF!"},{"$error":"#REF!"},44.464743951703497,{"$f":"E2251-#REF!","v":{"$error":"#REF!"}},null,null,56.308712728992496,{"$f":"I2251-#REF!","v":{"$error":"#REF!"}}]
["3°C","Tatura",{"$error":"#REF!"},{"$error":"#REF!"},47.717466453345203,{"$f":"E2252-#REF!","v":{"$error":"#REF!"}},null,null,62.931117588999101,{"$f":"I2252-#REF!","v":{"$error":"#REF!"}}]
["3°C","Tatura",{"$error":"#REF!"},{"$error":"#REF!"},48.834294464107899,{"$f":"E2253-#REF!","v":{"$error":"#REF!"}},null,null,64.259919926771502,{"$f":"I2253-#REF!","v":{"$error":"#REF!"}}]
["3°C","Tatura",{"$error":"#REF!"},{"$error":"#REF!"},50.761506278400901,{"$f":"E2254-#REF!","v":{"$error":"#REF!"}},null,null,67.511489940712195,{"$f":"I2254-#REF!","v":{"$error":"#REF!"}}]
["3°C","Tatura",{"$error":"#REF!"},{"$error":"#REF!"},50.347233437092598,{"$f":"E2255-#REF!","v":{"$error":"#REF!"}},null,null,67.076393072413396,{"$f":"I2255-#REF!","v":{"$error":"#REF!"}}]
["3°C","Tatura",{"$error":"#REF!"},{"$error":"#REF!"},46.426595085307902,{"$f":"E2256-#REF!","v":{"$error":"#REF!"}},null,null,58.867400155417002,{"$f":"I2256-#REF!","v":{"$error":"#REF!"}}]
["3°C","Tatura",{"$error":"#REF!"},{"$error":"#REF!"},40.862854683240101,{"$f":"E2257-#REF!","v":{"$error":"#REF!"}},null,null,56.710419776743201,{"$f":"I2257-#REF!","v":{"$error":"#REF!"}}]
["3°C","Tatura",{"$error":"#REF!"},{"$error":"#REF!"},50.635339375304298,{"$f":"E2258-#REF!","v":{"$error":"#REF!"}},null,null,65.176561250798798,{"$f":"I2258-#REF!","v":{"$error":"#REF!"}}]
["3°C","Tatura",{"$error":"#REF!"},{"$error":"#REF!"},47.947585291827998,{"$f":"E2259-#REF!","v":{"$error":"#REF!"}},null,null,65.100160199349403,{"$f":"I2259-#REF!","v":{"$error":"#REF!"}}]
["3°C","Tatura",{"$error":"#REF!"},{"$error":"#REF!"},35.512580884760901,{"$f":"E2260-#REF!","v":{"$error":"#REF!"}},null,null,56.789910789498201,{"$f":"I2260-#REF!","v":{"$error":"#REF!"}}]
["3°C","Tatura",{"$error":"#REF!"},{"$error":"#REF!"},54.141463505423999,{"$f":"E2261-#REF!","v":{"$error":"#REF!"}},null,null,70.191130157558504,{"$f":"I2261-#REF!","v":{"$error":"#REF!"}}]
["3°C","Tatura",{"$error":"#REF!"},{"$error":"#REF!"},44.757271423636901,{"$f":"E2262-#REF!","v":{"$error":"#REF!"}},null,null,58.902088916073801,{"$f":"I2262-#REF!","v":{"$error":"#REF!"}}]
["3°C","Tatura",{"$error":"#REF!"},{"$error":"#REF!"},44.511458392429198,{"$f":"E2263-#REF!","v":{"$error":"#REF!"}},null,null,59.415393489688199,{"$f":"I2263-#REF!","v":{"$error":"#REF!"}}]
["3°C","Tatura",{"$error":"#REF!"},{"$error":"#REF!"},50.171568237950801,{"$f":"E2264-#REF!","v":{"$error":"#REF!"}},null,null,62.445228051699203,{"$f":"I2264-#REF!","v":{"$error":"#REF!"}}]
["3°C","Tatura",{"$error":"#REF!"},{"$error":"#REF!"},48.513212998700702,{"$f":"E2265-#REF!","v":{"$error":"#REF!"}},null,null,65.619043836655294,{"$f":"I2265-#REF!","v":{"$error":"#REF!"}}]
["3°C","Tatura",{"$error":"#REF!"},{"$error":"#REF!"},46.357364722057802,{"$f":"E2266-#REF!","v":{"$error":"#REF!"}},null,null,66.308747082905597,{"$f":"I2266-#REF!","v":{"$error":"#REF!"}}]
["3°C","Tatura",{"$error":"#REF!"},{"$error":"#REF!"},42.438471577034399,{"$f":"E2267-#REF!","v":{"$error":"#REF!"}},null,null,60.245607761968003,{"$f":"I2267-#REF!","v":{"$error":"#REF!"}}]
["3°C","Tatura",{"$error":"#REF!"},{"$error":"#REF!"},41.6991595894388,{"$f":"E2268-#REF!","v":{"$error":"#REF!"}},null,null,57.0580544731407,{"$f":"I2268-#REF!","v":{"$error":"#REF!"}}]
["3°C","Tatura",{"$error":"#REF!"},{"$error":"#REF!"},53.577790246378001,{"$f":"E2269-#REF!","v":{"$error":"#REF!"}},null,null,67.075819840708704,{"$f":"I2269-#REF!","v":{"$error":"#REF!"}}]
["3°C","Tatura",{"$error":"#REF!"},{"$error":"#REF!"},39.900172397905699,{"$f":"E2270-#REF!","v":{"$error":"#REF!"}},null,null,57.116532012314003,{"$f":"I2270-#REF!","v":{"$error":"#REF!"}}]
["3°C","Tatura",{"$error":"#REF!"},{"$error":"#REF!"},38.056634731457102,{"$f":"E2271-#REF!","v":{"$error":"#REF!"}},null,null,53.508441886921098,{"$f":"I2271-#REF!","v":{"$error":"#REF!"}}]
["3°C","Tatura",{"$error":"#REF!"},{"$error":"#REF!"},49.068052725816401,{"$f":"E2272-#REF!","v":{"$error":"#REF!"}},null,null,64.069672291742407,{"$f":"I2272-#REF!","v":{"$error":"#REF!"}}]
["3°C","Tatura",{"$error":"#REF!"},{"$error":"#REF!"},47.660464685573203,{"$f":"E2273-#REF!","v":{"$error":"#REF!"}},null,null,65.313487801590895,{"$f":"I2273-#REF!","v":{"$error":"#REF!"}}]
["3°C","Tatura",{"$error":"#REF!"},{"$error":"#REF!"},36.504314675173099,{"$f":"E2274-#REF!","v":{"$error":"#REF!"}},null,null,50.024638066498298,{"$f":"I2274-#REF!","v":{"$error":"#REF!"}}]
["3°C","Tatura",{"$error":"#REF!"},{"$error":"#REF!"},47.436920163586002,{"$f":"E2275-#REF!","v":{"$error":"#REF!"}},null,null,64.420719790962593,{"$f":"I2275-#REF!","v":{"$error":"#REF!"}}]
["3°C","Tatura",{"$error":"#REF!"},{"$error":"#REF!"},42.381975153913203,{"$f":"E2276-#REF!","v":{"$error":"#REF!"}},null,null,57.287643478715601,{"$f":"I2276-#REF!","v":{"$error":"#REF!"}}]
["3°C","Tatura",{"$error":"#REF!"},{"$error":"#REF!"},45.6107595278581,{"$f":"E2277-#REF!","v":{"$error":"#REF!"}},null,null,65.580579202178996,{"$f":"I2277-#REF!","v":{"$error":"#REF!"}}]
["3°C","Tatura",{"$error":"#REF!"},{"$error":"#REF!"},40.122937232105201,{"$f":"E2278-#REF!","v":{"$error":"#REF!"}},null,null,52.2863644787301,{"$f":"I2278-#REF!","v":{"$error":"#REF!"}}]
["3°C","Yarra Yalley",{"$error":"#REF!"},{"$error":"#REF!"},55.723420525334603,{"$f":"E2279-#REF!","v":{"$error":"#REF!"}},null,null,66.552412226960101,{"$f":"I2279-#REF!","v":{"$error":"#REF!"}}]
["3°C","Yarra Yalley",{"$error":"#REF!"},{"$error":"#REF!"},55.272066855765701,{"$f":"E2280-#REF!","v":{"$error":"#REF!"}},null,null,70.393177408768807,{"$f":"I2280-#REF!","v":{"$error":"#REF!"}}]
["3°C","Yarra Yalley",{"$error":"#REF!"},{"$error":"#REF!"},61.415556472788602,{"$f":"E2281-#REF!","v":{"$error":"#REF!"}},null,null,76.683753276322406,{"$f":"I2281-#REF!","v":{"$error":"#REF!"}}]
["3°C","Yarra Yalley",{"$error":"#REF!"},{"$error":"#REF!"},58.0877178243869,{"$f":"E2282-#REF!","v":{"$error":"#REF!"}},null,null,69.366576378956907,{"$f":"I2282-#REF!","v":{"$error":"#REF!"}}]
["3°C","Yarra Yalley",{"$error":"#REF!"},{"$error":"#REF!"},55.397518111381501,{"$f":"E2283-#REF!","v":{"$error":"#REF!"}},null,null,71.377040900210901,{"$f":"I2283-#REF!","v":{"$error":"#REF!"}}]
["3°C","Yarra Yalley",{"$error":"#REF!"},{"$error":"#REF!"},62.800869587896997,{"$f":"E2284-#REF!","v":{"$error":"#REF!"}},null,null,71.733690405601706,{"$f":"I2284-#REF!","v":{"$error":"#REF!"}}]
["3°C","Yarra Yalley",{"$error":"#REF!"},{"$error":"#REF!"},59.133215059824103,{"$f":"E2285-#REF!","v":{"$error":"#REF!"}},null,null,72.341010162796096,{"$f":"I2285-#REF!","v":{"$error":"#REF!"}}]
["3°C","Yarra Yalley",{"$error":"#REF!"},{"$error":"#REF!"},53.255646481049098,{"$f":"E2286-#REF!","v":{"$error":"#REF!"}},null,null,66.666340408191203,{"$f":"I2286-#REF!","v":{"$error":"#REF!"}}]
["3°C","Yarra Yalley",{"$error":"#REF!"},{"$error":"#REF!"},61.314885839105202,{"$f":"E2287-#REF!","v":{"$error":"#REF!"}},null,null,72.030484367653003,{"$f":"I2287-#REF!","v":{"$error":"#REF!"}}]
["3°C","Yarra Yalley",{"$error":"#REF!"},{"$error":"#REF!"},61.246411934050798,{"$f":"E2288-#REF!","v":{"$error":"#REF!"}},null,null,77.7442273101599,{"$f":"I2288-#REF!","v":{"$error":"#REF!"}}]
["3°C","Yarra Yalley",{"$error":"#REF!"},{"$error":"#REF!"},54.224505473385598,{"$f":"E2289-#REF!","v":{"$error":"#REF!"}},null,null,68.597766227204602,{"$f":"I2289-#REF!","v":{"$error":"#REF!"}}]
["3°C","Yarra Yalley",{"$error":"#REF!"},{"$error":"#REF!"},64.362078752984502,{"$f":"E2290-#REF!","v":{"$error":"#REF!"}},null,null,75.018693682092504,{"$f":"I2290-#REF!","v":{"$error":"#REF!"}}]
["3°C","Yarra Yalley",{"$error":"#REF!"},{"$error":"#REF!"},56.173339231304602,{"$f":"E2291-#REF!","v":{"$error":"#REF!"}},null,null,67.375164680122595,{"$f":"I2291-#REF!","v":{"$error":"#REF!"}}]
["3°C","Yarra Yalley",{"$error":"#REF!"},{"$error":"#REF!"},65.013794765627296,{"$f":"E2292-#REF!","v":{"$error":"#REF!"}},null,null,76.183668826367395,{"$f":"I2292-#REF!","v":{"$error":"#REF!"}}]
["3°C","Yarra Yalley",{"$error":"#REF!"},{"$error":"#REF!"},60.662570477343401,{"$f":"E2293-#REF!","v":{"$error":"#REF!"}},null,null,73.356170261162902,{"$f":"I2293-#REF!","v":{"$error":"#REF!"}}]
["3°C","Yarra Yalley",{"$error":"#REF!"},{"$error":"#REF!"},58.3204390758304,{"$f":"E2294-#REF!","v":{"$error":"#REF!"}},null,null,73.742432152455606,{"$f":"I2294-#REF!","v":{"$error":"#REF!"}}]
["3°C","Yarra Yalley",{"$error":"#REF!"},{"$error":"#REF!"},65.171032523534294,{"$f":"E2295-#REF!","v":{"$error":"#REF!"}},null,null,74.582502331350597,{"$f":"I2295-#REF!","v":{"$error":"#REF!"}}]
["3°C","Yarra Yalley",{"$error":"#REF!"},{"$error":"#REF!"},52.348668029484003,{"$f":"E2296-#REF!","v":{"$error":"#REF!"}},null,null,66.874017118789595,{"$f":"I2296-#REF!","v":{"$error":"#REF!"}}]
["3°C","Yarra Yalley",{"$error":"#REF!"},{"$error":"#REF!"},61.476048941964898,{"$f":"E2297-#REF!","v":{"$error":"#REF!"}},null,null,74.474105556244893,{"$f":"I2297-#REF!","v":{"$error":"#REF!"}}]
["3°C","Yarra Yalley",{"$error":"#REF!"},{"$error":"#REF!"},58.236673503825997,{"$f":"E2298-#REF!","v":{"$error":"#REF!"}},null,null,70.339760729519995,{"$f":"I2298-#REF!","v":{"$error":"#REF!"}}]
["3°C","Yarra Yalley",{"$error":"#REF!"},{"$error":"#REF!"},60.727639615847501,{"$f":"E2299-#REF!","v":{"$error":"#REF!"}},null,null,70.355026596785805,{"$f":"I2299-#REF!","v":{"$error":"#REF!"}}]
["3°C","Yarra Yalley",{"$error":"#REF!"},{"$error":"#REF!"},61.774604725810399,{"$f":"E2300-#REF!","v":{"$error":"#REF!"}},null,null,70.357479363123304,{"$f":"I2300-#REF!","v":{"$error":"#REF!"}}]
["3°C","Yarra Yalley",{"$error":"#REF!"},{"$error":"#REF!"},57.901965682419203,{"$f":"E2301-#REF!","v":{"$error":"#REF!"}},null,null,71.585360922662701,{"$f":"I2301-#REF!","v":{"$error":"#REF!"}}]
["3°C","Yarra Yalley",{"$error":"#REF!"},{"$error":"#REF!"},57.098787318436301,{"$f":"E2302-#REF!","v":{"$error":"#REF!"}},null,null,70.442417980299496,{"$f":"I2302-#REF!","v":{"$error":"#REF!"}}]
["3°C","Yarra Yalley",{"$error":"#REF!"},{"$error":"#REF!"},60.147876718769602,{"$f":"E2303-#REF!","v":{"$error":"#REF!"}},null,null,71.868910111577804,{"$f":"I2303-#REF!","v":{"$error":"#REF!"}}]
["3°C","Yarra Yalley",{"$error":"#REF!"},{"$error":"#REF!"},56.810617567173402,{"$f":"E2304-#REF!","v":{"$error":"#REF!"}},null,null,70.300135940486896,{"$f":"I2304-#REF!","v":{"$error":"#REF!"}}]
["3°C","Yarra Yalley",{"$error":"#REF!"},{"$error":"#REF!"},57.898120569616403,{"$f":"E2305-#REF!","v":{"$error":"#REF!"}},null,null,73.372423560770301,{"$f":"I2305-#REF!","v":{"$error":"#REF!"}}]
["3°C","Yarra Yalley",{"$f":"IF(F2306>0,1,0)/99","v":{"$error":"#REF!"}},{"$f":"IF(J2306>0,1,0)/99","v":{"$error":"#REF!"}},58.201729747193497,{"$f":"E2306-#REF!","v":{"$error":"#REF!"}},null,null,67.246550781136804,{"$f":"I2306-#REF!","v":{"$error":"#REF!"}}]
["3°C","Yarra Yalley",{"$error":"#REF!"},{"$error":"#REF!"},59.480508293070002,{"$f":"E2307-#REF!","v":{"$error":"#REF!"}},null,null,69.173970519766996,{"$f":"I2307-#REF!","v":{"$error":"#REF!"}}]
["3°C","Yarra Yalley",{"$error":"#REF!"},{"$error":"#REF!"},57.286195072433699,{"$f":"E2308-#REF!","v":{"$error":"#REF!"}},null,null,71.028327608455697,{"$f":"I2308-#REF!","v":{"$error":"#REF!"}}]
["3°C","Yarra Yalley",{"$error":"#REF!"},{"$error":"#REF!"},56.820933153799203,{"$f":"E2309-#REF!","v":{"$error":"#REF!"}},null,null,70.2464220361325,{"$f":"I2309-#REF!","v":{"$error":"#REF!"}}]
["3°C","Yarra Yalley",{"$error":"#REF!"},{"$error":"#REF!"},51.590416733530901,{"$f":"E2310-#REF!","v":{"$error":"#REF!"}},null,null,65.024548975397593,{"$f":"I2310-#REF!","v":{"$error":"#REF!"}}]
["3°C","Yarra Yalley",{"$error":"#REF!"},{"$error":"#REF!"},67.992781265181193,{"$f":"E2311-#REF!","v":{"$error":"#REF!"}},null,null,79.228691501836394,{"$f":"I2311-#REF!","v":{"$error":"#REF!"}}]
["3°C","Yarra Yalley",{"$error":"#REF!"},{"$error":"#REF!"},66.253803717098506,{"$f":"E2312-#REF!","v":{"$error":"#REF!"}},null,null,75.574980578938593,{"$f":"I2312-#REF!","v":{"$error":"#REF!"}}]
["3°C","Yarra Yalley",{"$error":"#REF!"},{"$error":"#REF!"},53.792744916748603,{"$f":"E2313-#REF!","v":{"$error":"#REF!"}},null,null,69.559405829578694,{"$f":"I2313-#REF!","v":{"$error":"#REF!"}}]
["3°C","Yarra Yalley",{"$error":"#REF!"},{"$error":"#REF!"},61.581545677891803,{"$f":"E2314-#REF!","v":{"$error":"#REF!"}},null,null,74.2999286072274,{"$f":"I2314-#REF!","v":{"$error":"#REF!"}}]
["3°C","Yarra Yalley",{"$error":"#REF!"},{"$error":"#REF!"},57.909570917156998,{"$f":"E2315-#REF!","v":{"$error":"#REF!"}},null,null,68.265701782056297,{"$f":"I2315-#REF!","v":{"$error":"#REF!"}}]
["3°C","Yarra Yalley",{"$error":"#REF!"},{"$error":"#REF!"},60.540010772483001,{"$f":"E2316-#REF!","v":{"$error":"#REF!"}},null,null,73.900006406047694,{"$f":"I2316-#REF!","v":{"$error":"#REF!"}}]
["3°C","Yarra Yalley",{"$error":"#REF!"},{"$error":"#REF!"},63.238183144172702,{"$f":"E2317-#REF!","v":{"$error":"#REF!"}},null,null,75.986511934394798,{"$f":"I2317-#REF!","v":{"$error":"#REF!"}}]
["3°C","Yarra Yalley",{"$error":"#REF!"},{"$error":"#REF!"},56.436309218965,{"$f":"E2318-#REF!","v":{"$error":"#REF!"}},null,null,72.206719655220596,{"$f":"I2318-#REF!","v":{"$error":"#REF!"}}]
["3°C","Yarra Yalley",{"$error":"#REF!"},{"$error":"#REF!"},60.041522545687499,{"$f":"E2319-#REF!","v":{"$error":"#REF!"}},null,null,75.078935831276596,{"$f":"I2319-#REF!","v":{"$error":"#REF!"}}]
["3°C","Yarra Yalley",{"$error":"#REF!"},{"$error":"#REF!"},61.137667358305499,{"$f":"E2320-#REF!","v":{"$error":"#REF!"}},null,null,74.847842413032794,{"$f":"I2320-#REF!","v":{"$error":"#REF!"}}]
["3°C","Yarra Yalley",{"$error":"#REF!"},{"$error":"#REF!"},56.850171959431499,{"$f":"E2321-#REF!","v":{"$error":"#REF!"}},null,null,72.753774852954905,{"$f":"I2321-#REF!","v":{"$error":"#REF!"}}]
["3°C","Yarra Yalley",{"$error":"#REF!"},{"$error":"#REF!"},54.9534170874566,{"$f":"E2322-#REF!","v":{"$error":"#REF!"}},null,null,70.586433270737302,{"$f":"I2322-#REF!","v":{"$error":"#REF!"}}]
["3°C","Yarra Yalley",{"$error":"#REF!"},{"$error":"#REF!"},60.775477343425301,{"$f":"E2323-#REF!","v":{"$error":"#REF!"}},null,null,73.615782277250801,{"$f":"I2323-#REF!","v":{"$error":"#REF!"}}]
["3°C","Yarra Yalley",{"$error":"#REF!"},{"$error":"#REF!"},59.925849130649397,{"$f":"E2324-#REF!","v":{"$error":"#REF!"}},null,null,73.417042521408206,{"$f":"I2324-#REF!","v":{"$error":"#REF!"}}]
["3°C","Yarra Yalley",{"$error":"#REF!"},{"$error":"#REF!"},48.523129660219098,{"$f":"E2325-#REF!","v":{"$error":"#REF!"}},null,null,64.682059214457794,{"$f":"I2325-#REF!","v":{"$error":"#REF!"}}]
["3°C","Yarra Yalley",{"$error":"#REF!"},{"$error":"#REF!"},56.3879845952805,{"$f":"E2326-#REF!","v":{"$error":"#REF!"}},null,null,71.194136675134004,{"$f":"I2326-#REF!","v":{"$error":"#REF!"}}]
["3°C","Yarra Yalley",{"$error":"#REF!"},{"$error":"#REF!"},56.071324850239002,{"$f":"E2327-#REF!","v":{"$error":"#REF!"}},null,null,69.604407423697793,{"$f":"I2327-#REF!","v":{"$error":"#REF!"}}]
["3°C","Yarra Yalley",{"$error":"#REF!"},{"$error":"#REF!"},69.462302491540598,{"$f":"E2328-#REF!","v":{"$error":"#REF!"}},null,null,82.065798795437004,{"$f":"I2328-#REF!","v":{"$error":"#REF!"}}]
["3°C","Yarra Yalley",{"$error":"#REF!"},{"$error":"#REF!"},55.758347693123703,{"$f":"E2329-#REF!","v":{"$error":"#REF!"}},null,null,70.593373284149493,{"$f":"I2329-#REF!","v":{"$error":"#REF!"}}]
["3°C","Yarra Yalley",{"$error":"#REF!"},{"$error":"#REF!"},53.424345223441101,{"$f":"E2330-#REF!","v":{"$error":"#REF!"}},null,null,68.847436781600095,{"$f":"I2330-#REF!","v":{"$error":"#REF!"}}]
["3°C","Yarra Yalley",{"$error":"#REF!"},{"$error":"#REF!"},58.453574871045397,{"$f":"E2331-#REF!","v":{"$error":"#REF!"}},null,null,70.578122494475195,{"$f":"I2331-#REF!","v":{"$error":"#REF!"}}]
["3°C","Yarra Yalley",{"$error":"#REF!"},{"$error":"#REF!"},59.030357318037701,{"$f":"E2332-#REF!","v":{"$error":"#REF!"}},null,null,72.863647058674104,{"$f":"I2332-#REF!","v":{"$error":"#REF!"}}]
["3°C","Yarra Yalley",{"$error":"#REF!"},{"$error":"#REF!"},53.918939884272298,{"$f":"E2333-#REF!","v":{"$error":"#REF!"}},null,null,67.843048715607907,{"$f":"I2333-#REF!","v":{"$error":"#REF!"}}]
["3°C","Yarra Yalley",{"$error":"#REF!"},{"$error":"#REF!"},58.588711642933099,{"$f":"E2334-#REF!","v":{"$error":"#REF!"}},null,null,73.778406988273304,{"$f":"I2334-#REF!","v":{"$error":"#REF!"}}]
["3°C","Yarra Yalley",{"$error":"#REF!"},{"$error":"#REF!"},56.4991263066565,{"$f":"E2335-#REF!","v":{"$error":"#REF!"}},null,null,70.709074447743802,{"$f":"I2335-#REF!","v":{"$error":"#REF!"}}]
["3°C","Yarra Yalley",{"$error":"#REF!"},{"$error":"#REF!"},65.815835259524306,{"$f":"E2336-#REF!","v":{"$error":"#REF!"}},null,null,76.781104881796196,{"$f":"I2336-#REF!","v":{"$error":"#REF!"}}]
["3°C","Yarra Yalley",{"$error":"#REF!"},{"$error":"#REF!"},56.778097710874299,{"$f":"E2337-#REF!","v":{"$error":"#REF!"}},null,null,67.228379714924401,{"$f":"I2337-#REF!","v":{"$error":"#REF!"}}]
["3°C","Yarra Yalley",{"$error":"#REF!"},{"$error":"#REF!"},62.802740280654199,{"$f":"E2338-#REF!","v":{"$error":"#REF!"}},null,null,74.654970505455793,{"$f":"I2338-#REF!","v":{"$error":"#REF!"}}]
["3°C","Yarra Yalley",{"$error":"#REF!"},{"$error":"#REF!"},66.909773641317997,{"$f":"E2339-#REF!","v":{"$error":"#REF!"}},null,null,80.548121833748795,{"$f":"I2339-#REF!","v":{"$error":"#REF!"}}]
["3°C","Yarra Yalley",{"$error":"#REF!"},{"$error":"#REF!"},60.5773633651092,{"$f":"E2340-#REF!","v":{"$error":"#REF!"}},null,null,71.949441561770698,{"$f":"I2340-#REF!","v":{"$error":"#REF!"}}]
["3°C","Yarra Yalley",{"$error":"#REF!"},{"$error":"#REF!"},61.747912109431603,{"$f":"E2341-#REF!","v":{"$error":"#REF!"}},null,null,73.372190374940899,{"$f":"I2341-#REF!","v":{"$error":"#REF!"}}]
["3°C","Yarra Yalley",{"$error":"#REF!"},{"$error":"#REF!"},61.088965015966998,{"$f":"E2342-#REF!","v":{"$error":"#REF!"}},null,null,71.944564631414906,{"$f":"I2342-#REF!","v":{"$error":"#REF!"}}]
["3°C","Yarra Yalley",{"$error":"#REF!"},{"$error":"#REF!"},54.805344248316999,{"$f":"E2343-#REF!","v":{"$error":"#REF!"}},null,null,70.414247909363993,{"$f":"I2343-#REF!","v":{"$error":"#REF!"}}]
["3°C","Yarra Yalley",{"$error":"#REF!"},{"$error":"#REF!"},62.674230199482302,{"$f":"E2344-#REF!","v":{"$error":"#REF!"}},null,null,78.0731069851591,{"$f":"I2344-#REF!","v":{"$error":"#REF!"}}]
["3°C","Yarra Yalley",{"$error":"#REF!"},{"$error":"#REF!"},60.337852363380598,{"$f":"E2345-#REF!","v":{"$error":"#REF!"}},null,null,74.970701662631299,{"$f":"I2345-#REF!","v":{"$error":"#REF!"}}]
["3°C","Yarra Yalley",{"$error":"#REF!"},{"$error":"#REF!"},62.531416942870003,{"$f":"E2346-#REF!","v":{"$error":"#REF!"}},null,null,74.495298360766199,{"$f":"I2346-#REF!","v":{"$error":"#REF!"}}]
["3°C","Yarra Yalley",{"$error":"#REF!"},{"$error":"#REF!"},64.983039775146807,{"$f":"E2347-#REF!","v":{"$error":"#REF!"}},null,null,80.545996249470804,{"$f":"I2347-#REF!","v":{"$error":"#REF!"}}]
["3°C","Yarra Yalley",{"$error":"#REF!"},{"$error":"#REF!"},55.1623383239586,{"$f":"E2348-#REF!","v":{"$error":"#REF!"}},null,null,69.092477652128807,{"$f":"I2348-#REF!","v":{"$error":"#REF!"}}]
["3°C","Yarra Yalley",{"$error":"#REF!"},{"$error":"#REF!"},62.600899394003299,{"$f":"E2349-#REF!","v":{"$error":"#REF!"}},null,null,73.413844161394493,{"$f":"I2349-#REF!","v":{"$error":"#REF!"}}]
["3°C","Yarra Yalley",{"$error":"#REF!"},{"$error":"#REF!"},62.380970219668797,{"$f":"E2350-#REF!","v":{"$error":"#REF!"}},null,null,70.127603229948505,{"$f":"I2350-#REF!","v":{"$error":"#REF!"}}]
["3°C","Yarra Yalley",{"$error":"#REF!"},{"$error":"#REF!"},59.622211744514402,{"$f":"E2351-#REF!","v":{"$error":"#REF!"}},null,null,70.020864058816102,{"$f":"I2351-#REF!","v":{"$error":"#REF!"}}]
["3°C","Yarra Yalley",{"$error":"#REF!"},{"$error":"#REF!"},61.941856131912502,{"$f":"E2352-#REF!","v":{"$error":"#REF!"}},null,null,76.296626535974198,{"$f":"I2352-#REF!","v":{"$error":"#REF!"}}]
["3°C","Yarra Yalley",{"$error":"#REF!"},{"$error":"#REF!"},65.5958448549613,{"$f":"E2353-#REF!","v":{"$error":"#REF!"}},null,null,75.937187518114598,{"$f":"I2353-#REF!","v":{"$error":"#REF!"}}]
["3°C","Yarra Yalley",{"$error":"#REF!"},{"$error":"#REF!"},61.7589840317249,{"$f":"E2354-#REF!","v":{"$error":"#REF!"}},null,null,76.847800305134697,{"$f":"I2354-#REF!","v":{"$error":"#REF!"}}]
["3°C","Yarra Yalley",{"$error":"#REF!"},{"$error":"#REF!"},60.167166159322598,{"$f":"E2355-#REF!","v":{"$error":"#REF!"}},null,null,72.1129162283505,{"$f":"I2355-#REF!","v":{"$error":"#REF!"}}]
["3°C","Yarra Yalley",{"$error":"#REF!"},{"$error":"#REF!"},48.343419297299903,{"$f":"E2356-#REF!","v":{"$error":"#REF!"}},null,null,65.395223149336999,{"$f":"I2356-#REF!","v":{"$error":"#REF!"}}]
["3°C","Yarra Yalley",{"$error":"#REF!"},{"$error":"#REF!"},64.088247171776999,{"$f":"E2357-#REF!","v":{"$error":"#REF!"}},null,null,74.268817098509004,{"$f":"I2357-#REF!","v":{"$error":"#REF!"}}]
["3°C","Yarra Yalley",{"$error":"#REF!"},{"$error":"#REF!"},60.874893891934299,{"$f":"E2358-#REF!","v":{"$error":"#REF!"}},null,null,74.659927891426605,{"$f":"I2358-#REF!","v":{"$error":"#REF!"}}]
["3°C","Yarra Yalley",{"$error":"#REF!"},{"$error":"#REF!"},55.432554249075402,{"$f":"E2359-#REF!","v":{"$error":"#REF!"}},null,null,71.899782045322198,{"$f":"I2359-#REF!","v":{"$error":"#REF!"}}]
["3°C","Yarra Yalley",{"$error":"#REF!"},{"$error":"#REF!"},67.444981959782098,{"$f":"E2360-#REF!","v":{"$error":"#REF!"}},null,null,77.980499396689694,{"$f":"I2360-#REF!","v":{"$error":"#REF!"}}]
["3°C","Yarra Yalley",{"$error":"#REF!"},{"$error":"#REF!"},52.265666795936603,{"$f":"E2361-#REF!","v":{"$error":"#REF!"}},null,null,68.1618363364895,{"$f":"I2361-#REF!","v":{"$error":"#REF!"}}]
["3°C","Yarra Yalley",{"$error":"#REF!"},{"$error":"#REF!"},61.432244697595799,{"$f":"E2362-#REF!","v":{"$error":"#REF!"}},null,null,73.467601568536097,{"$f":"I2362-#REF!","v":{"$error":"#REF!"}}]
["3°C","Yarra Yalley",{"$error":"#REF!"},{"$error":"#REF!"},62.006955104168199,{"$f":"E2363-#REF!","v":{"$error":"#REF!"}},null,null,71.488659136653098,{"$f":"I2363-#REF!","v":{"$error":"#REF!"}}]
["3°C","Yarra Yalley",{"$error":"#REF!"},{"$error":"#REF!"},62.193611088961397,{"$f":"E2364-#REF!","v":{"$error":"#REF!"}},null,null,74.198131583544793,{"$f":"I2364-#REF!","v":{"$error":"#REF!"}}]
["3°C","Yarra Yalley",{"$error":"#REF!"},{"$error":"#REF!"},66.2415298521274,{"$f":"E2365-#REF!","v":{"$error":"#REF!"}},null,null,76.582341697975295,{"$f":"I2365-#REF!","v":{"$error":"#REF!"}}]
["3°C","Yarra Yalley",{"$error":"#REF!"},{"$error":"#REF!"},58.372462210874097,{"$f":"E2366-#REF!","v":{"$error":"#REF!"}},null,null,70.829294754881104,{"$f":"I2366-#REF!","v":{"$error":"#REF!"}}]
["3°C","Yarra Yalley",{"$error":"#REF!"},{"$error":"#REF!"},52.032786599505997,{"$f":"E2367-#REF!","v":{"$error":"#REF!"}},null,null,64.679729038749002,{"$f":"I2367-#REF!","v":{"$error":"#REF!"}}]
["3°C","Yarra Yalley",{"$error":"#REF!"},{"$error":"#REF!"},62.050985244617301,{"$f":"E2368-#REF!","v":{"$error":"#REF!"}},null,null,74.247041559401197,{"$f":"I2368-#REF!","v":{"$error":"#REF!"}}]
["3°C","Yarra Yalley",{"$error":"#REF!"},{"$error":"#REF!"},54.213582630220401,{"$f":"E2369-#REF!","v":{"$error":"#REF!"}},null,null,71.655735854028094,{"$f":"I2369-#REF!","v":{"$error":"#REF!"}}]
["3°C","Yarra Yalley",{"$f":"IF(F2370>0,1,0)/99","v":{"$error":"#REF!"}},{"$f":"IF(J2370>0,1,0)/99","v":{"$error":"#REF!"}},54.550086576311699,{"$f":"E2370-#REF!","v":{"$error":"#REF!"}},null,null,70.189907854515994,{"$f":"I2370-#REF!","v":{"$error":"#REF!"}}]
["3°C","Yarra Yalley",{"$error":"#REF!"},{"$error":"#REF!"},56.0859527344941,{"$f":"E2371-#REF!","v":{"$error":"#REF!"}},null,null,71.699601142661095,{"$f":"I2371-#REF!","v":{"$error":"#REF!"}}]
["3°C","Yarra Yalley",{"$error":"#REF!"},{"$error":"#REF!"},63.264985782857302,{"$f":"E2372-#REF!","v":{"$error":"#REF!"}},null,null,74.883508775086995,{"$f":"I2372-#REF!","v":{"$error":"#REF!"}}]
["3°C","Yarra Yalley",{"$error":"#REF!"},{"$error":"#REF!"},48.724538463140298,{"$f":"E2373-#REF!","v":{"$error":"#REF!"}},null,null,64.1196800968644,{"$f":"I2373-#REF!","v":{"$error":"#REF!"}}]
["3°C","Yarra Yalley",{"$error":"#REF!"},{"$error":"#REF!"},64.742157582874697,{"$f":"E2374-#REF!","v":{"$error":"#REF!"}},null,null,76.592275605084893,{"$f":"I2374-#REF!","v":{"$error":"#REF!"}}]
["3°C","Yarra Yalley",{"$error":"#REF!"},{"$error":"#REF!"},54.947604193449301,{"$f":"E2375-#REF!","v":{"$error":"#REF!"}},null,null,63.429961041420697,{"$f":"I2375-#REF!","v":{"$error":"#REF!"}}]
["3°C","Yarra Yalley",{"$error":"#REF!"},{"$error":"#REF!"},61.095296170689103,{"$f":"E2376-#REF!","v":{"$error":"#REF!"}},null,null,76.043148360755694,{"$f":"I2376-#REF!","v":{"$error":"#REF!"}}]
["3°C","Yarra Yalley",{"$error":"#REF!"},{"$error":"#REF!"},51.771351631686301,{"$f":"E2377-#REF!","v":{"$error":"#REF!"}},null,null,70.394935932471,{"$f":"I2377-#REF!","v":{"$error":"#REF!"}}]

{"sheet":"Working","index":5,"n_rows":2641,"n_cols":5,"rows_kept":2641,"cut":false,"hidden":true,"merged":[]}
["Date","Hour","Chill Unit","Chill Hour","Dynamic Portion"]
["2014-03-01",null,null,null,0]
["2014-03-01",null,null,null,0]
["2014-03-01",null,null,null,0]
["2014-03-01",null,null,null,0]
["2014-03-01",null,null,null,0]
["2014-03-01",null,null,null,0]
["2014-03-01",null,null,null,0]
["2014-03-01",null,null,null,0]
["2014-03-01",null,null,null,0]
["2014-03-01",null,null,null,0]
["2014-03-01",null,null,null,0]
["2014-03-01",null,null,null,0]
["2014-03-01",null,null,null,0]
["2014-03-01",null,null,null,0]
["2014-03-01",null,null,null,0]
["2014-03-01",null,null,null,0]
["2014-03-01",null,null,null,0]
["2014-03-01",null,null,null,0]
["2014-03-01",null,null,null,0]
["2014-03-01",null,null,null,0]
["2014-03-01",null,null,null,0]
["2014-03-01",null,null,null,0]
["2014-03-01",null,null,null,0]
["2014-03-01",null,null,null,0]
["2014-03-02",null,null,null,0]
["2014-03-02",null,null,null,0]
["2014-03-02",null,null,null,0]
["2014-03-02",null,null,null,0]
["2014-03-02",null,null,null,0]
["2014-03-02",null,null,null,0]
["2014-03-02",null,null,null,0]
["2014-03-02",null,null,null,0]
["2014-03-02",null,null,null,0]
["2014-03-02",null,null,null,0]
["2014-03-02",null,null,null,0]
["2014-03-02",null,null,null,0]
["2014-03-02",null,null,null,0]
["2014-03-02",null,null,null,0]
["2014-03-02",null,null,null,0]
["2014-03-02",null,null,null,0]
["2014-03-02",null,null,null,0]
["2014-03-02",null,null,null,0]
["2014-03-02",null,null,null,0]
["2014-03-02",null,null,null,0]
["2014-03-02",null,null,null,0]
["2014-03-02",null,null,null,0]
["2014-03-02",null,null,null,0]
["2014-03-02",null,null,null,0]
["2014-03-03",null,null,null,0]
["2014-03-03",null,null,null,0]
["2014-03-03",null,null,null,0]
["2014-03-03",null,null,null,0]
["2014-03-03",null,null,null,0]
["2014-03-03",null,null,null,0]
["2014-03-03",null,null,null,0]
["2014-03-03",null,null,null,0]
["2014-03-03",null,null,null,0]
["2014-03-03",null,null,null,0]
["2014-03-03",null,null,null,0]
["2014-03-03",null,null,null,0]
["2014-03-03",null,null,null,0]
["2014-03-03",null,null,null,0]
["2014-03-03",null,null,null,0]
["2014-03-03",null,null,null,0]
["2014-03-03",null,null,null,0]
["2014-03-03",null,null,null,0]
["2014-03-03",null,null,null,0]
["2014-03-03",null,null,null,0]
["2014-03-03",null,null,null,0]
["2014-03-03",null,null,null,0]
["2014-03-03",null,null,null,0]
["2014-03-03",null,null,null,0]
["2014-03-04",null,null,null,0]
["2014-03-04",null,null,null,0]
["2014-03-04",null,null,null,0]
["2014-03-04",null,null,null,0]
["2014-03-04",null,null,null,0]
["2014-03-04",null,null,null,0]
["2014-03-04",null,null,null,0]
["2014-03-04",null,null,null,0]
["2014-03-04",null,null,null,0]
["2014-03-04",null,null,null,0]
["2014-03-04",null,null,null,0]
["2014-03-04",null,null,null,0]
["2014-03-04",null,null,null,0]
["2014-03-04",null,null,null,0]
["2014-03-04",null,null,null,0]
["2014-03-04",null,null,null,0]
["2014-03-04",null,null,null,0]
["2014-03-04",null,null,null,0]
["2014-03-04",null,null,null,0]
["2014-03-04",null,null,null,0]
["2014-03-04",null,null,null,0]
["2014-03-04",null,null,null,0]
["2014-03-04",null,null,null,0]
["2014-03-04",null,null,null,0]
["2014-03-05",null,null,null,0]
["2014-03-05",null,null,null,0]
["2014-03-05",null,null,null,0]
["2014-03-05",null,null,null,0]
["2014-03-05",null,null,null,0]
["2014-03-05",null,null,null,0]
["2014-03-05",null,null,null,0]
["2014-03-05",null,null,null,0]
["2014-03-05",null,null,null,0]
["2014-03-05",null,null,null,0]
["2014-03-05",null,null,null,0]
["2014-03-05",null,null,null,0]
["2014-03-05",null,null,null,0]
["2014-03-05",null,null,null,0]
["2014-03-05",null,null,null,0]
["2014-03-05",null,null,null,0]
["2014-03-05",null,null,null,0]
["2014-03-05",null,null,null,0]
["2014-03-05",null,null,null,0]
["2014-03-05",null,null,null,0]
["2014-03-05",null,null,null,0]
["2014-03-05",null,null,null,0]
["2014-03-05",null,null,null,0]
["2014-03-05",null,null,null,0]
["2014-03-06",null,null,null,0]
["2014-03-06",null,null,null,0]
["2014-03-06",null,null,null,0]
["2014-03-06",null,null,null,0]
["2014-03-06",null,null,null,0]
["2014-03-06",null,null,null,0]
["2014-03-06",null,null,null,0]
["2014-03-06",null,null,null,0]
["2014-03-06",null,null,null,0]
["2014-03-06",null,null,null,0]
["2014-03-06",null,null,null,0]
["2014-03-06",null,null,null,0]
["2014-03-06",null,null,null,0]
["2014-03-06",null,null,null,0]
["2014-03-06",null,null,null,0]
["2014-03-06",null,null,null,0]
["2014-03-06",null,null,null,0]
["2014-03-06",null,null,null,0]
["2014-03-06",null,null,null,0]
["2014-03-06",null,null,null,0]
["2014-03-06",null,null,null,0]
["2014-03-06",null,null,null,0]
["2014-03-06",null,null,null,0]
["2014-03-06",null,null,null,0]
["2014-03-07",null,null,null,0]
["2014-03-07",null,null,null,0]
["2014-03-07",null,null,null,0]
["2014-03-07",null,null,null,0]
["2014-03-07",null,null,null,0]
["2014-03-07",null,null,null,0]
["2014-03-07",null,null,null,0]
["2014-03-07",null,null,null,0]
["2014-03-07",null,null,null,0]
["2014-03-07",null,null,null,0]
["2014-03-07",null,null,null,0]
["2014-03-07",null,null,null,0]
["2014-03-07",null,null,null,0]
["2014-03-07",null,null,null,0]
["2014-03-07",null,null,null,0]
["2014-03-07",null,null,null,0]
["2014-03-07",null,null,null,0]
["2014-03-07",null,null,null,0]
["2014-03-07",null,null,null,0]
["2014-03-07",null,null,null,0]
["2014-03-07",null,null,null,0]
["2014-03-07",null,null,null,0]
["2014-03-07",null,null,null,0]
["2014-03-07",null,null,null,0]
["2014-03-08",null,null,null,0]
["2014-03-08",null,null,null,0]
["2014-03-08",null,null,null,0]
["2014-03-08",null,null,null,0]
["2014-03-08",null,null,null,0]
["2014-03-08",null,null,null,0]
["2014-03-08",null,null,null,0]
["2014-03-08",null,null,null,0]
["2014-03-08",null,null,null,0]
["2014-03-08",null,null,null,0]
["2014-03-08",null,null,null,0]
["2014-03-08",null,null,null,0]
["2014-03-08",null,null,null,0]
["2014-03-08",null,null,null,0]
["2014-03-08",null,null,null,0]
["2014-03-08",null,null,null,0]
["2014-03-08",null,null,null,0]
["2014-03-08",null,null,null,0]
["2014-03-08",null,null,null,0]
["2014-03-08",null,null,null,0]
["2014-03-08",null,null,null,0]
["2014-03-08",null,null,null,0]
["2014-03-08",null,null,null,0]
["2014-03-08",null,null,null,0]
["2014-03-09",null,null,null,0]
["2014-03-09",null,null,null,0]
["2014-03-09",null,null,null,0]
["2014-03-09",null,null,null,0]
["2014-03-09",null,null,null,0]
["2014-03-09",null,null,null,0]
["2014-03-09",null,null,null,0]
["2014-03-09",null,null,null,0]
["2014-03-09",null,null,null,0]
["2014-03-09",null,null,null,0]
["2014-03-09",null,null,null,0]
["2014-03-09",null,null,null,0]
["2014-03-09",null,null,null,0]
["2014-03-09",null,null,null,0]
["2014-03-09",null,null,null,0]
["2014-03-09",null,null,null,0]
["2014-03-09",null,null,null,0]
["2014-03-09",null,null,null,0]
["2014-03-09",null,null,null,0]
["2014-03-09",null,null,null,0]
["2014-03-09",null,null,null,0]
["2014-03-09",null,null,null,0]
["2014-03-09",null,null,null,0]
["2014-03-09",null,null,null,0]
["2014-03-10",null,null,null,0]
["2014-03-10",null,null,null,0]
["2014-03-10",null,null,null,0]
["2014-03-10",null,null,null,0]
["2014-03-10",null,null,null,0]
["2014-03-10",null,null,null,0]
["2014-03-10",null,null,null,0]
["2014-03-10",null,null,null,0]
["2014-03-10",null,null,null,0]
["2014-03-10",null,null,null,0]
["2014-03-10",null,null,null,0]
["2014-03-10",null,null,null,0]
["2014-03-10",null,null,null,0]
["2014-03-10",null,null,null,0]
["2014-03-10",null,null,null,0]
["2014-03-10",null,null,null,0]
["2014-03-10",null,null,null,0]
["2014-03-10",null,null,null,0]
["2014-03-10",null,null,null,0]
["2014-03-10",null,null,null,0]
["2014-03-10",null,null,null,0]
["2014-03-10",null,null,null,0]
["2014-03-10",null,null,null,0]
["2014-03-10",null,null,null,0]
["2014-03-11",null,null,null,0]
["2014-03-11",null,null,null,0]
["2014-03-11",null,null,null,0]
["2014-03-11",null,null,null,0]
["2014-03-11",null,null,null,0]
["2014-03-11",null,null,null,0]
["2014-03-11",null,null,null,0]
["2014-03-11",null,null,null,0]
["2014-03-11",null,null,null,0]
["2014-03-11",null,null,null,0]
["2014-03-11",null,null,null,0]
["2014-03-11",null,null,null,0]
["2014-03-11",null,null,null,0]
["2014-03-11",null,null,null,0]
["2014-03-11",null,null,null,0]
["2014-03-11",null,null,null,0]
["2014-03-11",null,null,null,0]
["2014-03-11",null,null,null,0]
["2014-03-11",null,null,null,0]
["2014-03-11",null,null,null,0]
["2014-03-11",null,null,null,0]
["2014-03-11",null,null,null,0]
["2014-03-11",null,null,null,0]
["2014-03-11",null,null,null,0]
["2014-03-12",null,null,null,0]
["2014-03-12",null,null,null,0]
["2014-03-12",null,null,null,0]
["2014-03-12",null,null,null,0]
["2014-03-12",null,null,null,0]
["2014-03-12",null,null,null,0]
["2014-03-12",null,null,null,0]
["2014-03-12",null,null,null,0]
["2014-03-12",null,null,null,0]
["2014-03-12",null,null,null,0]
["2014-03-12",null,null,null,0]
["2014-03-12",null,null,null,0]
["2014-03-12",null,null,null,0]
["2014-03-12",null,null,null,0]
["2014-03-12",null,null,null,0]
["2014-03-12",null,null,null,0]
["2014-03-12",null,null,null,0]
["2014-03-12",null,null,null,0]
["2014-03-12",null,null,null,0]
["2014-03-12",null,null,null,0]
["2014-03-12",null,null,null,0]
["2014-03-12",null,null,null,0]
["2014-03-12",null,null,null,0]
["2014-03-12",null,null,null,0]
["2014-03-13",null,null,null,0]
["2014-03-13",null,null,null,0]
["2014-03-13",null,null,null,0]
["2014-03-13",null,null,null,0]
["2014-03-13",null,null,null,0]
["2014-03-13",null,null,null,0]
["2014-03-13",null,null,null,0]
["2014-03-13",null,null,null,0]
["2014-03-13",null,null,null,0]
["2014-03-13",null,null,null,0]
["2014-03-13",null,null,null,0]
["2014-03-13",null,null,null,0]
["2014-03-13",null,null,null,0]
["2014-03-13",null,null,null,0]
["2014-03-13",null,null,null,0]
["2014-03-13",null,null,null,0]
["2014-03-13",null,null,null,0]
["2014-03-13",null,null,null,0]
["2014-03-13",null,null,null,0]
["2014-03-13",null,null,null,0]
["2014-03-13",null,null,null,0]
["2014-03-13",null,null,null,0]
["2014-03-13",null,null,null,0]
["2014-03-13",null,null,null,0]
["2014-03-14",null,null,null,0]
["2014-03-14",null,null,null,0]
["2014-03-14",null,null,null,0]
["2014-03-14",null,null,null,0]
["2014-03-14",null,null,null,0]
["2014-03-14",null,null,null,0]
["2014-03-14",null,null,null,0]
["2014-03-14",null,null,null,0]
["2014-03-14",null,null,null,0]
["2014-03-14",null,null,null,0]
["2014-03-14",null,null,null,0]
["2014-03-14",null,null,null,0]
["2014-03-14",null,null,null,0]
["2014-03-14",null,null,null,0]
["2014-03-14",null,null,null,0]
["2014-03-14",null,null,null,0]
["2014-03-14",null,null,null,0]
["2014-03-14",null,null,null,0]
["2014-03-14",null,null,null,0]
["2014-03-14",null,null,null,0]
["2014-03-14",null,null,null,0]
["2014-03-14",null,null,null,0]
["2014-03-14",null,null,null,0]
["2014-03-14",null,null,null,0]
["2014-03-15",null,null,null,0]
["2014-03-15",null,null,null,0]
["2014-03-15",null,null,null,0]
["2014-03-15",null,null,null,0]
["2014-03-15",null,null,null,0]
["2014-03-15",null,null,null,0]
["2014-03-15",null,null,null,0]
["2014-03-15",null,null,null,0]
["2014-03-15",null,null,null,0]
["2014-03-15",null,null,null,0]
["2014-03-15",null,null,null,0]
["2014-03-15",null,null,null,0]
["2014-03-15",null,null,null,0]
["2014-03-15",null,null,null,0]
["2014-03-15",null,null,null,0]
["2014-03-15",null,null,null,0]
["2014-03-15",null,null,null,0]
["2014-03-15",null,null,null,0]
["2014-03-15",null,null,null,0]
["2014-03-15",null,null,null,0]
["2014-03-15",null,null,null,0]
["2014-03-15",null,null,null,0]
["2014-03-15",null,null,null,0]
["2014-03-15",null,null,null,0]
["2014-03-16",null,null,null,0]
["2014-03-16",null,null,null,0]
["2014-03-16",null,null,null,0]
["2014-03-16",null,null,null,0]
["2014-03-16",null,null,null,0]
["2014-03-16",null,null,null,0]
["2014-03-16",null,null,null,0]
["2014-03-16",null,null,null,0]
["2014-03-16",null,null,null,0]
["2014-03-16",null,null,null,0]
["2014-03-16",null,null,null,0]
["2014-03-16",null,null,null,0]
["2014-03-16",null,null,null,0]
["2014-03-16",null,null,null,0]
["2014-03-16",null,null,null,0]
["2014-03-16",null,null,null,0]
["2014-03-16",null,null,null,0]
["2014-03-16",null,null,null,0]
["2014-03-16",null,null,null,0]
["2014-03-16",null,null,null,0]
["2014-03-16",null,null,null,0]
["2014-03-16",null,null,null,0]
["2014-03-16",null,null,null,0]
["2014-03-16",null,null,null,0]
["2014-03-17",null,null,null,0]
["2014-03-17",null,null,null,0]
["2014-03-17",null,null,null,0]
["2014-03-17",null,null,null,0]
["2014-03-17",null,null,null,0]
["2014-03-17",null,null,null,0]
["2014-03-17",null,null,null,0]
["2014-03-17",null,null,null,0]
["2014-03-17",null,null,null,0]
["2014-03-17",null,null,null,0]
["2014-03-17",null,null,null,0]
["2014-03-17",null,null,null,0]
["2014-03-17",null,null,null,0]
["2014-03-17",null,null,null,0]
["2014-03-17",null,null,null,0]
["2014-03-17",null,null,null,0]
["2014-03-17",null,null,null,0]
["2014-03-17",null,null,null,0]
["2014-03-17",null,null,null,0]
["2014-03-17",null,null,null,0]
["2014-03-17",null,null,null,0]
["2014-03-17",null,null,null,0]
["2014-03-17",null,null,null,0]
["2014-03-17",null,null,null,0]
["2014-03-18",null,null,null,0]
["2014-03-18",null,null,null,0]
["2014-03-18",null,null,null,0]
["2014-03-18",null,null,null,0]
["2014-03-18",null,null,null,0]
["2014-03-18",null,null,null,0]
["2014-03-18",null,null,null,0]
["2014-03-18",null,null,null,0]
["2014-03-18",null,null,null,0]
["2014-03-18",null,null,null,0]
["2014-03-18",null,null,null,0]
["2014-03-18",null,null,null,0]
["2014-03-18",null,null,null,0]
["2014-03-18",null,null,null,0]
["2014-03-18",null,null,null,0]
["2014-03-18",null,null,null,0]
["2014-03-18",null,null,null,0]
["2014-03-18",null,null,null,0]
["2014-03-18",null,null,null,0]
["2014-03-18",null,null,null,0]
["2014-03-18",null,null,null,0]
["2014-03-18",null,null,null,0]
["2014-03-18",null,null,null,0]
["2014-03-18",null,null,null,0]
["2014-03-19",null,null,null,0]
["2014-03-19",null,null,null,0]
["2014-03-19",null,null,null,0]
["2014-03-19",null,null,null,0]
["2014-03-19",null,null,null,0]
["2014-03-19",null,null,null,0]
["2014-03-19",null,null,null,0]
["2014-03-19",null,null,null,0]
["2014-03-19",null,null,null,0]
["2014-03-19",null,null,null,0]
["2014-03-19",null,null,null,0]
["2014-03-19",null,null,null,0]
["2014-03-19",null,null,null,0]
["2014-03-19",null,null,null,0]
["2014-03-19",null,null,null,0]
["2014-03-19",null,null,null,0]
["2014-03-19",null,null,null,0]
["2014-03-19",null,null,null,0]
["2014-03-19",null,null,null,0]
["2014-03-19",null,null,null,0]
["2014-03-19",null,null,null,0]
["2014-03-19",null,null,null,0]
["2014-03-19",null,null,null,0]
["2014-03-19",null,null,null,0]
["2014-03-20",null,null,null,0]
["2014-03-20",null,null,null,0]
["2014-03-20",null,null,null,0]
["2014-03-20",null,null,null,0]
["2014-03-20",null,null,null,0]
["2014-03-20",null,null,null,0]
["2014-03-20",null,null,null,0]
["2014-03-20",null,null,null,0]
["2014-03-20",null,null,null,0]
["2014-03-20",null,null,null,0]
["2014-03-20",null,null,null,0]
["2014-03-20",null,null,null,0]
["2014-03-20",null,null,null,0]
["2014-03-20",null,null,null,0]
["2014-03-20",null,null,null,0]
["2014-03-20",null,null,null,0]
["2014-03-20",null,null,null,0]
["2014-03-20",null,null,null,0]
["2014-03-20",null,null,null,0]
["2014-03-20",null,null,null,0]
["2014-03-20",null,null,null,0]
["2014-03-20",null,null,null,0]
["2014-03-20",null,null,null,0]
["2014-03-20",null,null,null,0]
["2014-03-21",null,null,null,0]
["2014-03-21",null,null,null,0]
["2014-03-21",null,null,null,0]
["2014-03-21",null,null,null,0]
["2014-03-21",null,null,null,0]
["2014-03-21",null,null,null,0]
["2014-03-21",null,null,null,0]
["2014-03-21",null,null,null,0]
["2014-03-21",null,null,null,0]
["2014-03-21",null,null,null,0]
["2014-03-21",null,null,null,0]
["2014-03-21",null,null,null,0]
["2014-03-21",null,null,null,0]
["2014-03-21",null,null,null,0]
["2014-03-21",null,null,null,0]
["2014-03-21",null,null,null,0]
["2014-03-21",null,null,null,0]
["2014-03-21",null,null,null,0]
["2014-03-21",null,null,null,0]
["2014-03-21",null,null,null,0]
["2014-03-21",null,null,null,0]
["2014-03-21",null,null,null,0]
["2014-03-21",null,null,null,0]
["2014-03-21",null,null,null,0]
["2014-03-22",null,null,null,0]
["2014-03-22",null,null,null,0]
["2014-03-22",null,null,null,0]
["2014-03-22",null,null,null,0]
["2014-03-22",null,null,null,0]
["2014-03-22",null,null,null,0]
["2014-03-22",null,null,null,0]
["2014-03-22",null,null,null,0]
["2014-03-22",null,null,null,0]
["2014-03-22",null,null,null,0]
["2014-03-22",null,null,null,0]
["2014-03-22",null,null,null,0]
["2014-03-22",null,null,null,0]
["2014-03-22",null,null,null,0]
["2014-03-22",null,null,null,0]
["2014-03-22",null,null,null,0]
["2014-03-22",null,null,null,0]
["2014-03-22",null,null,null,0]
["2014-03-22",null,null,null,0]
["2014-03-22",null,null,null,0]
["2014-03-22",null,null,null,0]
["2014-03-22",null,null,null,0]
["2014-03-22",null,null,null,0]
["2014-03-22",null,null,null,0]
["2014-03-23",null,null,null,0]
["2014-03-23",null,null,null,0]
["2014-03-23",null,null,null,0]
["2014-03-23",null,null,null,0]
["2014-03-23",null,null,null,0]
["2014-03-23",null,null,null,0]
["2014-03-23",null,null,null,0]
["2014-03-23",null,null,null,0]
["2014-03-23",null,null,null,0]
["2014-03-23",null,null,null,0]
["2014-03-23",null,null,null,0]
["2014-03-23",null,null,null,0]
["2014-03-23",null,null,null,0]
["2014-03-23",null,null,null,0]
["2014-03-23",null,null,null,0]
["2014-03-23",null,null,null,0]
["2014-03-23",null,null,null,0]
["2014-03-23",null,null,null,0]
["2014-03-23",null,null,null,0]
["2014-03-23",null,null,null,0]
["2014-03-23",null,null,null,0]
["2014-03-23",null,null,null,0]
["2014-03-23",null,null,null,0]
["2014-03-23",null,null,null,0]
["2014-03-24",null,null,null,0]
["2014-03-24",null,null,null,0]
["2014-03-24",null,null,null,0]
["2014-03-24",null,null,null,0]
["2014-03-24",null,null,null,0]
["2014-03-24",null,null,null,0]
["2014-03-24",null,null,null,0]
["2014-03-24",null,null,null,0]
["2014-03-24",null,null,null,0]
["2014-03-24",null,null,null,0]
["2014-03-24",null,null,null,0]
["2014-03-24",null,null,null,0]
["2014-03-24",null,null,null,0]
["2014-03-24",null,null,null,0]
["2014-03-24",null,null,null,0]
["2014-03-24",null,null,null,0]
["2014-03-24",null,null,null,0]
["2014-03-24",null,null,null,0]
["2014-03-24",null,null,null,0]
["2014-03-24",null,null,null,0]
["2014-03-24",null,null,null,0]
["2014-03-24",null,null,null,0]
["2014-03-24",null,null,null,0]
["2014-03-24",null,null,null,0]
["2014-03-25",null,null,null,0]
["2014-03-25",null,null,null,0]
["2014-03-25",null,null,null,0]
["2014-03-25",null,null,null,0]
["2014-03-25",null,null,null,0]
["2014-03-25",null,null,null,0]
["2014-03-25",null,null,null,0]
["2014-03-25",null,null,null,0]
["2014-03-25",null,null,null,0]
["2014-03-25",null,null,null,0]
["2014-03-25",null,null,null,0]
["2014-03-25",null,null,null,0]
["2014-03-25",null,null,null,0]
["2014-03-25",null,null,null,0]
["2014-03-25",null,null,null,0]
["2014-03-25",null,null,null,0]
["2014-03-25",null,null,null,0]
["2014-03-25",null,null,null,0]
["2014-03-25",null,null,null,0]
["2014-03-25",null,null,null,0]
["2014-03-25",null,null,null,0]
["2014-03-25",null,null,null,0]
["2014-03-25",null,null,null,0]
["2014-03-25",null,null,null,0]
["2014-03-26",null,null,null,0]
["2014-03-26",null,null,null,0]
["2014-03-26",null,null,null,0]
["2014-03-26",null,null,null,0]
["2014-03-26",null,null,null,0]
["2014-03-26",null,null,null,0]
["2014-03-26",null,null,null,0]
["2014-03-26",null,null,null,0]
["2014-03-26",null,null,null,0]
["2014-03-26",null,null,null,0]
["2014-03-26",null,null,null,0]
["2014-03-26",null,null,null,0]
["2014-03-26",null,null,null,0]
["2014-03-26",null,null,null,0]
["2014-03-26",null,null,null,0]
["2014-03-26",null,null,null,0]
["2014-03-26",null,null,null,0]
["2014-03-26",null,null,null,0]
["2014-03-26",null,null,null,0]
["2014-03-26",null,null,null,0]
["2014-03-26",null,null,null,0]
["2014-03-26",null,null,null,0]
["2014-03-26",null,null,null,0]
["2014-03-26",null,null,null,0]
["2014-03-27",null,null,null,0]
["2014-03-27",null,null,null,0]
["2014-03-27",null,null,null,0]
["2014-03-27",null,null,null,0]
["2014-03-27",null,null,null,0]
["2014-03-27",null,null,null,0]
["2014-03-27",null,null,null,0]
["2014-03-27",null,null,null,0]
["2014-03-27",null,null,null,0]
["2014-03-27",null,null,null,0]
["2014-03-27",null,null,null,0]
["2014-03-27",null,null,null,0]
["2014-03-27",null,null,null,0]
["2014-03-27",null,null,null,0]
["2014-03-27",null,null,null,0]
["2014-03-27",null,null,null,0]
["2014-03-27",null,null,null,0]
["2014-03-27",null,null,null,0]
["2014-03-27",null,null,null,0]
["2014-03-27",null,null,null,0]
["2014-03-27",null,null,null,0]
["2014-03-27",null,null,null,0]
["2014-03-27",null,null,null,0]
["2014-03-27",null,null,null,0]
["2014-03-28",null,null,null,0]
["2014-03-28",null,null,null,0]
["2014-03-28",null,null,null,0]
["2014-03-28",null,null,null,0]
["2014-03-28",null,null,null,0]
["2014-03-28",null,null,null,0]
["2014-03-28",null,null,null,0]
["2014-03-28",null,null,null,0]
["2014-03-28",null,null,null,0]
["2014-03-28",null,null,null,0]
["2014-03-28",null,null,null,0]
["2014-03-28",null,null,null,0]
["2014-03-28",null,null,null,0]
["2014-03-28",null,null,null,0]
["2014-03-28",null,null,null,0]
["2014-03-28",null,null,null,0]
["2014-03-28",null,null,null,0]
["2014-03-28",null,null,null,0]
["2014-03-28",null,null,null,0]
["2014-03-28",null,null,null,0]
["2014-03-28",null,null,null,0]
["2014-03-28",null,null,null,0]
["2014-03-28",null,null,null,0]
["2014-03-28",null,null,null,0]
["2014-03-29",null,null,null,0]
["2014-03-29",null,null,null,0]
["2014-03-29",null,null,null,0]
["2014-03-29",null,null,null,0]
["2014-03-29",null,null,null,0]
["2014-03-29",null,null,null,0]
["2014-03-29",null,null,null,0]
["2014-03-29",null,null,null,0]
["2014-03-29",null,null,null,0]
["2014-03-29",null,null,null,0]
["2014-03-29",null,null,null,0]
["2014-03-29",null,null,null,0]
["2014-03-29",null,null,null,0]
["2014-03-29",null,null,null,0]
["2014-03-29",null,null,null,0]
["2014-03-29",null,null,null,0]
["2014-03-29",null,null,null,0]
["2014-03-29",null,null,null,0]
["2014-03-29",null,null,null,0]
["2014-03-29",null,null,null,0]
["2014-03-29",null,null,null,0]
["2014-03-29",null,null,null,0]
["2014-03-29",null,null,null,0]
["2014-03-29",null,null,null,0]
["2014-03-30",null,null,null,0]
["2014-03-30",null,null,null,0]
["2014-03-30",null,null,null,0]
["2014-03-30",null,null,null,0]
["2014-03-30",null,null,null,0]
["2014-03-30",null,null,null,0]
["2014-03-30",null,null,null,0]
["2014-03-30",null,null,null,0]
["2014-03-30",null,null,null,0]
["2014-03-30",null,null,null,0]
["2014-03-30",null,null,null,0]
["2014-03-30",null,null,null,0]
["2014-03-30",null,null,null,0]
["2014-03-30",null,null,null,0]
["2014-03-30",null,null,null,0]
["2014-03-30",null,null,null,0]
["2014-03-30",null,null,null,0]
["2014-03-30",null,null,null,0]
["2014-03-30",null,null,null,0]
["2014-03-30",null,null,null,0]
["2014-03-30",null,null,null,0]
["2014-03-30",null,null,null,0]
["2014-03-30",null,null,null,0]
["2014-03-30",null,null,null,0]
["2014-03-31",null,null,null,0]
["2014-03-31",null,null,null,0]
["2014-03-31",null,null,null,0]
["2014-03-31",null,null,null,0]
["2014-03-31",null,null,null,0]
["2014-03-31",null,null,null,0]
["2014-03-31",null,null,null,0]
["2014-03-31",null,null,null,0]
["2014-03-31",null,null,null,0]
["2014-03-31",null,null,null,0]
["2014-03-31",null,null,null,0]
["2014-03-31",null,null,null,0]
["2014-03-31",null,null,null,0]
["2014-03-31",null,null,null,0]
["2014-03-31",null,null,null,0]
["2014-03-31",null,null,null,0]
["2014-03-31",null,null,null,0]
["2014-03-31",null,null,null,0]
["2014-03-31",null,null,null,0]
["2014-03-31",null,null,null,0]
["2014-03-31",null,null,null,0]
["2014-03-31",null,null,null,0]
["2014-03-31",null,null,null,0]
["2014-03-31",null,null,null,0]
["2014-04-01",null,null,null,0]
["2014-04-01",null,null,null,0]
["2014-04-01",null,null,null,0]
["2014-04-01",null,null,null,0]
["2014-04-01",null,null,null,0]
["2014-04-01",null,null,null,0]
["2014-04-01",null,null,null,0]
["2014-04-01",null,null,null,0]
["2014-04-01",null,null,null,0]
["2014-04-01",null,null,null,0]
["2014-04-01",null,null,null,0]
["2014-04-01",null,null,null,0]
["2014-04-01",null,null,null,0]
["2014-04-01",null,null,null,0]
["2014-04-01",null,null,null,0]
["2014-04-01",null,null,null,0]
["2014-04-01",null,null,null,0]
["2014-04-01",null,null,null,0]
["2014-04-01",null,null,null,0]
["2014-04-01",null,null,null,0]
["2014-04-01",null,null,null,0]
["2014-04-01",null,null,null,0]
["2014-04-01",null,null,null,0]
["2014-04-01",null,null,null,0]
["2014-04-02",null,null,null,0]
["2014-04-02",null,null,null,0]
["2014-04-02",null,null,null,0]
["2014-04-02",null,null,null,0]
["2014-04-02",null,null,null,0]
["2014-04-02",null,null,null,0]
["2014-04-02",null,null,null,0]
["2014-04-02",null,null,null,0]
["2014-04-02",null,null,null,0]
["2014-04-02",null,null,null,0]
["2014-04-02",null,null,null,0]
["2014-04-02",null,null,null,0]
["2014-04-02",null,null,null,0]
["2014-04-02",null,null,null,0]
["2014-04-02",null,null,null,0]
["2014-04-02",null,null,null,0]
["2014-04-02",null,null,null,0]
["2014-04-02",null,null,null,0]
["2014-04-02",null,null,null,0]
["2014-04-02",null,null,null,0]
["2014-04-02",null,null,null,0]
["2014-04-02",null,null,null,0]
["2014-04-02",null,null,null,0]
["2014-04-02",null,null,null,0]
["2014-04-03",null,null,null,0]
["2014-04-03",null,null,null,0]
["2014-04-03",null,null,null,0]
["2014-04-03",null,null,null,0]
["2014-04-03",null,null,null,0]
["2014-04-03",null,null,null,0]
["2014-04-03",null,null,null,0]
["2014-04-03",null,null,null,0]
["2014-04-03",null,null,null,0]
["2014-04-03",null,null,null,0]
["2014-04-03",null,null,null,0]
["2014-04-03",null,null,null,0]
["2014-04-03",null,null,null,0]
["2014-04-03",null,null,null,0]
["2014-04-03",null,null,null,0]
["2014-04-03",null,null,null,0]
["2014-04-03",null,null,null,0]
["2014-04-03",null,null,null,0]
["2014-04-03",null,null,null,0]
["2014-04-03",null,null,null,0]
["2014-04-03",null,null,null,0]
["2014-04-03",null,null,null,0]
["2014-04-03",null,null,null,0]
["2014-04-03",null,null,null,0]
["2014-04-04",null,null,null,0]
["2014-04-04",null,null,null,0]
["2014-04-04",null,null,null,0]
["2014-04-04",null,null,null,0]
["2014-04-04",null,null,null,0]
["2014-04-04",null,null,null,0]
["2014-04-04",null,null,null,0]
["2014-04-04",null,null,null,0]
["2014-04-04",null,null,null,0]
["2014-04-04",null,null,null,0]
["2014-04-04",null,null,null,0]
["2014-04-04",null,null,null,0]
["2014-04-04",null,null,null,0]
["2014-04-04",null,null,null,0]
["2014-04-04",null,null,null,0]
["2014-04-04",null,null,null,0]
["2014-04-04",null,null,null,0]
["2014-04-04",null,null,null,0]
["2014-04-04",null,null,null,0]
["2014-04-04",null,null,null,0]
["2014-04-04",null,null,null,0]
["2014-04-04",null,null,null,0]
["2014-04-04",null,null,null,0]
["2014-04-04",null,null,null,0]
["2014-04-05",null,null,null,0]
["2014-04-05",null,null,null,0]
["2014-04-05",null,null,null,0]
["2014-04-05",null,null,null,0]
["2014-04-05",null,null,null,0]
["2014-04-05",null,null,null,0]
["2014-04-05",null,null,null,0]
["2014-04-05",null,null,null,0]
["2014-04-05",null,null,null,0]
["2014-04-05",null,null,null,0]
["2014-04-05",null,null,null,0]
["2014-04-05",null,null,null,0]
["2014-04-05",null,null,null,0]
["2014-04-05",null,null,null,0]
["2014-04-05",null,null,null,0]
["2014-04-05",null,null,null,0]
["2014-04-05",null,null,null,0]
["2014-04-05",null,null,null,0]
["2014-04-05",null,null,null,0]
["2014-04-05",null,null,null,0]
["2014-04-05",null,null,null,0]
["2014-04-05",null,null,null,0]
["2014-04-05",null,null,null,0]
["2014-04-05",null,null,null,0]
["2014-04-06",null,null,null,0]
["2014-04-06",null,null,null,0]
["2014-04-06",null,null,null,0]
["2014-04-06",null,null,null,0]
["2014-04-06",null,null,null,0]
["2014-04-06",null,null,null,0]
["2014-04-06",null,null,null,0]
["2014-04-06",null,null,null,0]
["2014-04-06",null,null,null,0]
["2014-04-06",null,null,null,0]
["2014-04-06",null,null,null,0]
["2014-04-06",null,null,null,0]
["2014-04-06",null,null,null,0]
["2014-04-06",null,null,null,0]
["2014-04-06",null,null,null,0]
["2014-04-06",null,null,null,0]
["2014-04-06",null,null,null,0]
["2014-04-06",null,null,null,0]
["2014-04-06",null,null,null,0]
["2014-04-06",null,null,null,0]
["2014-04-06",null,null,null,0]
["2014-04-06",null,null,null,0]
["2014-04-06",null,null,null,0]
["2014-04-06",null,null,null,0]
["2014-04-07",null,null,null,0]
["2014-04-07",null,null,null,0]
["2014-04-07",null,null,null,0]
["2014-04-07",null,null,null,0]
["2014-04-07",null,null,null,0]
["2014-04-07",null,null,null,0]
["2014-04-07",null,null,null,0]
["2014-04-07",null,null,null,0]
["2014-04-07",null,null,null,0]
["2014-04-07",null,null,null,0]
["2014-04-07",null,null,null,0]
["2014-04-07",null,null,null,0]
["2014-04-07",null,null,null,0]
["2014-04-07",null,null,null,0]
["2014-04-07",null,null,null,0]
["2014-04-07",null,null,null,0]
["2014-04-07",null,null,null,0]
["2014-04-07",null,null,null,0]
["2014-04-07",null,null,null,0]
["2014-04-07",null,null,null,0]
["2014-04-07",null,null,null,0]
["2014-04-07",null,null,null,0]
["2014-04-07",null,null,null,0]
["2014-04-07",null,null,null,0]
["2014-04-08",null,null,null,0]
["2014-04-08",null,null,null,0]
["2014-04-08",null,null,null,0]
["2014-04-08",null,null,null,0]
["2014-04-08",null,null,null,0]
["2014-04-08",null,null,null,0]
["2014-04-08",null,null,null,0]
["2014-04-08",null,null,null,0]
["2014-04-08",null,null,null,0]
["2014-04-08",null,null,null,0]
["2014-04-08",null,null,null,0]
["2014-04-08",null,null,null,0]
["2014-04-08",null,null,null,0]
["2014-04-08",null,null,null,0]
["2014-04-08",null,null,null,0]
["2014-04-08",null,null,null,0]
["2014-04-08",null,null,null,0]
["2014-04-08",null,null,null,0]
["2014-04-08",null,null,null,0]
["2014-04-08",null,null,null,0]
["2014-04-08",null,null,null,0]
["2014-04-08",null,null,null,0]
["2014-04-08",null,null,null,0]
["2014-04-08",null,null,null,0]
["2014-04-09",null,null,null,0]
["2014-04-09",null,null,null,0]
["2014-04-09",null,null,null,0]
["2014-04-09",null,null,null,0]
["2014-04-09",null,null,null,0]
["2014-04-09",null,null,null,0]
["2014-04-09",null,null,null,0]
["2014-04-09",null,null,null,0]
["2014-04-09",null,null,null,0]
["2014-04-09",null,null,null,0]
["2014-04-09",null,null,null,0]
["2014-04-09",null,null,null,0]
["2014-04-09",null,null,null,0]
["2014-04-09",null,null,null,0]
["2014-04-09",null,null,null,0]
["2014-04-09",null,null,null,0]
["2014-04-09",null,null,null,0]
["2014-04-09",null,null,null,0]
["2014-04-09",null,null,null,0]
["2014-04-09",null,null,null,0]
["2014-04-09",null,null,null,0]
["2014-04-09",null,null,null,0]
["2014-04-09",null,null,null,0]
["2014-04-09",null,null,null,0]
["2014-04-10",null,null,null,0]
["2014-04-10",null,null,null,0]
["2014-04-10",null,null,null,0]
["2014-04-10",null,null,null,0]
["2014-04-10",null,null,null,0]
["2014-04-10",null,null,null,0]
["2014-04-10",null,null,null,0]
["2014-04-10",null,null,null,0]
["2014-04-10",null,null,null,0]
["2014-04-10",null,null,null,0]
["2014-04-10",null,null,null,0]
["2014-04-10",null,null,null,0]
["2014-04-10",null,null,null,0]
["2014-04-10",null,null,null,0]
["2014-04-10",null,null,null,0]
["2014-04-10",null,null,null,0]
["2014-04-10",null,null,null,0]
["2014-04-10",null,null,null,0]
["2014-04-10",null,null,null,0]
["2014-04-10",null,null,null,0]
["2014-04-10",null,null,null,0]
["2014-04-10",null,null,null,0]
["2014-04-10",null,null,null,0]
["2014-04-10",null,null,null,0]
["2014-04-11",null,null,null,0]
["2014-04-11",null,null,null,0]
["2014-04-11",null,null,null,0]
["2014-04-11",null,null,null,0]
["2014-04-11",null,null,null,0]
["2014-04-11",null,null,null,0]
["2014-04-11",null,null,null,0]
["2014-04-11",null,null,null,0]
["2014-04-11",null,null,null,0]
["2014-04-11",null,null,null,0]
["2014-04-11",null,null,null,0]
["2014-04-11",null,null,null,0]
["2014-04-11",null,null,null,0]
["2014-04-11",null,null,null,0]
["2014-04-11",null,null,null,0]
["2014-04-11",null,null,null,0]
["2014-04-11",null,null,null,0]
["2014-04-11",null,null,null,0]
["2014-04-11",null,null,null,0]
["2014-04-11",null,null,null,0]
["2014-04-11",null,null,null,0]
["2014-04-11",null,null,null,0]
["2014-04-11",null,null,null,0]
["2014-04-11",null,null,null,0]
["2014-04-12",null,null,null,0]
["2014-04-12",null,null,null,0]
["2014-04-12",null,null,null,0]
["2014-04-12",null,null,null,0]
["2014-04-12",null,null,null,0]
["2014-04-12",null,null,null,0]
["2014-04-12",null,null,null,0]
["2014-04-12",null,null,null,0]
["2014-04-12",null,null,null,0]
["2014-04-12",null,null,null,0]
["2014-04-12",null,null,null,0]
["2014-04-12",null,null,null,0]
["2014-04-12",null,null,null,0]
["2014-04-12",null,null,null,0]
["2014-04-12",null,null,null,0]
["2014-04-12",null,null,null,0]
["2014-04-12",null,null,null,0]
["2014-04-12",null,null,null,0]
["2014-04-12",null,null,null,0]
["2014-04-12",null,null,null,0]
["2014-04-12",null,null,null,0]
["2014-04-12",null,null,null,0]
["2014-04-12",null,null,null,0]
["2014-04-12",null,null,null,0]
["2014-04-13",null,null,null,0]
["2014-04-13",null,null,null,0]
["2014-04-13",null,null,null,0]
["2014-04-13",null,null,null,0]
["2014-04-13",null,null,null,0]
["2014-04-13",null,null,null,0]
["2014-04-13",null,null,null,0]
["2014-04-13",null,null,null,0]
["2014-04-13",null,null,null,0]
["2014-04-13",null,null,null,0]
["2014-04-13",null,null,null,0]
["2014-04-13",null,null,null,0]
["2014-04-13",null,null,null,0]
["2014-04-13",null,null,null,0]
["2014-04-13",null,null,null,0]
["2014-04-13",null,null,null,0]
["2014-04-13",null,null,null,0]
["2014-04-13",null,null,null,0]
["2014-04-13",null,null,null,0]
["2014-04-13",null,null,null,0]
["2014-04-13",null,null,null,0]
["2014-04-13",null,null,null,0]
["2014-04-13",null,null,null,0]
["2014-04-13",null,null,null,0]
["2014-04-14",null,null,null,0]
["2014-04-14",null,null,null,0]
["2014-04-14",null,null,null,0]
["2014-04-14",null,null,null,0]
["2014-04-14",null,null,null,0]
["2014-04-14",null,null,null,0]
["2014-04-14",null,null,null,0]
["2014-04-14",null,null,null,0]
["2014-04-14",null,null,null,0]
["2014-04-14",null,null,null,0]
["2014-04-14",null,null,null,0]
["2014-04-14",null,null,null,0]
["2014-04-14",null,null,null,0]
["2014-04-14",null,null,null,0]
["2014-04-14",null,null,null,0]
["2014-04-14",null,null,null,0]
["2014-04-14",null,null,null,0]
["2014-04-14",null,null,null,0]
["2014-04-14",null,null,null,0]
["2014-04-14",null,null,null,0]
["2014-04-14",null,null,null,0]
["2014-04-14",null,null,null,0]
["2014-04-14",null,null,null,0]
["2014-04-14",null,null,null,0]
["2014-04-15",null,null,null,0]
["2014-04-15",null,null,null,0]
["2014-04-15",null,null,null,0]
["2014-04-15",null,null,null,0]
["2014-04-15",null,null,null,0]
["2014-04-15",null,null,null,0]
["2014-04-15",null,null,null,0]
["2014-04-15",null,null,null,0]
["2014-04-15",null,null,null,0]
["2014-04-15",null,null,null,0]
["2014-04-15",null,null,null,0]
["2014-04-15",null,null,null,0]
["2014-04-15",null,null,null,0]
["2014-04-15",null,null,null,0]
["2014-04-15",null,null,null,0]
["2014-04-15",null,null,null,0]
["2014-04-15",null,null,null,0]
["2014-04-15",null,null,null,0]
["2014-04-15",null,null,null,0]
["2014-04-15",null,null,null,0]
["2014-04-15",null,null,null,0]
["2014-04-15",null,null,null,0]
["2014-04-15",null,null,null,0]
["2014-04-15",null,null,null,0]
["2014-04-16",null,null,null,0]
["2014-04-16",null,null,null,0]
["2014-04-16",null,null,null,0]
["2014-04-16",null,null,null,0]
["2014-04-16",null,null,null,0]
["2014-04-16",null,null,null,0]
["2014-04-16",null,null,null,0]
["2014-04-16",null,null,null,0]
["2014-04-16",null,null,null,0]
["2014-04-16",null,null,null,0]
["2014-04-16",null,null,null,0]
["2014-04-16",null,null,null,0]
["2014-04-16",null,null,null,0]
["2014-04-16",null,null,null,0]
["2014-04-16",null,null,null,0]
["2014-04-16",null,null,null,0]
["2014-04-16",null,null,null,0]
["2014-04-16",null,null,null,0]
["2014-04-16",null,null,null,0]
["2014-04-16",null,null,null,0]
["2014-04-16",null,null,null,0]
["2014-04-16",null,null,null,0]
["2014-04-16",null,null,null,0]
["2014-04-16",null,null,null,0]
["2014-04-17",null,null,null,0]
["2014-04-17",null,null,null,0]
["2014-04-17",null,null,null,0]
["2014-04-17",null,null,null,0]
["2014-04-17",null,null,null,0]
["2014-04-17",null,null,null,0]
["2014-04-17",null,null,null,0]
["2014-04-17",null,null,null,0]
["2014-04-17",null,null,null,0]
["2014-04-17",null,null,null,0]
["2014-04-17",null,null,null,0]
["2014-04-17",null,null,null,0]
["2014-04-17",null,null,null,0]
["2014-04-17",null,null,null,0]
["2014-04-17",null,null,null,0]
["2014-04-17",null,null,null,0]
["2014-04-17",null,null,null,0]
["2014-04-17",null,null,null,0]
["2014-04-17",null,null,null,0]
["2014-04-17",null,null,null,0]
["2014-04-17",null,null,null,0]
["2014-04-17",null,null,null,0]
["2014-04-17",null,null,null,0]
["2014-04-17",null,null,null,0]
["2014-04-18",null,null,null,0]
["2014-04-18",null,null,null,0]
["2014-04-18",null,null,null,0]
["2014-04-18",null,null,null,0]
["2014-04-18",null,null,null,0]
["2014-04-18",null,null,null,0]
["2014-04-18",null,null,null,0]
["2014-04-18",null,null,null,0]
["2014-04-18",null,null,null,0]
["2014-04-18",null,null,null,0]
["2014-04-18",null,null,null,0]
["2014-04-18",null,null,null,0]
["2014-04-18",null,null,null,0]
["2014-04-18",null,null,null,0]
["2014-04-18",null,null,null,0]
["2014-04-18",null,null,null,0]
["2014-04-18",null,null,null,0]
["2014-04-18",null,null,null,0]
["2014-04-18",null,null,null,0]
["2014-04-18",null,null,null,0]
["2014-04-18",null,null,null,0]
["2014-04-18",null,null,null,0]
["2014-04-18",null,null,null,0]
["2014-04-18",null,null,null,0]
["2014-04-19",null,null,null,0]
["2014-04-19",null,null,null,0]
["2014-04-19",null,null,null,0]
["2014-04-19",null,null,null,0]
["2014-04-19",null,null,null,0]
["2014-04-19",null,null,null,0]
["2014-04-19",null,null,null,0]
["2014-04-19",null,null,null,0]
["2014-04-19",null,null,null,0]
["2014-04-19",null,null,null,0]
["2014-04-19",null,null,null,0]
["2014-04-19",null,null,null,0]
["2014-04-19",null,null,null,0]
["2014-04-19",null,null,null,0]
["2014-04-19",null,null,null,0]
["2014-04-19",null,null,null,0]
["2014-04-19",null,null,null,0]
["2014-04-19",null,null,null,0]
["2014-04-19",null,null,null,0]
["2014-04-19",null,null,null,0]
["2014-04-19",null,null,null,0]
["2014-04-19",null,null,null,0]
["2014-04-19",null,null,null,0]
["2014-04-19",null,null,null,0]
["2014-04-20",null,null,null,0]
["2014-04-20",null,null,null,0]
["2014-04-20",null,null,null,0]
["2014-04-20",null,null,null,0]
["2014-04-20",null,null,null,0]
["2014-04-20",null,null,null,0]
["2014-04-20",null,null,null,0]
["2014-04-20",null,null,null,0]
["2014-04-20",null,null,null,0]
["2014-04-20",null,null,null,0]
["2014-04-20",null,null,null,0]
["2014-04-20",null,null,null,0]
["2014-04-20",null,null,null,0]
["2014-04-20",null,null,null,0]
["2014-04-20",null,null,null,0]
["2014-04-20",null,null,null,0]
["2014-04-20",null,null,null,0]
["2014-04-20",null,null,null,0]
["2014-04-20",null,null,null,0]
["2014-04-20",null,null,null,0]
["2014-04-20",null,null,null,0]
["2014-04-20",null,null,null,0]
["2014-04-20",null,null,null,0]
["2014-04-20",null,null,null,0]
["2014-04-21",null,null,null,0]
["2014-04-21",null,null,null,0]
["2014-04-21",null,null,null,0]
["2014-04-21",null,null,null,0]
["2014-04-21",null,null,null,0]
["2014-04-21",null,null,null,0]
["2014-04-21",null,null,null,0]
["2014-04-21",null,null,null,0]
["2014-04-21",null,null,null,0]
["2014-04-21",null,null,null,0]
["2014-04-21",null,null,null,0]
["2014-04-21",null,null,null,0]
["2014-04-21",null,null,null,0]
["2014-04-21",null,null,null,0]
["2014-04-21",null,null,null,0]
["2014-04-21",null,null,null,0]
["2014-04-21",null,null,null,0]
["2014-04-21",null,null,null,0]
["2014-04-21",null,null,null,0]
["2014-04-21",null,null,null,0]
["2014-04-21",null,null,null,0]
["2014-04-21",null,null,null,0]
["2014-04-21",null,null,null,0]
["2014-04-21",null,null,null,1.0045365986354471]
["2014-04-22",null,null,null,1.0045365986354471]
["2014-04-22",null,null,null,1.0045365986354471]
["2014-04-22",null,null,null,1.0045365986354471]
["2014-04-22",null,null,null,1.0045365986354471]
["2014-04-22",null,null,null,1.0045365986354471]
["2014-04-22",null,null,null,1.0045365986354471]
["2014-04-22",null,null,null,1.0045365986354471]
["2014-04-22",null,null,null,1.0045365986354471]
["2014-04-22",null,null,null,1.0045365986354471]
["2014-04-22",null,null,null,1.0045365986354471]
["2014-04-22",null,null,null,1.0045365986354471]
["2014-04-22",null,null,null,1.0045365986354471]
["2014-04-22",null,null,null,1.0045365986354471]
["2014-04-22",null,null,null,1.0045365986354471]
["2014-04-22",null,null,null,1.0045365986354471]
["2014-04-22",null,null,null,1.0045365986354471]
["2014-04-22",null,null,null,1.0045365986354471]
["2014-04-22",null,null,null,1.0045365986354471]
["2014-04-22",null,null,null,1.0045365986354471]
["2014-04-22",null,null,null,1.0045365986354471]
["2014-04-22",null,null,null,1.0045365986354471]
["2014-04-22",null,null,null,1.0045365986354471]
["2014-04-22",null,null,null,1.0045365986354471]
["2014-04-22",null,null,null,1.0045365986354471]
["2014-04-23",null,null,null,1.0045365986354471]
["2014-04-23",null,null,null,1.0045365986354471]
["2014-04-23",null,null,null,1.0045365986354471]
["2014-04-23",null,null,null,1.0045365986354471]
["2014-04-23",null,null,null,1.0045365986354471]
["2014-04-23",null,null,null,1.0045365986354471]
["2014-04-23",null,null,null,1.0045365986354471]
["2014-04-23",null,null,null,1.0045365986354471]
["2014-04-23",null,null,null,1.0045365986354471]
["2014-04-23",null,null,null,1.0045365986354471]
["2014-04-23",null,null,null,1.0045365986354471]
["2014-04-23",null,null,null,1.0045365986354471]
["2014-04-23",null,null,null,1.0045365986354471]
["2014-04-23",null,null,null,1.0045365986354471]
["2014-04-23",null,null,null,1.0045365986354471]
["2014-04-23",null,null,null,1.0045365986354471]
["2014-04-23",null,null,null,1.0045365986354471]
["2014-04-23",null,null,null,1.0045365986354471]
["2014-04-23",null,null,null,1.0045365986354471]
["2014-04-23",null,null,null,1.0045365986354471]
["2014-04-23",null,null,null,1.0045365986354471]
["2014-04-23",null,null,null,1.0045365986354471]
["2014-04-23",null,null,null,1.0045365986354471]
["2014-04-23",null,null,null,1.0045365986354471]
["2014-04-24",null,null,null,1.0045365986354471]
["2014-04-24",null,null,null,1.0045365986354471]
["2014-04-24",null,null,null,1.0045365986354471]
["2014-04-24",null,null,null,1.0045365986354471]
["2014-04-24",null,null,null,1.0045365986354471]
["2014-04-24",null,null,null,1.0045365986354471]
["2014-04-24",null,null,null,1.0045365986354471]
["2014-04-24",null,null,null,1.0045365986354471]
["2014-04-24",null,null,null,1.0045365986354471]
["2014-04-24",null,null,null,1.0045365986354471]
["2014-04-24",null,null,null,1.0045365986354471]
["2014-04-24",null,null,null,1.0045365986354471]
["2014-04-24",null,null,null,1.0045365986354471]
["2014-04-24",null,null,null,1.0045365986354471]
["2014-04-24",null,null,null,1.0045365986354471]
["2014-04-24",null,null,null,1.0045365986354471]
["2014-04-24",null,null,null,1.0045365986354471]
["2014-04-24",null,null,null,1.0045365986354471]
["2014-04-24",null,null,null,1.0045365986354471]
["2014-04-24",null,null,null,1.0045365986354471]
["2014-04-24",null,null,null,1.0045365986354471]
["2014-04-24",null,null,null,1.0045365986354471]
["2014-04-24",null,null,null,1.0045365986354471]
["2014-04-24",null,null,null,1.0045365986354471]
["2014-04-25",null,null,null,1.0045365986354471]
["2014-04-25",null,null,null,1.0045365986354471]
["2014-04-25",null,null,null,1.0045365986354471]
["2014-04-25",null,null,null,1.0045365986354471]
["2014-04-25",null,null,null,1.0045365986354471]
["2014-04-25",null,null,null,1.0045365986354471]
["2014-04-25",null,null,null,1.0045365986354471]
["2014-04-25",null,null,null,1.0045365986354471]
["2014-04-25",null,null,null,1.0045365986354471]
["2014-04-25",null,null,null,1.0045365986354471]
["2014-04-25",null,null,null,1.0045365986354471]
["2014-04-25",null,null,null,1.0045365986354471]
["2014-04-25",null,null,null,1.0045365986354471]
["2014-04-25",null,null,null,1.0045365986354471]
["2014-04-25",null,null,null,1.0045365986354471]
["2014-04-25",null,null,null,1.0045365986354471]
["2014-04-25",null,null,null,1.0045365986354471]
["2014-04-25",null,null,null,1.0045365986354471]
["2014-04-25",null,null,null,1.0045365986354471]
["2014-04-25",null,null,null,1.0045365986354471]
["2014-04-25",null,null,null,1.0045365986354471]
["2014-04-25",null,null,null,1.0045365986354471]
["2014-04-25",null,null,null,1.0045365986354471]
["2014-04-25",null,null,null,1.0045365986354471]
["2014-04-26",null,null,null,1.0045365986354471]
["2014-04-26",null,null,null,1.0045365986354471]
["2014-04-26",null,null,null,1.0045365986354471]
["2014-04-26",null,null,null,1.0045365986354471]
["2014-04-26",null,null,null,1.0045365986354471]
["2014-04-26",null,null,null,1.0045365986354471]
["2014-04-26",null,null,null,1.0045365986354471]
["2014-04-26",null,null,null,1.0045365986354471]
["2014-04-26",null,null,null,1.0045365986354471]
["2014-04-26",null,null,null,1.0045365986354471]
["2014-04-26",null,null,null,1.0045365986354471]
["2014-04-26",null,null,null,1.0045365986354471]
["2014-04-26",null,null,null,1.0045365986354471]
["2014-04-26",null,null,null,1.0045365986354471]
["2014-04-26",null,null,null,1.0045365986354471]
["2014-04-26",null,null,null,1.0045365986354471]
["2014-04-26",null,null,null,1.0045365986354471]
["2014-04-26",null,null,null,1.0045365986354471]
["2014-04-26",null,null,null,1.0045365986354471]
["2014-04-26",null,null,null,1.0045365986354471]
["2014-04-26",null,null,null,1.0045365986354471]
["2014-04-26",null,null,null,1.0045365986354471]
["2014-04-26",null,null,null,1.0045365986354471]
["2014-04-26",null,null,null,1.0045365986354471]
["2014-04-27",null,null,null,1.0045365986354471]
["2014-04-27",null,null,null,1.0045365986354471]
["2014-04-27",null,null,null,1.0045365986354471]
["2014-04-27",null,null,null,1.0045365986354471]
["2014-04-27",null,null,null,1.0045365986354471]
["2014-04-27",null,null,null,1.0045365986354471]
["2014-04-27",null,null,null,1.0045365986354471]
["2014-04-27",null,null,null,1.0045365986354471]
["2014-04-27",null,null,null,1.0045365986354471]
["2014-04-27",null,null,null,1.0045365986354471]
["2014-04-27",null,null,null,1.0045365986354471]
["2014-04-27",null,null,null,1.0045365986354471]
["2014-04-27",null,null,null,1.0045365986354471]
["2014-04-27",null,null,null,1.0045365986354471]
["2014-04-27",null,null,null,1.0045365986354471]
["2014-04-27",null,null,null,1.0045365986354471]
["2014-04-27",null,null,null,1.0045365986354471]
["2014-04-27",null,null,null,1.0045365986354471]
["2014-04-27",null,null,null,1.0045365986354471]
["2014-04-27",null,null,null,1.0045365986354471]
["2014-04-27",null,null,null,1.0045365986354471]
["2014-04-27",null,null,null,1.0045365986354471]
["2014-04-27",null,null,null,1.0045365986354471]
["2014-04-27",null,null,null,1.0045365986354471]
["2014-04-28",null,null,null,1.0045365986354471]
["2014-04-28",null,null,null,1.0045365986354471]
["2014-04-28",null,null,null,1.0045365986354471]
["2014-04-28",null,null,null,1.0045365986354471]
["2014-04-28",null,null,null,1.0045365986354471]
["2014-04-28",null,null,null,1.0045365986354471]
["2014-04-28",null,null,null,1.0045365986354471]
["2014-04-28",null,null,null,1.0045365986354471]
["2014-04-28",null,null,null,1.0045365986354471]
["2014-04-28",null,null,null,1.0045365986354471]
["2014-04-28",null,null,null,1.0045365986354471]
["2014-04-28",null,null,null,1.0045365986354471]
["2014-04-28",null,null,null,1.0045365986354471]
["2014-04-28",null,null,null,1.0045365986354471]
["2014-04-28",null,null,null,1.0045365986354471]
["2014-04-28",null,null,null,1.0045365986354471]
["2014-04-28",null,null,null,1.0045365986354471]
["2014-04-28",null,null,null,1.0045365986354471]
["2014-04-28",null,null,null,1.0045365986354471]
["2014-04-28",null,null,null,1.0045365986354471]
["2014-04-28",null,null,null,1.0045365986354471]
["2014-04-28",null,null,null,1.0045365986354471]
["2014-04-28",null,null,null,1.0045365986354471]
["2014-04-28",null,null,null,1.0045365986354471]
["2014-04-29",null,null,null,1.0045365986354471]
["2014-04-29",null,null,null,1.0045365986354471]
["2014-04-29",null,null,null,1.0045365986354471]
["2014-04-29",null,null,null,1.0045365986354471]
["2014-04-29",null,null,null,1.0045365986354471]
["2014-04-29",null,null,null,1.0045365986354471]
["2014-04-29",null,null,null,1.0045365986354471]
["2014-04-29",null,null,null,1.0045365986354471]
["2014-04-29",null,null,null,1.0045365986354471]
["2014-04-29",null,null,null,1.0045365986354471]
["2014-04-29",null,null,null,1.0045365986354471]
["2014-04-29",null,null,null,1.0045365986354471]
["2014-04-29",null,null,null,1.0045365986354471]
["2014-04-29",null,null,null,1.0045365986354471]
["2014-04-29",null,null,null,2.0069852515193025]
["2014-04-29",null,null,null,2.0069852515193025]
["2014-04-29",null,null,null,2.0069852515193025]
["2014-04-29",null,null,null,2.0069852515193025]
["2014-04-29",null,null,null,2.0069852515193025]
["2014-04-29",null,null,null,2.0069852515193025]
["2014-04-29",null,null,null,2.0069852515193025]
["2014-04-29",null,null,null,2.0069852515193025]
["2014-04-29",null,null,null,2.0069852515193025]
["2014-04-29",null,null,null,2.0069852515193025]
["2014-04-30",null,null,null,2.0069852515193025]
["2014-04-30",null,null,null,2.0069852515193025]
["2014-04-30",null,null,null,2.0069852515193025]
["2014-04-30",null,null,null,2.0069852515193025]
["2014-04-30",null,null,null,2.0069852515193025]
["2014-04-30",null,null,null,2.0069852515193025]
["2014-04-30",null,null,null,2.0069852515193025]
["2014-04-30",null,null,null,2.0069852515193025]
["2014-04-30",null,null,null,2.0069852515193025]
["2014-04-30",null,null,null,2.0069852515193025]
["2014-04-30",null,null,null,2.0069852515193025]
["2014-04-30",null,null,null,2.0069852515193025]
["2014-04-30",null,null,null,2.0069852515193025]
["2014-04-30",null,null,null,2.0069852515193025]
["2014-04-30",null,null,null,2.0069852515193025]
["2014-04-30",null,null,null,2.0069852515193025]
["2014-04-30",null,null,null,2.0069852515193025]
["2014-04-30",null,null,null,2.0069852515193025]
["2014-04-30",null,null,null,2.0069852515193025]
["2014-04-30",null,null,null,2.0069852515193025]
["2014-04-30",null,null,null,2.0069852515193025]
["2014-04-30",null,null,null,2.0069852515193025]
["2014-04-30",null,null,null,2.0069852515193025]
["2014-04-30",null,null,null,2.0069852515193025]
["2014-05-01",null,null,null,2.0069852515193025]
["2014-05-01",null,null,null,2.0069852515193025]
["2014-05-01",null,null,null,2.0069852515193025]
["2014-05-01",null,null,null,2.0069852515193025]
["2014-05-01",null,null,null,2.0069852515193025]
["2014-05-01",null,null,null,2.0069852515193025]
["2014-05-01",null,null,null,2.0069852515193025]
["2014-05-01",null,null,null,2.0069852515193025]
["2014-05-01",null,null,null,2.0069852515193025]
["2014-05-01",null,null,null,2.0069852515193025]
["2014-05-01",null,null,null,2.0069852515193025]
["2014-05-01",null,null,null,2.0069852515193025]
["2014-05-01",null,null,null,2.0069852515193025]
["2014-05-01",null,null,null,2.0069852515193025]
["2014-05-01",null,null,null,2.0069852515193025]
["2014-05-01",null,null,null,2.0069852515193025]
["2014-05-01",null,null,null,2.0069852515193025]
["2014-05-01",null,null,null,2.0069852515193025]
["2014-05-01",null,null,null,2.0069852515193025]
["2014-05-01",null,null,null,2.0069852515193025]
["2014-05-01",null,null,null,2.0069852515193025]
["2014-05-01",null,null,null,2.0069852515193025]
["2014-05-01",null,null,null,2.0069852515193025]
["2014-05-01",null,null,null,3.0078642089605467]
["2014-05-02",null,null,null,3.0078642089605467]
["2014-05-02",null,null,null,3.0078642089605467]
["2014-05-02",null,null,null,3.0078642089605467]
["2014-05-02",null,null,null,3.0078642089605467]
["2014-05-02",null,null,null,3.0078642089605467]
["2014-05-02",null,null,null,3.0078642089605467]
["2014-05-02",null,null,null,3.0078642089605467]
["2014-05-02",null,null,null,3.0078642089605467]
["2014-05-02",null,null,null,3.0078642089605467]
["2014-05-02",null,null,null,3.0078642089605467]
["2014-05-02",null,null,null,3.0078642089605467]
["2014-05-02",null,null,null,3.0078642089605467]
["2014-05-02",null,null,null,3.0078642089605467]
["2014-05-02",null,null,null,3.0078642089605467]
["2014-05-02",null,null,null,3.0078642089605467]
["2014-05-02",null,null,null,3.0078642089605467]
["2014-05-02",null,null,null,3.0078642089605467]
["2014-05-02",null,null,null,3.0078642089605467]
["2014-05-02",null,null,null,3.0078642089605467]
["2014-05-02",null,null,null,3.0078642089605467]
["2014-05-02",null,null,null,3.0078642089605467]
["2014-05-02",null,null,null,3.0078642089605467]
["2014-05-02",null,null,null,3.0078642089605467]
["2014-05-02",null,null,null,3.0078642089605467]
["2014-05-03",null,null,null,3.0078642089605467]
["2014-05-03",null,null,null,3.0078642089605467]
["2014-05-03",null,null,null,3.0078642089605467]
["2014-05-03",null,null,null,3.0078642089605467]
["2014-05-03",null,null,null,3.0078642089605467]
["2014-05-03",null,null,null,3.0078642089605467]
["2014-05-03",null,null,null,3.0078642089605467]
["2014-05-03",null,null,null,3.0078642089605467]
["2014-05-03",null,null,null,3.0078642089605467]
["2014-05-03",null,null,null,3.0078642089605467]
["2014-05-03",null,null,null,3.0078642089605467]
["2014-05-03",null,null,null,3.0078642089605467]
["2014-05-03",null,null,null,3.0078642089605467]
["2014-05-03",null,null,null,3.0078642089605467]
["2014-05-03",null,null,null,3.0078642089605467]
["2014-05-03",null,null,null,3.0078642089605467]
["2014-05-03",null,null,null,3.0078642089605467]
["2014-05-03",null,null,null,3.0078642089605467]
["2014-05-03",null,null,null,3.0078642089605467]
["2014-05-03",null,null,null,3.0078642089605467]
["2014-05-03",null,null,null,3.0078642089605467]
["2014-05-03",null,null,null,3.0078642089605467]
["2014-05-03",null,null,null,3.0078642089605467]
["2014-05-03",null,null,null,3.0078642089605467]
["2014-05-04",null,null,null,3.0078642089605467]
["2014-05-04",null,null,null,3.0078642089605467]
["2014-05-04",null,null,null,3.0078642089605467]
["2014-05-04",null,null,null,3.0078642089605467]
["2014-05-04",null,null,null,3.0078642089605467]
["2014-05-04",null,null,null,3.0078642089605467]
["2014-05-04",null,null,null,3.0078642089605467]
["2014-05-04",null,null,null,3.0078642089605467]
["2014-05-04",null,null,null,3.0078642089605467]
["2014-05-04",null,null,null,3.0078642089605467]
["2014-05-04",null,null,null,3.0078642089605467]
["2014-05-04",null,null,null,3.0078642089605467]
["2014-05-04",null,null,null,3.0078642089605467]
["2014-05-04",null,null,null,3.0078642089605467]
["2014-05-04",null,null,null,3.0078642089605467]
["2014-05-04",null,null,null,3.0078642089605467]
["2014-05-04",null,null,null,3.0078642089605467]
["2014-05-04",null,null,null,3.0078642089605467]
["2014-05-04",null,null,null,3.0078642089605467]
["2014-05-04",null,null,null,3.0078642089605467]
["2014-05-04",null,null,null,3.0078642089605467]
["2014-05-04",null,null,null,3.0078642089605467]
["2014-05-04",null,null,null,3.0078642089605467]
["2014-05-04",null,null,null,3.0078642089605467]
["2014-05-05",null,null,null,3.0078642089605467]
["2014-05-05",null,null,null,3.0078642089605467]
["2014-05-05",null,null,null,3.0078642089605467]
["2014-05-05",null,null,null,3.0078642089605467]
["2014-05-05",null,null,null,3.0078642089605467]
["2014-05-05",null,null,null,3.0078642089605467]
["2014-05-05",null,null,null,3.0078642089605467]
["2014-05-05",null,null,null,3.0078642089605467]
["2014-05-05",null,null,null,3.0078642089605467]
["2014-05-05",null,null,null,3.0078642089605467]
["2014-05-05",null,null,null,3.0078642089605467]
["2014-05-05",null,null,null,3.0078642089605467]
["2014-05-05",null,null,null,3.0078642089605467]
["2014-05-05",null,null,null,3.0078642089605467]
["2014-05-05",null,null,null,3.0078642089605467]
["2014-05-05",null,null,null,3.0078642089605467]
["2014-05-05",null,null,null,3.0078642089605467]
["2014-05-05",null,null,null,3.0078642089605467]
["2014-05-05",null,null,null,3.0078642089605467]
["2014-05-05",null,null,null,3.0078642089605467]
["2014-05-05",null,null,null,3.0078642089605467]
["2014-05-05",null,null,null,3.0078642089605467]
["2014-05-05",null,null,null,3.0078642089605467]
["2014-05-05",null,null,null,3.0078642089605467]
["2014-05-06",null,null,null,3.0078642089605467]
["2014-05-06",null,null,null,3.0078642089605467]
["2014-05-06",null,null,null,3.0078642089605467]
["2014-05-06",null,null,null,3.0078642089605467]
["2014-05-06",null,null,null,3.0078642089605467]
["2014-05-06",null,null,null,3.0078642089605467]
["2014-05-06",null,null,null,3.0078642089605467]
["2014-05-06",null,null,null,3.0078642089605467]
["2014-05-06",null,null,null,3.0078642089605467]
["2014-05-06",null,null,null,3.0078642089605467]
["2014-05-06",null,null,null,3.0078642089605467]
["2014-05-06",null,null,null,3.0078642089605467]
["2014-05-06",null,null,null,3.0078642089605467]
["2014-05-06",null,null,null,3.0078642089605467]
["2014-05-06",null,null,null,3.0078642089605467]
["2014-05-06",null,null,null,3.0078642089605467]
["2014-05-06",null,null,null,3.0078642089605467]
["2014-05-06",null,null,null,3.0078642089605467]
["2014-05-06",null,null,null,3.0078642089605467]
["2014-05-06",null,null,null,3.0078642089605467]
["2014-05-06",null,null,null,3.0078642089605467]
["2014-05-06",null,null,null,3.0078642089605467]
["2014-05-06",null,null,null,3.0078642089605467]
["2014-05-06",null,null,null,3.0078642089605467]
["2014-05-07",null,null,null,3.0078642089605467]
["2014-05-07",null,null,null,3.0078642089605467]
["2014-05-07",null,null,null,3.0078642089605467]
["2014-05-07",null,null,null,3.0078642089605467]
["2014-05-07",null,null,null,3.0078642089605467]
["2014-05-07",null,null,null,3.0078642089605467]
["2014-05-07",null,null,null,3.0078642089605467]
["2014-05-07",null,null,null,3.0078642089605467]
["2014-05-07",null,null,null,3.0078642089605467]
["2014-05-07",null,null,null,3.0078642089605467]
["2014-05-07",null,null,null,3.0078642089605467]
["2014-05-07",null,null,null,3.0078642089605467]
["2014-05-07",null,null,null,3.0078642089605467]
["2014-05-07",null,null,null,3.0078642089605467]
["2014-05-07",null,null,null,3.0078642089605467]
["2014-05-07",null,null,null,3.0078642089605467]
["2014-05-07",null,null,null,3.0078642089605467]
["2014-05-07",null,null,null,3.0078642089605467]
["2014-05-07",null,null,null,3.0078642089605467]
["2014-05-07",null,null,null,3.0078642089605467]
["2014-05-07",null,null,null,3.0078642089605467]
["2014-05-07",null,null,null,3.0078642089605467]
["2014-05-07",null,null,null,3.0078642089605467]
["2014-05-07",null,null,null,3.0078642089605467]
["2014-05-08",null,null,null,3.0078642089605467]
["2014-05-08",null,null,null,3.0078642089605467]
["2014-05-08",null,null,null,3.0078642089605467]
["2014-05-08",null,null,null,3.0078642089605467]
["2014-05-08",null,null,null,3.0078642089605467]
["2014-05-08",null,null,null,3.0078642089605467]
["2014-05-08",null,null,null,3.0078642089605467]
["2014-05-08",null,null,null,3.0078642089605467]
["2014-05-08",null,null,null,3.0078642089605467]
["2014-05-08",null,null,null,3.0078642089605467]
["2014-05-08",null,null,null,3.0078642089605467]
["2014-05-08",null,null,null,3.0078642089605467]
["2014-05-08",null,null,null,3.0078642089605467]
["2014-05-08",null,null,null,3.0078642089605467]
["2014-05-08",null,null,null,3.0078642089605467]
["2014-05-08",null,null,null,3.0078642089605467]
["2014-05-08",null,null,null,3.0078642089605467]
["2014-05-08",null,null,null,3.0078642089605467]
["2014-05-08",null,null,null,3.0078642089605467]
["2014-05-08",null,null,null,3.0078642089605467]
["2014-05-08",null,null,null,3.0078642089605467]
["2014-05-08",null,null,null,3.0078642089605467]
["2014-05-08",null,null,null,3.0078642089605467]
["2014-05-08",null,null,null,3.0078642089605467]
["2014-05-09",null,null,null,3.0078642089605467]
["2014-05-09",null,null,null,3.0078642089605467]
["2014-05-09",null,null,null,3.0078642089605467]
["2014-05-09",null,null,null,3.0078642089605467]
["2014-05-09",null,null,null,3.0078642089605467]
["2014-05-09",null,null,null,3.0078642089605467]
["2014-05-09",null,null,null,3.0078642089605467]
["2014-05-09",null,null,null,3.0078642089605467]
["2014-05-09",null,null,null,3.0078642089605467]
["2014-05-09",null,null,null,3.0078642089605467]
["2014-05-09",null,null,null,3.0078642089605467]
["2014-05-09",null,null,null,3.0078642089605467]
["2014-05-09",null,null,null,3.0078642089605467]
["2014-05-09",null,null,null,3.0078642089605467]
["2014-05-09",null,null,null,3.0078642089605467]
["2014-05-09",null,null,null,3.0078642089605467]
["2014-05-09",null,null,null,3.0078642089605467]
["2014-05-09",null,null,null,3.0078642089605467]
["2014-05-09",null,null,null,3.0078642089605467]
["2014-05-09",null,null,null,3.0078642089605467]
["2014-05-09",null,null,null,3.0078642089605467]
["2014-05-09",null,null,null,4.0170057589612158]
["2014-05-09",null,null,null,4.0170057589612158]
["2014-05-09",null,null,null,4.0170057589612158]
["2014-05-10",null,null,null,4.0170057589612158]
["2014-05-10",null,null,null,4.0170057589612158]
["2014-05-10",null,null,null,4.0170057589612158]
["2014-05-10",null,null,null,4.0170057589612158]
["2014-05-10",null,null,null,4.0170057589612158]
["2014-05-10",null,null,null,4.0170057589612158]
["2014-05-10",null,null,null,4.0170057589612158]
["2014-05-10",null,null,null,4.0170057589612158]
["2014-05-10",null,null,null,4.0170057589612158]
["2014-05-10",null,null,null,4.0170057589612158]
["2014-05-10",null,null,null,4.0170057589612158]
["2014-05-10",null,null,null,4.0170057589612158]
["2014-05-10",null,null,null,4.0170057589612158]
["2014-05-10",null,null,null,4.0170057589612158]
["2014-05-10",null,null,null,4.0170057589612158]
["2014-05-10",null,null,null,4.0170057589612158]
["2014-05-10",null,null,null,4.0170057589612158]
["2014-05-10",null,null,null,4.0170057589612158]
["2014-05-10",null,null,null,4.0170057589612158]
["2014-05-10",null,null,null,4.0170057589612158]
["2014-05-10",null,null,null,4.0170057589612158]
["2014-05-10",null,null,null,4.0170057589612158]
["2014-05-10",null,null,null,4.0170057589612158]
["2014-05-10",null,null,null,4.0170057589612158]
["2014-05-11",null,null,null,4.0170057589612158]
["2014-05-11",null,null,null,4.0170057589612158]
["2014-05-11",null,null,null,4.0170057589612158]
["2014-05-11",null,null,null,4.0170057589612158]
["2014-05-11",null,null,null,4.0170057589612158]
["2014-05-11",null,null,null,4.0170057589612158]
["2014-05-11",null,null,null,4.0170057589612158]
["2014-05-11",null,null,null,4.0170057589612158]
["2014-05-11",null,null,null,4.0170057589612158]
["2014-05-11",null,null,null,4.0170057589612158]
["2014-05-11",null,null,null,4.0170057589612158]
["2014-05-11",null,null,null,4.0170057589612158]
["2014-05-11",null,null,null,4.0170057589612158]
["2014-05-11",null,null,null,4.0170057589612158]
["2014-05-11",null,null,null,4.0170057589612158]
["2014-05-11",null,null,null,4.0170057589612158]
["2014-05-11",null,null,null,4.0170057589612158]
["2014-05-11",null,null,null,4.0170057589612158]
["2014-05-11",null,null,null,4.0170057589612158]
["2014-05-11",null,null,null,4.0170057589612158]
["2014-05-11",null,null,null,4.0170057589612158]
["2014-05-11",null,null,null,4.0170057589612158]
["2014-05-11",null,null,null,4.0170057589612158]
["2014-05-11",null,null,null,4.0170057589612158]
["2014-05-12",null,null,null,4.0170057589612158]
["2014-05-12",null,null,null,4.0170057589612158]
["2014-05-12",null,null,null,4.0170057589612158]
["2014-05-12",null,null,null,4.0170057589612158]
["2014-05-12",null,null,null,4.0170057589612158]
["2014-05-12",null,null,null,4.0170057589612158]
["2014-05-12",null,null,null,4.0170057589612158]
["2014-05-12",null,null,null,4.0170057589612158]
["2014-05-12",null,null,null,4.0170057589612158]
["2014-05-12",null,null,null,4.0170057589612158]
["2014-05-12",null,null,null,4.0170057589612158]
["2014-05-12",null,null,null,4.0170057589612158]
["2014-05-12",null,null,null,4.0170057589612158]
["2014-05-12",null,null,null,4.0170057589612158]
["2014-05-12",null,null,null,4.0170057589612158]
["2014-05-12",null,null,null,4.0170057589612158]
["2014-05-12",null,null,null,4.0170057589612158]
["2014-05-12",null,null,null,4.0170057589612158]
["2014-05-12",null,null,null,4.0170057589612158]
["2014-05-12",null,null,null,4.0170057589612158]
["2014-05-12",null,null,null,4.0170057589612158]
["2014-05-12",null,null,null,4.0170057589612158]
["2014-05-12",null,null,null,4.0170057589612158]
["2014-05-12",null,null,null,4.0170057589612158]
["2014-05-13",null,null,null,4.0170057589612158]
["2014-05-13",null,null,null,4.0170057589612158]
["2014-05-13",null,null,null,4.0170057589612158]
["2014-05-13",null,null,null,4.0170057589612158]
["2014-05-13",null,null,null,4.0170057589612158]
["2014-05-13",null,null,null,4.0170057589612158]
["2014-05-13",null,null,null,4.0170057589612158]
["2014-05-13",null,null,null,4.0170057589612158]
["2014-05-13",null,null,null,4.0170057589612158]
["2014-05-13",null,null,null,4.0170057589612158]
["2014-05-13",null,null,null,4.0170057589612158]
["2014-05-13",null,null,null,4.0170057589612158]
["2014-05-13",null,null,null,4.0170057589612158]
["2014-05-13",null,null,null,4.0170057589612158]
["2014-05-13",null,null,null,4.0170057589612158]
["2014-05-13",null,null,null,4.0170057589612158]
["2014-05-13",null,null,null,4.0170057589612158]
["2014-05-13",null,null,null,4.0170057589612158]
["2014-05-13",null,null,null,4.0170057589612158]
["2014-05-13",null,null,null,4.0170057589612158]
["2014-05-13",null,null,null,4.0170057589612158]
["2014-05-13",null,null,null,4.0170057589612158]
["2014-05-13",null,null,null,4.0170057589612158]
["2014-05-13",null,null,null,5.0244441921860883]
["2014-05-14",null,null,null,5.0244441921860883]
["2014-05-14",null,null,null,5.0244441921860883]
["2014-05-14",null,null,null,5.0244441921860883]
["2014-05-14",null,null,null,5.0244441921860883]
["2014-05-14",null,null,null,5.0244441921860883]
["2014-05-14",null,null,null,5.0244441921860883]
["2014-05-14",null,null,null,5.0244441921860883]
["2014-05-14",null,null,null,5.0244441921860883]
["2014-05-14",null,null,null,5.0244441921860883]
["2014-05-14",null,null,null,5.0244441921860883]
["2014-05-14",null,null,null,5.0244441921860883]
["2014-05-14",null,null,null,5.0244441921860883]
["2014-05-14",null,null,null,5.0244441921860883]
["2014-05-14",null,null,null,5.0244441921860883]
["2014-05-14",null,null,null,5.0244441921860883]
["2014-05-14",null,null,null,5.0244441921860883]
["2014-05-14",null,null,null,5.0244441921860883]
["2014-05-14",null,null,null,5.0244441921860883]
["2014-05-14",null,null,null,5.0244441921860883]
["2014-05-14",null,null,null,5.0244441921860883]
["2014-05-14",null,null,null,5.0244441921860883]
["2014-05-14",null,null,null,5.0244441921860883]
["2014-05-14",null,null,null,5.0244441921860883]
["2014-05-14",null,null,null,5.0244441921860883]
["2014-05-15",null,null,null,5.0244441921860883]
["2014-05-15",null,null,null,5.0244441921860883]
["2014-05-15",null,null,null,5.0244441921860883]
["2014-05-15",null,null,null,5.0244441921860883]
["2014-05-15",null,null,null,5.0244441921860883]
["2014-05-15",null,null,null,5.0244441921860883]
["2014-05-15",null,null,null,5.0244441921860883]
["2014-05-15",null,null,null,5.0244441921860883]
["2014-05-15",null,null,null,5.0244441921860883]
["2014-05-15",null,null,null,5.0244441921860883]
["2014-05-15",null,null,null,5.0244441921860883]
["2014-05-15",null,null,null,5.0244441921860883]
["2014-05-15",null,null,null,5.0244441921860883]
["2014-05-15",null,null,null,5.0244441921860883]
["2014-05-15",null,null,null,5.0244441921860883]
["2014-05-15",null,null,null,5.0244441921860883]
["2014-05-15",null,null,null,5.0244441921860883]
["2014-05-15",null,null,null,5.0244441921860883]
["2014-05-15",null,null,null,5.0244441921860883]
["2014-05-15",null,null,null,5.0244441921860883]
["2014-05-15",null,null,null,5.0244441921860883]
["2014-05-15",null,null,null,5.0244441921860883]
["2014-05-15",null,null,null,5.0244441921860883]
["2014-05-15",null,null,null,5.0244441921860883]
["2014-05-16",null,null,null,5.0244441921860883]
["2014-05-16",null,null,null,5.0244441921860883]
["2014-05-16",null,null,null,5.0244441921860883]
["2014-05-16",null,null,null,5.0244441921860883]
["2014-05-16",null,null,null,5.0244441921860883]
["2014-05-16",null,null,null,5.0244441921860883]
["2014-05-16",null,null,null,5.0244441921860883]
["2014-05-16",null,null,null,5.0244441921860883]
["2014-05-16",null,null,null,5.0244441921860883]
["2014-05-16",null,null,null,5.0244441921860883]
["2014-05-16",null,null,null,5.0244441921860883]
["2014-05-16",null,null,null,5.0244441921860883]
["2014-05-16",null,null,null,5.0244441921860883]
["2014-05-16",null,null,null,5.0244441921860883]
["2014-05-16",null,null,null,5.0244441921860883]
["2014-05-16",null,null,null,5.0244441921860883]
["2014-05-16",null,null,null,5.0244441921860883]
["2014-05-16",null,null,null,5.0244441921860883]
["2014-05-16",null,null,null,5.0244441921860883]
["2014-05-16",null,null,null,5.0244441921860883]
["2014-05-16",null,null,null,5.0244441921860883]
["2014-05-16",null,null,null,5.0244441921860883]
["2014-05-16",null,null,null,5.0244441921860883]
["2014-05-16",null,null,null,5.0244441921860883]
["2014-05-17",null,null,null,5.0244441921860883]
["2014-05-17",null,null,null,5.0244441921860883]
["2014-05-17",null,null,null,5.0244441921860883]
["2014-05-17",null,null,null,5.0244441921860883]
["2014-05-17",null,null,null,5.0244441921860883]
["2014-05-17",null,null,null,5.0244441921860883]
["2014-05-17",null,null,null,5.0244441921860883]
["2014-05-17",null,null,null,5.0244441921860883]
["2014-05-17",null,null,null,5.0244441921860883]
["2014-05-17",null,null,null,5.0244441921860883]
["2014-05-17",null,null,null,5.0244441921860883]
["2014-05-17",null,null,null,5.0244441921860883]
["2014-05-17",null,null,null,5.0244441921860883]
["2014-05-17",null,null,null,5.0244441921860883]
["2014-05-17",null,null,null,5.0244441921860883]
["2014-05-17",null,null,null,5.0244441921860883]
["2014-05-17",null,null,null,5.0244441921860883]
["2014-05-17",null,null,null,5.0244441921860883]
["2014-05-17",null,null,null,5.0244441921860883]
["2014-05-17",null,null,null,5.0244441921860883]
["2014-05-17",null,null,null,5.0244441921860883]
["2014-05-17",null,null,null,5.0244441921860883]
["2014-05-17",null,null,null,5.0244441921860883]
["2014-05-17",null,null,null,5.0244441921860883]
["2014-05-18",null,null,null,5.0244441921860883]
["2014-05-18",null,null,null,5.0244441921860883]
["2014-05-18",null,null,null,5.0244441921860883]
["2014-05-18",null,null,null,5.0244441921860883]
["2014-05-18",null,null,null,5.0244441921860883]
["2014-05-18",null,null,null,5.0244441921860883]
["2014-05-18",null,null,null,5.0244441921860883]
["2014-05-18",null,null,null,5.0244441921860883]
["2014-05-18",null,null,null,5.0244441921860883]
["2014-05-18",null,null,null,5.0244441921860883]
["2014-05-18",null,null,null,5.0244441921860883]
["2014-05-18",null,null,null,5.0244441921860883]
["2014-05-18",null,null,null,5.0244441921860883]
["2014-05-18",null,null,null,5.0244441921860883]
["2014-05-18",null,null,null,5.0244441921860883]
["2014-05-18",null,null,null,5.0244441921860883]
["2014-05-18",null,null,null,5.0244441921860883]
["2014-05-18",null,null,null,5.0244441921860883]
["2014-05-18",null,null,null,5.0244441921860883]
["2014-05-18",null,null,null,5.0244441921860883]
["2014-05-18",null,null,null,5.0244441921860883]
["2014-05-18",null,null,null,5.0244441921860883]
["2014-05-18",null,null,null,5.0244441921860883]
["2014-05-18",null,null,null,5.0244441921860883]
["2014-05-19",null,null,null,5.0244441921860883]
["2014-05-19",null,null,null,5.0244441921860883]
["2014-05-19",null,null,null,5.0244441921860883]
["2014-05-19",null,null,null,5.0244441921860883]
["2014-05-19",null,null,null,5.0244441921860883]
["2014-05-19",null,null,null,5.0244441921860883]
["2014-05-19",null,null,null,5.0244441921860883]
["2014-05-19",null,null,null,5.0244441921860883]
["2014-05-19",null,null,null,5.0244441921860883]
["2014-05-19",null,null,null,5.0244441921860883]
["2014-05-19",null,null,null,5.0244441921860883]
["2014-05-19",null,null,null,5.0244441921860883]
["2014-05-19",null,null,null,5.0244441921860883]
["2014-05-19",null,null,null,5.0244441921860883]
["2014-05-19",null,null,null,5.0244441921860883]
["2014-05-19",null,null,null,5.0244441921860883]
["2014-05-19",null,null,null,5.0244441921860883]
["2014-05-19",null,null,null,5.0244441921860883]
["2014-05-19",null,null,null,5.0244441921860883]
["2014-05-19",null,null,null,5.0244441921860883]
["2014-05-19",null,null,null,5.0244441921860883]
["2014-05-19",null,null,null,5.0244441921860883]
["2014-05-19",null,null,null,5.0244441921860883]
["2014-05-19",null,null,null,5.0244441921860883]
["2014-05-20",null,null,null,5.0244441921860883]
["2014-05-20",null,null,null,5.0244441921860883]
["2014-05-20",null,null,null,5.0244441921860883]
["2014-05-20",null,null,null,5.0244441921860883]
["2014-05-20",null,null,null,5.0244441921860883]
["2014-05-20",null,null,null,5.0244441921860883]
["2014-05-20",null,null,null,5.0244441921860883]
["2014-05-20",null,null,null,5.0244441921860883]
["2014-05-20",null,null,null,5.0244441921860883]
["2014-05-20",null,null,null,5.0244441921860883]
["2014-05-20",null,null,null,5.0244441921860883]
["2014-05-20",null,null,null,5.0244441921860883]
["2014-05-20",null,null,null,5.0244441921860883]
["2014-05-20",null,null,null,5.0244441921860883]
["2014-05-20",null,null,null,5.0244441921860883]
["2014-05-20",null,null,null,5.0244441921860883]
["2014-05-20",null,null,null,5.0244441921860883]
["2014-05-20",null,null,null,5.0244441921860883]
["2014-05-20",null,null,null,5.0244441921860883]
["2014-05-20",null,null,null,5.0244441921860883]
["2014-05-20",null,null,null,5.0244441921860883]
["2014-05-20",null,null,null,5.0244441921860883]
["2014-05-20",null,null,null,5.0244441921860883]
["2014-05-20",null,null,null,5.0244441921860883]
["2014-05-21",null,null,null,5.0244441921860883]
["2014-05-21",null,null,null,5.0244441921860883]
["2014-05-21",null,null,null,5.0244441921860883]
["2014-05-21",null,null,null,5.0244441921860883]
["2014-05-21",null,null,null,5.0244441921860883]
["2014-05-21",null,null,null,5.0244441921860883]
["2014-05-21",null,null,null,5.0244441921860883]
["2014-05-21",null,null,null,5.0244441921860883]
["2014-05-21",null,null,null,5.0244441921860883]
["2014-05-21",null,null,null,5.0244441921860883]
["2014-05-21",null,null,null,5.0244441921860883]
["2014-05-21",null,null,null,5.0244441921860883]
["2014-05-21",null,null,null,5.0244441921860883]
["2014-05-21",null,null,null,5.0244441921860883]
["2014-05-21",null,null,null,5.0244441921860883]
["2014-05-21",null,null,null,5.0244441921860883]
["2014-05-21",null,null,null,5.0244441921860883]
["2014-05-21",null,null,null,5.0244441921860883]
["2014-05-21",null,null,null,5.0244441921860883]
["2014-05-21",null,null,null,5.0244441921860883]
["2014-05-21",null,null,null,5.0244441921860883]
["2014-05-21",null,null,null,5.0244441921860883]
["2014-05-21",null,null,null,5.0244441921860883]
["2014-05-21",null,null,null,5.0244441921860883]
["2014-05-22",null,null,null,5.0244441921860883]
["2014-05-22",null,null,null,5.0244441921860883]
["2014-05-22",null,null,null,5.0244441921860883]
["2014-05-22",null,null,null,5.0244441921860883]
["2014-05-22",null,null,null,5.0244441921860883]
["2014-05-22",null,null,null,5.0244441921860883]
["2014-05-22",null,null,null,5.0244441921860883]
["2014-05-22",null,null,null,5.0244441921860883]
["2014-05-22",null,null,null,5.0244441921860883]
["2014-05-22",null,null,null,5.0244441921860883]
["2014-05-22",null,null,null,5.0244441921860883]
["2014-05-22",null,null,null,5.0244441921860883]
["2014-05-22",null,null,null,5.0244441921860883]
["2014-05-22",null,null,null,5.0244441921860883]
["2014-05-22",null,null,null,5.0244441921860883]
["2014-05-22",null,null,null,5.0244441921860883]
["2014-05-22",null,null,null,5.0244441921860883]
["2014-05-22",null,null,null,5.0244441921860883]
["2014-05-22",null,null,null,5.0244441921860883]
["2014-05-22",null,null,null,5.0244441921860883]
["2014-05-22",null,null,null,5.0244441921860883]
["2014-05-22",null,null,null,5.0244441921860883]
["2014-05-22",null,null,null,5.0244441921860883]
["2014-05-22",null,null,null,5.0244441921860883]
["2014-05-23",null,null,null,5.0244441921860883]
["2014-05-23",null,null,null,5.0244441921860883]
["2014-05-23",null,null,null,5.0244441921860883]
["2014-05-23",null,null,null,5.0244441921860883]
["2014-05-23",null,null,null,5.0244441921860883]
["2014-05-23",null,null,null,5.0244441921860883]
["2014-05-23",null,null,null,5.0244441921860883]
["2014-05-23",null,null,null,5.0244441921860883]
["2014-05-23",null,null,null,5.0244441921860883]
["2014-05-23",null,null,null,5.0244441921860883]
["2014-05-23",null,null,null,5.0244441921860883]
["2014-05-23",null,null,null,5.0244441921860883]
["2014-05-23",null,null,null,5.0244441921860883]
["2014-05-23",null,null,null,5.0244441921860883]
["2014-05-23",null,null,null,5.0244441921860883]
["2014-05-23",null,null,null,5.0244441921860883]
["2014-05-23",null,null,null,5.0244441921860883]
["2014-05-23",null,null,null,5.0244441921860883]
["2014-05-23",null,null,null,5.0244441921860883]
["2014-05-23",null,null,null,5.0244441921860883]
["2014-05-23",null,null,null,5.0244441921860883]
["2014-05-23",null,null,null,5.0244441921860883]
["2014-05-23",null,null,null,5.0244441921860883]
["2014-05-23",null,null,null,5.0244441921860883]
["2014-05-24",null,null,null,5.0244441921860883]
["2014-05-24",null,null,null,5.0244441921860883]
["2014-05-24",null,null,null,5.0244441921860883]
["2014-05-24",null,null,null,5.0244441921860883]
["2014-05-24",null,null,null,5.0244441921860883]
["2014-05-24",null,null,null,5.0244441921860883]
["2014-05-24",null,null,null,5.0244441921860883]
["2014-05-24",null,null,null,5.0244441921860883]
["2014-05-24",null,null,null,5.0244441921860883]
["2014-05-24",null,null,null,5.0244441921860883]
["2014-05-24",null,null,null,5.0244441921860883]
["2014-05-24",null,null,null,5.0244441921860883]
["2014-05-24",null,null,null,5.0244441921860883]
["2014-05-24",null,null,null,5.0244441921860883]
["2014-05-24",null,null,null,5.0244441921860883]
["2014-05-24",null,null,null,5.0244441921860883]
["2014-05-24",null,null,null,5.0244441921860883]
["2014-05-24",null,null,null,5.0244441921860883]
["2014-05-24",null,null,null,5.0244441921860883]
["2014-05-24",null,null,null,5.0244441921860883]
["2014-05-24",null,null,null,5.0244441921860883]
["2014-05-24",null,null,null,5.0244441921860883]
["2014-05-24",null,null,null,5.0244441921860883]
["2014-05-24",null,null,null,5.0244441921860883]
["2014-05-25",null,null,null,5.0244441921860883]
["2014-05-25",null,null,null,5.0244441921860883]
["2014-05-25",null,null,null,5.0244441921860883]
["2014-05-25",null,null,null,5.0244441921860883]
["2014-05-25",null,null,null,5.0244441921860883]
["2014-05-25",null,null,null,5.0244441921860883]
["2014-05-25",null,null,null,5.0244441921860883]
["2014-05-25",null,null,null,5.0244441921860883]
["2014-05-25",null,null,null,5.0244441921860883]
["2014-05-25",null,null,null,5.0244441921860883]
["2014-05-25",null,null,null,5.0244441921860883]
["2014-05-25",null,null,null,5.0244441921860883]
["2014-05-25",null,null,null,5.0244441921860883]
["2014-05-25",null,null,null,5.0244441921860883]
["2014-05-25",null,null,null,5.0244441921860883]
["2014-05-25",null,null,null,5.0244441921860883]
["2014-05-25",null,null,null,5.0244441921860883]
["2014-05-25",null,null,null,5.0244441921860883]
["2014-05-25",null,null,null,5.0244441921860883]
["2014-05-25",null,null,null,6.0371366608144559]
["2014-05-25",null,null,null,6.0371366608144559]
["2014-05-25",null,null,null,6.0371366608144559]
["2014-05-25",null,null,null,6.0371366608144559]
["2014-05-25",null,null,null,6.0371366608144559]
["2014-05-26",null,null,null,6.0371366608144559]
["2014-05-26",null,null,null,6.0371366608144559]
["2014-05-26",null,null,null,6.0371366608144559]
["2014-05-26",null,null,null,6.0371366608144559]
["2014-05-26",null,null,null,6.0371366608144559]
["2014-05-26",null,null,null,6.0371366608144559]
["2014-05-26",null,null,null,6.0371366608144559]
["2014-05-26",null,null,null,6.0371366608144559]
["2014-05-26",null,null,null,6.0371366608144559]
["2014-05-26",null,null,null,6.0371366608144559]
["2014-05-26",null,null,null,6.0371366608144559]
["2014-05-26",null,null,null,6.0371366608144559]
["2014-05-26",null,null,null,6.0371366608144559]
["2014-05-26",null,null,null,6.0371366608144559]
["2014-05-26",null,null,null,6.0371366608144559]
["2014-05-26",null,null,null,6.0371366608144559]
["2014-05-26",null,null,null,6.0371366608144559]
["2014-05-26",null,null,null,6.0371366608144559]
["2014-05-26",null,null,null,6.0371366608144559]
["2014-05-26",null,null,null,6.0371366608144559]
["2014-05-26",null,null,null,6.0371366608144559]
["2014-05-26",null,null,null,6.0371366608144559]
["2014-05-26",null,null,null,6.0371366608144559]
["2014-05-26",null,null,null,6.0371366608144559]
["2014-05-27",null,null,null,6.0371366608144559]
["2014-05-27",null,null,null,6.0371366608144559]
["2014-05-27",null,null,null,6.0371366608144559]
["2014-05-27",null,null,null,6.0371366608144559]
["2014-05-27",null,null,null,6.0371366608144559]
["2014-05-27",null,null,null,6.0371366608144559]
["2014-05-27",null,null,null,6.0371366608144559]
["2014-05-27",null,null,null,6.0371366608144559]
["2014-05-27",null,null,null,6.0371366608144559]
["2014-05-27",null,null,null,6.0371366608144559]
["2014-05-27",null,null,null,6.0371366608144559]
["2014-05-27",null,null,null,6.0371366608144559]
["2014-05-27",null,null,null,6.0371366608144559]
["2014-05-27",null,null,null,6.0371366608144559]
["2014-05-27",null,null,null,6.0371366608144559]
["2014-05-27",null,null,null,6.0371366608144559]
["2014-05-27",null,null,null,6.0371366608144559]
["2014-05-27",null,null,null,6.0371366608144559]
["2014-05-27",null,null,null,6.0371366608144559]
["2014-05-27",null,null,null,6.0371366608144559]
["2014-05-27",null,null,null,6.0371366608144559]
["2014-05-27",null,null,null,6.0371366608144559]
["2014-05-27",null,null,null,6.0371366608144559]
["2014-05-27",null,null,null,6.0371366608144559]
["2014-05-28",null,null,null,7.0454108130821842]
["2014-05-28",null,null,null,7.0454108130821842]
["2014-05-28",null,null,null,7.0454108130821842]
["2014-05-28",null,null,null,7.0454108130821842]
["2014-05-28",null,null,null,7.0454108130821842]
["2014-05-28",null,null,null,7.0454108130821842]
["2014-05-28",null,null,null,7.0454108130821842]
["2014-05-28",null,null,null,7.0454108130821842]
["2014-05-28",null,null,null,7.0454108130821842]
["2014-05-28",null,null,null,7.0454108130821842]
["2014-05-28",null,null,null,7.0454108130821842]
["2014-05-28",null,null,null,7.0454108130821842]
["2014-05-28",null,null,null,7.0454108130821842]
["2014-05-28",null,null,null,7.0454108130821842]
["2014-05-28",null,null,null,7.0454108130821842]
["2014-05-28",null,null,null,7.0454108130821842]
["2014-05-28",null,null,null,7.0454108130821842]
["2014-05-28",null,null,null,7.0454108130821842]
["2014-05-28",null,null,null,7.0454108130821842]
["2014-05-28",null,null,null,7.0454108130821842]
["2014-05-28",null,null,null,7.0454108130821842]
["2014-05-28",null,null,null,7.0454108130821842]
["2014-05-28",null,null,null,7.0454108130821842]
["2014-05-28",null,null,null,7.0454108130821842]
["2014-05-29",null,null,null,7.0454108130821842]
["2014-05-29",null,null,null,7.0454108130821842]
["2014-05-29",null,null,null,7.0454108130821842]
["2014-05-29",null,null,null,7.0454108130821842]
["2014-05-29",null,null,null,7.0454108130821842]
["2014-05-29",null,null,null,7.0454108130821842]
["2014-05-29",null,null,null,7.0454108130821842]
["2014-05-29",null,null,null,7.0454108130821842]
["2014-05-29",null,null,null,7.0454108130821842]
["2014-05-29",null,null,null,7.0454108130821842]
["2014-05-29",null,null,null,7.0454108130821842]
["2014-05-29",null,null,null,7.0454108130821842]
["2014-05-29",null,null,null,7.0454108130821842]
["2014-05-29",null,null,null,7.0454108130821842]
["2014-05-29",null,null,null,7.0454108130821842]
["2014-05-29",null,null,null,7.0454108130821842]
["2014-05-29",null,null,null,7.0454108130821842]
["2014-05-29",null,null,null,7.0454108130821842]
["2014-05-29",null,null,null,7.0454108130821842]
["2014-05-29",null,null,null,7.0454108130821842]
["2014-05-29",null,null,null,7.0454108130821842]
["2014-05-29",null,null,null,7.0454108130821842]
["2014-05-29",null,null,null,8.0456186904252291]
["2014-05-29",null,null,null,8.0456186904252291]
["2014-05-30",null,null,null,8.0456186904252291]
["2014-05-30",null,null,null,8.0456186904252291]
["2014-05-30",null,null,null,8.0456186904252291]
["2014-05-30",null,null,null,8.0456186904252291]
["2014-05-30",null,null,null,8.0456186904252291]
["2014-05-30",null,null,null,8.0456186904252291]
["2014-05-30",null,null,null,8.0456186904252291]
["2014-05-30",null,null,null,8.0456186904252291]
["2014-05-30",null,null,null,8.0456186904252291]
["2014-05-30",null,null,null,8.0456186904252291]
["2014-05-30",null,null,null,8.0456186904252291]
["2014-05-30",null,null,null,8.0456186904252291]
["2014-05-30",null,null,null,8.0456186904252291]
["2014-05-30",null,null,null,8.0456186904252291]
["2014-05-30",null,null,null,8.0456186904252291]
["2014-05-30",null,null,null,8.0456186904252291]
["2014-05-30",null,null,null,8.0456186904252291]
["2014-05-30",null,null,null,8.0456186904252291]
["2014-05-30",null,null,null,8.0456186904252291]
["2014-05-30",null,null,null,8.0456186904252291]
["2014-05-30",null,null,null,8.0456186904252291]
["2014-05-30",null,null,null,8.0456186904252291]
["2014-05-30",null,null,null,8.0456186904252291]
["2014-05-30",null,null,null,8.0456186904252291]
["2014-05-31",null,null,null,8.0456186904252291]
["2014-05-31",null,null,null,8.0456186904252291]
["2014-05-31",null,null,null,8.0456186904252291]
["2014-05-31",null,null,null,8.0456186904252291]
["2014-05-31",null,null,null,8.0456186904252291]
["2014-05-31",null,null,null,8.0456186904252291]
["2014-05-31",null,null,null,8.0456186904252291]
["2014-05-31",null,null,null,8.0456186904252291]
["2014-05-31",null,null,null,8.0456186904252291]
["2014-05-31",null,null,null,8.0456186904252291]
["2014-05-31",null,null,null,8.0456186904252291]
["2014-05-31",null,null,null,8.0456186904252291]
["2014-05-31",null,null,null,8.0456186904252291]
["2014-05-31",null,null,null,8.0456186904252291]
["2014-05-31",null,null,null,8.0456186904252291]
["2014-05-31",null,null,null,8.0456186904252291]
["2014-05-31",null,null,null,8.0456186904252291]
["2014-05-31",null,null,null,8.0456186904252291]
["2014-05-31",null,null,null,9.0491964143842445]
["2014-05-31",null,null,null,9.0491964143842445]
["2014-05-31",null,null,null,9.0491964143842445]
["2014-05-31",null,null,null,9.0491964143842445]
["2014-05-31",null,null,null,9.0491964143842445]
["2014-05-31",null,null,null,9.0491964143842445]
["2014-06-01",null,null,null,9.0491964143842445]
["2014-06-01",null,null,null,9.0491964143842445]
["2014-06-01",null,null,null,9.0491964143842445]
["2014-06-01",null,null,null,9.0491964143842445]
["2014-06-01",null,null,null,9.0491964143842445]
["2014-06-01",null,null,null,9.0491964143842445]
["2014-06-01",null,null,null,9.0491964143842445]
["2014-06-01",null,null,null,9.0491964143842445]
["2014-06-01",null,null,null,9.0491964143842445]
["2014-06-01",null,null,null,9.0491964143842445]
["2014-06-01",null,null,null,9.0491964143842445]
["2014-06-01",null,null,null,9.0491964143842445]
["2014-06-01",null,null,null,9.0491964143842445]
["2014-06-01",null,null,null,9.0491964143842445]
["2014-06-01",null,null,null,9.0491964143842445]
["2014-06-01",null,null,null,9.0491964143842445]
["2014-06-01",null,null,null,9.0491964143842445]
["2014-06-01",null,null,null,9.0491964143842445]
["2014-06-01",null,null,null,9.0491964143842445]
["2014-06-01",null,null,null,9.0491964143842445]
["2014-06-01",null,null,null,9.0491964143842445]
["2014-06-01",null,null,null,9.0491964143842445]
["2014-06-01",null,null,null,9.0491964143842445]
["2014-06-01",null,null,null,9.0491964143842445]
["2014-06-02",null,null,null,9.0491964143842445]
["2014-06-02",null,null,null,9.0491964143842445]
["2014-06-02",null,null,null,9.0491964143842445]
["2014-06-02",null,null,null,9.0491964143842445]
["2014-06-02",null,null,null,9.0491964143842445]
["2014-06-02",null,null,null,9.0491964143842445]
["2014-06-02",null,null,null,9.0491964143842445]
["2014-06-02",null,null,null,9.0491964143842445]
["2014-06-02",null,null,null,9.0491964143842445]
["2014-06-02",null,null,null,9.0491964143842445]
["2014-06-02",null,null,null,9.0491964143842445]
["2014-06-02",null,null,null,9.0491964143842445]
["2014-06-02",null,null,null,9.0491964143842445]
["2014-06-02",null,null,null,9.0491964143842445]
["2014-06-02",null,null,null,9.0491964143842445]
["2014-06-02",null,null,null,9.0491964143842445]
["2014-06-02",null,null,null,9.0491964143842445]
["2014-06-02",null,null,null,9.0491964143842445]
["2014-06-02",null,null,null,9.0491964143842445]
["2014-06-02",null,null,null,9.0491964143842445]
["2014-06-02",null,null,null,9.0491964143842445]
["2014-06-02",null,null,null,9.0491964143842445]
["2014-06-02",null,null,null,9.0491964143842445]
["2014-06-02",null,null,null,9.0491964143842445]
["2014-06-03",null,null,null,9.0491964143842445]
["2014-06-03",null,null,null,9.0491964143842445]
["2014-06-03",null,null,null,9.0491964143842445]
["2014-06-03",null,null,null,9.0491964143842445]
["2014-06-03",null,null,null,9.0491964143842445]
["2014-06-03",null,null,null,9.0491964143842445]
["2014-06-03",null,null,null,9.0491964143842445]
["2014-06-03",null,null,null,9.0491964143842445]
["2014-06-03",null,null,null,9.0491964143842445]
["2014-06-03",null,null,null,9.0491964143842445]
["2014-06-03",null,null,null,9.0491964143842445]
["2014-06-03",null,null,null,9.0491964143842445]
["2014-06-03",null,null,null,9.0491964143842445]
["2014-06-03",null,null,null,9.0491964143842445]
["2014-06-03",null,null,null,9.0491964143842445]
["2014-06-03",null,null,null,9.0491964143842445]
["2014-06-03",null,null,null,9.0491964143842445]
["2014-06-03",null,null,null,9.0491964143842445]
["2014-06-03",null,null,null,9.0491964143842445]
["2014-06-03",null,null,null,9.0491964143842445]
["2014-06-03",null,null,null,9.0491964143842445]
["2014-06-03",null,null,null,9.0491964143842445]
["2014-06-03",null,null,null,9.0491964143842445]
["2014-06-03",null,null,null,10.061674435477833]
["2014-06-04",null,null,null,10.061674435477833]
["2014-06-04",null,null,null,10.061674435477833]
["2014-06-04",null,null,null,10.061674435477833]
["2014-06-04",null,null,null,10.061674435477833]
["2014-06-04",null,null,null,10.061674435477833]
["2014-06-04",null,null,null,10.061674435477833]
["2014-06-04",null,null,null,10.061674435477833]
["2014-06-04",null,null,null,10.061674435477833]
["2014-06-04",null,null,null,10.061674435477833]
["2014-06-04",null,null,null,10.061674435477833]
["2014-06-04",null,null,null,10.061674435477833]
["2014-06-04",null,null,null,10.061674435477833]
["2014-06-04",null,null,null,10.061674435477833]
["2014-06-04",null,null,null,10.061674435477833]
["2014-06-04",null,null,null,10.061674435477833]
["2014-06-04",null,null,null,10.061674435477833]
["2014-06-04",null,null,null,10.061674435477833]
["2014-06-04",null,null,null,10.061674435477833]
["2014-06-04",null,null,null,10.061674435477833]
["2014-06-04",null,null,null,10.061674435477833]
["2014-06-04",null,null,null,10.061674435477833]
["2014-06-04",null,null,null,10.061674435477833]
["2014-06-04",null,null,null,10.061674435477833]
["2014-06-04",null,null,null,10.061674435477833]
["2014-06-05",null,null,null,10.061674435477833]
["2014-06-05",null,null,null,10.061674435477833]
["2014-06-05",null,null,null,10.061674435477833]
["2014-06-05",null,null,null,10.061674435477833]
["2014-06-05",null,null,null,10.061674435477833]
["2014-06-05",null,null,null,10.061674435477833]
["2014-06-05",null,null,null,10.061674435477833]
["2014-06-05",null,null,null,10.061674435477833]
["2014-06-05",null,null,null,10.061674435477833]
["2014-06-05",null,null,null,10.061674435477833]
["2014-06-05",null,null,null,10.061674435477833]
["2014-06-05",null,null,null,10.061674435477833]
["2014-06-05",null,null,null,10.061674435477833]
["2014-06-05",null,null,null,10.061674435477833]
["2014-06-05",null,null,null,10.061674435477833]
["2014-06-05",null,null,null,10.061674435477833]
["2014-06-05",null,null,null,10.061674435477833]
["2014-06-05",null,null,null,10.061674435477833]
["2014-06-05",null,null,null,10.061674435477833]
["2014-06-05",null,null,null,10.061674435477833]
["2014-06-05",null,null,null,10.061674435477833]
["2014-06-05",null,null,null,10.061674435477833]
["2014-06-05",null,null,null,11.071457342126402]
["2014-06-05",null,null,null,11.071457342126402]
["2014-06-06",null,null,null,11.071457342126402]
["2014-06-06",null,null,null,11.071457342126402]
["2014-06-06",null,null,null,11.071457342126402]
["2014-06-06",null,null,null,11.071457342126402]
["2014-06-06",null,null,null,11.071457342126402]
["2014-06-06",null,null,null,11.071457342126402]
["2014-06-06",null,null,null,11.071457342126402]
["2014-06-06",null,null,null,11.071457342126402]
["2014-06-06",null,null,null,11.071457342126402]
["2014-06-06",null,null,null,11.071457342126402]
["2014-06-06",null,null,null,11.071457342126402]
["2014-06-06",null,null,null,11.071457342126402]
["2014-06-06",null,null,null,11.071457342126402]
["2014-06-06",null,null,null,11.071457342126402]
["2014-06-06",null,null,null,11.071457342126402]
["2014-06-06",null,null,null,11.071457342126402]
["2014-06-06",null,null,null,11.071457342126402]
["2014-06-06",null,null,null,11.071457342126402]
["2014-06-06",null,null,null,11.071457342126402]
["2014-06-06",null,null,null,11.071457342126402]
["2014-06-06",null,null,null,11.071457342126402]
["2014-06-06",null,null,null,11.071457342126402]
["2014-06-06",null,null,null,11.071457342126402]
["2014-06-06",null,null,null,11.071457342126402]
["2014-06-07",null,null,null,11.071457342126402]
["2014-06-07",null,null,null,11.071457342126402]
["2014-06-07",null,null,null,11.071457342126402]
["2014-06-07",null,null,null,11.071457342126402]
["2014-06-07",null,null,null,11.071457342126402]
["2014-06-07",null,null,null,11.071457342126402]
["2014-06-07",null,null,null,11.071457342126402]
["2014-06-07",null,null,null,11.071457342126402]
["2014-06-07",null,null,null,11.071457342126402]
["2014-06-07",null,null,null,11.071457342126402]
["2014-06-07",null,null,null,11.071457342126402]
["2014-06-07",null,null,null,11.071457342126402]
["2014-06-07",null,null,null,11.071457342126402]
["2014-06-07",null,null,null,11.071457342126402]
["2014-06-07",null,null,null,11.071457342126402]
["2014-06-07",null,null,null,11.071457342126402]
["2014-06-07",null,null,null,11.071457342126402]
["2014-06-07",null,null,null,11.071457342126402]
["2014-06-07",null,null,null,11.071457342126402]
["2014-06-07",null,null,null,11.071457342126402]
["2014-06-07",null,null,null,11.071457342126402]
["2014-06-07",null,null,null,11.071457342126402]
["2014-06-07",null,null,null,11.071457342126402]
["2014-06-07",null,null,null,11.071457342126402]
["2014-06-08",null,null,null,11.071457342126402]
["2014-06-08",null,null,null,11.071457342126402]
["2014-06-08",null,null,null,11.071457342126402]
["2014-06-08",null,null,null,11.071457342126402]
["2014-06-08",null,null,null,11.071457342126402]
["2014-06-08",null,null,null,11.071457342126402]
["2014-06-08",null,null,null,11.071457342126402]
["2014-06-08",null,null,null,11.071457342126402]
["2014-06-08",null,null,null,11.071457342126402]
["2014-06-08",null,null,null,11.071457342126402]
["2014-06-08",null,null,null,11.071457342126402]
["2014-06-08",null,null,null,11.071457342126402]
["2014-06-08",null,null,null,11.071457342126402]
["2014-06-08",null,null,null,11.071457342126402]
["2014-06-08",null,null,null,11.071457342126402]
["2014-06-08",null,null,null,11.071457342126402]
["2014-06-08",null,null,null,11.071457342126402]
["2014-06-08",null,null,null,11.071457342126402]
["2014-06-08",null,null,null,11.071457342126402]
["2014-06-08",null,null,null,11.071457342126402]
["2014-06-08",null,null,null,11.071457342126402]
["2014-06-08",null,null,null,11.071457342126402]
["2014-06-08",null,null,null,11.071457342126402]
["2014-06-08",null,null,null,11.071457342126402]
["2014-06-09",null,null,null,11.071457342126402]
["2014-06-09",null,null,null,11.071457342126402]
["2014-06-09",null,null,null,11.071457342126402]
["2014-06-09",null,null,null,11.071457342126402]
["2014-06-09",null,null,null,11.071457342126402]
["2014-06-09",null,null,null,11.071457342126402]
["2014-06-09",null,null,null,11.071457342126402]
["2014-06-09",null,null,null,11.071457342126402]
["2014-06-09",null,null,null,11.071457342126402]
["2014-06-09",null,null,null,11.071457342126402]
["2014-06-09",null,null,null,11.071457342126402]
["2014-06-09",null,null,null,11.071457342126402]
["2014-06-09",null,null,null,11.071457342126402]
["2014-06-09",null,null,null,11.071457342126402]
["2014-06-09",null,null,null,11.071457342126402]
["2014-06-09",null,null,null,11.071457342126402]
["2014-06-09",null,null,null,11.071457342126402]
["2014-06-09",null,null,null,11.071457342126402]
["2014-06-09",null,null,null,11.071457342126402]
["2014-06-09",null,null,null,11.071457342126402]
["2014-06-09",null,null,null,11.071457342126402]
["2014-06-09",null,null,null,11.071457342126402]
["2014-06-09",null,null,null,11.071457342126402]
["2014-06-09",null,null,null,11.071457342126402]
["2014-06-10",null,null,null,11.071457342126402]
["2014-06-10",null,null,null,11.071457342126402]
["2014-06-10",null,null,null,11.071457342126402]
["2014-06-10",null,null,null,11.071457342126402]
["2014-06-10",null,null,null,11.071457342126402]
["2014-06-10",null,null,null,11.071457342126402]
["2014-06-10",null,null,null,11.071457342126402]
["2014-06-10",null,null,null,11.071457342126402]
["2014-06-10",null,null,null,11.071457342126402]
["2014-06-10",null,null,null,11.071457342126402]
["2014-06-10",null,null,null,11.071457342126402]
["2014-06-10",null,null,null,11.071457342126402]
["2014-06-10",null,null,null,11.071457342126402]
["2014-06-10",null,null,null,11.071457342126402]
["2014-06-10",null,null,null,11.071457342126402]
["2014-06-10",null,null,null,11.071457342126402]
["2014-06-10",null,null,null,11.071457342126402]
["2014-06-10",null,null,null,11.071457342126402]
["2014-06-10",null,null,null,11.071457342126402]
["2014-06-10",null,null,null,11.071457342126402]
["2014-06-10",null,null,null,11.071457342126402]
["2014-06-10",null,null,null,12.074150655509735]
["2014-06-10",null,null,null,12.074150655509735]
["2014-06-10",null,null,null,12.074150655509735]
["2014-06-11",null,null,null,12.074150655509735]
["2014-06-11",null,null,null,12.074150655509735]
["2014-06-11",null,null,null,12.074150655509735]
["2014-06-11",null,null,null,12.074150655509735]
["2014-06-11",null,null,null,12.074150655509735]
["2014-06-11",null,null,null,12.074150655509735]
["2014-06-11",null,null,null,12.074150655509735]
["2014-06-11",null,null,null,12.074150655509735]
["2014-06-11",null,null,null,12.074150655509735]
["2014-06-11",null,null,null,12.074150655509735]
["2014-06-11",null,null,null,12.074150655509735]
["2014-06-11",null,null,null,12.074150655509735]
["2014-06-11",null,null,null,12.074150655509735]
["2014-06-11",null,null,null,12.074150655509735]
["2014-06-11",null,null,null,12.074150655509735]
["2014-06-11",null,null,null,12.074150655509735]
["2014-06-11",null,null,null,12.074150655509735]
["2014-06-11",null,null,null,12.074150655509735]
["2014-06-11",null,null,null,12.074150655509735]
["2014-06-11",null,null,null,12.074150655509735]
["2014-06-11",null,null,null,12.074150655509735]
["2014-06-11",null,null,null,12.074150655509735]
["2014-06-11",null,null,null,12.074150655509735]
["2014-06-11",null,null,null,12.074150655509735]
["2014-06-12",null,null,null,12.074150655509735]
["2014-06-12",null,null,null,12.074150655509735]
["2014-06-12",null,null,null,12.074150655509735]
["2014-06-12",null,null,null,13.076798778326364]
["2014-06-12",null,null,null,13.076798778326364]
["2014-06-12",null,null,null,13.076798778326364]
["2014-06-12",null,null,null,13.076798778326364]
["2014-06-12",null,null,null,13.076798778326364]
["2014-06-12",null,null,null,13.076798778326364]
["2014-06-12",null,null,null,13.076798778326364]
["2014-06-12",null,null,null,13.076798778326364]
["2014-06-12",null,null,null,13.076798778326364]
["2014-06-12",null,null,null,13.076798778326364]
["2014-06-12",null,null,null,13.076798778326364]
["2014-06-12",null,null,null,13.076798778326364]
["2014-06-12",null,null,null,13.076798778326364]
["2014-06-12",null,null,null,13.076798778326364]
["2014-06-12",null,null,null,13.076798778326364]
["2014-06-12",null,null,null,13.076798778326364]
["2014-06-12",null,null,null,13.076798778326364]
["2014-06-12",null,null,null,13.076798778326364]
["2014-06-12",null,null,null,13.076798778326364]
["2014-06-12",null,null,null,13.076798778326364]
["2014-06-12",null,null,null,13.076798778326364]
["2014-06-13",null,null,null,13.076798778326364]
["2014-06-13",null,null,null,13.076798778326364]
["2014-06-13",null,null,null,13.076798778326364]
["2014-06-13",null,null,null,13.076798778326364]
["2014-06-13",null,null,null,13.076798778326364]
["2014-06-13",null,null,null,13.076798778326364]
["2014-06-13",null,null,null,13.076798778326364]
["2014-06-13",null,null,null,13.076798778326364]
["2014-06-13",null,null,null,13.076798778326364]
["2014-06-13",null,null,null,13.076798778326364]
["2014-06-13",null,null,null,13.076798778326364]
["2014-06-13",null,null,null,13.076798778326364]
["2014-06-13",null,null,null,13.076798778326364]
["2014-06-13",null,null,null,13.076798778326364]
["2014-06-13",null,null,null,13.076798778326364]
["2014-06-13",null,null,null,13.076798778326364]
["2014-06-13",null,null,null,13.076798778326364]
["2014-06-13",null,null,null,14.093406580775815]
["2014-06-13",null,null,null,14.093406580775815]
["2014-06-13",null,null,null,14.093406580775815]
["2014-06-13",null,null,null,14.093406580775815]
["2014-06-13",null,null,null,14.093406580775815]
["2014-06-13",null,null,null,14.093406580775815]
["2014-06-13",null,null,null,14.093406580775815]
["2014-06-14",null,null,null,14.093406580775815]
["2014-06-14",null,null,null,14.093406580775815]
["2014-06-14",null,null,null,14.093406580775815]
["2014-06-14",null,null,null,14.093406580775815]
["2014-06-14",null,null,null,14.093406580775815]
["2014-06-14",null,null,null,14.093406580775815]
["2014-06-14",null,null,null,14.093406580775815]
["2014-06-14",null,null,null,14.093406580775815]
["2014-06-14",null,null,null,14.093406580775815]
["2014-06-14",null,null,null,14.093406580775815]
["2014-06-14",null,null,null,14.093406580775815]
["2014-06-14",null,null,null,14.093406580775815]
["2014-06-14",null,null,null,14.093406580775815]
["2014-06-14",null,null,null,14.093406580775815]
["2014-06-14",null,null,null,14.093406580775815]
["2014-06-14",null,null,null,14.093406580775815]
["2014-06-14",null,null,null,14.093406580775815]
["2014-06-14",null,null,null,14.093406580775815]
["2014-06-14",null,null,null,14.093406580775815]
["2014-06-14",null,null,null,14.093406580775815]
["2014-06-14",null,null,null,14.093406580775815]
["2014-06-14",null,null,null,14.093406580775815]
["2014-06-14",null,null,null,14.093406580775815]
["2014-06-14",null,null,null,14.093406580775815]
["2014-06-15",null,null,null,15.105323053228588]
["2014-06-15",null,null,null,15.105323053228588]
["2014-06-15",null,null,null,15.105323053228588]
["2014-06-15",null,null,null,15.105323053228588]
["2014-06-15",null,null,null,15.105323053228588]
["2014-06-15",null,null,null,15.105323053228588]
["2014-06-15",null,null,null,15.105323053228588]
["2014-06-15",null,null,null,15.105323053228588]
["2014-06-15",null,null,null,15.105323053228588]
["2014-06-15",null,null,null,15.105323053228588]
["2014-06-15",null,null,null,15.105323053228588]
["2014-06-15",null,null,null,15.105323053228588]
["2014-06-15",null,null,null,15.105323053228588]
["2014-06-15",null,null,null,15.105323053228588]
["2014-06-15",null,null,null,15.105323053228588]
["2014-06-15",null,null,null,15.105323053228588]
["2014-06-15",null,null,null,15.105323053228588]
["2014-06-15",null,null,null,15.105323053228588]
["2014-06-15",null,null,null,15.105323053228588]
["2014-06-15",null,null,null,15.105323053228588]
["2014-06-15",null,null,null,15.105323053228588]
["2014-06-15",null,null,null,15.105323053228588]
["2014-06-15",null,null,null,15.105323053228588]
["2014-06-15",null,null,null,15.105323053228588]
["2014-06-16",null,null,null,15.105323053228588]
["2014-06-16",null,null,null,15.105323053228588]
["2014-06-16",null,null,null,15.105323053228588]
["2014-06-16",null,null,null,15.105323053228588]
["2014-06-16",null,null,null,15.105323053228588]
["2014-06-16",null,null,null,15.105323053228588]
["2014-06-16",null,null,null,15.105323053228588]
["2014-06-16",null,null,null,15.105323053228588]
["2014-06-16",null,null,null,15.105323053228588]
["2014-06-16",null,null,null,15.105323053228588]
["2014-06-16",null,null,null,15.105323053228588]
["2014-06-16",null,null,null,15.105323053228588]
["2014-06-16",null,null,null,15.105323053228588]
["2014-06-16",null,null,null,15.105323053228588]
["2014-06-16",null,null,null,15.105323053228588]
["2014-06-16",null,null,null,15.105323053228588]
["2014-06-16",null,null,null,15.105323053228588]
["2014-06-16",null,null,null,15.105323053228588]
["2014-06-16",null,null,null,15.105323053228588]
["2014-06-16",null,null,null,16.107760177843723]
["2014-06-16",null,null,null,16.107760177843723]
["2014-06-16",null,null,null,16.107760177843723]
["2014-06-16",null,null,null,16.107760177843723]
["2014-06-16",null,null,null,16.107760177843723]
["2014-06-17",null,null,null,16.107760177843723]
["2014-06-17",null,null,null,16.107760177843723]
["2014-06-17",null,null,null,16.107760177843723]
["2014-06-17",null,null,null,16.107760177843723]
["2014-06-17",null,null,null,16.107760177843723]
["2014-06-17",null,null,null,16.107760177843723]
["2014-06-17",null,null,null,16.107760177843723]
["2014-06-17",null,null,null,16.107760177843723]
["2014-06-17",null,null,null,16.107760177843723]
["2014-06-17",null,null,null,16.107760177843723]
["2014-06-17",null,null,null,16.107760177843723]
["2014-06-17",null,null,null,16.107760177843723]
["2014-06-17",null,null,null,16.107760177843723]
["2014-06-17",null,null,null,16.107760177843723]
["2014-06-17",null,null,null,16.107760177843723]
["2014-06-17",null,null,null,16.107760177843723]
["2014-06-17",null,null,null,16.107760177843723]
["2014-06-17",null,null,null,16.107760177843723]
["2014-06-17",null,null,null,16.107760177843723]
["2014-06-17",null,null,null,16.107760177843723]
["2014-06-17",null,null,null,16.107760177843723]
["2014-06-17",null,null,null,16.107760177843723]
["2014-06-17",null,null,null,16.107760177843723]
["2014-06-17",null,null,null,16.107760177843723]
["2014-06-18",null,null,null,16.107760177843723]
["2014-06-18",null,null,null,16.107760177843723]
["2014-06-18",null,null,null,16.107760177843723]
["2014-06-18",null,null,null,16.107760177843723]
["2014-06-18",null,null,null,16.107760177843723]
["2014-06-18",null,null,null,16.107760177843723]
["2014-06-18",null,null,null,16.107760177843723]
["2014-06-18",null,null,null,16.107760177843723]
["2014-06-18",null,null,null,16.107760177843723]
["2014-06-18",null,null,null,16.107760177843723]
["2014-06-18",null,null,null,16.107760177843723]
["2014-06-18",null,null,null,16.107760177843723]
["2014-06-18",null,null,null,16.107760177843723]
["2014-06-18",null,null,null,16.107760177843723]
["2014-06-18",null,null,null,16.107760177843723]
["2014-06-18",null,null,null,16.107760177843723]
["2014-06-18",null,null,null,16.107760177843723]
["2014-06-18",null,null,null,16.107760177843723]
["2014-06-18",null,null,null,17.118495124181383]
["2014-06-18",null,null,null,17.118495124181383]
["2014-06-18",null,null,null,17.118495124181383]
["2014-06-18",null,null,null,17.118495124181383]
["2014-06-18",null,null,null,17.118495124181383]
["2014-06-18",null,null,null,17.118495124181383]

{"sheet":"Dyn_mod","index":6,"n_rows":2650,"n_cols":12,"rows_kept":2650,"cut":false,"hidden":true,"merged":[]}
[null,"e0",4153.5]
[null,"e1",12888.8,null,"DYNAMIC MODEL CHILLING PORTIONS   -  EREZ, A. and FISHMAN, S."]
[null,"a0",139500,null,null,"The Volcani Center, Bet Dagan, ISRAEL"]
[null,"a1",2.567E+18]
[null,"slp",1.6,null,"Add hourly data in column B from  row 13 down.Do not erase rows 11, 12. "]
[null,"tetmlt",277,null,"copy data from row12 colums C to L till the last entry in column B."]
[null,"aa=a0/a1",{"$f":"C3/C4","v":5.4343591741332297E-14},null,"total cumulative chiling portions will appear in column L."]
[null,"ee=e1-e0",{"$f":"C2-C1","v":8735.2999999999993}]
[]
["date","Temp(C)","Temp (K)","ftmprt","sr","xi","xs","ak1","Inter-S","Inter-E","delt","Portions"]
["1995-12-03T16:45:39.004",21.725507885507142,{"$f":"B11+273","v":294.72550788550711},{"$f":"$C$5*$C$6*(C11-$C$6)/C11","v":26.65512446214386},{"$f":"EXP(D11)","v":376854294195.53436},{"$f":"E11/(1+E11)","v":0.99999999999734646},{"$f":"$C$7*EXP($C$8/C11)","v":0.40466936608770288},{"$f":"$C$4*EXP(-$C$2/C11)","v":0.26125214103435135},0,{"$f":"G11-(G11-I11)*EXP(-H11)","v":9.3038859382715167E-2},0,{"$f":"K11","v":0}]
["1995-12-03T17:45:38.998",24.644551884937375,{"$f":"B12+273","v":297.64455188493736},{"$f":"$C$5*$C$6*(C12-$C$6)/C12","v":30.740241464057743},{"$f":"EXP(D12)","v":22403570604158.117},{"$f":"E12/(1+E12)","v":0.99999999999995537},{"$f":"$C$7*EXP($C$8/C12)","v":0.30259601079625281},{"$f":"$C$4*EXP(-$C$2/C12)","v":0.40116292723001362},{"$f":"IF(J11<1,J11,J11-J11*F11)","v":9.3038859382715167E-2},{"$f":"G12-(G12-I12)*EXP(-H12)","v":0.16228891327033967},{"$f":"IF(J12<1,0,J12*F12)","v":0},{"$f":"K12+L11","v":0}]
[null,27.354414444885048,{"$f":"B13+273","v":300.35441444488504},{"$f":"$C$5*$C$6*(C13-$C$6)/C13","v":34.46154271147693},{"$f":"EXP(D13)","v":925673513764728.87},{"$f":"E13/(1+E13)","v":0.99999999999999889},{"$f":"$C$7*EXP($C$8/C13)","v":0.23220341315474707},{"$f":"$C$4*EXP(-$C$2/C13)","v":0.59291650990126032},{"$f":"IF(J12<1,J12,J12-J12*F12)","v":0.16228891327033967},{"$f":"G13-(G13-I13)*EXP(-H13)","v":0.19356076444547923},{"$f":"IF(J13<1,0,J13*F13)","v":0},{"$f":"K13+L12","v":0}]
[null,29.759738848466906,302.7597388484669,37.708832426211949,2.3808818358129544E+16,1,0.18429848719748704,0.83378434549055946,0.19356076444547923,0.18832204121510207,0,0]
[null,31.775884700426467,304.77588470042645,40.391227512403567,3.4808653668370189E+17,1,0.15227589322919283,1.1049879864639387,0.18832204121510207,0.16421491313401546,0,0]
[null,33.331906318114655,306.33190631811465,42.437306111654216,2.6933194731969014E+18,1,0.13164483157895285,1.3697727491788192,0.16421491313401546,0.13992299698144395,0,0]
[null,34.37304922244639,307.37304922244641,43.794781128147179,1.0467230311929119E+19,1,0.11952410600288951,1.579583553175766,0.13992299698144395,0.12372751970931282,0,0]
[null,34.862676880399391,307.86267688039936,44.429998894302003,1.975619712103313E+19,1,0.11424210169986161,1.6885167022181535,0.12372751970931282,0.11599494457646574,0,0]
[null,34.783559899366182,307.7835598993662,44.327493488800847,1.7831415455658801E+19,1,0.11507838998910178,1.6704428668858962,0.11599494457646574,0.1152508523059065,0,0]
[null,34.138482308202157,307.13848230820213,43.489748528455486,7.7153886046739517E+18,1,0.12214664288111161,1.5297999416133579,0.1152508523059065,0.1206531595132502,0,0]
[null,32.950143590688342,305.95014359068836,41.937236860913131,1.633467714128385E+18,1,0.13641333037257219,1.2997141931393494,0.1206531595132502,0.13211695499165818,0,0]
[null,31.260359918730366,304.26035991873039,39.708726825960575,1.7590611778637734E+17,1,0.1598532973214872,1.0285820322849053,0.13211695499165818,0.14993717927788883,0,0]
[null,29.759738848466903,302.7597388484669,37.708832426211949,2.3808818358129544E+16,1,0.18429848719748704,0.83378434549055946,0.14993717927788883,0.16937185794328538,0,0]
[null,26.595597754428269,299.59559775442824,33.426288636494419,328740116961600.87,0.999999999999997,0.24995379094701398,0.53185240570536707,0.16937185794328538,0.20261064470591561,0,0]
[null,24.744693867424857,297.74469386742487,30.878966145863497,25737395958452.344,0.99999999999996114,0.29962384120014129,0.4070482990781194,0.20261064470591561,0.23505068947019925,0,0]
[null,23.431456660389639,296.43145666038964,29.052320185273583,4142498338967.4185,0.99999999999975864,0.34121087503465264,0.33601604145372277,0.23505068947019925,0.26534757048002422,0,0]
[null,22.412830746030966,295.41283074603098,27.624279439834627,993280998021.8949,0.99999999999899325,0.37770416677212237,0.2892334281574287,0.26534757048002422,0.29356734698708642,0,0]
[null,21.580552773386223,294.58055277338622,26.450154009856657,307012410825.03015,0.99999999999674283,0.41061448726288413,0.25569028623654549,0.29356734698708642,0.31997531579608868,0,0]
[null,20.876871774032814,293.87687177403279,25.45225667164005,113181286069.29959,0.99999999999116462,0.4408298654113082,0.23025819422417951,0.31997531579608868,0.34483165411039951,0,0]
[null,20.267315566351005,293.26731556635099,24.5839678556869,47498684633.957787,0.99999999997894684,0.46892417717405488,0.2101964905936326,0.34483165411039951,0.36835649548095339,0,0]
[null,19.729648886382812,292.72964888638279,23.815081297592293,22017012734.96336,0.99999999995458055,0.49529339911787368,0.19389565351664448,0.36835649548095339,0.39072990483026304,0,0]
[null,19.248689651992333,292.24868965199232,23.124891549764133,11041111474.48147,0.99999999990942945,0.52022424497348174,0.18034282491104892,0.39072990483026304,0.41209855464033679,0,0]
[null,18.813609101920047,291.81360910192006,22.498579055913449,5902129505.7388372,0.99999999983056964,0.54393213864387102,0.16886597288508021,0.41209855464033679,0.43258258032760322,0,0]
[null,18.41641167934759,291.41641167934756,21.925167561658121,3326436878.637732,0.99999999969937803,0.56658375728260912,0.15900011778956846,0.43258258032760322,0.45228125470605401,0,0]
[null,20.486848599161466,293.48684859916148,24.897099594156206,64964031630.812881,0.99999999998460687,0.45859183341253923,0.21722144794514833,0.45228125470605401,0.45351338422469917,0,0]
[null,24.043414365903892,297.04341436590391,29.905531707988192,9723159256578.1895,0.99999999999989719,0.32111246411914962,0.36750410583628257,0.45351338422469917,0.41279486929424547,0,0]
[null,27.344018295702615,300.3440182957026,34.447394582266021,912669175734243,0.99999999999999889,0.23243728855277018,0.59203646866436022,0.41279486929424547,0.33221102345027076,0,0]
[null,30.272026353526911,303.27202635352694,38.393788638817291,4.72291952075898E+16,1,0.17553165480178401,0.89595112547860556,0.33221102345027076,0.23949117291519628,0,0]
[null,32.723970991724869,305.72397099172485,41.640385286886897,1.2139185680443599E+18,1,0.13932531552849337,1.2598328034973763,0.23949117291519628,0.16774251515325045,0,0]
[null,34.613207401374382,307.61320740137438,44.106602687529822,1.4297304366210591E+19,1,0.11690139194446993,1.6321501488510584,0.16774251515325045,0.12684127633867454,0,0]
[null,35.872975295488267,308.87297529548829,45.734343179251752,7.2806956383714353E+19,1,0.10411653487023441,1.9363191744983892,0.12684127633867454,0.10739421235926376,0,0]
[null,36.458758029289449,309.45875802928947,46.486716518197632,1.5449857056751554E+20,1,9.8689302052205399E-2,2.0954698323272352,0.10739421235926376,9.9760114264282024E-2,0,0]
[null,36.349855692898487,309.34985569289847,46.34705909585378,1.3436062574511517E+20,1,9.9674882359876441E-2,2.0649699300137505,9.9760114264282024E-2,9.9685691649325309E-2,0,0]
[null,35.550116587774063,308.55011658777408,45.318445594311385,4.803423185717067E+19,1,0.10724366698567481,1.8535917734292844,9.9685691649325309E-2,0.10605953314848356,0,0]
[null,34.087801238591787,307.08780123859179,43.423781261123189,7.2228498221128888E+18,1,0.12272132539478398,1.5192416640018662,0.10605953314848356,0.11907442884800867,0,0]
[null,32.01458374599811,305.0145837459981,40.706458569095417,4.7707903747979283E+17,1,0.14889838068410627,1.1421693933227479,0.11907442884800867,0.13938078340555668,0,0]
[null,30.272026353526915,303.27202635352694,38.393788638817291,4.72291952075898E+16,1,0.17553165480178401,0.89595112547860556,0.13938078340555668,0.16077417694220641,0,0]
[null,26.42270043163693,299.42270043163694,33.18967071292726,259472207583311.78,0.99999999999999611,0.25419770666272623,0.51880306411116284,0.16077417694220641,0.19858897831546929,0,0]
[null,24.170989114277397,297.1709891142774,30.082957970065994,11610813406837.637,0.99999999999991385,0.31708404297973664,0.37441388578619628,0.19858897831546929,0.23559590808629538,0,0]
[null,22.573374509746948,295.57337450974694,27.850003730455743,1244809634895.3503,0.99999999999919664,0.37168626062258325,0.29616953634173054,0.23559590808629538,0.27048112673395208,0,0]
[null,21.334168349112367,294.33416834911236,26.101296548127277,216595316425.22458,0.99999999999538314,0.42093453926279045,0.24649497562208711,0.27048112673395208,0.3033498881329989,0,0]
[null,20.321663192387412,293.3216631923874,24.661530444553392,51329447231.991081,0.99999999998051803,0.46634337112508889,0.21191511175269687,0.3033498881329989,0.33447620395348926,0,0]
[null,19.465602280105145,292.46560228010514,23.436448174093073,15077179920.189667,0.99999999993367461,0.5088185708847851,0.18633922904612449,0.33447620395348926,0.36411580284392742,0,0]
[null,18.724048587856963,291.72404858785694,22.369421944220989,5187003173.9538355,0.99999999980721044,0.54895392769115359,0.16659164905279078,0.36411580284392742,0.39248009509164966,0,0]
[null,18.069951875027876,291.06995187502787,21.423725227706502,2014678019.3809938,0.99999999950364282,0.58716417431500745,0.15084613251041759,0.39248009509164966,0.41973975763632965,0,0]
[null,17.484842427222382,290.48484242722236,20.574161852325531,861479529.61900997,0.99999999883920632,0.62375281211634814,0.1379743424216455,0.41973975763632965,0.44603274745175248,0,0]
[null,16.955546548900543,289.95554654890054,19.802684579804577,398287466.35447973,0.99999999748925061,0.65895004076325192,0.12723975441719013,0.44603274745175248,0.47147156524696848,0,0]
[null,16.472337270497427,289.47233727049741,19.095917524993258,196449807.68036008,0.99999999490964131,0.69293548968449037,0.1181402197270657,0.47147156524696848,0.49614896952712606,0,0]
[null,19.538116637830338,292.53811663783034,23.540499176769032,16730498976.744558,0.99999999994022892,0.50506537836646104,0.18838594601492431,0.49614896952712606,0.497679961788701,0,0]
[null,22.17906594830928,295.1790659483093,27.295167434744808,714727676273.09863,0.9999999999986009,0.38665346108124171,0.27941043492312007,0.497679961788701,0.47061497137183478,0,0]
[null,24.629128773302973,297.62912877330297,30.718867840693616,21929806190868.895,0.99999999999995437,0.30305655353270505,0.40026375117415186,0.47061497137183478,0.41534469985586531,0,0]
[null,26.801359928205873,299.8013599282059,33.70752795317825,435505243868406.81,0.99999999999999767,0.24500161663144041,0.54779017205669711,0.41534469985586531,0.34349844692563208,0,0]
[null,28.618673618791707,301.61867361879172,36.174803161022538,5134727455458411,0.99999999999999978,0.20555398894931071,0.70975696599936577,0.34349844692563208,0.27339006575517605,0,0]
[null,30.016578978662146,303.01657897866215,38.052531126209523,3.3574093114214236E+16,1,0.17984604442531141,0.86441975028161078,0.27339006575517605,0.21925576068887745,0,0]
[null,30.94546865149346,303.94546865149346,39.290704873231618,1.1580740138300048E+17,1,0.16467936935321656,0.98441726131029916,0.21925576068887745,0.18507221498086535,0,0]
[null,31.372379203344842,304.37237920334485,39.857225201166095,2.0406708876108765E+17,1,0.15817314290595164,1.044743596409474,0.18507221498086535,0.16763575243959733,0,0]
[null,31.282160893416943,304.28216089341697,39.737635858967622,1.8106561222448362E+17,1,0.15952481887726799,1.0317085772783037,0.16763575243959733,0.16241553538145007,0,0]
[null,30.678015291698696,303.67801529169867,38.934976461577477,8.1141948104597968E+16,1,0.16890084176076164,0.94833063712598586,0.16241553538145007,0.16638851725163883,0,0]
[null,29.581381665107731,302.58138166510776,37.46981486958807,1.8747088768423676E+16,1,0.18745965927507219,0.81312203447944176,0.16638851725163883,0.17811521105900305,0,0]
[null,28.03117616393045,301.03117616393047,35.380446010861185,2320237650402782,0.99999999999999956,0.21750683512100105,0.6529665663557368,0.17811521105900305,0.19700351889693002,0,0]
[null,26.801359928205876,299.8013599282059,33.70752795317825,435505243868406.81,0.99999999999999767,0.24500161663144041,0.54779017205669711,0.19700351889693002,0.21724785993342724,0,0]
[null,23.947368690143875,296.94736869014389,29.771854327144297,8506522406794.3955,0.99999999999988243,0.3241813480446526,0.36238246474977093,0.21724785993342724,0.24975391705404842,0,0]
[null,22.277890838490858,295.27789083849086,27.434364275007816,821472480690.76648,0.99999999999878264,0.38284279716654385,0.28352365708495902,0.24975391705404842,0.28261019371575802,0,0]
[null,21.093377452081874,294.09337745208188,25.759794227250328,153934685189.75055,0.99999999999350375,0.43128819486522108,0.23781391967320548,0.28261019371575802,0.31407798576788704,0,0]
[null,20.174597489987349,293.17459748998738,24.451578236778275,41608829811.642914,0.99999999997596667,0.47336232741584333,0.20729515677816832,0.31407798576788704,0.34389924526674653,0,0]
[null,19.423899600428857,292.42389960042885,23.376585539864141,14201103926.917465,0.99999999992958299,0.51099048345595033,0.18517180380723511,0.34389924526674653,0.37214409598998505,0,0]
[null,18.789193578523239,{"$f":"B77+273","v":291.78919357852322},{"$f":"$C$5*$C$6*(C77-$C$6)/C77","v":22.463376774224496},{"$f":"EXP(D77)","v":5697975505.5037451},{"$f":"E77/(1+E77)","v":0.99999999982449905},{"$f":"$C$7*EXP($C$8/C77)","v":0.54529627523041946},{"$f":"$C$4*EXP(-$C$2/C77)","v":0.16824303657332473},{"$f":"IF(J76<1,J76,J76-J76*F76)","v":0.37214409598998505},{"$f":"G77-(G77-I77)*EXP(-H77)","v":0.39895698664699808},{"$f":"IF(J77<1,0,J77*F77)","v":0},{"$f":"K77+L76","v":0}]
[null,18.239386214019873,291.23938621401987,21.669102012926199,2574965603.0297685,0.99999999961164532,0.57700155728860703,0.15478259940101702,0.39895698664699808,0.42448833185987539,0,0]
[null,17.75442174877584,290.75442174877583,20.966008641906793,1274740724.9619894,0.99999999921552674,0.60660191621165005,0.14376878071461255,0.42448833185987539,0.44887552959978999,0,0]
[null,17.320606251925348,290.32060625192537,20.335079783246258,678286133.87863553,0.99999999852569599,0.63445461842004136,0.13455423907921921,0.44887552959978999,0.47223892233713166,0,0]
[null,16.928172399940379,289.92817239994037,19.762708674442528,382679611.83573723,0.99999999738684797,0.6608270521614833,0.12670685767861173,0.47223892233713166,0.4946824390933986,0,0]
[null,16.569908362366853,289.56990836236685,19.238820144355177,226627927.40562019,0.99999999558748121,0.68592537374235663,0.11992601974662676,0.4946824390933986,0.51629555783185843,0,0]
[null,13.998867199403776,286.99886719940378,15.440820328035635,5079992.423088978,0.99999980314935144,0.89875554994998264,8.0490309329209114E-2,0.51629555783185843,0.54587354315080394,0,0]
[null,16.119371234808984,289.11937123480897,18.57815790179281,117055401.96946289,0.99999999145703677,0.71893970053288825,0.11188980610199992,0.54587354315080394,0.56419384524827088,0,0]
[null,18.08594164633012,291.08594164633013,21.446894007813793,2061900583.6288145,0.99999999951501062,0.5861970037010833,0.15121349821382227,0.56419384524827088,0.56728167736171109,0,0]
[null,19.828493856001518,292.8284938560015,23.956645695925982,25365243199.794559,0.99999999996057598,0.49032942582754224,0.19679891663461377,0.56728167736171109,0.5535346022315526,0,0]
[null,21.284926839887049,294.28492683988702,26.031505105274761,201994257408.91187,0.9999999999950494,0.42303006899684842,0.2446954703928616,0.5535346022315526,0.52520767078831332,0,0]
[null,22.403336282528233,295.40333628252824,27.610922554427933,980102068215.46301,0.99999999999897971,0.37806330502996599,0.28882812295253313,0.52520767078831332,0.48829517563953362,0,0]
[null,23.143864341398249,296.14386434139823,28.650131566888017,2770728968108.5757,0.99999999999963907,0.35111645534576652,0.32212335874335202,0.48829517563953362,0.45051736296703748,0,0]
[null,23.480120099511062,296.48012009951105,29.120297257048836,4433884850187.8613,0.99999999999977451,0.33956448116487087,0.33842265333723714,0.45051736296703748,0.41866211569987566,0,0]
[null,23.400120084137804,296.40012008413782,29.008534877952041,3965031351127.8872,0.99999999999974776,0.34227557261473363,0.33447496720300629,0.41866211569987566,0.39694647264994998,0,0]
[null,22.906715333452258,295.90671533345227,28.317898180659331,1987499000654.3108,0.99999999999949685,0.35951562132502918,0.31108139342159036,0.39694647264994998,0.38693949326278787,0,0]
[null,22.017489791317036,295.01748979131702,27.06738329703844,569134883759.32703,0.99999999999824296,0.39297129052796603,0.27280781189935421,0.38693949326278787,0.38837965075926661,0,0]
[null,20.764133651214014,293.76413365121402,25.291937248675595,96415927570.524338,0.9999999999896283,0.44588735365546361,0.22641506981880494,0.38837965075926661,0.40003145541996887,0,0]
[null,19.828493856001518,292.8284938560015,23.956645695925982,25365243199.794559,0.99999999996057598,0.49032942582754224,0.19679891663461377,0.40003145541996887,0.41616266611940567,0,0]
[null,17.540416951597742,290.54041695159776,20.655001654891539,934013691.32467437,0.99999999892935187,0.62017524640819977,0.13915032473491507,0.41616266611940567,0.44266446714939112,0,0]
[null,16.201977763755387,289.20197776375539,18.699445234479118,132149608.23722038,0.99999999243281912,0.71276190443624232,0.11332366664097777,0.44266446714939112,0.47160226799063093,0,0]
[null,15.252340047193968,288.25234004719397,17.300942320537164,32636515.294078764,0.99999996935947477,0.787336927788442,9.7848882351057653E-2,0.47160226799063093,0.50103318232567107,0,0]
[null,14.515743808403487,287.5157438084035,16.209817223053275,10960596.060125468,0.99999990876409428,0.85089948454563358,8.725815265634046E-2,0.50103318232567107,0.53026784136193594,0,0]
[null,13.913900859351614,286.9139008593516,15.314144235271959,4475569.8182498263,0.99999977656481365,0.90689309251256534,7.9426934143524669E-2,0.53026784136193594,0.55902487242379206,0,0]
[null,13.405049896377253,286.40504989637725,14.553926739708379,2092618.5609824678,0.99999952213005239,0.9573001350521434,7.3334051317146917E-2,0.55902487242379206,0.58718677784138396,0,0]
[null,12.964263142790191,285.96426314279017,13.893209526327391,1080797.2555272502,0.99999907475794403,1.0033799458973083,6.8419559370933414E-2,0.58718677784138396,0.61471022384742668,0,0]
[null,12.57546167150926,285.57546167150929,13.308722642230055,602427.52233426843,0.99999834005203447,1.045988874365116,6.434733872772265E-2,0.61471022384742668,0.64158783252916129,0,0]
[null,12.22766690399971,285.2276669039997,12.784531078045765,356657.45061743411,0.99999719619709482,1.0857391166434429,6.0901792141245997E-2,0.64158783252916129,0.6678302266503835,0,0]
[null,11.913048267033348,284.91304826703333,12.309239654977809,221735.31061478265,0.99999549013872724,1.1230854631596991,5.793742075934704E-2,0.6678302266503835,0.69345699817548412,0,0]
[null,11.625823954947839,284.62582395494786,11.874415082476355,143546.61181887763,0.99999303367024128,1.1583762160268547,5.5352001403567504E-2,0.69345699817548412,0.71849194846709585,0,0]
[null,12.125025190862708,285.12502519086269,12.629586484665197,305463.77811782539,0.99999672630014447,1.0977755119257222,5.9919112628644508E-2,0.71849194846709585,0.74055080989039368,0,0]
[null,14.848941844059153,287.84894184405914,16.704077473704455,17967542.140659545,0.99999994434408801,0.82149470788249868,9.1905565848704851E-2,0.74055080989039368,0.74765838935879136,0,0]
[null,17.374260128199424,290.37426012819941,20.413214608626181,733409383.93113458,0.99999999863650502,0.63093709642190998,0.13566253948165066,0.74765838935879136,0.73285080306640216,0,0]
[null,19.61059810981364,292.61059810981362,23.644451455148303,18563283384.453384,0.9999999999461302,0.5013433922090752,0.19045316975763951,0.73285080306640216,0.69270382178150125,0,0]
[null,21.477916551099646,294.47791655109967,26.304901590483787,265505552421.16238,0.99999999999623357,0.41488030361218542,0.25182071021054114,0.69270382178150125,0.63085588996745257,0,0]
[null,22.909383539348724,295.90938353934871,28.321639159931973,1994948118029.5205,0.99999999999949873,0.35941993638885855,0.31120359521770563,0.63085588996745257,0.55826433809503284,0,0]
[null,23.853766422063643,296.85376642206364,29.641494478288042,7466851037120.2588,0.99999999999986611,0.32720231451130588,0.35745667923771796,0.55826433809503284,0.4888193398904917,0,0]
[null,24.277265439660955,297.27726543966094,30.230646899844469,13458700630274.889,0.99999999999992573,0.31376936981791753,0.38026453612433636,0.4888193398904917,0.43344762562449718,0,0]
[null,24.164723429467966,297.16472342946798,30.074247443645202,11510116308940.396,0.99999999999991307,0.31728062857207323,0.37407164579972491,0.43344762562449718,0.39719511471826618,0,0]
[null,23.520168305328927,296.52016830532892,29.176223129663935,4688918757345.2207,0.99999999999978673,0.33821592352690127,0.34041553152237297,0.39719511471826618,0.38017812123832601,0,0]
[null,22.366668897305164,295.36666889730515,27.559330528644868,930818858450.65161,0.99999999999892564,0.37945371475421713,0.28726792614755237,0.38017812123832601,0.3799972446715994,0,0]
[null,20.745509311011535,293.74550931101152,25.265440632770531,93894780207.456345,0.99999999998934974,0.44672879399548454,0.22578610726932863,0.3799972446715994,0.39348444178561898,0,0]
[null,19.610598109813647,292.61059810981362,23.644451455148303,18563283384.453384,0.9999999999461302,0.5013433922090752,0.19045316975763951,0.39348444178561898,0.41218885927283355,0,0]
[null,16.675892055732511,289.6758920557325,19.393934784258033,264654241.84148449,0.99999999622148505,0.67839643937169647,0.1218949947297114,0.41218885927283355,0.44273849013664984,0,0]
[null,14.959199063455694,287.95919906345569,16.867379270120935,21154839.814621314,0.99999995272949538,0.81200455242970959,9.3494822111198514E-2,0.44273849013664984,0.47569816960160372,0,0]
[null,13.741186001651377,286.74118600165139,15.056412704894896,3458732.3424747749,0.99999971087681505,0.92367766212396984,7.7306592080140818E-2,0.47569816960160372,0.50902514404216992,0,0]
[null,12.796421672606627,285.79642167260664,13.641087815176585,839941.74328019365,0.99999880944265784,1.0215424316732051,6.6632296572979199E-2,0.50902514404216992,0.54206244965621209,0,0]
[null,12.024493009374559,285.02449300937457,12.477718192582962,262424.36668499128,0.99999618939276858,1.1097024114351863,5.8971331999869446E-2,0.54206244965621209,0.5745690360382929,0,0]
[null,11.371836624096723,284.37183662409672,11.4891756883734,97653.002985670159,0.99998975976437809,1.1905679598484611,5.3157963694295839E-2,0.5745690360382929,0.60645916806679157,0,0]
[null,10.806479947570242,283.80647994757027,10.629186174045174,41323.481390188179,0.99997580126921481,1.2656958136403802,4.8568770467641964E-2,0.60645916806679157,0.63771237309523854,0,0]
[null,10.30780001709774,283.30780001709775,9.8677726748398928,19298.307463194345,0.99994818466922153,1.3361595754796591,4.4837403647995183E-2,0.63771237309523854,0.66833723215729079,0,0]
[null,9.8617156185254906,282.86171561852547,9.1843901761314974,9743.8361675329743,0.99989738154825714,1.4027362526552016,4.1733194311967994E-2,0.66833723215729079,0.69835531724615962,0,0]
[null,9.4581831949190693,282.45818319491906,8.5643360182585848,5241.3585986385115,0.99980924616636113,1.4660094150356533,3.9103015898654031E-2,0.69835531724615962,0.72779359399090826,0,0]
[null,9.0897869552934232,282.08978695529345,7.9967219052264458,2971.2021233034852,0.99966354912670319,1.5264304125315902,3.6840870696465446E-2,0.72779359399090826,0.75668068970088898,0,0]
[null,13.582014803109288,286.5820148031093,14.818616456638741,2726737.6610690258,0.99999963326151708,0.93943936295804653,7.5400496788371657E-2,0.75668068970088898,0.76995408617703454,0,0]
[null,16.456844260215494,289.45684426021552,19.073217599112535,192040644.77260196,0.99999999479276902,0.69405561426726059,0.11785900518279467,0.76995408617703454,0.76151579751865717,0,0]
[null,19.121155688416273,292.12115568841625,22.941495576767746,9191045913.253006,0.99999999989119848,0.52705730749353963,0.17690370462849836,0.76151579751865717,0.72350080643531745,0,0]
[null,21.47918325113902,294.47918325113903,26.306694861681216,265982103045.62253,0.99999999999624034,0.41482736904249218,0.25186812472026027,0.72350080643531745,0.65477381495602405,0,0]
[null,23.446170159137846,296.44617015913786,29.07287555748589,4228530112597.0093,0.99999999999976352,0.34071218699279859,0.33674195853502048,0.65477381495602405,0.56498142276624741,0,0]
[null,24.95141516300998,297.95141516300998,31.165038082352499,34261318128424.855,0.9999999999999708,0.2935866161184153,0.4194588829029976,0.56498142276624741,0.47200222836283034,0,0]
[null,25.940813834302809,298.94081383430279,32.528742283925531,133984104261063.55,0.99999999999999256,0.2664375623142714,0.48402466925556253,0.47200222836283034,0.39312665448254758,0,0]
[null,26.378803291568893,299.37880329156889,33.129551958171817,244332705159182.41,0.99999999999999589,0.25528741212027639,0.51553887256193109,0.39312665448254758,0.33760207232806783,0,0]
[null,26.249640470262129,299.24964047026214,32.95255640382338,204697911093745.59,0.99999999999999512,0.25852280977511288,0.50604752381768614,0.33760207232806783,0.30619761896228642,0,0]
[null,25.557967990425205,298.5579679904252,32.00213170550137,79131465497349.984,0.99999999999998734,0.27661047522156534,0.45799072660386814,0.30619761896228642,0.29532592187788886,0,0]
[null,24.328647282656931,{"$f":"B141+273","v":297.3286472826569},{"$f":"$C$5*$C$6*(C141-$C$6)/C141","v":30.302012799689859},{"$f":"EXP(D141)","v":14454296178510.605},{"$f":"E141/(1+E141)","v":0.99999999999993083},{"$f":"$C$7*EXP($C$8/C141)","v":0.31218010087088655},{"$f":"$C$4*EXP(-$C$2/C141)","v":0.38312434832520842},{"$f":"IF(J140<1,J140,J140-J140*F140)","v":0.29532592187788886},{"$f":"G141-(G141-I141)*EXP(-H141)","v":0.30069013307367359},{"$f":"IF(J141<1,0,J141*F141)","v":0},{"$f":"K141+L140","v":0}]
[null,22.605864970468868,295.60586497046887,27.895655438824246,1302954428050.0952,0.9999999999992325,0.37048087313572931,0.297592427052708,0.30069013307367359,0.31865399435598801,0,0]
[null,21.47918325113902,294.47918325113903,26.306694861681216,265982103045.62253,0.99999999999624034,0.41482736904249218,0.25186812472026027,0.31865399435598801,0.34006726126499837,0,0]
[null,18.386591396427747,291.38659139642778,21.882054614593216,3186071896.5936189,0.99999999968613384,0.56832450741645879,0.15828206623964414,0.34006726126499837,0.37348207378158038,0,0]
[null,16.57754113138596,289.57754113138594,19.249995036393624,229174673.32995057,0.99999999563651609,0.6853801862818637,0.12006680089532354,0.37348207378158038,0.40876985456685072,0,0]
[null,15.293999541716472,288.29399954171646,17.362486228800034,34708189.607007854,0.99999997118835693,0.78389665058177527,9.8483157517926065E-2,0.40876985456685072,0.44395263839614263,0,0]
[null,14.298407337665097,287.29840733766508,15.886806245635555,7935097.8684567641,0.99999987397762569,0.87068257798153814,8.4348687059199984E-2,0.44395263839614263,0.47847051673122676,0,0]
[null,13.484949276674687,286.48494927667468,14.67347422625836,2358353.4109313739,0.99999957597552114,0.94919162476965557,7.4260256754620432E-2,0.47847051673122676,0.51216001127229727,0,0]
[null,12.797180285900071,285.79718028590008,13.642228026219863,840900.0003354128,0.99999881079936925,1.0214595569023988,6.6640273378119272E-2,0.51216001127229727,0.54499369915709617,0,0]
[null,12.201407687005199,285.2014076870052,12.744901634110422,342799.71492923592,0.99999708285322508,1.0888049900616266,6.0648933455716411E-2,0.54499369915709617,0.57699504171216887,0,0]
[null,11.6758990116329,284.67589901163291,11.950286110510143,154861.44772622883,0.99999354265663054,1.1521395547218509,5.5794664257082849E-2,0.57699504171216887,0.60820623139161223,0,0]
[null,11.205815482953822,284.20581548295382,11.236988295324601,75886.060874437986,0.99998682252299043,1.2121244577081693,5.1769008890171365E-2,0.60820623139161223,0.63867500582554604,0,0]
[null,10.780573205410676,283.78057320541069,10.589696153946313,39723.417488478815,0.99997482656604619,1.2692572509164028,4.8367825346977734E-2,0.63867500582554604,0.66844904072580269,0,0]
[null,10.392357421963412,283.39235742196342,9.9970684996130394,21961.989753749465,0.9999544688582378,1.3239234215082236,4.5450189708311661E-2,0.66844904072580269,0.69757360379678213,0,0]
[null,18.361409189746134,291.36140918974615,21.845640335815272,3072140343.1739779,0.99999999967449404,0.56979895437593575,0.15767810857461265,0.69757360379678213,0.67893443504707807,0,0]
[null,21.02313476933336,294.02313476933335,25.660066972918525,139323857890.29449,0.99999999999282252,0.43435948977529137,0.23533699643019448,0.67893443504707807,0.62764816348687025,0,0]
[null,23.489091589189925,296.48909158918991,29.132826931444175,4489789485724.1221,0.99999999999977729,0.33926188266853191,0.33886812271144162,0.62764816348687025,0.54475914494457367,0,0]
[null,25.670261520741462,298.67026152074146,32.156733171526824,92361669062983.437,0.99999999999998912,0.27358430050161431,0.46548505208616009,0.54475914494457367,0.44383613889990536,0,0]
[null,27.487906905710268,300.48790690571025,34.643125734431884,1109988149921875.5,0.99999999999999911,0.22922256706873712,0.60432814734012796,0.44383613889990536,0.34649631447273177,0,0]
[null,28.87641289257953,301.87641289257954,36.522317488629014,7268435680122144,0.99999999999999989,0.20053358575764482,0.73613010890054087,0.34649631447273177,0.27044445942280421,0,0]
[null,29.785656055233211,302.78565605523323,37.743540802324773,2.4649692047634472E+16,1,0.1838438989481625,0.83682812017274377,0.27044445942280421,0.22134904559099852,0,0]
[null,30.182813789436423,303.18281378943641,38.274673047719226,4.1925601422600536E+16,1,0.17702570124968042,0.88481656226186023,0.22134904559099852,0.19532192957740133,0,0]
[null,30.053549170080448,303.05354917008043,38.10195598699044,3.5275179703332168E+16,1,0.17921467838840258,0.86891682755638722,0.19532192957740133,0.18597014960688177,0,0]
[null,29.40252849724536,302.40252849724538,37.229849518542338,1.4747493315498922E+16,0.99999999999999989,0.19068791263214835,0.79289286252935809,0.18597014960688177,0.18855296548828729,0,0]
[null,28.253252848278645,301.25325284827863,35.68108082062993,3133982079166730,0.99999999999999967,0.21290348834054806,0.67390455323234322,0.18855296548828729,0.20049167424793249,0,0]
[null,26.64720971666085,299.64720971666083,33.496869054495967,352781166075325.62,0.99999999999999711,0.24870165297441391,0.53580806035977768,0.20049167424793249,0.22048935540835546,0,0]
[null,25.670261520741462,298.67026152074146,32.156733171526824,92361669062983.437,0.99999999999998912,0.27358430050161431,0.46548505208616009,0.22048935540835546,0.24024967453233467,0,0]
[null,22.811261972222052,295.81126197222204,28.184022645059756,1738463242701.4343,0.99999999999942479,0.36295664313215636,0.30673969386090361,0.24024967453233467,0.27266368719426998,0,0]
[null,21.138854446759481,294.13885444675947,25.824334921990722,164197354435.17917,0.99999999999390976,0.42931212323446988,0.23943079326722352,0.27266368719426998,0.30601793914269027,0,0]
[null,19.952262423702642,292.95226242370262,24.133770627650797,30280525730.015865,0.99999999996697553,0.4841885247871654,0.20049276979030675,0.30601793914269027,0.33838665148951452,0,0]
[null,19.031870145763957,292.03187014576395,22.813006146477328,8082815861.4898062,0.99999999987628074,0.53189803160030247,0.17453336078366924,0.33838665148951452,0.36937772431055305,0,0]
[null,18.279854898240071,291.27985489824005,21.727666999528669,2730271794.2709084,0.99999999963373609,0.57460212348813422,0.15573721596898796,0.36937772431055305,0.39897435657433278,0,0]
[null,17.644035066045028,290.64403506604503,20.805644058365246,1085866430.1138237,0.99999999907907644,0.61356322132335461,0.14136853760639459,0.39897435657433278,0.427263756891335,0,0]
[null,17.093262875183228,290.0932628751832,20.003684500518684,486956084.06298739,0.99999999794642669,0.64959286560370622,0.12995333064824233,0.427263756891335,0.45435757979111391,0,0]
[null,16.6074473727775,289.60744737277753,19.293774128752691,239430591.92733279,0.99999999582342425,0.68324851441482726,0.12061992309943656,0.45435757979111391,0.48036627709549518,0,0]
[null,16.172870597244547,289.17287059724453,18.656716439395414,126621950.76265244,0.99999999210247525,0.7149322245413875,0.1128164418377855,0.48036627709549518,0.50539103427343879,0,0]
[null,15.779748084923655,288.77974808492365,18.0787759039905,71041580.468778372,0.99999998592373673,0.74494503121218392,0.10617473755477722,0.50539103427343879,0.52952190761920281,0,0]
[null,15.420855349720659,288.42085534972068,17.549781845209097,41857512.343622081,0.99999997610942648,0.7735191190540387,0.10043884479384929,0.52952190761920281,0.55283817818637027,0,0]
[null,19.682352545971028,292.68235254597101,23.747310310698239,20574335997.622063,0.99999999995139577,0.49768755373790119,0.19252097623829789,0.55283817818637027,0.54318003621966227,0,0]
[null,23.13482707755308,296.1348270775531,28.637480584310364,2735897316075.4019,0.99999999999963451,0.35143266070642054,0.32169580465716685,0.54318003621966227,0.49043391384465279,0,0]
[null,26.332254301345746,299.33225430134576,33.065782133829813,229238057936858.47,0.99999999999999567,0.25644840243457967,0.51209888699565542,0.49043391384465279,0.39666106794470846,0,0]
[null,29.158711651479145,302.15871165147917,36.902265511367339,1.0627969057251022E+16,0.99999999999999978,0.19518483557086461,0.76608738988182523,0.39666106794470846,0.28883667133283353,0,0]
[null,31.511726056506614,304.51172605650663,40.041797884594807,2.4543238448439334E+17,1,0.156109427581859,1.0651856583110562,0.28883667133283353,0.20185571162300289,0,0]
[null,33.305989095542181,306.3059890955422,42.403396699804624,2.6035216932099558E+18,1,0.13196284570322464,1.3649049918162914,0.20185571162300289,0.14981382895749421,0,0]
[null,34.476449850840879,307.47644985084088,43.92909629483853,1.1971928538809592E+19,1,0.11838725059635619,1.6020154640642796,0.14981382895749421,0.12471939226644382,0,0]
[null,34.980673325604464,307.98067332560447,44.582779398600607,2.3017337232966922E+19,1,0.11300691110587903,1.7158186689753905,0.12471939226644382,0.11511300789225276,0,0]
[null,34.800378922691756,307.80037892269178,44.349288933024873,1.8224325345537831E+19,1,0.11490006135160566,1.6742695922209057,0.11511300789225276,0.1149399771246075,0,0]
[null,33.942103206763903,306.94210320676393,43.234017108101135,5.9744105140155464E+18,1,0.12438960113955283,1.4892738519806852,0.1149399771246075,0.12225836725194335,0,0]
[null,32.436962921455844,305.43696292145586,41.263054236268744,8.3237065578567437E+17,1,0.14311666673720161,1.2109006180877004,0.12225836725194335,0.1369023777991854,0,0]
[null,30.339526853374728,303.33952685337471,38.483867969697137,5.168107057841824E+16,1,0.1744101843304473,0.90446441958221746,0.1369023777991854,0.15922857677550034,0,0]
[null,29.158711651479148,302.15871165147917,36.902265511367339,1.0627969057251022E+16,0.99999999999999978,0.19518483557086461,0.76608738988182523,0.15922857677550034,0.17847135227984259,0,0]
[null,25.455979968078871,298.45597996807885,31.86161765922602,68758237207543.594,0.99999999999998546,0.27938992952510883,0.45128400997473134,0.17847135227984259,0.21512397477857143,0,0]
[null,23.290020783057585,296.29002078305757,28.854624224117583,3399414150806.7451,0.99999999999970579,0.34604454638253801,0.32911377702895334,0.21512397477857143,0.25183919029451252,0,0]
[null,21.753248284678591,294.75324828467859,26.69432715520152,391921403438.55646,0.99999999999744849,0.4035421453739032,0.26232960499936125,0.25183919029451252,0.28684351990140527,0,0]
[null,20.561234927962467,293.56123492796246,25.003094573689623,72228068933.683304,0.99999999998615496,0.45514616698281452,0.21965219419920179,0.28684351990140527,0.32003314403128064,0,0]
[null,19.587289099657312,292.58728909965731,23.611027499609218,17953079545.863911,0.99999999994429922,0.50253712734053257,0.18978602933765945,0.32003314403128064,0.35158149474059625,0,0]
[null,18.763829635026738,291.76382963502675,22.426800821846353,5493331954.9832525,0.99999999981796117,0.54671726755067929,0.1675982260273868,0.35158149474059625,0.38169220426384481,0,0]
[null,18.050516601278314,291.05051660127833,21.395560572797166,1958726928.3382416,0.99999999948946428,0.58834204477024132,0.1504007535958013,0.38169220426384481,0.41054814454331112,0,0]
[null,17.421329914636026,290.42132991463603,20.481737412038893,785426477.79668534,0.99999999872680634,0.62786834872624431,0.1366420094264636,0.41054814454331112,0.43830375094828455,0,0]
[null,16.858503244562186,289.8585032445622,19.660933090452229,345648558.67592275,0.99999999710688803,0.66562994823610633,0.12536019593013514,0.43830375094828455,0.46508753082669912,0,0]
[null,16.349364590594121,289.34936459059412,18.915674462584366,164048793.4516266,0.99999999390425265,0.70187960835794916,0.11592566364116523,0.46508753082669912,0.49100645528347819,0,0]
[null,15.884557416257032,288.88455741625705,18.233012847742867,82888993.901804745,0.99999998793567224,0.73681429205035542,0.10790799683005879,0.49100645528347819,0.51615009347766416,0,0]
[null,13.618490973767065,286.61849097376705,14.873133917810364,2879519.2693372527,0.9999996527199303,0.93580221799328889,7.5833295788600555E-2,0.51615009347766416,0.54679698446943181,0,0]
[null,15.46712524942537,288.46712524942535,17.618055804975786,44815104.965913914,0.99999997768609539,0.76977051142951369,0.10116136029695563,0.54679698446943181,0.56824989500139034,0,0]
[null,17.178589772978835,{"$f":"B205+273","v":290.17858977297885},{"$f":"$C$5*$C$6*(C205-$C$6)/C205","v":20.128125207148255},{"$f":"EXP(D205)","v":551485005.18932033},{"$f":"E205/(1+E205)","v":0.99999999818671403},{"$f":"$C$7*EXP($C$8/C205)","v":0.64386647825045518},{"$f":"$C$4*EXP(-$C$2/C205)","v":0.13166225513673041},{"$f":"IF(J204<1,J204,J204-J204*F204)","v":0.56824989500139034},{"$f":"G205-(G205-I205)*EXP(-H205)","v":0.57757818169018948},{"$f":"IF(J205<1,0,J205*F205)","v":0},{"$f":"K205+L204","v":0}]
[null,18.690566158685478,291.6905661586855,22.321115856682788,4942394941.7240477,0.99999999979766896,0.55084401840781416,0.16574892136606545,0.57757818169018948,0.57349477714801922,0,0]
[null,19.947999845763867,292.94799984576389,24.127672950024969,30096446643.60062,0.99999999996677347,0.48439864676225858,0.20036446078586176,0.57349477714801922,0.55731780767106209,0,0]
[null,20.905104762415323,293.90510476241531,25.492386179406665,117815559019.82497,0.99999999999151212,0.43957292914155616,0.23123033031047327,0.55731780767106209,0.53301016224833075,0,0]
[null,21.527030502703532,294.52703050270355,26.374421069399641,284620078326.78485,0.99999999999648659,0.41283313348065526,0.25366537199628236,0.53301016224833075,0.50608466884478709,0,0]
[null,21.791131310521511,294.79113131052151,26.747851476296109,413470280708.39264,0.99999999999758149,0.40200819384859471,0.26380786977584325,0.50608466884478709,0.4819515308022414,0,0]
[null,21.687790664001657,294.68779066400168,26.601810698101534,357288958216.35156,0.99999999999720113,0.40620738608570373,0.25979394029561492,0.4819515308022414,0.46462206465604683,0,0]
[null,21.220771435341454,294.22077143534148,25.940540713389503,184430901634.06705,0.99999999999457789,0.42577699650607942,0.24236974623578875,0.46462206465604683,0.45626128369015112,0,0]
[null,20.40707887591482,293.40707887591481,24.783373958338249,57980579681.042862,0.9999999999827528,0.46231782043314501,0.21464332300113576,0.45626128369015112,0.45743122994232821,0,0]
[null,19.276341415698461,292.27634141569848,23.164634135775174,11488750036.058365,0.99999999991295829,0.51875521349173515,0.18109686476675635,0.45743122994232821,0.4675892696992896,0,0]
[null,18.690566158685478,291.6905661586855,22.321115856682788,4942394941.7240477,0.99999999979766896,0.55084401840781416,0.16574892136606545,0.4675892696992896,0.4803056885915824,0,0]
[null,16.710934124474967,289.71093412447499,19.445196367862579,278574578.50664586,0.99999999641029702,0.67592652391713748,0.1225527737468106,0.4803056885915824,0.50286874892283628,0,0]
[null,15.552923619235479,288.55292361923546,17.744598404421883,50860563.860666074,0.99999998033840165,0.76287061454140359,0.10251428125686536,0.50286874892283628,0.5282019631263084,0,0]
[null,14.731302090264458,287.73130209026448,16.529703413753616,15092423.392187223,0.99999993374159291,0.83175080130010781,9.0238366899322048E-2,0.5282019631263084,0.55439417236002853,0,0]
[null,14.094002920913077,287.09400292091306,15.582568946175599,5853608.965519012,0.99999982916524921,0.88973629993278303,8.169709714334597E-2,0.55439417236002853,0.5807014078543804,0,0]
[null,13.57329158502497,286.57329158502495,14.80557663631474,2691412.3105594749,0.99999962844799939,0.94031141048860256,7.5297343865819821E-2,0.5807014078543804,0.60678475977535595,0,0]
[null,13.133036423581697,286.1330364235817,14.146432699715387,1392251.3898330124,0.99999928173942654,0.98546314255496092,7.026288613607265E-2,0.60678475977535595,0.63247856566908467,0,0]
[null,12.75167005605395,285.75167005605397,13.573814522526684,785294.84308039991,0.99999872659455824,1.0264440246354434,6.616334535302712E-2,0.63247856566908467,0.65770103640542388,0,0]
[null,12.41528107978548,285.41528107978547,13.067459319104671,473287.97985208721,0.99999788712595783,1.0641001788871456,6.2737930312820725E-2,0.65770103640542388,0.68241434115902488,0,0]
[null,12.114370886702567,285.11437088670255,12.613496702401035,300588.26062690275,0.99999667320117192,1.0990330195717755,5.9817982223122276E-2,0.68241434115902488,0.70660490182059776,0,0]
[null,11.842164506270368,284.84216450627036,12.202011297040663,199189.37752651449,0.9999949796771691,1.1316870502093745,5.728884676454201E-2,0.70660490182059776,0.73027293776247193,0,0]
[null,11.593659550814461,284.59365955081444,11.825667227558329,136716.84314004448,0.99999268566576949,1.1624011323851804,5.5069441231088152E-2,0.73027293776247193,0.75342661484289386,0,0]
[null,11.53659492749634,284.53659492749637,11.739153878317556,125386.20313956976,0.99999202470447568,1.1695786595522035,5.4571525366873916E-2,0.75342661484289386,0.77552812545314032,0,0]
[null,13.884081389387244,286.88408138938723,15.269668677888781,4280877.9622523161,0.99999976640311283,0.90976759814711405,7.9056928263762372E-2,0.77552812545314032,0.78573202727211366,0,0]
[null,16.056609696712073,289.05660969671209,18.485961705526702,106745889.71881455,0.99999999063195788,0.72367152976902049,0.11081201066360437,0.78573202727211366,0.77922231573622158,0,0]
[null,17.974728537410101,290.9747285374101,21.285696248991798,1754932530.5457985,0.99999999943017748,0.59295929573272355,0.14867595877892262,0.77922231573622158,0.75348977107963844,0,0]
[null,19.568290582183923,292.56829058218392,23.583780635604139,17470518421.412407,0.99999999994276068,0.50351235056750754,0.18924391272599239,0.75348977107963844,0.7103898200438542,0,0]
[null,20.779017835354232,293.77901783535424,25.313110376033375,98479119318.054108,0.99999999998984557,0.44521610818698826,0.22691892541549805,0.7103898200438542,0.65655568365645389,0,0]
[null,21.562632913520432,294.56263291352042,26.4248008319421,299326513209.26941,0.99999999999665912,0.41135589440152415,0.25501061054722535,0.65655568365645389,0.60136324029913668,0,0]
[null,21.890478309251684,294.89047830925171,26.888151940752557,475746954082.16943,0.99999999999789801,0.39801494515263347,0.26772242339318858,0.60136324029913668,0.55360081938993833,0,0]
[null,21.750564421880377,294.75056442188037,26.69053464649916,390437853072.3847,0.99999999999743883,0.40365105653481159,0.26222517617272023,0.55360081938993833,0.51901307235207417,0,0]
[null,21.148008027970327,294.14800802797032,25.837323220199298,166343908505.68414,0.99999999999398836,0.42891555032548445,0.2397575024595873,0.51901307235207417,0.49980596003046085,0,0]
[null,20.104845156200817,293.10484515620084,24.351925569242709,37662305204.023186,0.99999999997344824,0.47673071108539977,0.20513770450794253,0.49980596003046085,0.49552631229678856,0,0]
[null,18.659225209999938,291.65922520999993,22.275889296469312,4723846761.5365486,0.99999999978830811,0.55261951350054739,0.16496378229824152,0.49552631229678856,0.50420879436041821,0,0]
[null,17.974728537410105,290.9747285374101,21.285696248991798,1754932530.5457985,0.99999999943017748,0.59295929573272355,0.14867595877892262,0.50420879436041821,0.51646982309180089,0,0]
[null,15.46469722343242,288.46469722343244,17.614473654256599,44654857.691729188,0.99999997760602033,0.76996673843541674,0.10112332298505067,0.51646982309180089,0.54085075993037646,0,0]
[null,13.996423029119626,286.99642302911963,15.437177368779587,5061519.885450935,0.9999998024309249,0.89898854703690045,8.0459530802561463E-2,0.54085075993037646,0.56853758878995286,0,0]
[null,12.954665909454738,285.95466590945472,13.878801097538277,1065336.3166310166,0.99999906133016803,1.0044091535025346,6.8316140110805501E-2,0.56853758878995286,0.59732029649698259,0,0]
[null,12.146616310438279,285.14661631043828,12.662189001237932,315586.78714104579,0.99999683130957295,1.0952318503622072,6.0124556376525383E-2,0.59732029649698259,0.62637481084120983,0,0]
[null,11.486391715141941,284.48639171514196,11.663014136272718,116193.72686515168,0.99999139375747093,1.1759322043442555,5.4137039335548053E-2,0.62637481084120983,0.65533523252570502,0,0]
[null,10.92817977359614,283.92817977359613,10.814598530185595,49741.681878509014,0.99997989654031039,1.2491074063553271,4.9523460836611202E-2,0.65533523252570502,0.68402462323413737,0,0]
[null,10.444634595477055,283.44463459547705,10.076966377549518,23788.710004443114,0.99995796501933765,1.3164182173927981,4.5833037947699051E-2,0.68402462323413737,0.71235495112708092,0,0]
[null,10.018117520829147,283.01811752082915,9.4242365421541638,12384.94055499993,0.99991926329732006,1.3790002869498508,4.2797403749414611E-2,0.71235495112708092,0.74028373815943915,0,0]
[null,9.636584996460595,282.63658499646061,8.8386804930530385,6895.8874630910414,0.99985500705856789,1.4376694494072371,4.0245654303929963E-2,0.74028373815943915,0.76779320122193206,0,0]
[null,9.291446846065984,282.29144684606598,8.3076170687355884,4054.6395353870298,0.9997534297633518,1.4930344059402159,3.8063187344647489E-2,0.76779320122193206,0.79487942884332585,0,0]
[null,8.976360401164257,281.97636040116424,7.8216589740296767,2494.0395247006877,0.99959920474601704,1.5455631534426821,3.6169948499521092E-2,0.79487942884332585,0.82154644104235186,0,0]
[null,13.889246513242771,286.88924651324277,15.27737309061837,4313986.9919598978,0.99999976819592407,0.90926900159051127,7.9120899993401536E-2,0.82154644104235186,0.82821965282755639,0,0]
[null,16.094407432068625,289.09440743206864,18.541491070360358,112841086.23266481,0.99999999113797977,0.72081785284636524,0.11145991226106762,0.82821965282755639,0.81689168965644909,0,0]
[null,18.134485683610226,291.13448568361025,21.517217516388254,2212120769.1659532,0.99999999954794516,0.58327112496252753,0.15233404047767596,0.81689168965644909,0.78388142901933555,0,0]
[null,19.934547794584745,292.93454779458477,24.108428438124037,29522792766.764645,0.99999999996612787,0.48506239824440439,0.1999600507696411,0.78388142901933555,0.72972450221231733,0,0]
[null,21.428476249157562,294.42847624915754,26.234896746502198,247554537075.68225,0.99999999999596045,0.4169520247498662,0.24997672453877495,0.72972450221231733,0.6605451447970444,0,0]
[null,22.56139803064287,295.56139803064286,27.833173283095753,1224034251765.5674,0.99999999999918299,0.37213164044965447,0.29564667639600811,0.6605451447970444,0.58672578683855581,0,0]
[null,23.291700145038941,296.29170014503893,28.856972706612677,3407406997289.8906,0.99999999999970657,0.34598672594749252,0.32919493289087853,0.58672578683855581,0.51919914188787131,0,0]
[null,23.592558094836352,296.59255809483636,29.277274532474706,5187507942013.2881,0.99999999999980727,0.33579280696442271,0.34404623209457175,0.51919914188787131,0.46580885232613695,0,0]
[null,23.452921161208,296.452921161208,29.082306306434013,4268596951700.4927,0.99999999999976574,0.34048363424291572,0.33707553192339157,0.46580885232613695,0.42994765765029552,0,0]
[null,22.877918304490304,295.87791830449032,28.277518783743368,1908843703341.5703,0.99999999999947609,0.36055004855347322,0.30976542155895531,0.42994765765029552,0.4114614550325012,0,0]
[null,21.888669773952547,294.88866977395253,26.88559872406486,474533818378.07483,0.99999999999789269,0.3980872595561073,0.26765066921743458,0.4114614550325012,0.40832086002931284,0,0]
[null,20.521511346556771,293.52151134655679,24.946498112530474,68253743036.307274,0.99999999998534883,0.45698276126386922,0.21835092195238445,0.40832086002931284,0.41786621770394261,0,0]
[null,19.934547794584748,292.93454779458477,24.108428438124037,29522792766.764645,0.99999999996612787,0.48506239824440439,0.1999600507696411,0.41786621770394261,0.43004462087258799,0,0]
[null,17.580258373735585,290.5802583737356,20.712936745683727,989724070.60510182,0.99999999898961733,0.6176239578325976,0.13999927124003392,0.43004462087258799,0.45455019761418103,0,0]
[null,16.203087346694296,289.2030873466943,18.701073912020032,132365012.70078798,0.9999999924451336,0.71267930963224979,0.11334304539363754,0.45455019761418103,0.48221019776772134,0,0]
[null,15.225968952886422,288.22596895288643,17.261974894193315,31389214.172963355,0.99999996814192404,0.7895229917649359,9.7449395490763438E-2,0.48221019776772134,0.5107447296598111,0,0]
[null,14.46805704481898,287.46805704481898,16.138985771001465,10211098.459672458,0.9999999020673529,0.85519878281481509,8.6611678238770723E-2,0.5107447296598111,0.53932300416389367,0,0]
[null,13.848797925845133,286.84879792584513,15.217031663709397,4061373.0485766549,0.99999975377791162,0.91318136263321603,7.8621251191066888E-2,0.53932300416389367,0.56759044595648334,0,0]
[null,13.325221801015704,{"$f":"B269+273","v":286.32522180101569},{"$f":"$C$5*$C$6*(C269-$C$6)/C269","v":14.43441928103133},{"$f":"EXP(D269)","v":1856900.5430368229},{"$f":"E269/(1+E269)","v":0.99999946146848562},{"$f":"$C$7*EXP($C$8/C269)","v":0.96547516282341683},{"$f":"$C$4*EXP(-$C$2/C269)","v":7.2419702241538653E-2},{"$f":"IF(J268<1,J268,J268-J268*F268)","v":0.56759044595648334},{"$f":"G269-(G269-I269)*EXP(-H269)","v":0.59538650044892216},{"$f":"IF(J269<1,0,J269*F269)","v":0},{"$f":"K269+L268","v":0}]
[null,12.871679532037259,285.87167953203726,13.754172414124252,940505.15997432324,0.99999893674274287,1.0133556710106015,6.742809267065851E-2,0.59538650044892216,0.62264020662824016,0,0]
[null,12.471626898803844,285.47162689880383,13.152358020087325,515224.506748354,0.99999805910230199,1.0576914667016521,6.3299626030124484E-2,0.62264020662824016,0.64932530080113604,0,0]
[null,12.113767623969816,285.11376762396981,12.612585638748008,300314.53029992885,0.99999667016887539,1.0991042674346851,5.981226095008501E-2,0.64932530080113604,0.67543885763129496,0,0]
[null,11.790044532675862,284.79004453267584,12.123133526480407,184081.43615563732,0.9999945676512062,1.1380564509867241,5.681639149693346E-2,0.67543885763129496,0.70099037423723165,0,0]
[null,11.49450850499597,284.49450850499596,11.675326131491504,117633.14635485774,0.99999149906697171,1.1749024851473175,5.4207061674962122E-2,0.70099037423723165,0.7259958965851856,0,0]
[null,14.639829452062679,287.63982945206266,16.394017553608847,13177449.476209167,0.99999992411278638,0.83981988599084234,8.8962018740562032E-2,0.7259958965851856,0.73568455800069354,0,0]
[null,17.567514539809782,290.56751453980979,20.694407127951191,971553726.57165098,0.99999999897072089,0.61843880325074518,0.13972718734371381,0.73568455800069354,0.72039517690348742,0,0]
[null,20.275048091043267,293.27504809104329,24.595005135626732,48025844768.413979,0.99999999997917788,0.46855605458956512,0.21044019990872764,0.72039517690348742,0.67260303841992997,0,0]
[null,22.66254468990202,295.66254468990201,27.975270980771832,1410931133553.9795,0.99999999999929123,0.3683880505989694,0.30009029223682093,0.67260303841992997,0.59373570851848578,0,0]
[null,24.641925615981854,297.64192561598185,30.73660209014562,22322183822059.664,0.99999999999995515,0.30267437981563472,0.40100967829429057,0.59373570851848578,0.49758172996745864,0,0]
[null,26.140168214823326,299.14016821482335,32.80242373121547,176161751446485.78,0.99999999999999434,0.26129928709941808,0.49813379198800795,0.49758172996745864,0.40487953378709196,0,0]
[null,27.101999825085663,300.10199982508567,34.11775439165902,656375658851471.25,0.99999999999999845,0.23795358300678898,0.57189791486451835,0.40487953378709196,0.33217545964710271,0,0]
[null,27.49193687895281,300.4919368789528,34.648604993837147,1116086755595481.7,0.99999999999999911,0.22913321741349565,0.6046758856729143,0.33217545964710271,0.28542019121936479,0,0]
[null,27.295593949966264,300.29559394996625,34.38148093623137,854451566387637.87,0.99999999999999878,0.23352998180328011,0.58795369825179211,0.28542019121936479,0.26235306110573703,0,0]
[null,26.520214455332916,299.5202144553329,33.323156718332257,296526207004020.19,0.99999999999999667,0.25179475614379399,0.52612486534279679,0.26235306110573703,0.25803355632402269,0,0]
[null,25.194403434217044,298.19440343421707,31.500791074092771,47931358594753.859,0.99999999999997913,0.28665591606033702,0.43450827871834502,0.25803355632402269,0.26812056192699613,0,0]
[null,23.367072260269794,296.36707226026977,28.962348483213198,3786065553255.1143,0.99999999999973588,0.34340225651242912,0.33285704312707987,0.26812056192699613,0.2894348672102745,0,0]
[null,22.662544689902031,295.66254468990201,27.975270980771832,1410931133553.9795,0.99999999999929123,0.3683880505989694,0.30009029223682093,0.2894348672102745,0.30990337471441526,0,0]
[null,19.541582680243671,292.54158268024366,23.54547131650958,16813892505.920591,0.99999999994052535,0.50488672450506844,0.18848431046027103,0.30990337471441526,0.34339888239625804,0,0]
[null,17.715936938418189,290.71593693841817,20.910113546319327,1205443693.2946608,0.99999999917042992,0.60901926712150967,0.14292758391611948,0.34339888239625804,0.37877504509811366,0,0]
[null,16.420620670585308,289.42062067058532,19.020134323700891,182112342.97474873,0.99999999450888399,0.69668207388781966,0.11720400134717472,0.37877504509811366,0.41393437506928438,0,0]
[null,15.41589531660016,288.41589531660014,17.542461724459525,41552229.017589621,0.999999975933903,0.77392211502914032,0.10036168589020128,0.41393437506928438,0.44830952865777352,0,0]
[null,14.594974928759829,287.59497492875983,16.327451095379971,12328831.420932036,0.9999999188893185,0.84380709335833903,8.8342468716309422E-2,0.44830952865777352,0.48174991125892314,0,0]
[null,13.90089663053284,286.90089663053283,15.294749644170883,4389604.2993694022,0.99999977218908498,0.90814546847473698,7.9265372107483897E-2,0.48174991125892314,0.51424349446927886,0,0]
[null,13.299658660926948,286.29965866092692,14.39613563564934,1787155.1925128729,0.9999994404518171,0.96810872965617056,7.212921269791904E-2,0.51424349446927886,0.54582767338004767,0,0]
[null,12.769329186934348,285.76932918693433,13.600363295484799,806422.67563004245,0.99999875995704213,1.0245068539360804,6.6348017015797442E-2,0.54582767338004767,0.5765564204269471,0,0]
[null,12.294933306941797,285.2949333069418,12.886013778875457,394752.30801429722,0.99999746677233681,1.0779273591223995,6.1554127109967147E-2,0.5765564204269471,0.60648723839385776,0,0]
[null,11.865790033124096,284.86579003312409,12.237756391440442,206438.20381007477,0.99999515595884148,1.1288123740763505,5.7504241282518555E-2,0.60648723839385776,0.63567587111511559,0,0]
[null,11.474012919101467,284.47401291910148,11.644235941817923,114032.17698649873,0.99999123062229411,1.177504465162702,5.4030415752804081E-2,0.63567587111511559,0.66417427250298422,0,0]
[null,20.01888044656426,293.01888044656425,24.229045592889619,33307405376.557167,0.99999999996997668,0.4809172249876168,0.2025082768340869,0.66417427250298422,0.63057953979898196,0,0]
[null,23.118489087676167,296.11848908767615,28.614607584159504,2674029386221.3916,0.99999999999962608,0.35200508362386196,0.32092422609787186,0.63057953979898196,0.55410478456800594,0,0]
[null,25.983973593478062,298.98397359347808,32.588024633979991,142167155690675.97,0.99999999999999301,0.26531605134479769,0.48704655515867207,0.55410478456800594,0.44275894632187374,0,0]
[null,28.509156826863936,301.50915682686394,36.026959910553124,4429042920324366,0.99999999999999978,0.2077277511020392,0.69882550946011412,0.44275894632187374,0.3245779474692807,0,0]
[null,30.600471111635862,303.60047111163584,38.831721023061242,7.3181644267655984E+16,1,0.17014632938157742,0.93810586022059261,0.3245779474692807,0.23058599087994533,0,0]
[null,32.180425272009636,305.18042527200964,40.925182109640978,5.9371874545536781E+17,1,0.14659901141713208,1.1687004716458915,0.23058599087994533,0.17269968988132908,0,0]
[null,33.190475976423848,306.19047597642384,42.252192565738696,2.2381752018753247E+18,1,0.13339026633551801,1.3434090471923723,0.17269968988132908,0.14364823903750487,0,0]
[null,33.593196991405776,306.59319699140576,42.778851700870213,3.7898256938851651E+18,1,0.1284841240356677,1.4197807876531188,0.14364823903750487,0.13215030676989059,0,0]
[null,33.373665966359333,306.37366596635934,42.491931267094991,2.8445349534125578E+18,1,0.13113414896721123,1.3776508236864886,0.13215030676989059,0.13139039373452091,0,0]
[null,32.540017363606061,305.54001736360607,41.39862203548094,9.5321991765158323E+17,1,0.14174277627885271,1.2282583223043755,0.13139039373452091,0.13871157692233593,0,0]
[null,31.123141045510788,304.12314104551081,39.526673537715105,1.4662776182969875E+17,1,0.16193747311038431,1.009109309772384,0.13871157692233593,0.15347062291791641,0,0]
[null,29.17553768718939,302.17553768718938,36.924889381723645,1.0871155386739324E+16,1,0.19487088464424554,0.76790916199943027,0.15347062291791641,0.17566190151936215,0,0]
[null,28.509156826863936,301.50915682686394,36.026959910553124,4429042920324366,0.99999999999999978,0.2077277511020392,0.69882550946011412,0.17566190151936215,0.19178560854128845,0,0]
[null,25.20989591071945,298.20989591071947,31.522179500190649,48967576953237.875,0.99999999999997957,0.28621999523912461,0.43548506047746993,0.19178560854128845,0.22512559503978222,0,0]
[null,23.279951994679998,296.27995199468,28.840543096198456,3351882003799.9214,0.99999999999970168,0.34639143123890387,0.32862759881331793,0.22512559503978222,0.25909081424763447,0,0]
[null,21.910634994574963,294.91063499457493,26.916606211036221,489478419458.09412,0.99999999999795697,0.39720992719651643,0.268523389264956,0.25909081424763447,0.29161682374510794,0,0]
[null,20.848510213304234,293.84851021330422,25.411936651017761,108708589807.31165,0.99999999999080114,0.4420963887201802,0.22928555913720317,0.29161682374510794,0.322449868021985,0,0]
[null,19.980691078535511,292.98069107853553,24.174433680028404,31537201313.372944,0.99999999996829136,0.482789631311207,0.20135051638238025,0.322449868021985,0.35169170566958297,0,0]
[null,19.246960454773433,292.24696045477344,23.122406005660878,11013702382.327333,0.99999999990920396,0.52031625788444968,0.18029577090080065,0.35169170566958297,0.37951084481013547,0,0]
[null,18.61137407843048,291.61137407843046,22.206818962482199,4408582131.0796804,0.99999999977316967,0.55534211267939793,0.16377188332444731,0.37951084481013547,0.40607267991500373,0,0]
[null,18.050747162496059,291.05074716249607,21.395894712963948,1959381527.0385253,0.99999999948963492,0.58832805689623491,0.15040602977185813,0.40607267991500373,0.43152308059808342,0,0]
[null,17.549249297159747,290.54924929715975,20.667846511486076,946088345.83354759,0.99999999894301628,0.61960868949549464,0.1393381004011662,0.43152308059808342,0.45598665091324053,0,0]
[null,17.095589295419444,290.09558929541947,20.007078321412983,488611533.35592848,0.99999999795338435,0.64943601866990064,0.12999964191608754,0.45598665091324053,0.47956895190165305,0,0]
[null,16.681430162391024,289.68143016239105,19.402037075075878,266807257.87782991,0.999999996251976,0.67800545039817317,0.1219987264043674,0.47956895190165305,0.50235948380081086,0,0]
[null,14.992994517431759,287.99299451743178,16.917408627559048,22240124.549072362,0.99999995503622507,0.80911913317357165,9.3987186338885476E-2,0.50235948380081086,0.52987753411423055,0,0]
[null,17.008093782120845,290.00809378212085,19.879400912745798,430045215.19744265,0.99999999767466308,0.65536285527183469,0.12826870314851613,0.52987753411423055,0.54498383459376798,0,0]
[null,18.870301579209929,291.87030157920992,22.580295508816114,6404684475.1890287,0.99999999984386423,0.540778655213908,0.1703209256025999,0.54498383459376798,0.5443252787192282,0,0]
[null,20.510311875737386,293.51031187573739,24.930538816723907,67173107389.573318,0.99999999998511313,0.45750198968209332,0.21798537940244717,0.5443252787192282,0.52731982609704886,0,0]
[null,21.867088192398267,294.86708819239828,26.85512830683918,460292644036.50238,0.99999999999782752,0.39895128366876148,0.26679582843294619,0.52731982609704886,0.4972596895617431,0,0]
[null,22.890135206237186,295.89013520623718,28.294650369363982,1941826943596.9548,0.99999999999948497,0.36011081374210807,0.31032306176329733,0.4972596895617431,0.46066974726704463,0,0]
[null,23.541378041736358,296.54137804173638,29.2058356418598,4829845723892.4355,0.99999999999979294,0.33750403802402995,0.34147549975430064,0.46066974726704463,0.42504047931294675,0,0]
[null,23.796579308474762,296.79657930847475,29.561809539580096,6894944236266.8193,0.999999999999855,0.32906278461816224,0.35447873012607528,0.42504047931294675,0.39639488432742537,0,0]
[null,23.646241147281103,296.6462411472811,29.352180707902395,5591007994740.6484,0.99999999999982114,0.33400783883796004,0.34676252241494321,0.39639488432742537,0.37811380793960864,0,0]
[null,23.095958713310132,296.09595871331015,28.583061175561451,2590990045534.2622,0.99999999999961409,0.3527960985415593,0.31986310143230023,0.37811380793960864,0.37118304581632161,0,0]
[null,22.166211940415955,{"$f":"B333+273","v":295.16621194041596},{"$f":"$C$5*$C$6*(C333-$C$6)/C333","v":27.277055456529123},{"$f":"EXP(D333)","v":701899070577.15845},{"$f":"E333/(1+E333)","v":0.99999999999857525},{"$f":"$C$7*EXP($C$8/C333)","v":0.38715207680391367},{"$f":"$C$4*EXP(-$C$2/C333)","v":0.27887963771499463},{"$f":"IF(J332<1,J332,J332-J332*F332)","v":0.37118304581632161},{"$f":"G333-(G333-I333)*EXP(-H333)","v":0.37506941343666861},{"$f":"IF(J333<1,0,J333*F333)","v":0},{"$f":"K333+L332","v":0}]
[null,20.891603336755225,293.89160333675522,25.473196627096844,115576285233.06131,0.9999999999913477,0.44017353645243923,0.23076495299954741,0.37506941343666861,0.38848567696456637,0,0]
[null,20.510311875737386,293.51031187573739,24.930538816723907,67173107389.573318,0.99999999998511313,0.45750198968209332,0.21798537940244717,0.38848567696456637,0.40200340531937956,0,0]
[null,18.368639070024198,291.36863907002419,21.856095618802218,3104428938.9107342,0.99999999967787956,0.56937521949963033,0.15785128091797243,0.40200340531937956,0.42644357737210137,0,0]
[null,17.115840789867718,290.11584078986772,20.036619242310572,503260880.29524869,0.99999999801295902,0.64807237044155386,0.13040344793025288,0.42644357737210137,0.45353963954867249,0,0]
[null,16.22696626431101,289.22696626431099,18.736121041322505,137086276.53679666,0.9999999927053238,0.71090428857410559,0.1137608560611636,0.45353963954867249,0.48121371037615362,0,0]
[null,15.537501618095693,288.53750161809569,17.721858297324776,49717040.391628116,0.9999999798861724,0.76410597329687224,0.10226983042123465,0.48121371037615362,0.50871482154119363,0,0]
[null,14.97416798415453,287.97416798415452,16.889540074458715,21628881.250265568,0.99999995376552575,0.81072517133516486,9.3712598780675407E-2,0.50871482154119363,0.53573133369124637,0,0]
[null,14.49787618318155,287.49787618318157,16.183280329422661,10673561.238734797,0.99999990631056646,0.8525076722245587,8.7015388688411632E-2,0.53573133369124637,0.56213052681033293,0,0]
[null,14.085293458597823,287.08529345859785,15.569596084151836,5778161.3479539929,0.99999982693459621,0.89055796697952916,8.158590357357226E-2,0.56213052681033293,0.58786165637368293,0,0]
[null,13.721369703998047,286.72136970399805,15.026822232538528,3357886.2191833728,0.99999970219369061,0.9256244916365125,7.7066804339222472E-2,0.58786165637368293,0.6129142006434547,0,0]
[null,13.395828812382504,286.39582881238249,14.540125625837595,2063936.4715819645,0.99999951548919785,0.95824066757959492,7.3227872425354085E-2,0.6129142006434547,0.63729803959416409,0,0]
[null,13.101341254877529,286.10134125487752,14.098900852646569,1327623.224996736,0.99999924677481689,0.98880169340724611,6.9913133913326792E-2,0.63729803959416409,0.6610333882041477,0,0]
[null,12.832495178441341,285.83249517844132,13.695300321404625,886733.99321516673,0.99999887226735418,1.0176094960373474,6.7012620568519546E-2,0.6610333882041477,0.68414543961292396,0,0]
[null,12.4783266178773,285.47832661787731,13.162450549434869,520450.75386781938,0.99999807859231415,1.0569321876874636,6.3366732475338763E-2,0.68414543961292396,0.70703484575559794,0,0]
[null,14.478962071904441,287.47896207190445,16.155185606612918,10377863.713917602,0.99999990364106417,0.85421357985424751,8.6759109436369539E-2,0.70703484575559794,0.71926570158635794,0,0]
[null,16.327119417851257,289.32711941785124,18.883052985093187,158783625.12087837,0.99999999370212145,0.70351066364954618,0.11552931925987367,0.71926570158635794,0.71754673953043813,0,0]
[null,17.953711586366026,290.95371158636601,21.255219400223009,1702254524.4088976,0.99999999941254381,0.59424654965662949,0.14820100739121642,0.71754673953043813,0.70056309732222544,0,0]
[null,19.297933967819802,292.2979339678198,23.195662872130249,11850819664.438757,0.99999999991561761,0.51761116209610902,0.18168776689554039,0.70056309732222544,0.67016776631883423,0,0]
[null,20.309537385596052,293.30953738559606,24.64422750697485,50448936688.099663,0.99999999998017797,0.46691787283480179,0.21153050196833217,0.67016776631883423,0.6314170753720264,0,0]
[null,20.950706490458607,293.95070649045863,25.557186802730531,125702872301.43745,0.9999999999920447,0.43755080606417129,0.23280879574745683,0.6314170753720264,0.59115203048194054,0,0]
[null,21.197473358620591,294.19747335862058,25.907497115890191,178436229367.7616,0.99999999999439571,0.42677925206435346,0.24153039139070046,0.59115203048194054,0.55588173058443147,0,0]
[null,21.040613450963725,294.04061345096375,25.684886835289589,142825127647.42303,0.99999999999299838,0.43359307555274285,0.23595102487872147,0.55588173058443147,0.53017902213062151,0,0]
[null,20.485990441023471,293.48599044102349,24.895876469203674,64884621077.123131,0.99999999998458799,0.45863174641006099,0.21719355601233556,0.53017902213062151,0.51621114694186376,0,0]
[null,19.554337021519871,292.55433702151987,23.563766779606887,17124341702.174252,0.9999999999416036,0.50422989445684108,0.18884669422586051,0.51621114694186376,0.51414933418807196,0,0]
[null,18.280479883235596,291.28047988323561,21.728571330242065,2732741979.6743054,0.99999999963406716,0.57456515098632943,0.15575200273730005,0.51414933418807196,0.52286302328444001,0,0]
[null,17.95371158636603,290.95371158636601,21.255219400223009,1702254524.4088976,0.99999999941254381,0.59424654965662949,0.14820100739121642,0.52286302328444001,0.53269554886859816,0,0]
[null,15.830600127721985,288.83060012772199,18.153623522880785,76562926.008522376,0.9999999869388484,0.74098822688692589,0.10701234321790667,0.53269554886859816,0.5538342182885222,0,0]
[null,14.588659539563823,287.58865953956382,16.318077059951246,12213800.51263926,0.99999991812540923,0.84437009921339212,8.8255569592259234E-2,0.5538342182885222,0.57837669469151509,0,0]
[null,13.707488669077939,286.70748866907792,15.006092090957489,3288993.30947793,0.9999996959556916,0.92699082208728145,7.6899259878804277E-2,0.57837669469151509,0.60418002034634788,0,0]
[null,13.023999441963134,286.02399944196316,13.982870530029047,1182179.7404062785,0.99999915410565765,0.99699903450468585,6.9066646085644515E-2,0.60418002034634788,0.63039500168665163,0,0]
[null,12.465548080919778,285.4655480809198,13.143200413102431,510527.82122927334,0.99999804124672609,1.0583808818250882,6.323879749535935E-2,0.63039500168665163,0.65662228324098648,0,0]
[null,11.993384182864771,284.99338418286476,12.430702137185486,250371.76122437132,0.99999600595529992,1.1134209960154537,5.8680964046894615E-2,0.65662228324098648,0.68265634985139079,0,0]
[null,11.584377210433896,284.5843772104339,11.811597012504816,134806.67748937834,0.99999258202486219,1.1635654527099906,5.4988153754331602E-2,0.68265634985139079,0.70838673721174295,0,0]
[null,11.223607492761616,284.22360749276163,11.264028590142669,77966.037184936824,0.99998717406693771,1.209794547351567,5.1916182802137181E-2,0.70838673721174295,0.73375374039096863,0,0]
[null,10.900887983319087,283.90088798331908,10.77303271551134,47716.508899078784,0.99997904333182785,1.2528071937646823,4.9307819013237407E-2,0.73375374039096863,0.75872640102957689,0,0]
[null,10.608952676441668,283.60895267644167,10.32791030944863,30574.154579099781,0.9999672937058286,1.293121359201459,4.7056588061653838E-2,0.75872640102957689,0.78329071541804363,0,0]
[null,10.342436622275732,283.34243662227573,9.9207444691382687,20348.133548342586,0.99995085785851157,1.3311328737800059,4.5087453319587321E-2,0.78329071541804363,0.80744295036886682,0,0]
[null,14.3971626301678,287.39716263016783,16.033639426079294,9190118.84352725,0.99999989118749077,0.86163326433980525,8.5659036798478611E-2,0.80744295036886682,0.81189158766178748,0,0]
[null,16.030601568967409,289.03060156896743,18.447744240306921,102743303.89448607,0.9999999902670057,0.72564210171942467,0.11036828892441791,0.81189158766178748,0.80287888468793089,0,0]
[null,17.538985770714319,290.53898577071431,20.652920218823922,932071623.38617766,0.9999999989271211,0.62026710250094752,0.13911992058864403,0.80287888468793089,0.77916193778201948,0,0]
[null,18.865679643964192,291.8656796439642,22.573634646738718,6362165518.9056835,0.99999999984282084,0.54103501577094804,0.17020186184862801,0.77916193778201948,0.74189377194365347,0,0]
[null,19.960869558946804,292.9608695589468,24.146082714646937,30655646719.596218,0.99999999996737954,0.48376453611503417,0.20075209460132565,0.74189377194365347,0.69494399308553101,0,0]
[null,20.78343420949421,293.7834342094942,25.319392366907813,99099711483.203049,0.99999999998990918,0.44501714651789887,0.22706863313847897,0.69494399308553101,0.64417537527651147,0,0]
[null,21.302488602624525,294.30248860262452,26.056398588723326,207085707150.26819,0.99999999999517108,0.42228143310154892,0.24533581270575441,0.64417537527651147,0.59590051536586208,0,0]
[null,21.498543703307625,294.49854370330763,26.334101594468564,273372615777.22919,0.99999999999634204,0.41401920488976579,0.25259387697354324,0.59590051536586208,0.55530156714932111,0,0]
[null,21.364238193008084,294.36423819300808,26.143903941535168,226023303002.83353,0.99999999999557565,0.41966033316721174,0.2476000657662937,0.55530156714932111,0.52555165992288344,0,0]
[null,20.904614866526622,293.90461486652663,25.491689922075789,117733557623.51549,0.99999999999150624,0.43959470672976092,0.23121342856055632,0.52555165992288344,0.50780757273176591,0,0]
[null,20.136931289214782,293.13693128921477,24.397771771458547,39429171451.234467,0.99999999997463807,0.47517808589118737,0.20612745885777356,0.50780757273176591,0.50172965709556627,0,0]
[null,19.090011823852816,292.09001182385282,22.896685848897693,8788288755.829195,0.99999999988621224,0.52874045036543471,0.17607343137323495,0.50172965709556627,0.50609037667220613,0,0]
[null,18.865679643964192,291.8656796439642,22.573634646738718,6362165518.9056835,0.99999999984282084,0.54103501577094804,0.17020186184862801,0.50609037667220613,0.51155940383677512,0,0]
[null,17.134838361054978,290.13483836105496,20.064327312445098,517400250.79879105,0.99999999806726036,0.64679593149920678,0.13078333992722552,0.51155940383677512,0.52813834010919658,0,0]
[null,16.122361115852989,289.12236111585298,18.582549014232761,117570535.57828546,0.99999999149446772,0.71871510687750073,0.11194139997772638,0.52813834010919658,0.54832105813281951,0,0]
[null,15.403997078145764,288.40399707814578,17.524901028555135,40828912.518022805,0.99999997550755304,0.77488974350229745,0.10017682614259252,0.54832105813281951,0.56991816676269502,0,0]
[null,14.846790641386402,287.84679064138641,16.700890086530865,17910363.800461855,0.99999994416640803,0.82168103975289375,9.187481642821721E-2,0.56991816676269502,0.59201807860392475,0,0]
[null,14.391519832943775,287.3915198329438,16.025252215645786,9113361.7219013423,0.99999989027101954,0.86214762517941335,8.5583643542994067E-2,0.59201807860392475,0.61417508808302135,0,0]
[null,14.00659384908851,287.00659384908852,15.452336249277835,5138831.3577636778,0.99999980540326472,0.89801940954373427,8.0587682162505628E-2,0.61417508808302135,0.63615201659957532,0,0]
[null,13.67315579523655,286.67315579523654,14.954810249171127,3124579.4283611937,0.9999996799570301,0.93037949727066849,7.6486354857006666E-2,0.63615201659957532,0.65781729396227862,0,0]
[null,13.379042587741786,286.37904258774176,14.51499955208342,2012723.9308722066,0.99999950316112018,0.95995535834821943,7.3034959500989288E-2,0.65781729396227862,0.67909738173900314,0,0]
[null,13.115949358477188,286.11594935847717,14.120809289855746,1357030.33069853,0.999999263097338,0.98726148161379323,7.0074125316870586E-2,0.67909738173900314,0.69995247703400199,0,0]
[null,12.877952583025312,285.87795258302532,13.763595790599119,949409.78409189114,0.99999894671514511,1.0126764342890431,6.7494834057701875E-2,0.69995247703400199,0.7203631724724715,0,0]
[null,12.660678550034561,285.66067855003456,13.436965678505189,684857.23434312979,0.99999853984379561,1.0364876581196294,6.52195551250591E-2,0.7203631724724715,0.74032271991156406,0,0]
[null,16.984920735585614,289.9849207355856,19.845572850524167,415740926.14193159,0.99999999759465585,0.65694221123636631,0.12781396664165812,0.74032271991156406,0.73031848271360456,0,0]
[null,18.51006791443174,291.51006791443172,22.060514567077725,3808550726.8941875,0.99999999973743292,0.56115348600191861,0.16127557298622272,0.73031848271360456,0.70512262693830807,0,0]
[null,19.917922274291399,{"$f":"B397+273","v":292.91792227429141},{"$f":"$C$5*$C$6*(C397-$C$6)/C397","v":24.084641517290788},{"$f":"EXP(D397)","v":28828822857.482204},{"$f":"E397/(1+E397)","v":0.99999999996531252},{"$f":"$C$7*EXP($C$8/C397)","v":0.48588407636143843},{"$f":"$C$4*EXP(-$C$2/C397)","v":0.19946131299879655},{"$f":"IF(J396<1,J396,J396-J396*F396)","v":0.70512262693830807},{"$f":"G397-(G397-I397)*EXP(-H397)","v":0.6654781389129989},{"$f":"IF(J397<1,0,J397*F397)","v":0},{"$f":"K397+L396","v":0}]
[null,21.155388123644773,294.1553881236448,25.847794476582663,168094889706.84366,0.99999999999405098,0.42859609722384417,0.24002122223873262,0.6654781389129989,0.61493015653501015,0,0]
[null,22.175795787789067,295.17579578778907,27.290559754904404,711442015417.47437,0.99999999999859446,0.38678024778047215,0.27927530459203936,0.61493015653501015,0.55933724539444707,0,0]
[null,22.940661704713463,295.94066170471348,28.365487929823448,2084370338869.6599,0.99999999999952027,0.35830029084397991,0.31263953097330999,0.55933724539444707,0.5053615477569976,0,0]
[null,23.421139790663183,296.42113979066318,29.037905870345899,4083215351591.2754,0.99999999999975508,0.34156101195489341,0.3355079306695698,0.5053615477569976,0.45867427325207638,0,0]
[null,23.599109338723522,296.59910933872351,29.286417205664165,5235153101976.4199,0.99999999999980893,0.33557443260993391,0.34437662553208459,0.45867427325207638,0.42281060912017571,0,0]
[null,23.467858421515373,296.46785842151536,29.103171245458164,4358596620560.9819,0.99999999999977052,0.33997852033768056,0.33781471679108316,0.42281060912017571,0.39906492244816311,0,0]
[null,23.032337024215096,296.03233702421511,28.493953917075466,2370101547195.1401,0.99999999999957812,0.35504004593379335,0.31688471976090948,0.39906492244816311,0.38710841412589381,0,0]
[null,22.30897036126294,295.30897036126294,27.478121149469004,858215567859.3075,0.99999999999883482,0.38165268150157966,0.28482912585891218,0.38710841412589381,0.38575617132321455,0,0]
[null,21.325039417316752,294.32503941731676,26.088359607310469,213811282902.79834,0.99999999999532296,0.42132219334366611,0.24616041276056697,0.38575617132321455,0.39351679097280606,0,0]
[null,21.155388123644773,294.1553881236448,25.847794476582663,168094889706.84366,0.99999999999405098,0.42859609722384417,0.24002122223873262,0.39351679097280606,0.40100232318776557,0,0]
[null,19.541709570227741,292.54170957022774,23.54565334168657,16816953336.24551,0.99999999994053623,0.5048801853610102,0.18848791246086988,0.40100232318776557,0.41884744769520116,0,0]
[null,18.597768128260814,291.59776812826084,22.187175423096718,4322826999.011117,0.99999999976866993,0.5561188643552557,0.16343448392717361,0.41884744769520116,0.4395449388414388,0,0]
[null,17.928031016810706,290.92803101681068,21.217973823546089,1640019261.5253665,0.99999999939025108,0.5958234900538808,0.14762263175125798,0.4395449388414388,0.46099313379395979,0,0]
[null,17.408542554348568,290.40854255434857,20.463124148543756,770942344.47530615,0.99999999870288614,0.62870045163950394,0.13637525264891412,0.46099313379395979,0.48237327480807757,0,0]
[null,16.984089574843782,289.98408957484378,19.844359419883055,415236759.31098902,0.99999999759173541,0.65699893423453493,0.1277976849857772,0.48237327480807757,0.50332286987253105,0,0]
[null,16.625219694090674,289.62521969409067,19.319786358146192,245740426.05024958,0.99999999593066546,0.68198507993169977,0.12094977784395006,0.50332286987253105,0.52367634411697117,0,0]
[null,16.314352463393675,289.31435246339367,18.864328593814339,155838160.468615,0.99999999358308655,0.70444858416759315,0.11530243410198147,0.52367634411697117,0.54336305475339908,0,0]
[null,16.040148132876858,289.04014813287688,18.461773172209593,104194840.65702836,0.99999999040259591,0.72491811826259367,0.11053096427241588,0.54336305475339908,0.56236122975348524,0,0]
[null,15.794864000931536,288.79486400093151,18.101027327120281,72640075.172484994,0.99999998623349462,0.74376651227412882,0.10642306191655022,0.56236122975348524,0.58067514222868777,0,0]
[null,15.572977513636996,288.572977513637,17.774164712985062,52386774.006985314,0.99999998091121278,0.76126740772544232,0.10283298609206333,0.58067514222868777,0.59832304211583764,0,0]
[null,15.370411021426751,288.37041102142678,17.47532330673797,38854066.718479499,0.99999997426266907,0.7776281065544951,9.9656761845391031E-2,0.59832304211583764,0.61533047782771266,0,0]
[null,16.524501772936183,289.52450177293616,19.172329636262184,212049360.11407405,0.99999999528411687,0.68917821271495927,0.11909177957321852,0.61533047782771266,0.6236216346443344,0,0]
[null,18.760947392566575,291.76094739256655,22.422644095623653,5470545070.2266951,0.99999999981720289,0.54687899239532267,0.16752510217841543,0.6236216346443344,0.6117844954685322,0,0]
[null,20.824616425190033,293.82461642519002,25.377962167927276,105077306430.98666,0.99999999999048317,0.44316641186045475,0.22846918691059492,0.6117844954685322,0.57734438954595224,0,0]
[null,22.637333513478453,295.63733351347844,27.93986170490561,1361845260052.9937,0.9999999999992657,0.36931737663050607,0.29897678008039125,0.57734438954595224,0.52358534752290842,0,0]
[null,24.130429794415768,297.13042979441576,30.02656608095662,10974176972444.955,0.99999999999990885,0.3183588983829666,0.37220376202185768,0.52358534752290842,0.45980379774057034,0,0]
[null,25.247344194766729,298.24734419476675,31.573870247009097,51565308530432.93,0.99999999999998057,0.28516921315535587,0.43785478566410713,0.45980379774057034,0.39788177945889147,0,0]
[null,25.945766062497491,298.94576606249751,32.535545316488964,134898710004238.47,0.99999999999999256,0.26630862126594718,0.4843704956301717,0.39788177945889147,0.34736885765005654,0,0]
[null,26.199237967558719,299.1992379675587,32.883446943433725,191029110514739.47,0.99999999999999478,0.25979720140809659,0.50238915741934831,0.34736885765005654,0.31278534746774755,0,0]
[null,25.998157955161375,298.99815795516139,32.607503913751884,144963617598574.91,0.99999999999999312,0.26494857127731319,0.48804361331293883,0.31278534746774755,0.29431203311314069,0,0]
[null,25.350143284455157,298.35014328445516,31.715699545177799,59422826035744.25,0.99999999999998312,0.28230584392627406,0.44442328838922679,0.29431203311314069,0.29000413983652329,0,0]
[null,24.279741873558461,297.27974187355846,30.234087064647532,13505080509951.822,0.99999999999992595,0.31369257446418058,0.38040190124314405,0.29000413983652329,0.29749947751143879,0,0]
[null,22.827502381901901,295.82750238190192,28.206806292427469,1778526435985.0698,0.99999999999943778,0.36236871488772615,0.30747428503767943,0.29749947751143879,0.31467024946557992,0,0]
[null,22.637333513478456,295.63733351347844,27.93986170490561,1361845260052.9937,0.9999999999992657,0.36931737663050607,0.29897678008039125,0.31467024946557992,0.32879234430569554,0,0]
[null,20.274592954928394,293.27459295492838,24.594355497861915,47994655497.926094,0.99999999997916433,0.46857771372709578,0.21042584772045114,0.32879234430569554,0.35531813706058812,0,0]
[null,18.892478329243648,291.89247832924366,22.612252406435253,6612663808.8919592,0.99999999984877497,0.53955039951244155,0.17089331861701731,0.35531813706058812,0.38425890836114096,0,0]
[null,17.911852396378329,290.91185239637832,21.194505934649339,1601979573.1191609,0.99999999937577233,0.59681924528813468,0.14725936551741731,0.38425890836114096,0.41336477451627945,0,0]
[null,17.151219829651208,290.15121982965121,20.088216868167645,529909538.6592477,0.99999999811288542,0.64569742003230901,0.13111176643108341,0.41336477451627945,0.44191387124716802,0,0]
[null,16.529737770693583,289.5297377706936,19.17999796058773,213681673.93758839,0.9999999953201415,0.68880227851272779,0.11918769535078609,0.44191387124716802,0.46965396160537587,0,0]
[null,16.004282176887806,289.00428217688778,18.409062387318983,98844887.584318355,0.99999998988313898,0.72764208263466235,0.10992098470769029,0.46965396160537587,0.49650925500918847,0,0]
[null,15.549111837828267,288.54911183782826,17.738978068323593,50575512.19106973,0.99999998022758574,0.76317575396362214,0.10245380965138355,0.49650925500918847,0.52247728104663038,0,0]
[null,15.147623145008836,288.14762314500882,17.146164608068155,27956620.755586181,0.99999996423029902,0.79605581364750533,9.6271730573506034E-2,0.52247728104663038,0.54758708693432534,0,0]
[null,14.788479271101142,287.78847927110115,16.614473327988325,16427598.733418448,0.99999993912683438,0.82674902613302792,9.1045044337204492E-2,0.54758708693432534,0.57188071206847679,0,0]
[null,14.463594118593619,287.46359411859362,16.132355568641149,10143620.753178952,0.99999990141588235,0.8556023302654735,8.6551410477666194E-2,0.57188071206847679,0.59540452549557921,0,0]
[null,14.166997212143521,287.16699721214354,15.691263996792841,6525734.0099512693,0.99999984676055675,0.88288155919969891,8.263472324910115E-2,0.59540452549557921,0.61820507892127696,0,0]
[null,14.843178121440451,287.84317812144047,16.695537392221624,17814751.218817085,0.99999994386674662,0.82199404867552983,9.1823200960448131E-2,0.61820507892127696,0.63608421416740712,0,0]
[null,17.289586671663333,290.28958667166336,20.289893552203498,648319087.56736636,0.99999999845754961,0.63649778294198545,0.13391743367399206,0.63608421416740712,0.63613604993497663,0,0]
[null,19.546138224179632,292.54613822417963,23.552006199024003,16924129117.407934,0.99999999994091271,0.50465201586669484,0.18861366895123494,0.63613604993497663,0.61353478178293652,0,0]
[null,21.526969533970693,294.52696953397071,26.374334784169456,284595520877.29877,0.99999999999648626,0.41283566808774397,0.25366307410940903,0.61353478178293652,0.56856878694051682,0,0]
[null,23.15670868945595,296.15670868945597,28.66811063891717,2820994614628.0205,0.99999999999964551,0.35066756631051765,0.32273195937306842,0.56856878694051682,0.50846464324089968,0,0]
[null,24.373343062442679,297.3733430624427,30.364072153496931,15379739672493.031,0.99999999999993494,0.31080462729289304,0.38562870125604348,0.50846464324089968,0.4452179784841675,0,0]
[null,25.130578928708442,298.13057892870842,31.412653525363556,43887625866917.297,0.99999999999997724,0.28845927714434849,0.43050621295783154,0.4452179784841675,0.39038063107192233,0,0]
[null,25.399602974128157,298.39960297412813,31.783903006586431,63617073823208.867,0.99999999999998423,0.28093915016262683,0.44761697270108114,0.39038063107192233,0.35088861236604924,0,0]
[null,25.170178659899062,298.17017865989908,31.467342657259312,46354646788845.828,0.99999999999997846,0.28733896479194337,0.4329851231276674,0.35088861236604924,0.32855536864325546,0,0]
[null,24.451035729458173,297.45103572945817,30.471902755584235,17130862128679.881,0.9999999999999416,0.30842908481842135,0.39001910976455961,0.32855536864325546,0.32205546324075496,0,0]
[null,23.269538036102368,296.26953803610235,28.825978243365252,3303416141548.0742,0.99999999999969724,0.34675059838503802,0.32812547467642467,0.32205546324075496,0.32896336824744377,0,0]
[null,21.670642330684718,294.6706423306847,26.577566801414388,348731039442.60986,0.99999999999713252,0.40690871733040013,0.259133533060806,0.32896336824744377,0.34675673518359684,0,0]
[null,21.526969533970693,294.52696953397071,26.374334784169456,284595520877.29877,0.99999999999648626,0.41283566808774397,0.25366307410940903,0.34675673518359684,0.36156150886422744,0,0]
[null,18.946250878401457,291.94625087840143,22.689718978671014,7145288166.1099844,0.99999999986004762,0.53658455562972562,0.17228885006709266,0.36156150886422744,0.38926135589130884,0,0]
[null,17.436627239981938,290.43662723998193,20.504002023957547,803109819.40219128,0.99999999875484025,0.62687445931865737,0.13696178111478829,0.38926135589130884,0.41967498900971278,0,0]
[null,16.365532222832222,289.3655322228322,18.939380371463621,167984180.8729656,0.99999999404705853,0.70069669941647184,0.11621453847786657,0.41967498900971278,0.45050751005654982,0,0]
[null,15.534726382604546,288.53472638260456,17.717765888572607,49513993.698811106,0.99999997980368971,0.7643285061500571,0.10222589991467497,0.45050751005654982,0.48100288320721185,0,0]
[null,14.855908584412704,287.8559085844127,16.714399604553549,18153965.9519297,0.99999994491562083,0.82089157506742783,9.2005216347602489E-2,0.48100288320721185,0.51087896608732775,0,0]
[null,14.281976313812521,{"$f":"B461+273","v":287.28197631381249},{"$f":"$C$5*$C$6*(C461-$C$6)/C461","v":15.862366169828519},{"$f":"EXP(D461)","v":7743514.1713160658},{"$f":"E461/(1+E461)","v":0.99999987085968356},{"$f":"$C$7*EXP($C$8/C461)","v":0.87219801671032882},{"$f":"$C$4*EXP(-$C$2/C461)","v":8.4132536289758628E-2},{"$f":"IF(J460<1,J460,J460-J460*F460)","v":0.51087896608732775},{"$f":"G461-(G461-I461)*EXP(-H461)","v":0.54003401484682678},{"$f":"IF(J461<1,0,J461*F461)","v":0},{"$f":"K461+L460","v":0}]
[null,13.78481356726299,286.78481356726297,15.121544683863917,3691504.6010240852,0.99999972910781998,0.91940688347870936,7.7837023765820107E-2,0.54003401484682678,0.56844328153302659,0,0]
[null,13.346284945993185,286.3462849459932,14.465958546818403,1916399.1622024181,0.99999947818831381,0.96331093103724585,7.2659895322360626E-2,0.56844328153302659,0.5961167730915562,0,0]
[null,12.954007727035311,285.95400772703533,13.877812925812224,1064284.1013744895,0.99999906040214348,1.004479778209292,6.8309053049651305E-2,0.5961167730915562,0.62308025455883487,0,0]
[null,12.599149818087346,285.59914981808737,13.344378657302842,624295.22802698996,0.99999839819631275,1.0433384990729473,6.4588667709383388E-2,0.62308025455883487,0.64936615169894174,0,0]
[null,12.275189928843469,285.27518992884347,12.856232528942433,383169.42334049387,0.99999739019522627,1.0802139630620722,6.1361970954534904E-2,0.64936615169894174,0.67500902829081078,0,0]
[null,15.901732077409028,288.90173207740901,18.258276330770901,85009734.444252089,0.99999998823664138,0.73549098908126065,0.10819458343769121,0.67500902829081078,0.68121127495055711,0,0]
[null,18.596380168692569,291.59638016869258,22.185171458651432,4314172881.5699568,0.99999999976820586,0.55619816686033885,0.16340010273061661,0.68121127495055711,0.66236571550509282,0,0]
[null,21.080953105941767,294.08095310594177,25.742158193516957,151243686905.27002,0.99999999999338818,0.43182974580777,0.23737400427847111,0.66236571550509282,0.61365260222922058,0,0]
[null,23.260488927559564,296.26048892755955,28.813321423977136,3261868882793.1577,0.99999999999969347,0.34706301611994661,0.32768975318275256,0.61365260222922058,0.53916388483052269,0,0]
[null,25.051684384971974,298.05168438497196,31.303653051557816,39355350419851.781,0.99999999999997458,0.29070520830121621,0.42560776831841451,0.53916388483052269,0.45304129115321901,0,0]
[null,26.386078845895071,299.3860788458951,33.139517317395615,246779740880316.56,0.999999999999996,0.25510645874055127,0.51607852549874944,0.45304129115321901,0.37324515447185308,0,0]
[null,27.212670903345089,300.2126709033451,34.268559396264699,763213859992072.62,0.99999999999999867,0.23541390695632214,0.58102453016309152,0.37324515447185308,0.312506373270514,0,0]
[null,27.499867681927149,300.49986768192713,34.659387496484072,1128186077251362,0.99999999999999911,0.22895749007052477,0.60536077598647864,0.312506373270514,0.27456494151858574,0,0]
[null,27.236692337673567,300.23669233767356,34.301277315146706,788597616676675.37,0.99999999999999878,0.2348664995508247,0.5830237437916993,0.27456494151858574,0.25702648483897605,0,0]
[null,26.433203600018135,299.43320360001815,33.204052576644308,263230864974439.75,0.99999999999999623,0.25393771291283673,0.51958699644420436,0.25702648483897605,0.25577480986183526,0,0]
[null,25.120111320744627,298.12011132074463,31.3981948278666,43257633371270.461,0.99999999999997691,0.28875619437745514,0.42985321476648097,0.25577480986183526,0.26729835433056853,0,0]
[null,23.347602723873845,296.34760272387382,28.935133769955367,3684418289019.6729,0.99999999999972855,0.3440678756037438,0.33190736989317626,0.26729835433056853,0.28898161489874447,0,0]
[null,23.26048892755956,296.26048892755955,28.813321423977136,3261868882793.1577,0.99999999999969347,0.34706301611994661,0.32768975318275256,0.28898161489874447,0.30521033990195268,0,0]
[null,20.422116777458555,293.42211677745854,24.804817836174657,59237334842.202469,0.99999999998311873,0.46161294726621388,0.21512709711947017,0.30521033990195268,0.33548379474588819,0,0]
[null,18.761775506558187,291.76177550655819,22.423838397430963,5477082455.119278,0.99999999981742105,0.54683252105682734,0.16754610870133474,0.33548379474588819,0.36808695216531695,0,0]
[null,17.583744627357554,290.58374462735753,20.718005498088917,994753472.49687386,0.9999999989947258,0.6174012450205878,0.14007379167420142,0.36808695216531695,0.4006738045949807,0,0]
[null,16.669992888494189,289.66999288849416,19.385303918387532,262379875.57166007,0.99999999618873214,0.67881318359858411,0.12178459285277293,0.4006738045949807,0.43256552826482875,0,0]
[null,15.923403356457184,288.92340335645719,18.290149936598144,87762945.509076044,0.99999998860566974,0.73382483762793449,0.10855724081945298,0.43256552826482875,0.46355681420612849,0,0]
[null,15.292170901342281,288.29217090134227,17.359785136820705,34614566.094225347,0.99999997111042882,0.78404732454816273,9.8455233833275702E-2,0.46355681420612849,0.49360720295257315,0,0]
[null,14.745372477256549,287.74537247725652,16.550567054893328,15410614.063704627,0.99999993510966334,0.83051695996725983,9.0436241486011509E-2,0.49360720295257315,0.52273892124871835,0,0]
[null,14.263062085556815,287.26306208555684,15.834229027900792,7528670.5311559634,0.99999986717444167,0.87394596345021702,8.3884374091273889E-2,0.52273892124871835,0.55099789248398268,0,0]
[null,13.831620738393186,286.83162073839321,15.191401492062292,3958602.0057974779,0.99999974738563113,0.91484823722338926,7.8409980011711705E-2,0.55099789248398268,0.57843756168295757,0,0]
[null,13.441334566040618,286.44133456604061,14.608225052465194,2209385.6589303063,0.99999954738569818,0.95360870984592039,7.3753292010616409E-2,0.57843756168295757,0.60511191786291163,0,0]
[null,13.085031206356181,286.08503120635618,14.074437287677283,1295538.8768450753,0.99999922812101893,0.99052437609212007,6.9733803524402296E-2,0.60511191786291163,0.6310725098388541,0,0]
[null,13.359963289222103,286.35996328922209,14.486437566670013,1956049.755586945,0.99999948876582212,0.96190825434892246,7.2816283476212759E-2,0.6310725098388541,0.65430656532787523,0,0]
[null,14.860036950103519,287.86003695010351,16.720516078861511,18265344.493020758,0.9999999452515147,0.82053439208694245,9.2064316148583666E-2,0.65430656532787523,0.66892688642674258,0,0]
[null,16.242630618400071,289.24263061840009,18.759108498198497,140274040.3255032,0.9999999928710972,0.70974245148015491,0.11403573464512838,0.66892688642674258,0.67332574019891789,0,0]
[null,17.454664185424225,290.45466418542424,20.530251024556502,824469761.68108261,0.99999999878709922,0.6257047279243817,0.13733973923545961,0.67332574019891789,0.6672147277945587,0,0]
[null,18.449605633168236,291.44960563316823,21.973147648312864,3489930462.9736476,0.99999999971346132,0.56465275703531503,0.15980306265120342,0.6672147277945587,0.65206751693794995,0,0]
[null,19.189257477154211,292.18925747715423,23.039447007736445,10136889247.694134,0.99999999990135036,0.52339668981062204,0.17873229167216981,0.65206751693794995,0.63100793202200145,0,0]
[null,19.645223232449538,292.64522323244955,23.694092321178811,19508036019.303905,0.99999999994873912,0.49957570190210165,0.19144832926816752,0.63100793202200145,0.60810748145521076,0,0]
[null,19.799997602737704,292.79999760273768,23.915843561700441,24351117087.362377,0.99999999995893407,0.49175503250774505,0.19595769837171598,0.60810748145521076,0.58740221502331647,0,0]
[null,19.647638538242752,292.64763853824275,23.697554625040741,19575695829.573822,0.9999999999489162,0.49945264349281926,0.19151793238038653,0.58740221502331647,0.57207302845721386,0,0]
[null,19.193995361067316,292.19399536106732,23.04625985110949,10206186072.602564,0.99999999990202015,0.52314302955824998,0.17886017670444521,0.57207302845721386,0.56405941095850343,0,0]
[null,18.456484199826743,291.45648419982672,21.983088881873677,3524797701.3423443,0.99999999971629583,0.56425348725326296,0.15996993523657024,0.56405941095850343,0.56408810137188536,0,0]
[null,17.463419355023476,290.46341935502346,20.542991166998398,835040819.29072988,0.99999999880245372,0.62513777735871467,0.13752355973493047,0.56408810137188536,0.57193214120544722,0,0]
[null,17.454664185424228,290.45466418542424,20.530251024556502,824469761.68108261,0.99999999878709922,0.6257047279243817,0.13733973923545961,0.57193214120544722,0.57883256034310593,0,0]
[null,15.876917929589609,288.87691792958958,18.22177439485527,81962664.851445168,0.9999999877993232,0.73740372787785768,0.10778075293927522,0.57883256034310593,0.59503466132262905,0,0]
[null,14.953995534273151,287.95399553427313,16.859675142837251,20992486.434596203,0.99999995236391104,0.81244979764200875,9.341923141420308E-2,0.59503466132262905,0.6144255739414427,0,0]
[null,14.299171673754993,287.29917167375498,15.887943077648588,7944123.8712925743,0.99999987412081048,0.87061215135463199,8.4358754834236951E-2,0.6144255739414427,0.63515069277980207,0,0]
[null,13.791250827398486,286.79125082739847,15.131153248864846,3727145.6182383248,0.9999997316982393,0.91877851247650111,7.791558291795149E-2,0.63515069277980207,0.65641072149043311,0,0]
[null,13.376249278438534,286.37624927843854,14.510818165523178,2004325.5248057754,0.99999950107929636,0.96024100837406345,7.3002905019663236E-2,0.65641072149043311,0.67780094199520424,0,0]
[null,13.025370468348958,286.02537046834897,13.984927927975187,1184614.4583091424,0.9999991558442084,0.99685309275271972,6.9081566007109949E-2,0.67780094199520424,0.69909749584004555,0,0]
[null,12.721425417920376,285.72142541792039,13.5283370491679,750381.51974687108,0.99999866734635512,1.0297708710996456,6.5848200377381913E-2,0.69909749584004555,0.7201703248404665,0,0]
[null,12.453326883122074,285.45332688312209,13.124788264015251,501213.91451316042,0.99999800484787849,1.0597683699910139,6.3116673398120202E-2,0.7201703248404665,0.74094220252181198,0,0]
[null,12.213504571563867,285.21350457156387,12.763158713628611,349115.71702272911,0.99999713562842674,1.0873914840605261,6.076529345804077E-2,0.74094220252181198,0.7613674375878261,0,0]
[null,11.99655890180334,284.99655890180333,12.435500691432415,251576.07086419294,0.99999602507495389,1.1130408994199303,5.8710533957554677E-2,0.7613674375878261,0.78141996731110142,0,0]
[null,11.798503022603915,284.79850302260394,12.135936470648323,186453.37198645202,0.99999463675756517,1.1370201780436007,5.689281173227554E-2,0.78141996731110142,0.80108632168182026,0,0]
[null,16.617477939359361,289.61747793935933,19.308455630895779,242971723.63590026,0.99999999588429478,0.68253513483974604,0.12080598491247881,0.80108632168182026,0.78759589372698136,0,0]
[null,18.364867038829829,291.36486703882986,21.850640869343167,3087541158.0160389,0.99999999967611763,0.56959625190855245,0.15776090940910542,0.78759589372698136,0.75577970793584104,0,0]
[null,19.974781349914256,292.97478134991428,24.165981323238835,31271761014.090153,0.99999999996802225,0.48308007681789389,0.20117192074157161,0.75577970793584104,0.70608615252364892,0,0]
[null,21.385136473159516,294.38513647315949,26.17351058281707,232815139479.36877,0.99999999999570477,0.41877719633261584,0.24837087692590454,0.70608615252364892,0.64289846026791209,0,0]
[null,22.541543767978062,295.54154376797806,27.805269246408582,1190350891517.3142,0.99999999999915989,0.37287123405630257,0.29478183391864965,0.64289846026791209,0.57395889916937359,0,0]
[null,23.399407784830931,296.39940778483094,29.007539503852854,3961086625183.2207,0.99999999999974754,0.34229981503214918,0.33444001615299412,0.57395889916937359,0.50810720443258961,0,0]
[null,23.925646034835289,296.92564603483527,29.74160851569869,8253087722920.3457,0.99999999999987887,0.32487977175699229,0.36123358114385778,0.50810720443258961,0.45255561812137174,0,0]
[null,24.099964775960377,297.09996477596036,29.984198737361954,10518941889799.18,0.99999999999990496,0.31932007082007896,0.37055187840655313,0.45255561812137174,0.41129966184253136,0,0]
[null,23.915641616659222,296.91564161665923,29.727677250157139,8138908940430.7197,0.9999999999998771,0.32520197270464746,0.36070562956693442,0.41129966184253136,0.38522792111422277,0,0]
[null,23.379784756773105,296.37978475677312,28.98011620883857,3853936497848.5503,0.99999999999974054,0.34296838734349328,0.33347852387050181,0.38522792111422277,0.37324427036962388,0,0]
[null,22.513058868396563,{"$f":"B525+273","v":295.51305886839657},{"$f":"$C$5*$C$6*(C525-$C$6)/C525","v":27.765228791893627},{"$f":"EXP(D525)","v":1143630299510.5071},{"$f":"E525/(1+E525)","v":0.99999999999912559},{"$f":"$C$7*EXP($C$8/C525)","v":0.37393507080666089},{"$f":"$C$4*EXP(-$C$2/C525)","v":0.2935452597322365},{"$f":"IF(J524<1,J524,J524-J524*F524)","v":0.37324427036962388},{"$f":"G525-(G525-I525)*EXP(-H525)","v":0.37341999931015563},{"$f":"IF(J525<1,0,J525*F525)","v":0},{"$f":"K525+L524","v":0}]
[null,21.385136473159516,294.38513647315949,26.17351058281707,232815139479.36877,0.99999999999570477,0.41877719633261584,0.24837087692590454,0.37341999931015563,0.38339538136936441,0,0]
[null,19.549979427067719,292.54997942706774,23.557516208250242,17017638607.48698,0.99999999994123745,0.50445420164537236,0.18872280898242483,0.38339538136936441,0.40421556230462607,0,0]
[null,18.476481372169811,291.47648137216981,22.011987087059232,3628144099.2574673,0.99999999972437703,0.56309445105291855,0.16045600787705916,0.40421556230462607,0.42776851657249271,0,0]
[null,17.714822380975921,290.71482238097593,20.908494549627402,1203493662.9152262,0.99999999916908577,0.60908942885534434,0.1429032922071683,0.42776851657249271,0.45191359096493355,0,0]
[null,17.124033769308468,290.12403376930848,20.048569196382246,509310901.44248116,0.9999999980365627,0.64752155840446479,0.13056715247336714,0.45191359096493355,0.47585648383006979,0,0]
[null,16.641324326078013,289.64132432607801,19.343354938573373,251600970.11682624,0.99999999602545253,0.68084235290606321,0.1212494241163916,0.47585648383006979,0.49926320753466924,0,0]
[null,16.233199307065014,289.23319930706504,18.745268336693286,138345997.93771735,0.99999999277174612,0.71044173630573892,0.11387015779985526,0.49926320753466924,0.52199154669944559,0,0]
[null,15.879665334884123,288.87966533488412,18.225816172685978,82294610.105785295,0.99999998784853605,0.73719168991517281,0.10782649742612835,0.52199154669944559,0.54398858428068886,0,0]
[null,15.567826271180103,288.56782627118008,17.766570409582226,51990439.796828955,0.99999998076569496,0.76167888023772057,0.10275103018993036,0.54398858428068886,0.56524569254382162,0,0]
[null,15.288876723216671,288.28887672321667,17.354919206727434,34446543.160852864,0.99999997096951165,0.78431883192348839,9.8404950193001564E-2,0.56524569254382162,0.58577682616765248,0,0]
[null,15.036536162744525,288.03653616274454,16.981848526898951,23720460.049239468,0.99999995784230344,0.80541769621567505,9.4625194688981437E-2,0.58577682616765248,0.60560735774772223,0,0]
[null,14.806167279986214,287.8061672799862,16.640690447160292,16863978.360754166,0.9999999407020147,0.82520820598007816,9.129598559225463E-2,0.60560735774772223,0.62476807838620552,0,0]
[null,14.594248450774945,287.59424845077496,16.32637279318584,12315544.37996993,0.9999999188018095,0.84387183722389836,8.8332468292583982E-2,0.62476807838620552,0.64329188449852359,0,0]
[null,17.847307036337877,290.8473070363379,21.100853712694668,1458761627.9316895,0.99999999931448702,0.60080955880747422,0.1458185755123512,0.64329188449852359,0.6375276487590017,0,0]
[null,19.334676158665886,292.3346761586659,23.248451271076686,12493211716.674458,0.99999999991995658,0.51567061111615964,0.18269748731868093,0.6375276487590017,0.61717997484308285,0,0]
[null,20.704491263352772,293.70449126335279,25.207072919016433,88571229559.286819,0.9999999999887097,0.44858795531742618,0.22440676227313533,0.61717997484308285,0.58329130467237722,0,0]
[null,21.903689927733886,294.90368992773386,26.906802617207337,484703217163.1076,0.99999999999793687,0.39748710292041411,0.26824715540283156,0.58329130467237722,0.53957506045557957,0,0]
[null,22.885818885108826,295.88581888510885,28.288597815937745,1930109428490.4465,0.99999999999948186,0.36026593332171647,0.31012593405581756,0.53957506045557957,0.49176310582624444,0,0]
[null,23.612833481371275,296.6128334813713,29.305568801323236,5336380880098.2021,0.99999999999981259,0.33511745359458844,0.34506974528499279,0.49176310582624444,0.4460493555403548,0,0]
[null,24.056571407857646,297.05657140785763,29.923837085421145,9902784393769.9277,0.99999999999989897,0.32069448811292373,0.36821105995815301,0.4460493555403548,0.40743643598372142,0,0]
[null,24.199843622538111,297.19984362253808,30.123066635523504,12085972947399.723,0.99999999999991729,0.31618041153140181,0.37599381569632123,0.40743643598372142,0.37883739831316543,0,0]
[null,24.037100200619566,297.03710020061959,29.896746241182434,9638110905448.6055,0.99999999999989619,0.32131326058257631,0.36716529309787899,0.37883739831316543,0.36115995109790316,0,0]
[null,23.574645321556723,296.57464532155672,29.252274067824214,5059425563706.1309,0.99999999999980238,0.33639067331250821,0.34314439514152528,0.36115995109790316,0.35396536141897295,0,0]
[null,22.830393064536047,295.83039306453605,28.210861364679872,1785753131669.6255,0.99999999999944,0.36226417429848007,0.30760521312086764,0.35396536141897295,0.35616284134124676,0,0]
[null,21.903689927733886,294.90368992773386,26.906802617207337,484703217163.1076,0.99999999999793687,0.39748710292041411,0.26824715540283156,0.35616284134124676,0.36588566512154708,0,0]
[null,20.343910369873431,293.34391036987341,24.693272366876517,52984876826.088867,0.99999999998112665,0.46529129542769293,0.2126224904117873,0.36588566512154708,0.38492569216198325,0,0]
[null,19.431497819133639,292.43149781913365,23.387493770147998,14356860810.36414,0.99999999993034694,0.510594025732232,0.1853839869232404,0.38492569216198325,0.4061906325930621,0,0]
[null,18.784130812012979,291.78413081201296,22.456076544154474,5656530436.7110233,0.99999999982321319,0.54557959715425686,0.16811414034989636,0.4061906325930621,0.42776005018154983,0,0]
[null,18.28199395050671,291.28199395050672,21.73076211480516,2738735391.3580608,0.99999999963486796,0.57447559318804009,0.1557878302139048,0.42776005018154983,0.44892512680865826,0,0]
[null,17.871718261273188,290.8717182612732,21.136278116506123,1511363584.6994312,0.99999999933834582,0.59929707593645476,0.14636189615197287,0.44892512680865826,0.46939901587019128,0,0]
[null,17.524835108649505,290.52483510864948,20.632339117968204,913084620.22159731,0.99999999890481128,0.62117610209053342,0.13881964379307121,0.46939901587019128,0.48907160386609128,0,0]
[null,17.224351254152523,290.22435125415251,20.194833584821506,589528477.593472,0.9999999983037291,0.64081757106569492,0.1325875844157863,0.48907160386609128,0.507914473906666,0,0]
[null,16.959305710533396,289.95930571053339,19.808173691249635,400479721.90754431,0.99999999750299473,0.65869272402791301,0.12731310152243722,0.507914473906666,0.52593881400997278,0,0]
[null,16.722214392646254,289.72221439264626,19.461695164248827,283208848.57071829,0.99999999646903692,0.67513348379500659,0.12276523735737446,0.52593881400997278,0.54317508338960452,0,0]
[null,16.507739207167326,289.50773920716733,19.147778335037074,206906660.69848865,0.99999999516690286,0.69038320357314442,0.11878520955800659,0.54317508338960452,0.55966261162014885,0,0]
[null,16.311938703412736,289.31193870341275,18.86078831660798,155287425.63344133,0.99999999356032865,0.70462606014431772,0.11525958635395238,0.55966261162014885,0.57544408825581694,0,0]
[null,16.131819700282509,289.13181970028251,18.596439840965569,119215083.13591164,0.99999999161179975,0.71800509017682212,0.11210476854739992,0.57544408825581694,0.5905625977301181,0,0]
[null,19.255565254776631,292.25556525477663,23.134774234402695,11150768256.450195,0.99999999991032007,0.51985855660866442,0.18053003622402311,0.5905625977301181,0.57888424193968324,0,0]
[null,21.519472942386233,294.51947294238624,26.363725055234287,281592000985.13367,0.99999999999644873,0.41314744485123006,0.25338068193942087,0.57888424193968324,0.54178776425809305,0,0]
[null,23.603631989776911,296.60363198977689,29.292728614222025,5268298779997.2295,0.99999999999981015,0.33542376637006993,0.34460488921320653,0.54178776425809305,0.48163270721598672,0,0]
[null,25.426945536020863,298.42694553602087,31.82159789394154,66060882438699.82,0.9999999999999849,0.28018664284080175,0.44939190418120012,0.48163270721598672,0.40871245677153539,0,0]
[null,26.918466498037915,299.9184664980379,33.867418937329255,511014426345303.69,0.999999999999998,0.24223006407263345,0.55706319618873423,0.40871245677153539,0.33760600528347368,0,0]
[null,28.020158197591329,301.02015819759134,35.365518963632212,2285860565908153,0.99999999999999956,0.2177379754760887,0.65194407990767878,0.33760600528347368,0.28019303847328236,0,0]
[null,28.6891526306025,301.68915263060251,36.269890218031932,5646940099373001,0.99999999999999978,0.20416794414039074,0.7168778446408095,0.28019303847328236,0.24128904743066867,0,0]
[null,28.899418507106638,301.89941850710665,36.553307511885436,7497211241850337,0.99999999999999989,0.20009188454542298,0.7385290309384297,0.24128904743066867,0.21977655849841415,0,0]
[null,28.642774156628029,301.64277415662804,36.207323502954075,5304455395316471,0.99999999999999978,0.20507889779328245,0.71218435469069652,0.21977655849841415,0.21228915043198721,0,0]
[null,27.929205885741851,300.92920588574185,35.242255790179115,2020771552700122.5,0.99999999999999956,0.21965607767382853,0.64356165652944786,0.21228915043198721,0.21578536348513966,0,0]
[null,26.786479400188746,299.78647940018874,33.687201939092162,426742515506091.69,0.99999999999999767,0.24535621241602237,0.54662245903731765,0.21578536348513966,0.22823759543537847,0,0]
[null,25.426945536020863,298.42694553602087,31.82159789394154,66060882438699.82,0.9999999999999849,0.28018664284080175,0.44939190418120012,0.22823759543537847,0.24704231896722614,0,0]
[null,23.056303969361917,296.05630396936192,28.527526034693835,2451021603746.7427,0.99999999999959199,0.35419294381851468,0.31800358706520609,0.24704231896722614,0.27623013005454911,0,0]
[null,21.669567550215582,294.66956755021556,26.576047208950431,348201512817.35645,0.99999999999712808,0.40695271664469013,0.25909219509812842,0.27623013005454911,0.30606731625075712,0,0]
[null,20.685662402702974,293.68566240270297,25.180274434840427,86229176760.064987,0.99999999998840294,0.44944414554629619,0.22377628659454393,0.30606731625075712,0.33481523481673792,0,0]
[null,19.922486279487664,292.92248627948766,24.091171724985788,29017697081.108742,0.99999999996553823,0.48565836310253535,0.19959810714486265,0.33481523481673792,0.3621088113787661,0,0]
[null,19.298925983556636,292.29892598355661,23.197088299577707,11867724193.290751,0.99999999991573785,0.5175586662390671,0.18171495858956421,0.3621088113787661,0.38793851701516091,0,0]
[null,18.771713265426524,291.77171326542651,22.438170054138681,5556143303.8678169,0.99999999982001908,0.54627517155403793,0.1677983931457874,0.38793851701516091,0.41239768557022316,0,0]
[null,18.315020836044027,291.31502083604403,21.778544808046256,2872776463.7347026,0.99999999965190467,0.57252573764883385,0.15657130838118202,0.41239768557022316,0.43560495739535243,0,0]
[null,17.912189564410298,290.91218956441031,21.194995040183681,1602763301.8416805,0.99999999937607753,0.59679847530504249,0.14726692739454392,0.43560495739535243,0.45767822205840114,0,0]
[null,17.551844712828718,290.55184471282871,20.671620869115394,949665968.96707082,0.9999999989469982,0.61944230971915837,0.13939332492072978,0.45767822205840114,0.47872602474657006,0,0]
[null,17.225873143865048,290.22587314386504,20.197051744092224,590837597.03234434,0.99999999830748754,0.64071643846628468,0.13261846454566931,0.47872602474657006,0.49884536747961483,0,0]
[null,16.928284416897689,289.92828441689767,19.762872274061923,382742223.19604141,0.99999999738727552,0.66081935969029248,0.12670903398032041,0.49884536747961483,0.51812189659238828,0,0]
[null,16.654529325279874,289.6545293252799,19.362678049704378,256509959.35200557,0.99999999610151591,0.67990689684120842,0.12149564806585676,0.51812189659238828,0.53663092452856997,0,0]
[null,20.467418156372016,293.46741815637199,24.869403808961135,63189488872.650436,0.99999999998417455,0.45949645364466363,0.21659075480317669,0.53663092452856997,0.521609715278881,0,0]
[null,23.511033915055034,296.51103391505501,29.163468613548027,4629493642374.5771,0.99999999999978395,0.33852300486523329,0.33996000299610735,0.521609715278881,0.46884390417117688,0,0]
[null,26.311883845909289,{"$f":"B589+273","v":299.31188384590928},{"$f":"$C$5*$C$6*(C589-$C$6)/C589","v":33.037869373732661},{"$f":"EXP(D589)","v":222927868123163.47},{"$f":"E589/(1+E589)","v":0.99999999999999556},{"$f":"$C$7*EXP($C$8/C589)","v":0.2569582407051787},{"$f":"$C$4*EXP(-$C$2/C589)","v":0.51060039856962214},{"$f":"IF(J588<1,J588,J588-J588*F588)","v":0.46884390417117688},{"$f":"G589-(G589-I589)*EXP(-H589)","v":0.38411827520357517},{"$f":"IF(J589<1,0,J589*F589)","v":0},{"$f":"K589+L588","v":0}]
[null,28.760493316951237,301.76049331695123,36.366094572050244,6217190876346225,0.99999999999999989,0.20277512413674281,0.72415510503771985,0.38411827520357517,0.29067830519914295,0,0]
[null,30.761155443723855,303.76115544372385,39.04562476177356,9.0635717374150256E+16,1,0.16757629780577868,0.95941121572095867,0.29067830519914295,0.21473894113564401,0,0]
[null,32.235671909480821,305.2356719094808,40.997992508532874,6.3856030160585779E+17,1,0.14584148416986209,1.177668367295154,0.21473894113564401,0.1670616277830152,0,0]
[null,33.126409441670049,306.12640944167003,42.168281684980975,2.0580316392690209E+18,1,0.13418906598105876,1.3316262620618182,0.1670616277830152,0.1428689837930753,0,0]
[null,33.398552478609297,306.3985524786093,42.524477851210712,2.9386379077677512E+18,1,0.13083081800348906,1.3823662365800571,0.1428689837930753,0.13385220455378749,0,0]
[null,33.041463978132327,306.04146397813236,42.056970541834644,1.841239282385826E+18,1,0.13525609213538486,1.3161552468361024,0.13385220455378749,0.13487961953710562,0,0]
[null,32.069101179341679,305.06910117934166,40.778386256073048,5.1265846394508653E+17,1,0.14813827583567721,1.1508270504097655,0.13487961953710562,0.14394356840849826,0,0]
[null,30.51947006691346,303.51947006691347,38.723806189648748,6.5695458266549144E+16,1,0.17145783597025555,0.92753748822775317,0.14394356840849826,0.16057521399973948,0,0]
[null,28.760493316951241,301.76049331695123,36.366094572050244,6217190876346225,0.99999999999999989,0.20277512413674281,0.72415510503771985,0.16057521399973948,0.1823193952064403,0,0]
[null,25.578042874747865,298.57804287474789,32.029778579867191,81349725873218.906,0.99999999999998768,0.2760668671860097,0.45932199652462807,0.1823193952064403,0.21684548262176312,0,0]
[null,23.716428705655431,296.7164287056554,29.450075415321695,6166024478631.9648,0.9999999999998378,0.33168936341356958,0.35034478977772715,0.21684548262176312,0.25078814716419695,0,0]
[null,22.395592432544493,295.3955924325445,27.600027810047635,969482062882.68567,0.99999999999896849,0.37835649439949581,0.28849795027062497,0.25078814716419695,0.28275826227658418,0,0]
[null,21.371072224612515,294.37107222461253,26.153586192307145,228222345966.2731,0.99999999999561828,0.41937131645168224,0.24785188030229119,0.28275826227658418,0.31274816942582606,0,0]
[null,20.533978263452056,293.53397826345207,24.964262092291992,69477034238.120346,0.99999999998560674,0.45640551125091311,0.21875852113168945,0.31274816942582606,0.3409745778246655,0,0]
[null,19.826225403827198,292.82622540382721,23.953397921593893,25282996246.071011,0.99999999996044775,0.49044274992999098,0.19673182513900517,0.3409745778246655,0.36766796632265469,0,0]
[null,19.213141990341121,292.21314199034111,23.073789509241337,10491062165.08283,0.9999999999046808,0.52211927870227981,0.17937787316557088,0.36766796632265469,0.39303041368746372,0,0]
[null,18.672364094359622,291.67236409435964,22.294850548530057,4814271383.5295696,0.99999999979228427,0.55187444089291593,0.16529249835753718,0.39303041368746372,0.4172309790451787,0,0]
[null,18.18862178240914,291.18862178240914,21.595614332289195,2392523090.1236844,0.99999999958203123,0.58002656002943043,0.15359301466771721,0.4172309790451787,0.44040965283525846,0,0]
[null,17.751023632446639,290.75102363244662,20.961073834789502,1268465621.3072748,0.99999999921164595,0.60681495001131103,0.14369431519240916,0.44040965283525846,0.46268258963497533,0,0]
[null,17.351527821248681,290.35152782124868,20.38011363253576,709530209.71382999,0.99999999859061672,0.63242486953603483,0.13519190980867637,0.46268258963497533,0.48414679744738953,0,0]
[null,16.98402729960619,289.98402729960617,19.844268502554414,415199008.81019199,0.99999999759151637,0.65700318445091399,0.12779646515230969,0.48414679744738953,0.50488394982454321,0,0]
[null,18.616813884060129,291.61681388406015,22.214672148468864,4443339847.2645321,0.99999999977494403,0.55503188291558969,0.16390696524772813,0.50488394982454321,0.51246526480022137,0,0]
[null,20.17014785854229,293.17014785854229,24.445222623293525,41345218764.125755,0.99999999997581346,0.47357644270353638,0.20715688462904247,0.51246526480022137,0.50518885934169955,0,0]
[null,21.599014384177654,294.59901438417768,26.476270436179927,315136096920.6076,0.99999999999682676,0.40985215752312382,0.25639231752425212,0.50518885934169955,0.48362735058779655,0,0]
[null,22.847312806004904,295.84731280600488,28.234594921261756,1828642348278.9268,0.9999999999994531,0.36165292290397494,0.30837262878135624,0.48362735058779655,0.4512604016667221,0,0]
[null,23.866031996815689,296.86603199681571,29.65858142060242,7595532949413.4473,0.99999999999986833,0.32680474319556463,0.35809849493016477,0.4512604016667221,0.41379977407347346,0,0]
[null,24.615174649093312,297.61517464909332,30.699528057501873,21509763354598.934,0.99999999999995348,0.30347387664305764,0.39945187461588288,0.41379977407347346,0.37746808427758693,0,0]
[null,25.06532766322475,298.06532766322476,31.322506691854684,40104380827985.867,0.99999999999997502,0.29031548617674979,0.42645104018967361,0.37746808427758693,0.34721060448156671,0,0]
[null,25.198816974857245,298.19881697485727,31.506884495953287,48224316233806.305,0.99999999999997924,0.28653165750093362,0.43478633402494371,0.34721060448156671,0.32581538861706244,0,0]
[null,25.0104014801658,298.0104014801658,31.246593708673732,37172624608225.625,0.99999999999997313,0.2918878679970357,0.42306580596242993,0.32581538861706244,0.3141115993275263,0,0]
[null,24.507478813896146,297.50747881389617,30.550205482411734,18526170729943.598,0.99999999999994604,0.30671543834009113,0.39323856259425416,0.3141115993275263,0.31170686871775727,0,0]
[null,23.709794900854007,296.70979490085404,29.440824840236395,6109248217623.6729,0.99999999999983635,0.33190775782382287,0.35000470555329327,0.31170686871775727,0.31767249885397725,0,0]
[null,22.847312806004908,295.84731280600488,28.234594921261756,1828642348278.9268,0.9999999999994531,0.36165292290397494,0.30837262878135624,0.31767249885397725,0.32934307739887891,0,0]
[null,21.225490400570667,294.22549040057066,25.947232971348672,185669300022.24103,0.99999999999461409,0.42557429836125432,0.24254009407166174,0.32934307739887891,0.35006817529543999,0,0]
[null,20.276785110562251,293.27678511056223,24.597484448970718,48145063615.574043,0.99999999997922939,0.46847340266532472,0.21049498338801603,0.35006817529543999,0.37254348618761268,0,0]
[null,19.603667995136423,292.60366799513645,23.634514573342337,18379735687.729385,0.9999999999455923,0.50169799101247492,0.19025458551874175,0.37254348618761268,0.39491968122965643,0,0]
[null,19.08155779790934,292.08155779790934,22.88452056482857,8682024405.1776009,0.99999999988481947,0.5291983297313404,0.17584869584360341,0.39491968122965643,0.41657280089810167,0,0]
[null,18.654962705128007,291.65496270512801,22.269737537363486,4694875996.156023,0.99999999978700183,0.55286145975004286,0.16485727468489217,0.41657280089810167,0.43728666969967067,0,0]
[null,18.294281693405786,291.29428169340576,21.748541061940287,2787862644.466166,0.99999999964130226,0.57374931792264205,0.15607888712075965,0.43728666969967067,0.45700665494892811,0,0]
[null,17.981845589702182,290.98184558970217,21.29601574557924,1773136316.2117968,0.99999999943602758,0.59252406228633625,0.14883712258063733,0.45700665494892811,0.47574743086577898,0,0]
[null,17.706257415119595,290.70625741511958,20.896052738578099,1188612786.6487286,0.99999999915868309,0.60962888384996283,0.14271675082589788,0.47574743086577898,0.49355371618682825,0,0]
[null,17.459735392475096,290.45973539247507,20.537630518338258,830576435.52896392,0.99999999879601686,0.62537626958175974,0.13744618392468583,0.49355371618682825,0.51048220321238702,0,0]
[null,17.236729096831294,290.23672909683131,20.212873656519186,600260122.37334168,0.99999999833405562,0.63999553235408391,0.1328389381924262,0.51048220321238702,0.52659287036081526,0,0]
[null,17.033140299693766,290.03314029969374,19.915957793152806,446057217.96310908,0.9999999977581352,0.65366036538053418,0.1287619410800849,0.52659287036081526,0.5419447536585692,0,0]
[null,16.845856761164914,289.8458567611649,19.642453337670407,339319716.58872068,0.99999999705292697,0.6665057642341452,0.1251172175910702,0.5419447536585692,0.55659394257247941,0,0]
[null,17.41683819165436,290.41683819165434,20.475199453197824,780308141.77916014,0.99999999871845502,0.62816050155632386,0.13654825099234605,0.55659394257247941,0.56572839566332556,0,0]
[null,19.258077352785854,292.25807735278585,23.13838489600338,11191102680.370152,0.99999999991064326,0.51972501564643081,0.18059848276998594,0.56572839566332556,0.55812727862718836,0,0]
[null,20.951100036523734,293.95110003652371,25.557745949084204,125773178257.95892,0.99999999999204914,0.43753339827372512,0.23282246266557768,0.55812727862718836,0.5330792329880053,0,0]
[null,22.429134371303114,295.42913437130312,27.647213504325702,1016324195581.5236,0.99999999999901601,0.37708831413352417,0.28993067318008114,0.5330792329880053,0.49381872785329883,0,0]
[null,23.633887506284879,296.63388750628485,29.334945565182874,5495471828641.7266,0.99999999999981803,0.33441769943876826,0.34613563847716089,0.49381872785329883,0.44718062147130067,0,0]
[null,24.517844648921308,297.51784464892131,30.564582635816347,18794448240871.871,0.99999999999994682,0.30640183207756061,0.3938325671487678,0.44718062147130067,0.40135247626409343,0,0]
[null,25.046143021906502,298.04614302190652,31.295994951437375,39055114292537.891,0.99999999999997435,0.29086365766005429,0.42526571880563047,0.40135247626409343,0.36307871740899106,0,0]
[null,25.197946831693375,298.1979468316934,31.505683173295388,48166418054213.562,0.99999999999997924,0.28655615090493264,0.43473150113568043,0.36307871740899106,0.33609980506633352,0,0]
[null,24.967269020584762,297.96726902058475,31.186961106393152,35020723646990.129,0.99999999999997147,0.2931290052486536,0.42042542929930149,0.33609980506633352,0.32135082367103623,0,0]
[null,24.36320739295396,297.36320739295394,30.350000579026023,15164838068341.41,0.99999999999993405,0.31111597517039902,0.38505942345378841,0.32135082367103623,0.3180798705131066,0,0]
[null,23.409585802908111,296.40958580290811,29.021761912817588,4017825343330.27,0.99999999999975109,0.34195359005035064,0.33493976136046588,0.3180798705131066,0.3248747804291906,0,0]
[null,22.429134371303114,295.42913437130312,27.647213504325702,1016324195581.5236,0.99999999999901601,0.37708831413352417,0.28993067318008114,0.3248747804291906,0.33801612047099439,0,0]
[null,20.509505251463519,293.50950525146351,24.929389326522138,67095936922.651726,0.99999999998509592,0.45753941059046432,0.21795907433630538,0.33801612047099439,0.36142375861734821,0,0]
[null,19.386594201064998,292.38659420106501,23.323020566471556,13460436182.520529,0.99999999992570821,0.51294176482181941,0.18413339553498884,0.36142375861734821,0.3869053243557114,0,0]
[null,18.589876131623928,291.58987613162395,22.175780542589457,4273848484.0265217,0.99999999976601883,0.55656994249326042,0.16323908297024226,0.3869053243557114,0.41245883656819365,0,0]
[null,17.971893586183661,290.97189358618368,21.281585520432692,1747733286.4800599,0.99999999942783036,0.59313275819300737,0.14861180846277897,0.41245883656819365,0.43740924863651426,0,0]
[null,17.466965081225407,290.4669650812254,20.548150535225457,839360235.50990593,0.99999999880861645,0.62490832588107326,0.13759807139169744,0.43740924863651426,0.46151246471496798,0,0]
[null,17.040054113196327,290.04005411319633,19.926047802739205,450580722.29200453,0.99999999778064186,0.65319124300783016,0.12889841262408819,0.46151246471496798,0.48469347076370983,0,0]
[null,16.670247011784333,{"$f":"B653+273","v":289.67024701178434},{"$f":"$C$5*$C$6*(C653-$C$6)/C653","v":19.385675724557149},{"$f":"EXP(D653)","v":262477448.16610339},{"$f":"E653/(1+E653)","v":0.9999999961901489},{"$f":"$C$7*EXP($C$8/C653)","v":0.67879522553852567},{"$f":"$C$4*EXP(-$C$2/C653)","v":0.12178934675648119},{"$f":"IF(J652<1,J652,J652-J652*F652)","v":0.48469347076370983},{"$f":"G653-(G653-I653)*EXP(-H653)","v":0.50695017807199516},{"$f":"IF(J653<1,0,J653*F653)","v":0},{"$f":"K653+L652","v":0}]
[null,16.344054030826886,289.3440540308269,18.907887237522463,162776269.7208021,0.99999999385659843,0.7022686212376672,0.11583092704775821,0.50695017807199516,0.5283129782376581,0,0]
[null,16.05226446634407,289.05226446634407,18.479577115043291,106066531.9454798,0.99999999057195543,0.72400035981147548,0.11073775880984553,0.5283129782376581,0.54882620750929689,0,0]
[null,15.788308698073138,288.78830869807314,18.091377862696959,71942508.337235153,0.99999998610001228,0.74427735502489911,0.10631530331220151,0.54882620750929689,0.56853919501510064,0,0]
[null,15.547335961385812,288.54733596138578,17.736359550971752,50443252.572443604,0.99999998017574343,0.76331796024613685,0.10242564808302805,0.56853919501510064,0.58750183093246167,0,0]
[null,15.325662532148455,288.32566253214844,17.409250325362589,36369836.640853658,0.99999997250468886,0.7812926125890548,9.896785863156872E-2,0.58750183093246167,0.6057623835303152,0,0]
[null,15.415276550330878,288.41527655033087,17.541548518577734,41514300.598512799,0.99999997591191558,0.77397240465108552,0.10035206425707245,0.6057623835303152,0.62182325915875769,0,0]
[null,17.830904170421785,290.83090417042177,21.077047316604784,1424443882.5041676,0.99999999929797168,0.60182814239442473,0.14545457930634453,0.62182325915875769,0.6191165034312327,0,0]
[null,20.051181770001545,293.05118177000156,24.275226318820845,34881635311.571617,0.9999999999713316,0.47933955539431977,0.20349249126410729,0.6191165034312327,0.59338025884710399,0,0]
[null,21.988147535247023,294.98814753524704,27.025990888901397,546057920682.65314,0.99999999999816869,0.39413038684497709,0.27162485980383511,0.59338025884710399,0.54598670757730394,0,0]
[null,23.565063754596139,296.56506375459617,29.23890004526076,4992211157405.0684,0.99999999999979972,0.33671093940286634,0.34266292754212946,0.54598670757730394,0.48527108834901633,0,0]
[null,24.719456973861309,297.71945697386133,30.84401477872359,24853377599292.23,0.99999999999995981,0.30036991017439268,0.40555740593971296,0.48527108834901633,0.42362598549731234,0,0]
[null,25.405593037344655,298.40559303734466,31.792161593177262,64144636398139.164,0.99999999999998446,0.28077411035870686,0.44800524242330464,0.42362598549731234,0.37204236403943014,0,0]
[null,25.596288960051471,298.59628896005148,32.054903630685658,83419535017240.766,0.99999999999998801,0.27557377128324323,0.460535190013797,0.37204236403943014,0.33644023235465603,0,0]
[null,25.283989849182252,298.28398984918226,31.624440540463155,54240042356166.328,0.99999999999998157,0.2841449411692526,0.44018562277920942,0.33644023235465603,0.31781876213540083,0,0]
[null,24.481068209982563,297.48106820998254,30.513570108121787,17859739544962.801,0.99999999999994404,0.30751601098107073,0.39172898733532197,0.31781876213540083,0.31447950926168472,0,0]
[null,23.219333778205815,296.21933377820579,28.755748727997165,3079377949280.5991,0.99999999999967526,0.34848768211599457,0.32571505585102328,0.31447950926168472,0.32393341093549888,0,0]
[null,21.988147535247023,294.98814753524704,27.025990888901397,546057920682.65314,0.99999999999816869,0.39413038684497709,0.27162485980383511,0.32393341093549888,0.34063045542200804,0,0]
[null,19.473321872139778,292.47332187213976,23.447527486730397,15245153507.918606,0.99999999993440536,0.50841760917462853,0.1865561006447726,0.34063045542200804,0.36918581426014208,0,0]
[null,18.002243163370821,291.00224316337085,21.325588773973749,1826356387.5386765,0.99999999945246176,0.59127856367600262,0.14929994500732538,0.36918581426014208,0.39998769548295887,0,0]
[null,16.958496209032532,289.95849620903255,19.806991672707944,400006627.10917294,0.99999999750004143,0.65874812580845798,0.12729730347532969,0.39998769548295887,0.43091684678603059,0,0]
[null,16.148903174334567,289.14890317433458,18.621526237015363,122243588.24074678,0.99999999181961197,0.71672459911082875,0.11240041138180051,0.43091684678603059,0.46130211394457099,0,0]
[null,15.487417500263575,288.48741750026358,17.64799130663009,46176949.668814868,0.9999999783441742,0.76813262544278893,0.10147979236564608,0.46130211394457099,0.49091143112827335,0,0]
[null,14.928139331806118,287.92813933180611,16.821389403260195,20203964.454934344,0.99999995050476587,0.81466607220301412,9.3044488208352649E-2,0.49091143112827335,0.51967607143354311,0,0]
[null,14.443670545925285,287.44367054592527,16.102754244555744,9847756.7348459717,0.99999989845404136,0.85740633987488468,8.6282849079142715E-2,0.51967607143354311,0.54759463619396498,0,0]
[null,14.01633879149462,287.0163387914946,15.466859381881155,5214007.864832581,0.99999980820899503,0.89709189665223121,8.0710650432947881E-2,0.54759463619396498,0.57469445581528666,0,0]
[null,13.63407751122732,286.6340775112273,14.896425400809834,2947374.7027174132,0.99999966071512392,0.93425261769270507,7.6018956979770819E-2,0.57469445581528666,0.60101460331018708,0,0]
[null,13.288280120933306,286.28828012093328,14.379092807636832,1756955.0924754795,0.99999943083381293,0.96928343097003122,7.2000269825377841E-2,0.60101460331018708,0.62659800133361188,0,0]
[null,12.97259183715633,285.9725918371563,13.905712700230136,1094395.484930472,0.99999908625437506,1.0024876871343178,6.8509430165381677E-2,0.62659800133361188,0.65148766681709813,0,0]
[null,12.68218676728446,285.68218676728446,13.469321342023312,707378.62713013135,0.99999858633191907,1.0341041703787135,6.5441476402371038E-2,0.65148766681709813,0.67572494484052337,0,0]
[null,18.280443186203168,291.28044318620317,21.728518231068907,2732596877.1871758,0.99999999963404773,0.57456732181807679,0.15575113447058694,0.67572494484052337,0.66113519695056566,0,0]
[null,20.758193882659864,293.75819388265984,25.283487179123963,95604638827.232697,0.99999999998954026,0.44615552619821058,0.22621429652189579,0.66113519695056566,0.61761195459405105,0,0]
[null,23.034646396615191,296.03464639661519,28.497189047519232,2377781551074.1807,0.99999999999957945,0.3549583279849724,0.31699236623600424,0.61761195459405105,0.54625850252447761,0,0]
[null,25.019205989267071,298.01920598926705,31.258764224674351,37627798865184.672,0.99999999999997347,0.29163520868536591,0.42360671889821377,0.54625850252447761,0.45833231899735216,0,0]
[null,26.632894225163277,299.63289422516328,33.477294762752287,345942870348030.06,0.99999999999999711,0.24904828246378458,0.53470808718311091,0.45833231899735216,0.37165530091580956,0,0]
[null,27.811492033911257,300.81149203391124,35.082613360528676,1722603769475054.5,0.99999999999999944,0.22216541360065983,0.63286527000992054,0.37165530091580956,0.30155470396988238,0,0]
[null,28.508095401488454,301.50809540148845,36.025526503611282,4422698847362007,0.99999999999999978,0.20774893883419937,0.6987203523749741,0.30155470396988238,0.25439115063506373,0,0]
[null,28.694981983700373,301.69498198370036,36.277752925195536,5691515347160210,0.99999999999999978,0.20405375192963596,0.71746985524518037,0.25439115063506373,0.228617666008718,0,0]
[null,28.364714357188813,301.3647143571888,35.831804085422419,3643802176669349.5,0.99999999999999978,0.21063239673870357,0.68465316291210321,0.228617666008718,0.21970174029325815,0,0]
[null,27.53043600251188,300.53043600251186,34.700942024474671,1176055014669744.5,0.99999999999999911,0.22828151665241422,0.60800752816377479,0.21970174029325815,0.22361038988858239,0,0]
[null,26.225348240218473,299.22534824021847,32.919250985905826,197992642314692.34,0.999999999999995,0.25913618574524622,0.50428116025865977,0.22361038988858239,0.23768075239812034,0,0]
[null,25.019205989267071,298.01920598926705,31.258764224674351,37627798865184.672,0.99999999999997347,0.29163520868536591,0.42360671889821377,0.23768075239812034,0.25631223482885274,0,0]
[null,22.443427978135826,295.44342797813584,27.667318023790088,1036963683458.8046,0.99999999999903566,0.37654926980635478,0.2905432763480395,0.25631223482885274,0.28662914181010329,0,0]
[null,20.936694431441925,293.93669443144194,25.537277632295936,123224980623.86635,0.99999999999188471,0.43817108581923159,0.23232268892952862,0.28662914181010329,0.31804525832842911,0,0]
[null,19.867649967004578,292.86764996700458,24.01269811182198,26827628612.856976,0.99999999996272504,0.48837771789798939,0.19796044142849811,0.31804525832842911,0.34863657520565638,0,0]
[null,19.038434659028336,292.03843465902833,22.822455710883283,8159556964.508007,0.99999999987744437,0.53154051807147229,0.17470659698377539,0.34863657520565638,0.37795546339816855,0,0]
[null,18.36091642031068,291.36091642031067,21.844927712610691,3069951844.557766,0.99999999967426201,0.56982784726182723,0.1576663122129385,0.37795546339816855,0.40594297687741177,0,0]
[null,17.788082911590021,290.78808291159004,21.014885772587284,1338594169.0128288,0.99999999925294758,0.60449594315852195,0.14450841666015729,0.40594297687741177,0.4326587494196753,0,0]
[null,17.291871955873333,290.29187195587332,20.293222855852225,650481135.73150551,0.9999999984626764,0.63634701911037861,0.13396425022228703,0.4326587494196753,0.4581969134498089,0,0]
[null,16.854182873616779,289.85418287361676,19.654620102794809,343473356.82657945,0.99999999708856602,0.665929011895115,0.12527713751232503,0.4581969134498089,0.48265687707203425,0,0]
[null,16.462656647897091,289.46265664789712,19.081734031988578,193683130.16418076,0.9999999948369277,0.69363516003947701,0.11796443115885816,0.48265687707203425,0.50613292366024853,0,0]
[null,16.108478094968945,289.10847809496897,18.562158837581443,115197526.8386873,0.99999999131925821,0.71975860374482514,0.11170202435338818,0.50613292366024853,0.52871087211990897,0,0]
[null,15.785138409179433,288.78513840917941,18.086711011934433,71607545.605825841,0.99999998603499141,0.74452454401974433,0.10626322627461131,0.52871087211990897,0.55046749575864706,0,0]
[null,15.48769473176254,288.48769473176253,17.648400254475728,46195837.494704708,0.99999997835302845,0.76811027448586178,0.10148414938793351,0.55046749575864706,0.5714710032579764,0,0]
[null,13.092044009123994,286.09204400912398,14.084956185343056,1309238.4435648345,0.99999923619777509,0.98978328569500607,6.9810855960569074E-2,0.5714710032579764,0.599677719595056,0,0]
[null,14.524441570726959,287.52444157072694,16.222733895820102,11103088.777541339,0.99999990993498022,0.85011780695195382,8.7376561499066627E-2,0.599677719595056,0.62063154700603351,0,0]
[null,15.839930683510719,288.83993068351072,18.167354030706104,77621424.091762736,0.99999998711695903,0.74026465100791938,0.10716671449481929,0.62063154700603351,0.63278915493939325,0,0]
[null,16.985922917207581,289.98592291720757,19.847035949222892,416349641.34660095,0.9999999975981726,0.65687382377380621,0.12783360106978484,0.63278915493939325,0.63567932006493155,0,0]
[null,17.916605705158183,290.91660570515819,21.201401114851347,1613063680.4998918,0.99999999938006168,0.59652650653971684,0.1473660051676326,0.63567932006493155,0.63031452580189096,0,0]
[null,18.594773762712226,291.59477376271224,22.182852072985995,4304178246.017993,0.99999999976766762,0.55628996558820598,0.16336031901125095,0.63031452580189096,0.61915792307018169,0,0]
[null,18.993316418061124,291.99331641806111,22.757499788011106,7646392370.6012821,0.99999999986921939,0.53400291152623736,0.17351924075617256,0.61915792307018169,0.60559281278153332,0,0]
[null,19.096301397470462,292.09630139747048,22.905736044410109,8868185482.4527626,0.99999999988723731,0.52840007432944547,0.17624080656648544,0.60559281278153332,0.59311970618944398,0,0]
[null,18.899611739153436,291.89961173915344,22.622530682547861,6680981083.8316097,0.9999999998503214,0.53915594965435532,0.17107782554066009,0.59311970618944398,0.584634228338341,0,0]
[null,18.411110374304425,291.41111037430443,21.917503796227621,3301041283.9180732,0.99999999969706532,0.56689280322416047,0.15887223917854087,0.584634228338341,0.58202810782490855,0,0]
[null,17.650325795946589,{"$f":"B717+273","v":290.65032579594657},{"$f":"$C$5*$C$6*(C717-$C$6)/C717","v":20.81478620812161},{"$f":"EXP(D717)","v":1095839099.9954607},{"$f":"E717/(1+E717)","v":0.99999999908745729},{"$f":"$C$7*EXP($C$8/C717)","v":0.61316422884595601},{"$f":"$C$4*EXP(-$C$2/C717)","v":0.14150428843691959},{"$f":"IF(J716<1,J716,J716-J716*F716)","v":0.58202810782490855},{"$f":"G717-(G717-I717)*EXP(-H717)","v":0.58613647375306954},{"$f":"IF(J717<1,0,J717*F717)","v":0},{"$f":"K717+L716","v":0}]
[null,16.985922917207585,289.98592291720757,19.847035949222892,416349641.34660095,0.9999999975981726,0.65687382377380621,0.12783360106978484,0.58613647375306954,0.59462497004540027,0,0]
[null,15.498996287266605,288.49899628726661,17.665070659178227,46972395.586280383,0.99999997871090107,0.76719971048822988,0.10166191895797273,0.59462497004540027,0.61130692450941493,0,0]
[null,14.629199967427448,287.62919996742744,16.378244719581055,12971234.32658127,0.99999992290634043,0.84076294293647169,8.8814825524270904E-2,0.61130692450941493,0.63080724531165178,0,0]
[null,14.012069657325625,287.01206965732564,15.460497105312122,5180940.209093242,0.99999980698487789,0.89749810242219163,8.0656757562064266E-2,0.63080724531165178,0.65147304467939215,0,0]
[null,13.533386200111439,286.53338620011147,14.745914324059171,2535532.7331155804,0.99999960560572043,0.94431170762195227,7.4827175657877124E-2,0.65147304467939215,0.67258558870184804,0,0]
[null,13.142273337486468,286.14227333748647,14.160282910715191,1411668.5206309047,0.99999929161890555,0.98449245133955865,7.0365128557644055E-2,0.67258558870184804,0.69377858754485811,0,0]
[null,12.81159212390425,285.81159212390423,13.663888158956627,859312.69681441213,0.99999883628062292,1.0198864944350103,6.67919870564712E-2,0.69377858754485811,0.7148484995410993,0,0]
[null,12.525143027384646,285.52514302738467,13.232962077089326,558473.29294402187,0.99999820940728579,1.0516426642748147,6.383756112260934E-2,0.7148484995410993,0.73567673295901126,0,0]
[null,12.272477017647311,285.2724770176473,12.852140005060777,381604.49775662681,0.99999737949268064,1.0805285658360342,6.133561187800441E-2,0.73567673295901126,0.75619281638383207,0,0]
[null,12.046459570170459,285.04645957017044,12.510910982290744,271281.14086805808,0.9999963138008392,1.1070846152406593,5.9177193241671283E-2,0.75619281638383207,0.77635514943511585,0,0]
[null,11.842001918995958,284.84200191899595,12.201765284206212,199140.38041036358,0.9999949784419595,1.1317068602887694,5.7287367127482877E-2,0.77635514943511585,0.7961401863651778,0,0]
[null,11.655346707545487,284.6553467075455,11.919149596265891,150113.89669777386,0.99999333843594473,1.1546949292231461,5.5612574304681112E-2,0.7961401863651778,0.81553601406365439,0,0]
[null,11.483640557812301,284.48364055781229,11.658840869439677,115709.82985658811,0.99999135776658732,1.1762814421284684,5.4113325135327815E-2,0.81553601406365439,0.83453837158036126,0,0]
[null,13.676365169318798,286.67636516931879,14.959604502133073,3139595.4190075751,0.99999968148772433,0.93006217152645732,7.6524862521097595E-2,0.83453837158036126,0.84157562108852491,0,0]
[null,14.805490926676661,287.80549092667667,16.639688017360228,16847081.876482286,0.99999994064254283,0.82526706747655243,9.1286377973496313E-2,0.84157562108852491,0.8401528022064223,0,0]
[null,15.842034857831237,288.84203485783121,18.17045033481385,77862136.092494726,0.99999998715678717,0.74010157837444634,0.10720155681594042,0.8401528022064223,0.82998205375331713,0,0]
[null,16.744372366053117,289.74437236605314,19.494100218446611,292536562.9745748,0.99999999658162386,0.67357859220672756,0.12318360692630845,0.82998205375331713,0.81185509909579767,0,0]
[null,17.47626819515618,290.47626819515619,20.561686850371146,850799327.08620191,0.99999999882463475,0.62430672849464119,0.13779375497758914,0.81185509909579767,0.78771356713628227,0,0]
[null,18.00833153224896,291.00833153224897,21.334415074658207,1842547707.7892246,0.99999999945727325,0.59090734245927312,0.14943835663096916,0.78771356713628227,0.76039519485040608,0,0]
[null,18.319196257502529,291.31919625750254,21.784584959912976,2890180979.9005265,0.99999999965400088,0.5722797304279218,0.15667062700893228,0.76039519485040608,0.73311574771296162,0,0]
[null,18.396378945528774,291.3963789455288,21.896206026125931,3231479846.6796546,0.99999999969054421,0.56775253403800152,0.158517401548675,0.73311574771296162,0.70887484218639807,0,0]
[null,18.236780163523132,291.23678016352312,21.665330062125623,2565271254.2592173,0.99999999961017771,0.57715643880420997,0.1547213170905242,0.70887484218639807,0.68999351999941727,0,0]
[null,17.846808935493005,290.84680893549302,21.100130830631223,1457707496.3683181,0.99999999931399131,0.6008404627406233,0.1458075093564497,0.68999351999941727,0.67789759528281102,0,0]
[null,17.242125374449465,290.24212537444947,20.220737973112492,604999369.05634153,0.99999999834710573,0.63963750621924265,0.13294866143841941,0.67789759528281102,0.67313459826374955,0,0]
[null,16.744372366053117,289.74437236605314,19.494100218446611,292536562.9745748,0.99999999658162386,0.67357859220672756,0.12318360692630845,0.67313459826374955,0.67318605657543262,0,0]
[null,15.573941691629939,288.57394169162995,17.775586138029933,52461290.827069551,0.99999998093832676,0.76119041715422564,0.10284833303151125,0.67318605657543262,0.68178726777035148,0,0]
[null,14.889283637398607,287.88928363739859,16.76384215181017,19074103.814135846,0.99999994757290001,0.8180087304573187,9.2484038138033159E-2,0.68178726777035148,0.69382055922369334,0,0]
[null,14.40351101720676,287.40351101720677,16.043075001091378,9277243.2874680515,0.99999989220937069,0.86105497744152082,8.5743933271360678E-2,0.69382055922369334,0.70756234069786261,0,0]
[null,14.026716499991977,287.02671649999195,15.482324457404845,5295269.6303150114,0.99999981115223946,0.89610528019338931,8.084180048554912E-2,0.70756234069786261,0.72220466200683053,0,0]
[null,13.718852962975429,286.7188529629754,15.023063843474995,3345289.6625486594,0.99999970107231306,0.92587205874747969,7.7036401343994879E-2,0.72220466200683053,0.73730534680154403,0,0]
[null,13.458558051284008,286.458558051284,14.633994378965559,2267059.961754824,0.99999955890026038,0.95186178796839438,7.3953096411944946E-2,0.73730534680154403,0.7525999484493604,0,0]
[null,13.233080342783584,286.23308034278358,14.29639510227509,1617504.5240210257,0.99999938176408976,0.97500375893735447,7.1377859756228179E-2,0.7525999484493604,0.76792134769851894,0,0]
[null,13.034194908744098,286.0341949087441,13.998169641335366,1200405.1002547701,0.99999916694858537,0.99591430142865522,6.9177669956072982E-2,0.76792134769851894,0.7831601982128189,0,0]
[null,12.856285825568799,285.85628582556882,13.731046237294299,919004.44425474654,0.99999891186716439,1.0150245368175073,6.7264580317543121E-2,0.7831601982128189,0.79824348358148334,0,0]
[null,12.6953474835306,285.69534748353061,13.48911712649757,721521.26241433027,0.9999986140413788,1.0326486124833243,6.5577624050016076E-2,0.79824348358148334,0.81312203340184186,0,0]
[null,12.548422288552253,285.54842228855227,13.268015028490867,578396.57510949858,0.99999827108542116,1.0490229760632159,6.4072921421067242E-2,0.81312203340184186,0.82776284764411834,0,0]
[null,12.413264211086924,285.41326421108693,13.064419793734595,471851.5931028215,0.99999788069406714,1.0643303408522868,6.2717913283180077E-2,0.82776284764411834,0.84214417008921494,0,0]
[null,12.878399613231352,285.87839961323135,13.764267303537878,950047.53915251524,0.9999989474222013,1.0126280490359159,6.7499592591867399E-2,0.84214417008921494,0.85327197654334064,0,0]
[null,14.681026970278486,287.68102697027848,16.455138536878536,14007991.370104061,0.99999992861218268,0.836175446358846,8.953471200646157E-2,0.85327197654334064,0.85180777029514387,0,0]
[null,16.335166371595506,289.33516637159551,18.894854035371164,160668538.76949373,0.99999999377600612,0.70292018074884488,0.1156725429638754,0.85180777029514387,0.83554431189146905,0,0]
[null,17.774091933297999,290.774091933298,20.994571779930283,1311676307.1669574,0.99999999923761673,0.60537032452120865,0.14420055304022869,0.83554431189146905,0.80463519292424623,0,0]
[null,18.93975922462516,291.93975922462516,22.680368394971826,7078786948.1950722,0.99999999985873289,0.53694168015565158,0.17211979986055165,0.80463519292424623,0.76230704234287383,0,0]
[null,19.785146706602074,292.78514670660206,23.894576275676496,23838703056.624611,0.99999999995805144,0.4924997436097,0.19552065693540699,0.76230704234287383,0.71439098071156304,0,0]
[null,20.276152521238533,293.27615252123854,24.596581533817442,48101612327.445343,0.99999999997921063,0.46850350111564143,0.21047503071564025,0.71439098071156304,0.66772136127400095,0,0]
[null,20.392970117195567,293.39297011719555,24.763253028996992,56825614981.205681,0.9999999999824023,0.46298018622741838,0.21419038395948209,0.66772136127400095,0.62824617626006285,0,0]
[null,20.130887220926404,293.13088722092641,24.389136484707535,39090155107.717957,0.99999999997441813,0.47547014106272256,0.20594067096238275,0.62824617626006285,0.59981170861638777,0,0]
[null,19.500475923810185,292.5004759238102,23.486494877437782,15850943739.759012,0.99999999993691224,0.50700988271573255,0.18732087339933301,0.59981170861638777,0.58395908102156502,0,0]
[null,18.527166217404638,291.52716621740461,22.085214736908249,3903793996.8638062,0.99999999974383891,0.56016811829424451,0.16169433253254595,0.58395908102156502,0.58040711875185758,0,0]
[null,17.774091933298003,290.774091933298,20.994571779930283,1311676307.1669574,0.99999999923761673,0.60537032452120865,0.14420055304022869,0.58040711875185758,0.58375932507952977,0,0]
[null,15.908188845510162,288.90818884551015,18.26777329303146,85820914.460208789,0.99999998834782877,0.73499415240876731,0.1083025128271239,0.58375932507952977,0.59928265853471474,0,0]
[null,14.816705509174461,287.81670550917448,16.656308650275054,17129430.950419471,0.99999994162094796,0.82429166557316047,9.1445806290404455E-2,0.59928265853471474,0.61894602182345548,0,0]
[null,14.042285757722324,287.04228575772231,15.505523989518297,5419553.4976679292,0.99999981548298844,0.89462726750265364,8.1038941581334886E-2,0.61894602182345548,0.64040566187179804,0,0]
[null,13.441599131426337,286.44159913142636,14.608620911686101,2210260.4377491409,0.99999954756483422,0.95358185002194262,7.3756357248356733E-2,0.64040566187179804,0.66267311973199572,0,0]
[null,12.950802421386621,285.95080242138664,13.873000528645703,1059174.6478014966,0.99999905586953208,1.0048237915797866,6.8274549562885617E-2,0.66267311973199572,0.6852536927407491,0,0]
[null,12.535839715714328,285.5358397157143,13.249069418995179,567541.65072649042,0.99999823801788512,1.0504380679616026,6.3945605056096907E-2,0.6852536927407491,0.70787466504363206,0,0]
[null,12.176382669934483,285.17638266993447,12.707128007543114,330092.43739720492,0.9999969705547378,1.091735349233572,6.0408893269730625E-2,0.70787466504363206,0.73037675833443938,0,0]
[null,11.85931908505092,284.85931908505091,12.227966526363019,204427.06211341667,0.99999510830367577,1.1295989633910812,5.7445168642190604E-2,0.73037675833443938,0.7526638731725791,0,0]
[null,11.575696043638496,284.57569604363852,11.798437228545772,133044.27260549556,0.99999248376150152,1.1646554896793269,5.4912234683148486E-2,0.7526638731725791,0.77467731851849408,0,0]
[null,11.319127794091784,284.3191277940918,11.409142478415035,90142.089665060848,0.99998890652623829,1.1973671924593947,5.2713180616089719E-2,0.77467731851849408,0.79638157057819381,0,0]
[null,11.084899333598781,284.0848993335988,11.053130215709484,63141.291453353595,0.99998416275404356,1.2280858988229981,5.0779315268927094E-2,0.79638157057819381,0.81775594015000874,0,0]
[null,10.869430037045776,283.86943003704579,10.725111865766502,45483.816746328746,0.99997801464155445,1.2570862469214961,4.9060372550539751E-2,0.81775594015000874,0.83878947351445254,0,0]
[null,9.8232085085387304,282.82320850853876,9.1252978303810526,9184.7321025487636,0.9998911355144221,1.408646680267694,4.1475087563323104E-2,0.83878947351445254,0.86194092812664214,0,0]
[null,12.052277804709181,285.05227780470921,12.519701826386045,273676.44402621605,0.99999634606350718,1.1063923478438369,5.923183420272822E-2,0.86194092812664214,0.87599975882050973,0,0]
[null,14.096883310633585,{"$f":"B781+273","v":287.09688331063359},{"$f":"$C$5*$C$6*(C781-$C$6)/C781","v":15.586859152459011},{"$f":"EXP(D781)","v":5878776.1029872643},{"$f":"E781/(1+E781)","v":0.99999982989659542},{"$f":"$C$7*EXP($C$8/C781)","v":0.88946473636712331},{"$f":"$C$4*EXP(-$C$2/C781)","v":8.1733902885017334E-2},{"$f":"IF(J780<1,J780,J780-J780*F780)","v":0.87599975882050973},{"$f":"G781-(G781-I781)*EXP(-H781)","v":0.87705652877997042},{"$f":"IF(J781<1,0,J781*F781)","v":0},{"$f":"K781+L780","v":0}]
[null,15.874175143822212,288.87417514382219,18.217739336241735,81632607.043772936,0.99999998774999321,0.73761547417626938,0.10773510385828446,0.87705652877997042,0.86281477328296596,0,0]
[null,17.312135294393467,290.31213529439344,20.322741095518769,669968393.60907233,0.9999999985073923,0.63501187922428703,0.13438005114823323,0.86281477328296596,0.8341703222759983,0,0]
[null,18.352495881744201,291.35249588174418,21.832749898153846,3032793255.0222297,0.99999999967027098,0.5703218160371426,0.15746486390117517,0.8341703222759983,0.79572939702613443,0,0]
[null,18.953100239388288,291.95310023938828,22.699584353318635,7216127966.8781309,0.99999999986142152,0.53620802731943418,0.1724673872361539,0.79572939702613443,0.75461750994062282,0,0]
[null,19.089611153956476,292.08961115395647,22.89610930362225,8783223369.8202896,0.99999999988614663,0.52876214154483903,0.17606277407631421,0.75461750994062282,0.71815662567779237,0,0]
[null,18.756497038451776,291.75649703845176,22.416225701324745,5435545395.9441442,0.99999999981602583,0.54712880543954745,0.16741225442081042,0.71815662567779237,0.69179282977464929,0,0]
[null,17.967256078829994,290.96725607883002,21.274860881460722,1736019839.6007659,0.99999999942396967,0.59341663054305882,0.14850692622130424,0.69179282977464929,0.67821632764259354,0,0]
[null,16.753869271215464,289.75386927121548,19.507987504083449,296627441.63817215,0.99999999662876771,0.67291333529515629,0.12336333664000455,0.67821632764259354,0.67760087526636337,0,0]
[null,15.874175143822214,288.87417514382219,18.217739336241735,81632607.043772936,0.99999998774999321,0.73761547417626938,0.10773510385828446,0.67760087526636337,0.68373044195929189,0,0]
[null,13.570141424033707,286.57014142403369,14.800867452745774,2678767.7520703785,0.9999996266941672,0.94062653950444897,7.5260126049575909E-2,0.68373044195929189,0.70235484707987406,0,0]
[null,12.222368097560354,285.22236809756038,12.776534902032214,353816.92666546378,0.99999717368758156,1.0863570329947159,6.0850687175469181E-2,0.70235484707987406,0.72502490486822702,0,0]
[null,11.266107704245201,284.2661077042452,11.32860670774007,83167.066053458984,0.99998797615422053,1.2042483170030014,5.2269361214488046E-2,0.72502490486822702,0.74943022505138257,0,0]
[null,10.524374518277444,283.52437451827745,10.198780233316977,26870.390469816019,0.99996278569949248,1.3050574384740974,4.6422951413483904E-2,0.74943022505138257,0.77463452489116247,0,0]
[null,9.9183343777718491,282.91833437777183,9.2712471321355174,10627.998142818946,0.99990591775569404,1.3940937881079547,4.21154912527043E-2,0.77463452489116247,0.80018161593545756,0,0]
[null,9.4059347399872593,282.40593473998729,8.4839232538377569,4836.3870991023705,0.99979327682909946,1.4744214892310503,3.8774288206815145E-2,0.80018161593545756,0.82582443347015666,0,0]
[null,8.9620739844566941,281.96207398445671,7.79959928239301,2439.6241813635834,0.99959026874861112,1.5479910231842271,3.6086277013395007E-2,0.82582443347015666,0.85142013278739637,0,0]
[null,8.570561051298494,281.57056105129851,7.1941919296259433,1331.6738045438776,0.99924962883145863,1.616131014636947,3.3864021162887885E-2,0.85142013278739637,0.87688275166994756,0,0]
[null,8.2203407984889374,281.22034079848896,6.6512082183649728,773.7185820286993,0.99870920870726843,1.6797927166849216,3.1987565001202138E-2,0.87688275166994756,0.9021594609424628,0,0]
[null,7.903528043179346,280.90352804317934,6.1588533287169911,472.88551958256352,0.99788978569997056,1.7396837446844149,3.0376117032329994E-2,0.9021594609424628,0.92721768408676863,0,0]
[null,7.6143006579833408,280.61430065798334,5.7083977825156582,301.38779243905873,0.99669298819263175,1.7963466792121283,2.8973017860567701E-2,0.92721768408676863,0.95203768264630995,0,0]
[null,7.3482372551804591,280.34823725518044,5.2931980811609272,198.97875916453191,0.99499946892271063,1.850207935306611,2.7737205322005461E-2,0.95203768264630995,0.9766080829841266,0,0]
[null,10.887896073770717,283.88789607377072,10.753243030488022,46781.496532503261,0.99997862448406738,1.2545725291555139,4.9205481098903457E-2,0.9766080829841266,0.9899544083930667,0,0]
[null,12.986734925049374,285.98673492504935,13.926942869660387,1117878.0741737848,0.99999910544886017,1.0009744645017804,6.8662299672023253E-2,0.9899544083930667,0.99068567817965203,0,0]
[null,14.91108436133189,287.91108436133192,16.796132040798149,19700056.087751504,0.99999994923872582,0.81613147237105843,9.279809091410178E-2,0.99068567817965203,0.97521624757223646,0,0]
[null,16.582614695045795,289.58261469504578,19.257422752111417,230883255.22813872,0.99999999566880671,0.68501805139676841,0.12016046658194231,0.97521624757223646,0.9423594642729427,0,0]
[null,17.933287114559953,290.93328711455996,21.225597491501105,1652570004.375406,0.99999999939488193,0.59550037134062717,0.1477408334429248,0.9423594642729427,0.89471998325464042,0,0]
[null,18.908123170202739,291.90812317020271,22.634793842928929,6763415446.1963968,0.99999999985214572,0.53868570306802044,0.17129822407037462,0.89471998325464042,0.83866959954483944,0,0]
[null,19.467442644736479,292.46744264473648,23.439089555257819,15117057141.534103,0.99999999993384958,0.50872295027180336,0.18639090976583994,0.83866959954483944,0.78256187368109176,0,0]
[null,19.588478716882577,292.58847871688261,23.612733480211798,17983733291.238754,0.99999999994439415,0.50247612953837295,0.18982002395720071,0.78256187368109176,0.73413728365061859,0,0]
[null,19.266304673468536,292.26630467346854,23.150209665258981,11324220379.220863,0.99999999991169375,0.51928791453606404,0.18082282412528028,0.73413728365061859,0.69859759145337008,0,0]
[null,18.514034448839535,291.51403444883954,22.066244871838592,3830437532.3991265,0.99999999973893317,0.56092473176107394,0.16137262619993833,0.69859759145337008,0.67808088203810302,0,0]
[null,17.362288828677354,290.36228882867738,20.39578360110005,720736094.42853606,0.99999999861252964,0.63172012246916576,0.13541450156561874,0.67808088203810302,0.67220946940604398,0,0]
[null,16.582614695045791,289.58261469504578,19.257422752111417,230883255.22813872,0.99999999566880671,0.68501805139676841,0.12016046658194231,0.67220946940604398,0.67365968104893792,0,0]
[null,14.416263108416253,287.41626310841627,16.062027109122592,9454743.2912328299,0.99999989423299362,0.85989461432611181,8.5914708950554933E-2,0.67365968104893792,0.68899193805229841,0,0]
[null,13.149028666860193,286.1490286668602,14.17041156506308,1426039.4795086519,0.99999929875763394,0.98378319053882113,7.043999257497556E-2,0.68899193805229841,0.70904255899387358,0,0]
[null,12.249911521786716,285.24991152178671,12.81809612823178,368831.85004601121,0.99999728874475291,1.083149159463433,6.1116780904536129E-2,0.70904255899387358,0.73122207635101488,0,0]
[null,11.552502082646853,284.55250208264687,11.763273555953109,128447.24521570743,0.99999221476324318,1.1675731412853603,5.4709888548709479E-2,0.73122207635101488,0.75445350567762792,0,0]
[null,10.982677080230658,283.98267708023064,10.897574858356245,54045.137626088865,0.99998149729020569,1.2417542995307869,4.9956763331536841E-2,0.75445350567762792,0.77819940369904061,0,0]
[null,10.500896905414059,283.50089690541404,10.162922022221226,25923.936814827903,0.99996142709981739,1.3083914777207366,4.624851501549062E-2,0.77819940369904061,0.80216162036353478,0,0]
[null,10.083559935157179,283.08355993515715,9.5245155313125505,13691.295313657274,0.99992696622610799,1.3691958167065106,4.3250351859011077E-2,0.80216162036353478,0.82616326769920523,0,0]
[null,9.7154426386745971,282.71544263867457,8.9598366251891957,7784.0856347720401,0.99987154926138078,1.4253289672985994,4.0760838273971173E-2,0.82616326769920523,0.85009471759142596,0,0]
[null,9.386150496017315,282.38615049601731,8.4534666294427172,4691.307604181854,0.99978688524189918,1.4776201809743821,3.8650504234506632E-2,0.85009471759142596,0.87388615594113062,0,0]
[null,9.0882695191744922,282.0882695191745,7.9943808182525347,2964.254416481916,0.9996627608091766,1.5266847023871222,3.6831816977109182E-2,0.87388615594113062,0.8974925114399348,0,0]
[null,8.8163254936011199,281.81632549360114,7.5744208751046731,1947.7319559205464,0.99948684579376768,1.5729931716619219,3.5243178364489952E-2,0.8974925114399348,0.92088467342709468,0,0]
[null,8.5661612404238774,281.56616124042387,7.1873788129953597,1322.6317927166067,0.99924450288554367,1.6169146715425056,3.3839807415826137E-2,0.92088467342709468,0.94404412875321597,0,0]
[null,12.357831476922989,285.35783147692297,12.980862979650935,434027.41515653406,0.99999769600338351,1.070677045427874,6.2170137356166076E-2,0.94404412875321597,0.95167718218546271,0,0]
[null,15.290632521283518,288.2906325212835,17.357512762969915,34535998.161043152,0.99999997104470628,0.78417410592817549,9.8431748336477082E-2,0.95167718218546271,0.93597503244436964,0,0]
[null,17.97848501922758,290.97848501922761,21.291143089539066,1764517448.2729976,0.99999999943327278,0.59272953082880886,0.14876100255861499,0.93597503244436964,0.88852994094260063,0,0]
[null,20.311486458789336,293.31148645878932,24.647008836290993,50589447106.972191,0.99999999998023303,0.46682547788316658,0.21159227825309238,0.88852994094260063,0.80810862150089879,0,0]
[null,22.194243689182482,295.19424368918249,27.31655164501155,730176151213.06531,0.99999999999863043,0.38606558869666752,0.2800384302313158,0.80810862150089879,0.7050265931040538,0,0]
[null,23.549773412699896,296.54977341269989,29.217555882096427,4886785699387.6826,0.99999999999979539,0.33722269722550535,0.34189593222169556,0.7050265931040538,0.59851872543012608,0,0]
[null,24.322649923588433,297.32264992358841,30.293684145655149,14334411279248.172,0.99999999999993028,0.31236515851710411,0.38278949263711959,0.59851872543012608,0.50750942659690934,0,0]
[null,24.481271387279037,297.48127138727904,30.513851969607504,17864774227193.648,0.99999999999994404,0.30750984364778988,0.39174057940108536,0.50750942659690934,0.44268544742480853,0,0]
[null,24.019151994998865,297.01915199499888,29.871771246363586,9400380154582.2441,0.99999999999989364,0.32188476330327337,0.36620383414104757,0.44268544742480853,0.40564330153978301,0,0]
[null,22.955187159378831,295.95518715937885,28.385847971343733,2127243170831.4805,0.99999999999952993,0.35778159880567106,0.31330852117117047,0.40564330153978301,0.39276966851979661,0,0]
[null,21.332880907580925,294.33288090758094,26.099472116579335,216200513351.90329,0.9999999999953747,0.42098918655273737,0.2464477663812355,0.39276966851979661,0.39893359618932361,0,0]
[null,20.311486458789336,293.31148645878932,24.647008836290993,50589447106.972191,0.99999999998023303,0.46682547788316658,0.21159227825309238,0.39893359618932361,0.41188094482677273,0,0]
[null,17.28861592597832,290.28861592597832,20.288479310864123,647402855.95164728,0.99999999845536669,0.6365618361046953,0.13389755161449526,0.41188094482677273,0.44003802837127626,0,0]
[null,15.520350019748896,288.52035001974889,17.696565002791729,48475302.664241269,0.99999997937093887,0.76548238438224214,0.1019986181069482,0.44003802837127626,0.47159610736136964,0,0]
[null,14.265745393167307,287.26574539316732,15.838220989504638,7558784.7622804577,0.99999986770361915,0.87369776014392153,8.3919537534720118E-2,0.47159610736136964,0.5039631838894667,0,0]
[null,13.292598441448312,286.29259844144832,14.385560966893786,1768356.1901295639,0.99999943450338791,0.96883743610086015,7.2049179554603784E-2,0.5039631838894667,0.53627885531247887,0,0]
[null,12.49747948693788,285.49747948693789,13.191300026111719,535684.16721477301,0.99999813323186604,1.0547647945466205,6.3558948715777219E-2,0.53627885531247887,0.56820784210697806,0,0]
[null,11.825215989759441,284.82521598975944,12.176364773777888,194145.81390282829,0.99999484925876503,1.1337540930142724,5.7134801980692908E-2,0.56820784210697806,0.59961446638770322,0,0]
[null,11.242874860356293,{"$f":"B845+273","v":284.24287486035627},{"$f":"$C$5*$C$6*(C845-$C$6)/C845","v":11.293307315748679},{"$f":"EXP(D845)","v":80282.529890528938},{"$f":"E845/(1+E845)","v":0.99998754414508972},{"$f":"$C$7*EXP($C$8/C845)","v":1.2072768136493328},{"$f":"$C$4*EXP(-$C$2/C845)","v":5.2076011786305519E-2},{"$f":"IF(J844<1,J844,J844-J844*F844)","v":0.59961446638770322},{"$f":"G845-(G845-I845)*EXP(-H845)","v":0.63044925346003677},{"$f":"IF(J845<1,0,J845*F845)","v":0},{"$f":"K845+L844","v":0}]
[null,10.729213580708455,283.72921358070846,10.511386618712184,36731.376662469251,0.99997277606049861,1.2763493225713702,4.797180259881649E-2,0.63044925346003677,0.66070278423798023,0,0]
[null,10.269727908637295,283.26972790863732,9.8095318183956692,18206.46115163021,0.99994507746073591,1.3417081901659107,4.456408195416367E-2,0.66070278423798023,0.69038487527216152,0,0]
[null,9.8540725585359379,282.85407255853596,9.1726625481279136,9630.2315401066862,0.99989617111832108,1.4039072764542611,4.1681842302832756E-2,0.69038487527216152,0.71951449800380296,0,0]
[null,9.4746089541268681,282.47460895412689,8.589609867777785,5375.5161042292493,0.99981400595095149,1.4633754135559129,3.9206910007391654E-2,0.71951449800380296,0.74811466043695907,0,0]
[null,9.1255362763771313,282.12553627637715,8.0518683550325623,3139.6554859500793,0.99968159513054722,1.5204526165091736,3.7054784207686639E-2,0.74811466043695907,0.77620973369164847,0,0]
[null,15.242068245005562,288.24206824500556,17.285764970126962,32144919.463022619,0.99999996889088583,0.78818765320967321,9.7693092617467753E-2,0.77620973369164847,0.77732455215504959,0,0]
[null,17.87151026984931,290.8715102698493,21.135976314399716,1510907520.8100057,0.99999999933814609,0.59930994560590123,0.14635725873254252,0.77732455215504959,0.75308769087757421,0,0]
[null,20.280325802498567,293.28032580249857,24.602538120904853,48388988812.149422,0.99999999997933409,0.46830497547360167,0.21060669465456472,0.75308769087757421,0.69900535095356275,0,0]
[null,22.369576463500703,295.36957646350072,27.563422022340767,934635099681.73901,0.99999999999893008,0.3793432621948703,0.28739134891169665,0.69900535095356275,0.6191595388671387,0,0]
[null,24.05344950718543,297.05344950718541,29.919493735317111,9859866405536.8809,0.99999999999989853,0.32079361278136947,0.36804319671200736,0.6191595388671387,0.52728887654670209,0,0]
[null,25.26278244772184,298.26278244772186,31.595176251941751,52675746743104.437,0.99999999999998102,0.28473722303955235,0.43883529312387537,0.52728887654670209,0.44113136919305473,0,0]
[null,25.947903801455997,298.94790380145599,32.538481926488494,135295437136288.27,0.99999999999999256,0.26625298161061234,0.48451985204060205,0.44113136919305473,0.37397682558819317,0,0]
[null,26.080673266422846,299.08067326642282,32.720784946745894,162351515100859.19,0.99999999999999389,0.26282156891149172,0.49388255156458177,0.37397682558819317,0.3306543368597637,0,0]
[null,25.655637541808535,298.65563754180852,32.136606017309653,90521274586312.781,0.9999999999999889,0.27397638788620232,0.46450248478022488,0.3306543368597637,0.3095955139764715,0,0]
[null,24.690254313862948,297.69025431386297,30.80356370093315,23868093928993.711,0.99999999999995814,0.30123569502035302,0.40383873180629865,0.3095955139764715,0.30681797917357367,0,0]
[null,23.224175208386843,296.22417520838684,28.762522324058519,3100307214802.2241,0.99999999999967748,0.34831976290832795,0.32594676571495085,0.30681797917357367,0.31836196538142791,0,0]
[null,22.369576463500707,295.36957646350072,27.563422022340767,934635099681.73901,0.99999999999893008,0.3793432621948703,0.28739134891169665,0.31836196538142791,0.33359399112792854,0,0]
[null,19.663187475836995,292.66318747583699,23.719842420783099,20016893336.259144,0.99999999995004218,0.49866120818923471,0.19196659277343367,0.33359399112792854,0.36242554900622015,0,0]
[null,18.08005140568903,291.08005140568901,21.438359492056229,2044378139.7521179,0.99999999951085372,0.58655308786111482,0.15107807040308524,0.36242554900622015,0.39385258416384927,0,0]
[null,16.956798488173281,289.95679848817326,19.804512671885544,399016238.44595701,0.99999999749383639,0.65886433291042446,0.12726417722152095,0.39385258416384927,0.42552121423538991,0,0]
[null,16.085535837350566,289.08553583735056,18.528458947622386,111380068.108511,0.99999999102173298,0.72148656678088363,0.11130751759862811,0.42552121423538991,0.45669714437626374,0,0]
[null,15.373662418025319,288.37366241802533,17.480123328189705,39041015.392092712,0.9999999743859127,0.77736256085696875,9.9706995219108835E-2,0.45669714437626374,0.48712746554201847,0,0]
[null,14.771782017980488,287.77178201798051,16.589721747181841,16025980.542231223,0.99999993760132588,0.82820635452651681,9.0808763737349724E-2,0.48712746554201847,0.51673572928661016,0,0]
[null,14.250409500509571,287.25040950050959,15.815404749206428,7388274.3134437688,0.99999986465041468,0.87511732809725851,8.3718757706468666E-2,0.51673572928661016,0.5455174001357157,0,0]
[null,13.790526347877355,286.79052634787735,15.130071877324955,3723117.3674521497,0.99999973140794862,0.91884920944268578,7.7906737719706604E-2,0.5455174001357157,0.57349835983072495,0,0]
[null,13.379146849686851,286.37914684968683,14.515155623265489,2013038.083589731,0.99999950323865638,0.95994469804275229,7.3036156214059872E-2,0.57349835983072495,0.60071684983420659,0,0]
[null,13.007008827245073,286.00700882724504,13.957372333648681,1152417.3454286281,0.99999913225956183,0.99880952617848406,6.8882004455014939E-2,0.60071684983420659,0.62721516631037022,0,0]
[null,12.667273430361606,285.6672734303616,13.446887136242728,691685.83527314302,0.99999855425902451,1.0357562081270881,6.528752437646998E-2,0.62721516631037022,0.65303574766940753,0,0]
[null,12.354747160810243,285.35474716081023,12.97621286666168,432013.8239772853,0.99999768526461474,1.0710313625595702,6.2139793393897358E-2,0.65303574766940753,0.67821935373284825,0,0]
[null,16.510887149324535,289.51088714932456,19.152389187079944,207862879.49525294,0.99999999518913618,0.69015673994150684,0.11884272462614244,0.67821935373284825,0.67955696839280721,0,0]
[null,19.397547925407569,292.39754792540759,23.338749893626122,13673833686.721624,0.99999999992686761,0.51236800054894716,0.1844377182080125,0.67955696839280721,0.65139761978649868,0,0]
[null,22.040881418382138,295.04088141838213,27.100375399464209,588225020441.38257,0.99999999999829992,0.39204986665023589,0.27375438054056167,0.65139761978649868,0.58928872175843305,0,0]
[null,24.331826173329993,297.33182617333,30.306427253323509,14518245044600.096,0.99999999999993117,0.31208205884540768,0.38330195133405598,0.58928872175843305,0.50102807627109891,0,0]
[null,26.175859963382656,299.17585996338266,32.851384255982843,185001353275504.09,0.99999999999999456,0.26039057495902651,0.50070088549195269,0.50102807627109891,0.40624233616551703,0,0]
[null,27.496899687941557,300.49689968794155,34.655352359742118,1123642864566005,0.99999999999999911,0.22902323674093703,0.60510437864939914,0.40624233616551703,0.32578795415116801,0,0]
[null,28.240440489882861,301.24044048988287,35.663748225985302,3080130083741495,0.99999999999999967,0.21316622005058852,0.67267937335584915,0.32578795415116801,0.27064152314613832,0,0]
[null,28.375804574722324,301.37580457472234,35.846794678032573,3698836397852607.5,0.99999999999999978,0.21040784796983519,0.68573152392345271,0.27064152314613832,0.24074885182728112,0,0]
[null,27.897406947575451,300.89740694757546,35.199142679919291,1935501149635160,0.99999999999999944,0.22033094311302412,0.640655292706372,0.24074885182728112,0.23109009898594282,0,0]
[null,26.824985844795982,299.824985844796,33.739795560768044,449787138294252.62,0.99999999999999778,0.24443974700719678,0.54964904538247794,0.23109009898594282,0.23673496655885284,0,0]
[null,25.202788352899869,298.20278835289986,31.512367305179282,48489447126644.008,0.99999999999997935,0.28641989674270413,0.435036677907989,0.23673496655885284,0.2542617764626659,0,0]
[null,24.331826173329993,297.33182617333,30.306427253323509,14518245044600.096,0.99999999999993117,0.31208205884540768,0.38330195133405598,0.2542617764626659,0.27267134639050666,0,0]
[null,21.364845744445237,294.36484574444523,26.144764720375434,226217942838.37338,0.99999999999557954,0.41963463071810353,0.24762244240891979,0.27267134639050666,0.304907062408108,0,0]
[null,19.629273453174083,292.62927345317411,23.671227121968681,19067041812.832096,0.99999999994755351,0.50038914641788845,0.19098930212301074,0.304907062408108,0.33889329876422802,0,0]
[null,18.397865315560484,291.39786531556047,21.898355023795883,3238431756.4842148,0.99999999969120856,0.56766572596286169,0.15855316956423887,0.33889329876422802,0.37243646364012417,0,0]
[null,17.442710958521523,290.4427109585215,20.512855967893692,810252080.64993525,0.99999999876581624,0.62647965776457804,0.1370891522413703,0.37243646364012417,0.4049813042915007,0,0]
[null,16.662293024289326,289.66229302428934,19.374037986692503,259440510.24871674,0.99999999614555179,0.67935754806167947,0.1216406349150901,0.4049813042915007,0.43640657112003112,0,0]
[null,16.002459062651795,289.00245906265178,18.406382678612701,98580366.656294286,0.99999998985599237,0.72778083650433045,0.10989006466590399,0.43640657112003112,0.46672912619658519,0,0]
[null,15.430884886675729,288.43088488667576,17.564582876640234,42481654.277421914,0.9999999764604276,0.77270491610910563,0.10059503871365139,0.46672912619658519,0.4960112648118169,0,0]
[null,14.926720733018172,287.92672073301816,16.819288659784004,20161565.658502534,0.99999995040067979,0.81478785429106504,9.3023969560032324E-2,0.4960112648118169,0.52432766019750354,0,0]
[null,14.475730529636767,287.47573052963679,16.150385154883121,10328164.664484547,0.99999990317738574,0.85450540388755769,8.6715395418784466E-2,0.52432766019750354,0.55175287626299396,0,0]
[null,14.067760265768023,287.06776026576802,15.543477768654432,5629199.2938162405,0.99999982235487317,0.89221453500203152,8.1362495965411813E-2,0.55175287626299396,0.57835673394419174,0,0]
[null,13.695312595404571,286.69531259540457,14.98790651086558,3229721.6365990262,0.99999969037588909,0.92819110026519835,7.6752580938779888E-2,0.57835673394419174,0.6042028590950892,0,0]
[null,13.352693951337553,286.35269395133753,14.475554261547156,1934876.8936069342,0.99999948317152043,0.96265343389870739,7.2733131190954231E-2,0.6042028590950892,0.62934854522711081,0,0]
[null,14.329025338815963,287.32902533881594,15.932341067057507,8304773.8249421678,0.99999987958734327,0.8678661514035928,8.4752884372321424E-2,0.62934854522711081,0.6487306549690447,0,0]
[null,16.5615233441683,289.56152334416828,19.226543229357915,223862644.90641853,0.99999999553297514,0.68652482534288284,0.11977154560884498,0.6487306549690447,0.65299674448712941,0,0]
[null,18.604967294330105,291.60496729433009,22.197569420392231,4367992770.9800291,0.99999999977106191,0.55570772604714813,0.16361292558033577,0.65299674448712941,0.63831297245501961,0,0]
[null,20.374665884185831,293.37466588418584,24.73714592225928,55361260783.187767,0.99999999998193678,0.4638410271289562,0.21360411535586174,0.63831297245501961,0.60475644562902264,0,0]
[null,21.79727328830965,294.79727328830967,26.75652808248562,417073408360.36725,0.99999999999760236,0.40176008112208456,0.26404828857144019,0.60475644562902264,0.55764838990443333,0,0]
[null,22.813829006359615,295.81382900635964,28.187624100019104,1744735527664.8569,0.99999999999942679,0.36286364474924715,0.30685569520948425,0.55764838990443333,0.50617783900289925,0,0]
[null,23.38220150324883,296.38220150324884,28.983493822066517,3866975612890.9312,0.99999999999974143,0.3428859716103822,0.33359679745375787,0.50617783900289925,0.45985888513331202,0,0]
[null,23.47883436650535,296.47883436650534,29.118501527036774,4425929934670.2666,0.99999999999977407,0.33960787113459967,0.33835885747763944,0.45985888513331202,0.4253395567061663,0,0]
[null,23.09972261067038,296.09972261067037,28.588331614816788,2604681750135.6729,0.99999999999961608,0.35266382059036538,0.32004013844729251,0.4253395567061663,0.40543511818901828,0,0]
[null,22.260578665430959,295.26057866543096,27.409986463819585,801688899597.76514,0.99999999999875266,0.383507442876942,0.2827989519471717,0.40543511818901828,0.40003370236466906,0,0]
[null,20.996181168046263,{"$f":"B909+273","v":293.99618116804629},{"$f":"$C$5*$C$6*(C909-$C$6)/C909","v":25.621786867267065},{"$f":"EXP(D909)","v":134091315969.61996},{"$f":"E909/(1+E909)","v":0.99999999999254241},{"$f":"$C$7*EXP($C$8/C909)","v":0.43554420055668092},{"$f":"$C$4*EXP(-$C$2/C909)","v":0.23439310096548158},{"$f":"IF(J908<1,J908,J908-J908*F908)","v":0.40003370236466906},{"$f":"G909-(G909-I909)*EXP(-H909)","v":0.40745359283979038},{"$f":"IF(J909<1,0,J909*F909)","v":0},{"$f":"K909+L908","v":0}]
[null,20.374665884185831,293.37466588418584,24.73714592225928,55361260783.187767,0.99999999998193678,0.4638410271289562,0.21360411535586174,0.40745359283979038,0.41829869717927226,0,0]
[null,18.083244148485178,291.08324414848516,21.442985579151578,2053857520.3972492,0.99999999951311136,0.58636004757201665,0.15115146323838816,0.41829869717927226,0.44187476806900017,0,0]
[null,16.74284835976291,289.74284835976289,19.491871585504885,291885332.30028158,0.99999999657399707,0.67368541392516579,0.12315478827716621,0.44187476806900017,0.46873540951325887,0,0]
[null,15.791822412784525,288.79182241278454,18.096550136645259,72315578.678175122,0.99999998617172114,0.74400349117122799,0.10637305014713171,0.46873540951325887,0.4965129373103338,0,0]
[null,15.054149378826921,288.05414937882693,17.007909850494965,24346772.451022767,0.99999995892679572,0.80392554329754606,9.4884451686585977E-2,0.4965129373103338,0.52434053598873376,0,0]
[null,14.451426624062258,287.45142662406226,16.114278277151715,9961899.0310228001,0.9999998996175431,0.85670357276425013,8.6387302980299591E-2,0.52434053598873376,0.55184726217360436,0,0]
[null,13.941831795956825,286.94183179595683,15.355794672354754,4665915.7364928043,0.9999997856798446,0.9042094134051728,7.9775007032875378E-2,0.55184726217360436,0.57886495977554153,0,0]
[null,13.500400677083872,286.50040067708386,14.696585310640915,2413492.2202358269,0.99999958566280955,0.94763201664990626,7.4440656830184609E-2,0.57886495977554153,0.60531936495730165,0,0]
[null,13.111030835339992,286.11103083533999,14.113433006875578,1347057.3180671805,0.99999925764164288,0.9877797826074507,7.0019880272496463E-2,0.60531936495730165,0.63118314214065618,0,0]
[null,12.762727643126267,285.76272764312625,13.590438905257185,798459.00496043498,0.99999874758911678,1.0252305735684506,6.6278923305934073E-2,0.63118314214065618,0.65645348588493901,0,0]
[null,12.447649080070235,285.44764908007022,13.11623369242359,496944.5316059225,0.99999798770702941,1.0604136373617394,6.3060012908662408E-2,0.65645348588493901,0.68114065146018388,0,0]
[null,12.160004888361605,285.16000488836158,12.682403228102404,322031.04344775196,0.99999689471895625,1.0936576891222742,6.0252289313990438E-2,0.68114065146018388,0.70526177405356894,0,0]
[null,11.895397882387334,284.89539788238733,12.282544286372246,215894.31539963064,0.99999536812552814,1.1252207664212892,5.7775269771923071E-2,0.70526177405356894,0.72883741603579932,0,0]
[null,13.416896518926352,286.41689651892636,14.571656169427062,2130050.3362040604,0.99999953052774693,0.95609324617606761,7.3470678671198608E-2,0.72883741603579932,0.74493544871444772,0,0]
[null,15.829008651192019,288.829008651192,18.151281475122211,76383821.796451762,0.99999998690822267,0.74111171966079137,0.10698603392398792,0.74493544871444772,0.7445474863659044,0,0]
[null,18.035914433305205,291.03591443330521,21.374397345267951,1917709506.1088831,0.99999999947854457,0.58922866394952389,0.15006695654294247,0.7445474863659044,0.72290386256342176,0,0]
[null,19.945735130062573,292.94573513006259,24.12443317021172,29999098561.638062,0.99999999996666566,0.48451032454388904,0.2002963218582765,0.72290386256342176,0.67963261788762774,0,0]
[null,21.478960364761392,294.47896036476141,26.306379321859545,265898188340.17178,0.99999999999623912,0.41483668279636898,0.2518597811264196,0.67963261788762774,0.62067679065270653,0,0]
[null,22.57175832523836,295.57175832523836,27.847732599298251,1241985716906.281,0.99999999999919487,0.37174632985998052,0.29609892673549537,0.62067679065270653,0.5568793615364922,0,0]
[null,23.178633233986709,296.17863323398672,28.698796251746408,2908900386796.2222,0.99999999999965627,0.34990275434913171,0.32377333997281177,0.5568793615364922,0.4996325695824626,0,0]
[null,23.274319445551896,296.2743194455519,28.832665599417517,3325581291998.4951,0.99999999999969935,0.34658564294272265,0.32835592632729371,0.4996325695824626,0.45679575551121182,0,0]
[null,22.854833315427552,295.85483331542753,28.245143172929627,1848033419130.5422,0.99999999999945888,0.36138158666743614,0.30871431681210337,0.45679575551121182,0.43145284994329114,0,0]
[null,21.937639048648403,294.93763904864841,26.954720502965955,508494635623.27325,0.99999999999803346,0.39613416200300233,0.26960003330465482,0.43145284994329114,0.42310651002726513,0,0]
[null,20.560921623409012,293.560921623409,25.002648250677733,72195839077.412155,0.99999999998614875,0.45516062155921144,0.2196419020134904,0.42310651002726513,0.42942738113099838,0,0]
[null,19.94573513006257,292.94573513006259,24.12443317021172,29999098561.638062,0.99999999996666566,0.48451032454388904,0.2002963218582765,0.42942738113099838,0.43942558637466073,0,0]
[null,17.473389217875987,290.47338921787599,20.557497943068562,847242861.62443244,0.99999999881970092,0.62449283510243148,0.1377331696088161,0.43942558637466073,0.46323797489328433,0,0]
[null,16.027159570435597,289.02715957043557,18.442685903772393,102224905.90779983,0.99999999021764818,0.72590332185729134,0.11030969269361242,0.46323797489328433,0.49067159871504118,0,0]
[null,15.001043305689405,288.00104330568939,16.929321981331942,22506663.555076905,0.99999995556871624,0.80843354904504749,9.4104813407452859E-2,0.49067159871504118,0.51921063919106647,0,0]
[null,14.205125696276621,287.20512569627664,15.74801876402738,6906812.2423619749,0.99999985521542789,0.87932339093568435,8.3128570223186538E-2,0.51921063919106647,0.5479358160524791,0,0]
[null,13.554813658249014,286.55481365824903,14.77795245968665,2618081.7725034053,0.99999961804110604,0.94216147230390179,7.5079285701047341E-2,0.5479358160524791,0.57645018439838935,0,0]
[null,13.004982664456572,286.00498266445658,13.954331423552294,1148918.2707697579,0.99999912961682735,0.99902566438618234,6.8860017099549684E-2,0.57645018439838935,0.60456948131066146,0,0]
[null,12.528697393502824,285.52869739350285,13.238314464731895,561470.47237367486,0.99999821896561236,1.051242229889134,6.3873443303948257E-2,0.60456948131066146,0.63220793032751965,0,0]
[null,12.108584010808624,285.10858401080861,12.604757047420705,297972.66926946276,0.99999664399877197,1.0997166767448716,5.9763121720243693E-2,0.63220793032751965,0.65932921435844627,0,0]
[null,11.732779784090038,284.73277978409004,12.036436419113715,168794.35507967818,0.99999407566636223,1.1450986282010913,5.6301594220562232E-2,0.65932921435844627,0.68592314195239701,0,0]
[null,11.392823509235637,284.39282350923565,11.521033965847728,100814.14638038119,0.99999008085554697,1.1878721910617407,5.3336058019844035E-2,0.68592314195239701,0.71199369526160616,0,0]
[null,11.082467746062433,284.08246774606243,11.049431279443604,62908.167262087998,0.99998410406553573,1.2284091655826495,5.0759599563135846E-2,0.71199369526160616,0.73755257104657279,0,0]
[null,10.796968119623573,283.79696811962356,10.614687995353755,40728.688299713074,0.99997544788478021,1.2670021804091587,4.8494899627045777E-2,0.73755257104657279,0.76261555170392492,0,0]
[null,17.695304608727721,290.69530460872772,20.880141186862129,1169849782.9381413,0.99999999914518944,0.61031947696519906,0.14247854205122354,0.76261555170392492,0.74239157151201918,0,0]
[null,19.702983515529798,292.70298351552981,23.776875146588868,21191693940.409714,0.99999999995281175,0.49664169306057226,0.19311947143670877,0.74239157151201918,0.69923383257079452,0,0]
[null,21.53907552797768,294.53907552797767,26.391466938862358,289513260823.09167,0.99999999999654587,0.41233272039078955,0.25411973396102439,0.69923383257079452,0.63485291628726015,0,0]
[null,23.126795222739286,296.1267952227393,28.626236394250888,2705306672477.4282,0.99999999999963041,0.35171394296870578,0.32131627106178495,0.63485291628726015,0.55704458706421089,0,0]
[null,24.399744114298411,297.39974411429841,30.400720815624858,15953842346659.365,0.99999999999993727,0.30999520012913162,0.38711530836295549,0.55704458706421089,0.47774489474591203,0,0]
[null,25.304687441621404,298.30468744162141,31.652997326682865,55811291790641.117,0.99999999999998213,0.28356816619224223,0.44150731195697196,0.47774489474591203,0.40843669376164643,0,0]
[null,25.803780447469002,298.80378044746902,32.34040573331081,110983841360009.66,0.99999999999999101,0.27003208789494593,0.47454815665518368,0.40843669376164643,0.35614274376719579,0,0]
[null,25.876151047285379,298.87615104728536,32.439892277062086,122593151464902.36,0.9999999999999919,0.26812732125620431,0.47953066020551205,0.35614274376719579,0.32261537033819371,0,0]
[null,25.518772700403719,298.5187727004037,31.948141735094381,74972442986048.094,0.99999999999998668,0.27767514389239767,0.45540208168640739,0.32261537033819371,0.30617591729686749,0,0]
[null,24.746590980068166,297.74659098006816,30.881593277357581,25805100377215.598,0.99999999999996125,0.29956783760706729,0.40716058378571374,0.30617591729686749,0.3039657611697093,0,0]
[null,23.591898549110034,296.59189854911006,29.276354072523034,5182735245578.6201,0.99999999999980704,0.33581480018410698,0.34401298653223683,0.3039657611697093,0.31323638831340056,0,0]
[null,23.126795222739286,296.1267952227393,28.626236394250888,2705306672477.4282,0.99999999999963041,0.35171394296870578,0.32131627106178495,0.31323638831340056,0.32381025670469937,0,0]
[null,21.071819796349224,294.07181979634925,25.72919274951866,149295402829.22498,0.99999999999330191,0.43222831029054909,0.23705111177121349,0.32381025670469937,0.34669178258265221,0,0]
[null,19.869736232007568,292.86973623200754,24.015684203211499,26907858090.31953,0.99999999996283617,0.48827396240376414,0.19802251154347097,0.34669178258265221,0.37212682501774702,0,0]
[null,19.016844369959159,292.01684436995913,22.791375063056329,7909853226.0148563,0.99999999987357535,0.53271732455626275,0.17413745062438016,0.37212682501774702,0.39779217282158763,0,0]
[null,18.355290045901061,291.35529004590109,21.836790906871911,3045073594.7746277,0.99999999967160069,0.57015785311851985,0.15753168268112713,0.39779217282158763,0.42291451411665804,0,0]
[null,17.814760805617503,290.81476080561748,21.053614926864469,1391453786.1779408,0.99999999928132721,0.60283241005806387,0.1450971889297554,0.42291451411665804,0.44721454420798479,0,0]
[null,17.357749844755716,290.35774984475574,20.389174163117907,715988141.84437561,0.99999999860332878,0.63201728200560525,0.13532056990479133,0.44721454420798479,0.47060394202205552,0,0]
[null,16.961868943569097,289.96186894356907,19.811916431356078,401981421.90795738,0.99999999751232282,0.65851733072203378,0.12736313734699689,0.47060394202205552,0.49307577068092612,0,0]
[null,16.612677241275847,289.61267724127583,19.30142908998587,241270456.8896293,0.99999999585527377,0.68287646405806579,0.12071690027527002,0.49307577068092612,0.51465898859094283,0,0]
[null,16.300314619510996,289.30031461951097,18.843738371100976,152662226.83199626,0.99999999344959123,0.705481409363789,0.11505345484730896,0.51465898859094283,0.53539785602190837,0,0]
[null,16.017748257162836,289.01774825716285,18.428854489708911,100820724.20175014,0.99999999008140439,0.72661807717518434,0.11014962711908874,0.53539785602190837,0.55534210515477334,0,0]
[null,15.75978537922744,288.75978537922742,18.049386181766177,68984071.064033896,0.99999998550390012,0.74650448384758761,0.10584763811417904,0.55534210515477334,0.57454213015382571,0,0]
[null,15.522482535121569,288.52248253512158,17.699709966082953,48627995.692781463,0.99999997943571461,0.76531110681173586,0.10203230139906293,0.57454213015382571,0.59304664782091665,0,0]
[null,17.498978692558538,290.49897869255852,20.59472767673174,879380004.44838285,0.99999999886283519,0.62284071890551274,0.13827256900566195,0.59304664782091665,0.59689421573842893,0,0]
[null,20.467774555503453,293.46777455550347,24.869911846551901,63221599664.393013,0.99999999998418265,0.45947984368927286,0.21660230741839379,0.59689421573842893,0.57013278707034054,0,0]
[null,23.181673518708539,{"$f":"B973+273","v":296.18167351870852},{"$f":"$C$5*$C$6*(C973-$C$6)/C973","v":28.703051078393699},{"$f":"EXP(D973)","v":2921303621771.7437},{"$f":"E973/(1+E973)","v":0.99999999999965772},{"$f":"$C$7*EXP($C$8/C973)","v":0.34979683829411479},{"$f":"$C$4*EXP(-$C$2/C973)","v":0.32391800145907368},{"$f":"IF(J972<1,J972,J972-J972*F972)","v":0.57013278707034054},{"$f":"G973-(G973-I973)*EXP(-H973)","v":0.50916793431308005},{"$f":"IF(J973<1,0,J973*F973)","v":0},{"$f":"K973+L972","v":0}]
[null,25.526669297727931,298.52666929772795,31.959020127739187,75792474886059.297,0.99999999999998679,0.27746029556844809,0.45592248581017553,0.50916793431308005,0.42433118730318753,0,0]
[null,27.404252604105462,300.40425260410547,34.529353909678257,990621767282924.62,0.999999999999999,0.23108572409126155,0.59715269344539246,0.42433118730318753,0.33744348535461233,0,0]
[null,28.735549353212399,301.73554935321238,36.332462306291433,6011569793607075,0.99999999999999989,0.20326095920212384,0.72160267303895642,0.33744348535461233,0.26847001393187364,0,0]
[null,29.464634030533162,302.46463403053315,37.313208000354194,1.6029513317705584E+16,1,0.18956023766052457,0.79986232076235342,0.26847001393187364,0.22502156764405015,0,0]
[null,29.56087902751095,302.56087902751096,37.442321100484328,1.8238681677360968E+16,1,0.18782674312674488,0.81077836515113211,0.22502156764405015,0.20436028669113721,0,0]
[null,29.020241255345951,302.02024125534592,36.715985916301669,8821655240402753,0.99999999999999989,0.19778913563145512,0.75125070836803942,0.20436028669113721,0.20088924784305306,0,0]
[null,27.865431988286506,300.8654319882865,35.15578173041952,1853369503181062.5,0.99999999999999944,0.22101177943541053,0.63774546001017751,0.20088924784305306,0.21037737228478756,0,0]
[null,26.144962801585073,299.14496280158505,32.809001434439303,177324310459353.91,0.99999999999999434,0.26117702012189159,0.49847790667315861,0.21037737228478756,0.23031854245098299,0,0]
[null,25.526669297727931,298.52666929772795,31.959020127739187,75792474886059.297,0.99999999999998679,0.27746029556844809,0.45592248581017553,0.23031854245098299,0.24757888399387418,0,0]
[null,22.492105553046482,295.49210555304649,27.735770354240202,1110432121606.4023,0.9999999999990995,0.37471969094471091,0.29263880454246011,0.24757888399387418,0.2798355684478856,0,0]
[null,20.716999556359863,293.71699955635984,25.224873652425455,90161978650.308044,0.99999999998890887,0.44802013778123173,0.22482653350828491,0.2798355684478856,0.31369873318146629,0,0]
[null,19.457541808365029,292.45754180836502,23.424878999893956,14903754527.899137,0.99999999993290278,0.50923759824800752,0.18611303774595239,0.31369873318146629,0.34690519251690499,0,0]
[null,18.480630483225472,291.48063048322547,22.017982531209292,3649961772.5401378,0.99999999972602449,0.56285428684632677,0.16055703709629018,0.34690519251690499,0.37893708462407849,0,0]
[null,17.682435811678413,290.68243581167843,20.861444671753549,1148180866.6186185,0.99999999912905713,0.61113194280054173,0.14219914814669177,0.37893708462407849,0.40971486403222313,0,0]
[null,17.007571832798909,290.00757183279893,19.878639029536153,429717695.75022233,0.99999999767289083,0.65539838405236228,0.12825844368381656,0.40971486403222313,0.43928876814567663,0,0]
[null,16.42297806368358,289.42297806368356,19.023589331642714,182742630.76370603,0.99999999452782318,0.69651082466540759,0.11724652232278883,0.43928876814567663,0.46774629434575277,0,0]
[null,15.907329814991794,288.90732981499178,18.266509809162034,85712549.592176363,0.99999998833309711,0.7350602326183332,0.10828814760337378,0.46774629434575277,0.49518099530112336,0,0]
[null,15.446066738544019,288.446066738544,17.586985448898236,43444092.905795939,0.99999997698191145,0.77147418331472895,0.10083191317272464,0.49518099530112336,0.52168166060378562,0,0]
[null,15.028803530606524,288.02880353060652,16.970405962351634,23450584.13493466,0.99999995735714076,0.80607372010072598,9.4511588423148163E-2,0.52168166060378562,0.54732893532442062,0,0]
[null,14.647872066996962,287.64787206699697,16.405951019842441,13335644.152653787,0.99999992501300172,0.83910708762181774,8.9073544781000144E-2,0.54732893532442062,0.57219476725681917,0,0]
[null,14.297449089677729,287.29744908967774,15.885380991046011,7923796.3894567816,0.99999987379788369,0.8707708804060631,8.433606671362473E-2,0.57219476725681917,0.59634291125777028,0,0]
[null,16.989762493201166,289.98976249320117,19.852641305300335,418689982.4338392,0.99999999761159797,0.65661188676660587,0.12790885150006376,0.59634291125777028,0.60357919137723126,0,0]
[null,20.140706368064372,293.14070636806434,24.403165124887781,39642401403.666626,0.99999999997477451,0.47499576759264239,0.20624420718177974,0.60357919137723126,0.57961565888156519,0,0]
[null,23.019870757027608,296.0198707570276,28.476489426054901,2329068285474.0757,0.99999999999957068,0.35548151618898033,0.3163042332809855,0.57961565888156519,0.51883892470308723,0,0]
[null,25.505763113662447,298.50576311366245,31.930218407025976,73640657956644.328,0.99999999999998646,0.27802949265779997,0.45454595489792371,0.51883892470308723,0.43087993272215452,0,0]
[null,27.493485852505462,300.49348585250544,34.650710980607428,1118439696298605.6,0.99999999999999911,0.22909888459504127,0.60480959424904912,0.43087993272215452,0.33930733708333027,0,0]
[null,28.899162728747061,301.89916272874706,36.552962988161042,7494628719606364,0.99999999999999989,0.20009678969477299,0.7385023186057561,0.33930733708333027,0.26661562850310766,0,0]
[null,29.663478177147283,302.66347817714728,37.579867900198074,2.0928073876234104E+16,1,0.1859974523729315,0.8225713869816571,0.26661562850310766,0.221413064639886,0,0]
[null,29.754180260145109,302.75418026014512,37.701387579482756,2.3632223531018116E+16,1,0.18439614138472371,0.83313290799970108,0.221413064639886,0.20048685457925872,0,0]
[null,29.167441607871694,302.16744160787169,36.91400390874594,1.07534594685902E+16,1,0.19502187901807747,0.7670320764027746,0.20048685457925872,0.19755975517696397,0,0]
[null,27.928020922270544,300.92802092227055,35.240649376049774,2017527962697624,0.99999999999999956,0.21968118635281536,0.64345312797501597,0.19755975517696397,0.20805693270444195,0,0]
[null,26.08821823031024,299.08821823031025,32.731139921182674,164041395121885.59,0.99999999999999389,0.26262799431836309,0.49441975869327631,0.20805693270444195,0.22934375548999608,0,0]
[null,25.505763113662447,298.50576311366245,31.930218407025976,73640657956644.328,0.99999999999998646,0.27802949265779997,0.45454595489792371,0.22934375548999608,0.24712689765663393,0,0]
[null,22.289414322656281,295.28941432265628,27.450589268141393,834909579693.40625,0.99999999999880229,0.38240107149432695,0.28400702378681886,0.24712689765663393,0.28057190076802296,0,0]
[null,20.407970890677845,293.40797089067786,24.78464602264653,58054381637.494064,0.99999999998277478,0.46227597689971484,0.21467199040829019,0.28057190076802296,0.31567603134758748,0,0]
[null,19.073065531650112,292.07306553165012,22.872299544181764,8576566917.2668686,0.99999999988340327,0.52965870616626376,0.17562321948393186,0.31567603134758748,0.35014136104367433,0,0]
[null,18.037632492868227,291.03763249286823,21.376887475167507,1922490802.442553,0.99999999947984142,0.58912427231480125,0.15010619363484115,0.35014136104367433,0.38345161664108929,0,0]
[null,17.19162209967168,290.19162209967169,20.147125103999024,562063338.80022693,0.99999999822084107,0.64299661330342828,0.13192514795293803,0.38345161664108929,0.41552966693111992,0,0]
[null,16.476330504177263,289.47633050417727,19.101767905585543,197602482.32755417,0.99999999493933489,0.69264709660246904,0.11821280495395935,0.41552966693111992,0.44642633331659298,0,0]
[null,15.856716740643947,288.85671674064395,18.192053550797702,79562509.270289093,0.99999998743126639,0.73896480394374497,0.10744497053748708,0.44642633331659298,0.47622841371530655,0,0]
[null,15.310178667693242,288.31017866769326,17.386382987536724,35547592.398170106,0.99999997186870038,0.78256488760104936,9.8730545630612954E-2,0.47622841371530655,0.50502808674820221,0,0]
[null,14.821283701862058,287.82128370186206,16.663093413318123,17246045.233277123,0.99999994201569531,0.823893825000791,9.1510967048264613E-2,0.50502808674820221,0.53291247844919676,0,0]
[null,14.379024409489869,287.37902440948989,16.006678384889167,8945653.9925362542,0.99999988821388697,0.86328779210170803,8.541691811099314E-2,0.53291247844919676,0.55996049705770146,0,0]
[null,13.975273308665511,286.97527330866552,15.405651781174072,4904441.5003927965,0.99999979610322687,0.90100739140878838,8.0193669490810832E-2,0.55996049705770146,0.58624239462901917,0,0]
[null,13.603858300028143,286.60385830002815,14.851265519659121,2817232.335459868,0.99999964504182615,0.93725947877051874,7.5659391049177294E-2,0.58624239462901917,0.61182032779686901,0,0]
[null,19.805571378987821,292.80557137898779,23.92382495379691,24546250583.420078,0.99999999995926059,0.49147584084182672,0.19612196748346414,0.61182032779686901,0.59038841664124275,0,0]
[null,22.492224249990208,295.49222424999022,27.735937243011684,1110617455723.6521,0.99999999999909961,0.37471524125878297,0.29264393192594479,0.59038841664124275,0.53566950572149119,0,0]
[null,24.946080651003701,297.94608065100368,31.157660890323115,34009495818256.637,0.99999999999997058,0.29374076473608174,0.41913413580605074,0.53566950572149119,0.45283697070889239,0,0]
[null,27.063130060604923,300.06313006060492,34.064762441142335,622498566306291.25,0.99999999999999845,0.23885249978420678,0.56872503332310376,0.45283697070889239,0.36002054836310443,0,0]
[null,28.753638045727321,301.75363804572731,36.356852076142474,6159993246711679,0.99999999999999989,0.20290852082849159,0.72345277193437485,0.36002054836310443,0.27911956052709308,0,0]
[null,29.945949795221253,302.94594979522128,37.95807455757398,3.0547967791340844E+16,1,0.18105885119218207,0.85588996271395623,0.27911956052709308,0.22272532446476956,0,0]
[null,30.589527320509696,303.58952732050972,38.817144360874593,7.2122637305608144E+16,1,0.1703228942190016,0.93667132692453814,0.22272532446476956,0.19086099307452636,0,0]
[null,30.657091586864301,303.65709158686428,38.907120296640969,7.8912836013023792E+16,1,0.16923594753860291,0.94556127866232242,0.19086099307452636,0.17763644461500702,0,0]
[null,30.145778777734833,303.14577877773485,38.225203732057295,3.9902035480624408E+16,1,0.17764991753880915,0.88023308774678077,0.17763644461500702,0.17764433050266709,0,0]
[null,29.077261682069349,302.07726168206932,36.792714273180401,9525171044408200,1,0.19671224486103192,0.7573267976326199,0.17764433050266709,0.18777095151482565,0,0]
[null,27.496831059434733,300.49683105943473,34.655259054900796,1123538028137773.7,0.99999999999999911,0.22902475723060176,0.60509845123472306,0.18777095151482565,0.20649932669327151,0,0]
[null,27.063130060604919,300.06313006060492,34.064762441142335,622498566306291.25,0.99999999999999845,0.23885249978420678,0.56872503332310376,0.20649932669327151,0.22053261501956103,0,0]
[null,24.324435248854488,297.32443524885451,30.296163498142974,14369995432115.309,0.99999999999993039,0.31231005734246253,0.38288914503899313,0.22053261501956103,0.2497280761646643,0,0]
[null,22.722401483060899,295.72240148306088,28.059316087245701,1534638688606.4946,0.99999999999934841,0.36619161563567237,0.30274988271502573,0.2497280761646643,0.28015023287631885,0,0]
[null,21.585740437104057,294.58574043710405,26.45749298713454,309273856129.73419,0.99999999999676659,0.41040012184420305,0.25588736964174219,0.28015023287631885,0.30955685899041485,0,0]
[null,20.704077633879336,293.70407763387936,25.206484251008423,88519105853.299423,0.99999999998870304,0.44860674525953276,0.22439289388723768,0.30955685899041485,0.33750572621974573,0,0]
[null,19.983706671310465,292.98370667131047,24.178746583584264,31673511957.094917,0.99999999996842792,0.482641495742681,0.20144170776184669,0.33750572621974573,0.36398556840776058,0,0]
[null,19.374641700823723,292.3746417008237,23.305855672591555,13231360874.953751,0.99999999992442201,0.5135686279531787,0.18380187121677632,0.36398556840776058,0.38910046678892524,0,0]
[null,18.847045625353623,{"$f":"B1037+273","v":291.84704562535364},{"$f":"$C$5*$C$6*(C1037-$C$6)/C1037","v":22.546778251796333},{"$f":"EXP(D1037)","v":6193574693.0558319},{"$f":"E1037/(1+E1037)","v":0.99999999983854237},{"$f":"$C$7*EXP($C$8/C1037)","v":0.54206988723766281},{"$f":"$C$4*EXP(-$C$2/C1037)","v":0.16972264412657004},{"$f":"IF(J1036<1,J1036,J1036-J1036*F1036)","v":0.38910046678892524},{"$f":"G1037-(G1037-I1037)*EXP(-H1037)","v":0.41297917008609158},{"$f":"IF(J1037<1,0,J1037*F1037)","v":0},{"$f":"K1037+L1036","v":0}]
[null,18.381672905516879,291.38167290551689,21.874942813551286,3163493568.6112676,0.99999999968389375,0.56861217052858037,0.15816393026952147,0.41297917008609158,0.43574674948329539,0,0]
[null,17.965382822128902,290.9653828221289,21.272144496141763,1731310539.8271658,0.99999999942240292,0.59353133792377633,0.14846458054022654,0.43574674948329539,0.45751620405944216,0,0]
[null,17.588802635037553,290.58880263503755,20.725359247281876,1002095603.048697,0.99999999900209124,0.61707827589937037,0.14018197649256978,0.45751620405944216,0.47838691555189095,0,0]
[null,17.245011859560034,290.24501185956001,20.224944499640145,607549675.15601242,0.99999999835404407,0.63944608465335173,0.13300738825598304,0.47838691555189095,0.49844544609363906,0,0]
[null,16.928755003336676,289.92875500333668,19.763559559357507,383005366.71502042,0.99999999738907053,0.66078704444216163,0.12671817707600067,0.49844544609363906,0.51776703167427485,0,0]
[null,20.170734012814396,293.17073401281442,24.446059865464232,41379849219.848236,0.99999999997583366,0.47354823117912753,0.2071750943175637,0.51776703167427485,0.50949269065893443,0,0]
[null,22.823499967614278,295.82349996761428,28.201191543470909,1768568438523.1492,0.99999999999943456,0.36251351406638416,0.30729309091300144,0.50949269065893443,0.47060714774256468,0,0]
[null,25.24535246920566,298.24535246920567,31.571121348233468,51423755363748.547,0.99999999999998057,0.28522499619335084,0.43772844034809166,0.47060714774256468,0.40488936987337532,0,0]
[null,27.333177600810892,300.33317760081087,34.432640427174235,899302363655973.75,0.99999999999999889,0.23268143276500805,0.59112012273861703,0.40488936987337532,0.32803412439328122,0,0]
[null,28.998083150073885,301.99808315007391,36.686161503240804,8562439247066978,0.99999999999999989,0.19820931385088902,0.74890210316197903,0.32803412439328122,0.25960157745225265,0,0]
[null,30.169183325173481,303.16918332517349,38.256467634696577,4.1169234409966376E+16,1,0.17725516626584126,0.88312700945007439,0.25960157745225265,0.21130441150901064,0,0]
[null,30.796616821214297,303.79661682121429,39.092800635602231,9.5013999195004448E+16,1,0.16701473007402795,0.96417479770720227,0.21130441150901064,0.18390228452293123,0,0]
[null,30.853669738298741,303.85366973829872,39.168677601506296,1.0250393689736139E+17,1,0.16611545780852807,0.97188613410866642,0.18390228452293123,0.17284543649680242,0,0]
[null,30.337912964934546,303.33791296493456,38.481714705436033,5.1569907301073432E+16,1,0.17443690828641276,0.90425997637049205,0.17284543649680242,0.17379261467243218,0,0]
[null,29.271305601013736,302.27130560101375,37.053608578887655,1.236453363813433E+16,0.99999999999999989,0.193094237104525,0.7783569395292087,0.17379261467243218,0.18423170763817701,0,0]
[null,27.699260016978151,300.69926001697814,34.930288950267659,1479216499482576.7,0.99999999999999933,0.22458644224326865,0.62282499186329121,0.18423170763817701,0.20293907732226477,0,0]
[null,27.333177600810892,300.33317760081087,34.432640427174235,899302363655973.75,0.99999999999999889,0.23268143276500805,0.59112012273861703,0.20293907732226477,0.21621289075439362,0,0]
[null,24.632680125119165,297.63268012511918,30.723789563728975,22038004666212.922,0.99999999999995459,0.30295044187191172,0.40047062645630244,0.21621289075439362,0.24483587930132605,0,0]
[null,23.052990368547363,296.05299036854734,28.522884774202584,2439672132314.2705,0.99999999999959011,0.35430993304413771,0.31784867147649415,0.24483587930132605,0.27464425150399596,0,0]
[null,21.932182649427439,294.93218264942743,26.947019748174192,504593881772.5993,0.99999999999801825,0.39635127853046848,0.26938215667226506,0.27464425150399596,0.30338520905636046,0,0]
[null,21.062816641829873,294.0628166418299,25.71641128252492,147399331663.86554,0.99999999999321576,0.43262157929204137,0.23673323096173049,0.30338520905636046,0.33062800398197606,0,0]
[null,20.352492892855636,293.35249289285565,24.705516488522502,53637618070.129936,0.99999999998135636,0.46488610264686464,0.21289598514381802,0.33062800398197606,0.35637330988426952,0,0]
[null,19.75192272042359,292.75192272042358,23.846989918350722,22730873838.457619,0.99999999995600697,0.49417015034177086,0.19454628745009098,0.35637330988426952,0.38073467881955686,0,0]
[null,19.231685173735713,292.23168517373574,23.100448074226815,10774500065.504379,0.99999999990718824,0.52112983071683305,0.17988061669836133,0.38073467881955686,0.40384794184710116,0,0]
[null,18.772803136283834,291.77280313628381,22.439741742971201,5564882698.2556601,0.99999999982030174,0.54621408409657091,0.16782608315880732,0.40384794184710116,0.42584338714565895,0,0]
[null,18.362319166138143,291.36231916613815,21.846956300491335,3076185832.6222906,0.99999999967492215,0.5697456032178424,0.15769989462975187,0.42584338714565895,0.4468378476565194,0,0]
[null,17.990991247352728,290.99099124735272,21.309275913479468,1796804979.8938282,0.99999999944345652,0.59196527250711739,0.14904446854460085,0.4468378476565194,0.46693352563445889,0,0]
[null,17.65199541716391,290.6519954171639,20.817212557590917,1098501216.9211469,0.99999999908966875,0.61305837881753955,0.14154033893209655,0.46693352563445889,0.48621906039623664,0,0]
[null,17.34014948302147,290.34014948302149,20.36354345550431,697870040.85472023,0.99999999856706845,0.63317095819886549,0.13495692861182126,0.48621906039623664,0.50477121659994062,0,0]
[null,17.680345262222882,290.68034526222289,20.85840724713476,1144698644.9576619,0.99999999912640758,0.61126403760258774,0.14215380974317929,0.50477121659994062,0.51888281266283165,0,0]
[null,19.767444047407423,292.76744404740742,23.869222291941011,23241894672.001694,0.99999999995697419,0.49338903137991708,0.19500090760355487,0.51888281266283165,0.51436617914545646,0,0]
[null,21.672037735682082,294.67203773568207,26.579539696534567,349419728340.68152,0.99999999999713807,0.4068515998799031,0.25918721220170882,0.51436617914545646,0.48981829363849128,0,0]
[null,23.312672873459423,296.31267287345941,28.886299510964552,3508815075081.1128,0.99999999999971501,0.34526550316449428,0.33021005806251796,0.48981829363849128,0.44916610751798236,0,0]
[null,24.619184680255511,297.6191846802555,30.705085964491907,21629645456888.945,0.99999999999995381,0.30335388665239571,0.39968502461318289,0.44916610751798236,0.40112553206798052,0,0]
[null,25.535697774632578,298.53569777463258,31.971457098314875,76740989765714.312,0.99999999999998701,0.27721486898161157,0.45651817832812969,0.40112553206798052,0.35571047654691451,0,0]
[null,26.023015787698554,299.02301578769857,32.641636535556422,149997018859367.16,0.99999999999999334,0.26430588021107476,0.48979563556326011,0.35571047654691451,0.32031419341405387,0,0]
[null,26.060297667945196,299.06029766794518,32.692818146289383,157873965873224.06,0.99999999999999367,0.26334509011240964,0.49243457339738306,0.32031419341405387,0.29816100129354184,0,0]
[null,25.645948987164008,298.64594898716399,32.123270460043692,89322136304776.469,0.99999999999998879,0.2742364808900174,0.463852612231762,0.29816100129354184,0.28928156467577487,0,0]
[null,24.797690129102349,297.79769012910236,30.952343052836131,27696939975918.992,0.99999999999996392,0.29806356735108847,0.41019613577117875,0.28928156467577487,0.29223653208106326,0,0]
[null,23.551798444646462,296.55179844464647,29.220382800291013,4900619787499.1318,0.99999999999979594,0.33715487302780917,0.34199741785983467,0.29223653208106326,0.30524712778760932,0,0]
[null,23.312672873459427,296.31267287345941,28.886299510964552,3508815075081.1128,0.99999999999971501,0.34526550316449428,0.33021005806251796,0.30524712778760932,0.31650138610200806,0,0]
[null,21.190875856548612,294.19087585654859,25.898138946149569,176774181836.43295,0.99999999999434308,0.42706352605092551,0.2412932090548611,0.31650138610200806,0.34020466571489816,0,0]
[null,19.949704167513772,292.9497041675138,24.130111027522972,30169913635.650291,0.9999999999668544,0.48431462127075842,0.20041575362579347,0.34020466571489816,0.36637641226477424,0,0]
[null,19.069078839637797,292.06907883963777,22.866562144342549,8527500614.7088995,0.99999999988273236,0.52987497711575815,0.17551746489457742,0.36637641226477424,0.39269596265953899,0,0]
[null,18.386012768246012,291.38601276824602,21.881217970327544,3183407402.5835571,0.99999999968587117,0.56835834103541316,0.15826816394654705,0.39269596265953899,0.41840927388477955,0,0]
[null,17.827907150602957,290.82790715060298,21.072697284080206,1418260962.9861732,0.99999999929491112,0.60201444996969744,0.14538816621430517,0.41840927388477955,0.44325351711804639,0,0]
[null,17.356035574427711,290.35603557442772,20.386677875924615,714203058.78230512,0.99999999859983801,0.63212955114068103,0.13528511025657325,0.44325351711804639,0.46715259820590338,0,0]
[null,16.947281822726985,289.94728182272701,19.790615962183608,393509576.47492605,0.99999999745876578,0.65951614291340532,0.12707863858894697,0.46715259820590338,0.49010841421792584,0,0]
[null,16.586735461568118,289.58673546156814,19.263455377801066,232280297.16364592,0.99999999569485654,0.68472407430226712,0.12023659354155762,0.49010841421792584,0.51215630131908529,0,0]
[null,16.264215751335193,289.2642157513352,18.790780625503871,144787922.38645804,0.99999999309334664,0.70814478158851102,0.1144155507787056,0.51215630131908529,0.53334515402267069,0,0]
[null,15.972461184827857,288.97246118482786,18.362285372659951,94327692.908272699,0.99999998939865953,0.73006797517510402,0.10938249164488988,0.53334515402267069,0.5537280990618203,0,0]
[null,15.706110133692142,288.70611013369216,17.970343644094935,63741324.348755397,0.99999998431159076,0.75071478777247036,0.10497290758542495,0.5537280990618203,0.57335803634565696,0,0]
[null,15.461090918249361,288.46109091824934,17.609153036198105,44417897.196648546,0.99999997748655289,0.77025828945425068,0.10106685203565081,0.57335803634565696,0.59228554472378714,0,0]
[null,18.621131267520667,291.6211312675207,22.220904738966329,4471119845.7242718,0.99999999977634235,0.55478579599428912,0.16401425075566034,0.59228554472378714,0.58661295498666499,0,0]
[null,21.225369157462069,294.22536915746207,25.947061031645816,185637378842.30347,0.9999999999946132,0.42557950494099556,0.24253571594060538,0.58661295498666499,0.55193210245690283,0,0]
[null,23.60084175588581,296.60084175588582,29.28883483533205,5247825075328.8076,0.99999999999980949,0.33551671084643775,0.3444640456772996,0.55193210245690283,0.48886866360963899,0,0]
[null,25.64550436590752,298.64550436590753,32.122658451996301,89267487163110.812,0.99999999999998879,0.27424842324895293,0.46382280949470206,0.48886866360963899,0.40921772159824016,0,0]
[null,27.271523107056876,300.27152310705685,34.348708576571653,826903052850135.37,0.99999999999999878,0.23407518089204798,0.58593423065593608,0.40921772159824016,0.33155700391100351,0,0]
[null,28.409048051500985,301.40904805150097,35.891723113026032,3868809040146579,0.99999999999999978,0.20973628377782222,0.68897367336084314,0.33155700391100351,0.27090138488266929,0,0]
[null,29.009213812103312,302.00921381210333,36.701143722125707,8691689395372516,0.99999999999999989,0.19799812692322258,0.75008099986657684,0.27090138488266929,0.23243239828476511,0,0]
[null,29.046238684136267,302.04623868413626,36.750972411272073,9135756651699488,1,0.19729736712411294,0.7540152054970477,0.23243239828476511,0.21382747546534933,0,0]
[null,28.518532166473339,301.51853216647334,36.039620444229769,4485473433816265,0.99999999999999978,0.20754070475340231,0.69975499446317158,0.21382747546534933,0.21066338767815168,0,0]
[null,27.448763285764027,300.44876328576402,34.589897374169141,1052450210227688.5,0.999999999999999,0.23009237116160824,0.60096042742282818,0.21066338767815168,0.21943975492783527,0,0]
[null,25.882886788546244,{"$f":"B1101+273","v":298.88288678854622},{"$f":"$C$5*$C$6*(C1101-$C$6)/C1101","v":32.449149326991005},{"$f":"EXP(D1101)","v":123733271320493.89},{"$f":"E1101/(1+E1101)","v":0.9999999999999919},{"$f":"$C$7*EXP($C$8/C1101)","v":0.26795077075372858},{"$f":"$C$4*EXP(-$C$2/C1101)","v":0.47999692540786926},{"$f":"IF(J1100<1,J1100,J1100-J1100*F1100)","v":0.21943975492783527},{"$f":"G1101-(G1101-I1101)*EXP(-H1101)","v":0.23793286754835385},{"$f":"IF(J1101<1,0,J1101*F1101)","v":0},{"$f":"K1101+L1100","v":0}]
[null,25.64550436590752,298.64550436590753,32.122658451996301,89267487163110.812,0.99999999999998879,0.27424842324895293,0.46382280949470206,0.23793286754835385,0.25141047905581909,0,0]
[null,23.001508405901749,296.00150840590175,28.450762196615027,2269912037372.8135,0.99999999999955946,0.35613285343845774,0.31545104554662551,0.25141047905581909,0.27974209321088933,0,0]
[null,21.454869917240138,294.45486991724016,26.272271704981915,256981954900.5954,0.99999999999610867,0.41584466747600418,0.25095952553998302,0.27974209321088933,0.30994953390936747,0,0]
[null,20.357512445895978,293.35751244589596,24.712677223011791,54023081264.476486,0.99999999998148936,0.46464929713671294,0.21305609617824067,0.30994953390936747,0.33963474709377839,0,0]
[null,19.506335863601436,292.50633586360141,23.494903228191323,15984785942.031967,0.99999999993744049,0.50670663632616753,0.18748630621494686,0.33963474709377839,0.3681972786187207,0,0]
[null,18.810873957234364,291.81087395723438,22.494635819528352,5878901840.1078367,0.99999999982990018,0.54408477456940396,0.16879607918533762,0.3681972786187207,0.39551592505276117,0,0]
[null,18.222869293684894,291.22286929368488,21.645194576406269,2514134827.6549129,0.99999999960224883,0.57798393328735209,0.15439458915392487,0.39551592505276117,0.42162092641924259,0,0]
[null,17.713516485890203,290.71351648589018,20.906597601702902,1201212862.07336,0.99999999916750804,0.609171646320805,0.14287483532197456,0.42162092641924259,0.44659094863462606,0,0]
[null,17.264235468572757,290.26423546857274,20.252957275916042,624809446.68896139,0.99999999839951204,0.63817279960405104,0.13339913343468687,0.44659094863462606,0.47051650738672329,0,0]
[null,16.862339903595661,289.86233990359568,19.66653911359974,347591714.09485292,0.99999999712306142,0.66536448802878401,0.12543399915218095,0.47051650738672329,0.49348635978865396,0,0]
[null,16.498781142314279,289.49878114231427,19.134656734705043,204209448.75888374,0.99999999510306692,0.69102808234652613,0.11862168498182522,0.49348635978865396,0.51558263899109313,0,0]
[null,16.166877997228593,289.1668779972286,18.647918342927905,125512804.96538109,0.99999999203268553,0.71537992531147765,0.11271228362427216,0.51558263899109313,0.53687949703623628,0,0]
[null,15.861556700897575,288.86155670089755,18.199174683813027,80131106.607650667,0.99999998752045205,0.73859046834233244,0.10752532879429967,0.53687949703623628,0.5574431689923709,0,0]
[null,14.472594795486222,287.4725947954862,16.145726922809839,10280165.558867795,0.99999990272531147,0.85478867756101196,8.6672997542601257E-2,0.5574431689923709,0.58212971479209563,0,0]
[null,16.647129807983443,289.64712980798345,19.35185042093854,253747546.91374314,0.99999999605907519,0.68043091750708273,0.1213576159251252,0.58212971479209563,0.59336385576874229,0,0]
[null,18.629776418394677,291.62977641839467,22.233384355547386,4527267327.9089622,0.99999999977911624,0.55429338008798967,0.16422928138492252,0.59336385576874229,0.58744653234093358,0,0]
[null,20.334985765679249,293.33498576567922,24.680539460547656,52314502317.647484,0.99999999998088485,0.46571303808024139,0.21233845043888844,0.58744653234093358,0.56415781313223623,0,0]
[null,21.689180079229903,294.68918007922991,26.6037748960002,357991434112.28552,0.99999999999720668,0.40615061842294697,0.25984751897470315,0.56415781313223623,0.52800089491054314,0,0]
[null,22.633927472827644,295.63392747282762,27.935077433615145,1355345383856.9087,0.99999999999926215,0.36944312077408337,0.29882664673655618,0.52800089491054314,0.48704351476920416,0,0]
[null,23.128463211562568,296.12846321156258,28.628571544329393,2711631351229.085,0.99999999999963118,0.35165550883535063,0.32139505427983056,0.48704351476920416,0.4498303242020002,0,0]
[null,23.151448662028947,296.15144866202894,28.660748023886015,2800300990350.2168,0.99999999999964284,0.35085132156223503,0.32248259225094844,0.4498303242020002,0.42254661771148921,0,0]
[null,22.701892029169823,295.70189202916981,28.030522532167012,1491081083464.3491,0.99999999999932931,0.36694262776478964,0.30183607255738915,0.42254661771148921,0.40805951372566263,0,0]
[null,21.799191151063052,294.79919115106304,26.759237321342614,418204891881.98914,0.9999999999976088,0.40168264019857969,0.26412340334839018,0.40805951372566263,0.40657930603087139,0,0]
[null,20.482296505104323,293.48229650510433,24.89061145442955,64543900325.509521,0.99999999998450662,0.45880359396719972,0.21707353439623625,0.40657930603087139,0.41676979052564062,0,0]
[null,20.334985765679253,293.33498576567928,24.680539460547738,52314502317.651756,0.99999999998088485,0.46571303808023812,0.21233845043888994,0.41676979052564062,0.4261330767467677,0,0]
[null,18.130185523792044,291.13018552379202,21.510989019834341,2198385402.3251982,0.99999999954512075,0.58352967716918513,0.15223446069656488,0.4261330767467677,0.44835953777843607,0,0]
[null,16.840460060707095,289.84046006070707,19.634566884531644,336654212.04843694,0.99999999702959308,0.66687987981778063,0.12501366714126921,0.44835953777843607,0.47403899041802111,0,0]
[null,15.925385281904838,288.92538528190482,18.29306466713998,88019124.011077791,0.99999998863883277,0.73367266235529771,0.10859046517932773,0.47403899041802111,0.50075588332064191,0,0]
[null,15.215598140426893,288.21559814042689,17.246648439253818,30911796.700464215,0.99999996764989185,0.79038446467809909,9.7292718771913575E-2,0.50075588332064191,0.52760723720562952,0,0]
[null,14.635659818819887,287.63565981881987,16.387830475088236,13096171.258233737,0.99999992364181078,0.84018968495035695,8.8904251426026454E-2,0.52760723720562952,0.55419763423391732,0,0]
[null,14.145328954463405,287.14532895446342,15.659003783868783,6318571.9535157569,0.99999984173641621,0.88491048667148409,8.2355322526116492E-2,0.55419763423391732,0.58034224852479499,0,0]
[null,13.72058504001763,286.72058504001762,15.025650457341667,3353953.8357824693,0.99999970184452414,0.9257016699967866,7.7057324130428609E-2,0.58034224852479499,0.60595521552128317,0,0]
[null,13.345934355734936,286.34593435573493,14.465433622381589,1915393.4614330367,0.99999947791433041,0.9633469117443435,7.2655891151915591E-2,0.60595521552128317,0.63100095077970297,0,0]
[null,13.010797898539685,286.01079789853969,13.963058940346331,1158989.358139185,0.99999913718005251,0.99840546575752409,6.8923140409567069E-2,0.63100095077970297,0.6554706727326951,0,0]
[null,12.707630096115485,285.70763009611551,13.50759045987013,734974.04148964805,0.99999863940958056,1.0312921407761302,6.5704931882234197E-2,0.6554706727326951,0.67937023946283093,0,0]
[null,12.430859576932679,285.43085957693268,13.090935472201251,484530.40908913367,0.99999793615030674,1.062324170235956,6.2892749717081226E-2,0.67937023946283093,0.70271350993603132,0,0]
[null,12.176255380032742,285.17625538003273,12.706935854815312,330029.01532848907,0.99999696997256748,1.0917502759815223,6.0407674628081998E-2,0.70271350993603132,0.72551858126723445,0,0]
[null,15.073146726008652,288.07314672600864,17.036015625693683,25040764.26996094,0.99999996006511827,0.80231943245464044,9.5164842953823478E-2,0.72551858126723445,0.7324903288251885,0,0]
[null,16.004116950089081,289.0041169500891,18.408819529717253,98820885.266666964,0.99999998988068173,0.72765465657995565,0.10991818211658398,0.7324903288251885,0.73198697129066093,0,0]
[null,16.852562113897886,289.85256211389787,19.652251777029967,342660862.5314281,0.99999999708166265,0.66604124068305115,0.12524599223270771,0.73198697129066093,0.72422382945750563,0,0]
[null,17.581710322579976,290.58171032257997,20.715047785647563,991815624.5715754,0.99999999899174807,0.61753119237825094,0.14003030277948492,0.72422382945750563,0.71028250441437613,0,0]
[null,18.159960050889946,291.15996005088994,21.554111676129963,2295259339.7169023,0.9999999995643194,0.58174195244904214,0.15292523297683752,0.71028250441437613,0.69205466799357318,0,0]
[null,18.562249763779441,291.56224976377945,22.135887278054696,4106706795.8583899,0.99999999975649589,0.55815204333052582,0.16255682669694591,0.69205466799357318,0.6719649610215761,0,0]
[null,18.77114409163983,291.77114409163983,22.437349251228959,5551584676.4004507,0.9999999998198712,0.54630707674405965,0.16778393405659559,0.6719649610215761,0.65255540524185529,0,0]
[null,18.777589485004906,291.77758948500491,22.446643936273816,5603425456.1124678,0.99999999982153776,0.54594589465519883,0.16794774010282257,0.65255540524185529,0.63607336317264984,0,0]
[null,18.581306598388085,291.5813065983881,22.163406700508045,4221290401.1185417,0.99999999976310561,0.55706018822607584,0.16302715922659897,0.63607336317264984,0.62418726228517274,0,0]
[null,18.190802397208479,291.19080239720847,21.598771563751455,2400088776.3246303,0.99999999958334873,0.5798962722069525,0.15364393401517651,0.62418726228517274,0.61787922081239843,0,0]
[null,17.62300146308759,290.62300146308758,20.775073610982826,1053173275.8065453,0.99999999905048864,0.61489929941460963,0.14091554534772271,0.61787922081239843,0.61748754787868221,0,0]
[null,17.581710322579976,290.58171032257997,20.715047785647563,991815624.5715754,0.99999999899174807,0.61753119237825094,0.14003030277948492,0.61748754787868221,0.61749325082287299,0,0]
[null,16.639029136295278,289.63902913629528,19.339996166642713,250757317.45224366,0.99999999601208045,0.68100508652400749,0.12120667603829081,0.61749325082287299,0.62474307246858873,0,0]
[null,16.087595992183395,289.08759599218342,18.53148532834507,111717657.17838816,0.99999999104886361,0.72133121960730806,0.11134288881693667,0.62474307246858873,0.63492037843706917,0,0]
[null,15.69634795001058,288.69634795001059,17.955964625996248,62831344.677992657,0.99999998408437718,0.75148325383416825,0.10481455992306668,0.63492037843706917,0.64651937598604781,0,0]
[null,15.392872391623788,288.39287239162377,17.508480712765042,40163963.160936527,0.99999997510205929,0.7757956293069761,0.10000427912839997,0.64651937598604781,0.65882213858436178,0,0]
[null,15.144914805898697,288.14491480589868,17.142160031877054,27844890.203793596,0.99999996408676939,0.79628267486522208,9.6231263945936382E-2,0.65882213858436178,0.67143360045305844,0,0]
[null,14.935269654332528,287.9352696543325,16.831948085479148,20418421.896756809,0.99999995102462103,0.81405425100136963,9.3147686870770616E-2,0.67143360045305844,0.68411843244529646,0,0]
[null,14.753666763725882,287.7536667637259,16.562864909021982,15601301.668417353,0.99999993590278835,0.82979054271785535,9.0553079777194526E-2,0.68411843244529646,0.69672987183689727,0,0]
[null,14.593481661786813,287.59348166178683,16.325234651963815,12301535.524779404,0.99999991870934191,0.84394017935793086,8.8321914135913115E-2,0.69672987183689727,0.70917412915992406,0,0]
[null,14.45019120533909,287.45019120533908,16.112442725417313,9943630.2217800636,0.99999989943311673,0.85681547116319301,8.6370657065650447E-2,0.70917412915992406,0.72139083285436323,0,0]
[null,14.320569220452175,287.32056922045217,15.919766172378893,8200996.0336721428,0.99999987806360668,0.86864302384910097,8.4641068060609143E-2,0.72139083285436323,0.73334152219956328,0,0]
[null,14.202233619613999,287.20223361961399,15.743714396739721,6877146.6772305835,0.99999985459087881,0.87959274452054359,8.309101291379728E-2,0.73334152219956328,0.74500251428155251,0,0]
[null,14.093375419307717,287.09337541930773,15.581634300351542,5848140.4702949328,0.99999982900550455,0.88979547259712566,8.1689081002268168E-2,0.74500251428155251,0.75636029920288717,0,0]
[null,13.501541798206693,286.50154179820669,14.698292018027677,2417614.8623071164,0.99999958636935848,0.94751694436739109,7.4453996378910592E-2,0.75636029920288717,0.77007575486016921,0,0]
[null,15.129011862856641,288.12901186285666,17.118644268858905,27197735.356801998,0.99999996323223428,0.79761615955849574,9.5993977878694708E-2,0.77007575486016921,0.77259654223137963,0,0]
[null,16.611562960501111,{"$f":"B1165+273","v":289.61156296050109},{"$f":"$C$5*$C$6*(C1165-$C$6)/C1165","v":19.299798139815309},{"$f":"EXP(D1165)","v":240877277.51195499},{"$f":"E1165/(1+E1165)","v":0.99999999584850841},{"$f":"$C$7*EXP($C$8/C1165)","v":0.68295571534821176},{"$f":"$C$4*EXP(-$C$2/C1165)","v":0.12069623198508064},{"$f":"IF(J1164<1,J1164,J1164-J1164*F1164)","v":0.77259654223137963},{"$f":"G1165-(G1165-I1165)*EXP(-H1165)","v":0.76240466251644823},{"$f":"IF(J1165<1,0,J1165*F1165)","v":0},{"$f":"K1165+L1164","v":0}]
[null,17.884656488559362,290.88465648855936,21.15505104330429,1540004296.5017991,0.9999999993506512,0.59849708986824435,0.14665064550773679,0.76240466251644823,0.74004695263182962,0,0]
[null,18.892871977958858,291.89287197795886,22.612819613936239,6616415625.3344851,0.99999999984886079,0.53952862424367554,0.17090349545695291,0.74004695263182962,0.70854610745364743,0,0]
[null,19.592319664030114,292.59231966403013,23.61824152812067,18083061857.915321,0.99999999994469968,0.50227923831979426,0.1899298229288427,0.70854610745364743,0.67286548060275386,0,0]
[null,19.952551101313748,292.95255110131376,24.134183578613499,30293032684.468887,0.99999999996698907,0.48417429806340501,0.20050146218777543,0.67286548060275386,0.63858412193740044,0,0]
[null,19.957884649153414,292.95788464915341,24.141813028773289,30525035770.135036,0.99999999996723998,0.48391152829419881,0.20066212586113452,0.63858412193740044,0.61046291667435071,0,0]
[null,19.608088126867504,292.60808812686753,23.640852520892839,18496595422.762409,0.99999999994593602,0.50147179164627242,0.19038122269994323,0.61046291667435071,0.59156864449375235,0,0]
[null,18.918388921068054,291.91838892106807,22.649583653344791,6864188448.3029423,0.99999999985431631,0.53811911442499305,0.17156441033734701,0.59156864449375235,0.58314211284054862,0,0]
[null,17.918811105133763,290.91881110513378,21.204600205677227,1618232280.7244885,0.99999999938204176,0.59639073610992899,0.14741550796921596,0.58314211284054862,0.58495803079962849,0,0]
[null,17.884656488559362,290.88465648855936,21.15505104330429,1540004296.5017991,0.9999999993506512,0.59849708986824435,0.14665064550773679,0.58495803079962849,0.58680481768004022,0,0]
[null,16.238876205789222,289.23887620578921,18.753599120425605,139503342.62743405,0.99999999283171304,0.71002073453755488,0.11396979434991263,0.58680481768004022,0.60007703155922543,0,0]
[null,15.276156455942431,288.27615645594244,17.336128671597152,33805317.534906752,0.99999997041885591,0.78536818214227,9.8211013158151325E-2,0.60007703155922543,0.61740960879942075,0,0]
[null,14.593095923019083,287.59309592301906,16.324662099464089,12294494.265801791,0.99999991866278537,0.84397456159490658,8.8316605246255286E-2,0.61740960879942075,0.63656092043162371,0,0]
[null,14.063273011983707,287.06327301198371,15.536792819626886,5591693.8840192957,0.99999982116334662,0.89263902649423676,8.1305413471925575E-2,0.63656092043162371,0.6565575260485742,0,0]
[null,13.630376173172291,286.63037617317229,14.890894597198137,2931118.3488567714,0.99999965883340769,0.93462035384154996,7.597482869716797E-2,0.6565575260485742,0.67690073154427499,0,0]
[null,13.264367111099254,286.26436711109926,14.343271379094366,1695132.3512715113,0.99999941007590976,0.9717571227367251,7.1730002461301248E-2,0.67690073154427499,0.69731005087336217,0,0]
[null,12.947315640248945,285.94731564024892,13.867765405943745,1053644.2274029304,0.99999905091393759,1.0051981572083823,6.8237035048378469E-2,0.69731005087336217,0.71761864367849126,0,0]
[null,12.667656423325498,285.66765642332552,13.447463303739289,692084.47700043418,0.99999855509177227,1.0357137465909672,6.5291473721297996E-2,0.71761864367849126,0.73772404421883331,0,0]
[null,12.417492729213567,285.41749272921356,13.070792339721255,474868.09025399806,0.99999789415647278,1.0638478497961594,6.2759887521941227E-2,0.73772404421883331,0.75756249682815269,0,0]
[null,12.191192141014509,285.19119214101448,12.729482736278117,337554.66153291159,0.99999703752561742,1.0900001884374182,6.0550835942606844E-2,0.75756249682815269,0.77709456799524324,0,0]
[null,11.984595890402151,284.98459589040215,12.417418168058298,247067.82376486558,0.9999959525447818,1.1144739050036456,5.8599182512342425E-2,0.77709456799524324,0.79629661476490465,0,0]
[null,11.79454576286326,284.79454576286327,12.129946775657197,185339.91113255222,0.99999460453715328,1.1375048676788995,5.6857046707813101E-2,0.79629661476490465,0.81515549794734121,0,0]
[null,13.720260906287981,286.72026090628799,15.025166411504056,3352330.7612416469,0.99999970170016839,0.92573355330078089,7.7053408313834157E-2,0.81515549794734121,0.82335592178018358,0,0]
[null,16.225953122282771,289.22595312228276,18.734634168548482,136882598.14397448,0.99999999269446949,0.71097950387911191,0.1137430992192595,0.82335592178018358,0.81127401923487241,0,0]
[null,18.507517376701333,291.50751737670134,22.056829817685966,3794542995.2591105,0.9999999997364637,0.56130063078149739,0.16121319583840218,0.81127401923487241,0.77405563104352504,0,0]
[null,20.465194203674741,293.46519420367474,24.866233594993286,62989481872.408165,0.99999999998412437,0.45960011527296929,0.21651867905108976,0.77405563104352504,0.71283664264667612,0,0]
[null,22.013385840955191,295.01338584095521,27.061594449193418,565849766210.66479,0.99999999999823275,0.39313318823856863,0.27264206327364365,0.71283664264667612,0.63654429175128835,0,0]
[null,23.084398919618835,296.08439891961882,28.566873607789454,2549385862326.7686,0.99999999999960776,0.35320268584544429,0.31931996401405299,0.63654429175128835,0.5590908839250619,0,0]
[null,23.631404299325137,296.63140429932514,29.331480953652679,5476465098061.6367,0.99999999999981737,0.33450015038375619,0.34600975902471648,0.5590908839250619,0.49339934814387398,0,0]
[null,23.630484632841277,296.63048463284127,29.330197805003394,5469442485759.4873,0.99999999999981715,0.33453069195797425,0.34596315010568635,0.49339934814387398,0.44693639208117997,0,0]
[null,23.08168013180584,296.08168013180585,28.563066214200003,2539697801770.7095,0.9999999999996062,0.35329838517704659,0.31919234951685777,0.44693639208117997,0.42134847222112343,0,0]
[null,22.008986808508958,295.00898680850895,27.055389192980865,562349395015.43579,0.99999999999822176,0.39330680578341309,0.27246450370350539,0.42134847222112343,0.41466054765082366,0,0]
[null,20.465194203674741,293.46519420367474,24.866233594993286,62989481872.408165,0.99999999998412437,0.45960011527296929,0.21651867905108976,0.41466054765082366,0.4234094953742496,0,0]
[null,17.934614287250845,290.93461428725084,21.227522435717972,1655754173.1386991,0.99999999939604556,0.59541881293120369,0.14777069383746874,0.4234094953742496,0.44703860481473578,0,0]
[null,16.454319931064788,289.45431993106479,19.069518792334751,191331635.58643818,0.99999999477347279,0.69423830283514043,0.11781324654800344,0.44703860481473578,0.47451187615964935,0,0]
[null,15.404034370826949,288.40403437082693,17.524956071355689,40831159.91756238,0.99999997550890107,0.77488670864769904,0.10017740504053918,0.47451187615964935,0.50314453348429167,0,0]
[null,14.589369599372382,287.58936959937239,16.319131033875621,12226680.326198611,0.99999991821165746,0.84430677865567927,8.8265335867970682E-2,0.50314453348429167,0.5319666279534534,0,0]
[null,13.923740014640892,286.92374001464088,15.328817246925658,4541724.0604351526,0.99999977981934474,0.90594675300880689,7.9549382955687378E-2,0.5319666279534534,0.5605639860455931,0,0]
[null,13.360958219641995,286.36095821964199,14.487927085937363,1958965.5003757195,0.999999489526748,0.96180631189897359,7.2827671321435292E-2,0.5605639860455931,0.58874682943564038,0,0]
[null,12.873454454403053,285.87345445440303,13.756838744251764,943016.20336511603,0.99999893957395858,1.0131634358036008,6.744697034743638E-2,0.58874682943564038,0.61642843058002872,0,0]
[null,12.443445658454834,285.44344565845483,13.109900306853799,493807.13593589619,0.99999797492198439,1.0608916147989933,6.3018097030432166E-2,0.61642843058002872,0.64357336097098172,0,0]
[null,12.058789682948486,285.05878968294849,12.529540279937621,276382.28583239298,0.99999638183619899,1.1056180959019763,5.9293046587060395E-2,0.64357336097098172,0.6701730210212089,0,0]
[null,11.710826027309384,284.71082602730939,12.003189843493075,163274.78263576474,0.99999387539300777,1.1478107045262762,5.6105419583569731E-2,0.6701730210212089,0.69623318961911906,0,0]
[null,11.393160098216995,284.39316009821698,11.521544872591715,100865.66616743886,0.99999008592196015,1.1878290091604053,5.3338918949379456E-2,0.69623318961911906,0.72176734358799299,0,0]
[null,11.10093577100959,284.10093577100957,11.077523293510339,64700.440803982754,0.99998454439363982,1.2259562067708898,5.090952475509878E-2,0.72176734358799299,0.74679293371481448,0,0]
[null,10.830378303218099,283.83037830321808,10.665608389360809,42856.319355531239,0.99997666676275987,1.2624199080884153,4.8754845040520023E-2,0.74679293371481448,0.7713292545733772,0,0]
[null,12.563246359283145,285.56324635928314,13.290333524431558,591450.64850024751,0.99999830924471589,1.0473584008098162,6.4223229152191821E-2,0.7713292545733772,0.7884994729329573,0,0]
[null,14.535882453834768,287.53588245383474,16.239723069308646,11293332.545381995,0.99999991145218581,0.84909076733224687,8.7532548185810313E-2,0.7884994729329573,0.79357768682532803,0,0]
[null,16.331277291702754,289.33127729170275,18.889150688581246,159754798.54021999,0.99999999374040716,0.70320549418228795,0.11560330201495583,0.79357768682532803,0.78371162289126517,0,0]
[null,17.870583671327836,290.87058367132784,21.134631785518959,1508877427.0777764,0.9999999993372557,0.59936728336274359,0.14633660080668917,0.78371162289126517,0.75861625205100125,0,0]
[null,19.086200863435387,292.08620086343541,22.891201990746222,8740226929.462883,0.99999999988558652,0.52894680384014203,0.17597208971830641,0.75861625205100125,0.72155710906572779,0,0]
[null,19.924743388829743,292.92474338882977,24.094401136201505,29111558634.719467,0.99999999996564937,0.48554677892190917,0.19966579119774325,0.72155710906572779,0.67884028385170037,0,0]
[null,20.349385514184011,293.34938551418401,24.701083478274381,53400368213.590691,0.99999999998127354,0.46503276278792921,0.21279692519187285,0.67884028385170037,0.6378577159495068,0,0]
[null,20.341478504110203,293.34147850411023,24.689802853503284,52801363622.206177,0.99999999998106115,0.46540617568661724,0.21254505642206611,0.6378577159495068,0.60483736521964571,0,0]
[null,19.901369605689506,292.90136960568952,24.060956146190389,28154024461.281422,0.99999999996448108,0.4867036296072666,0.19896594040525922,0.60483736521964571,0.58352341761399673,0,0]
[null,19.048386798645314,292.04838679864531,22.836780926161715,8277285605.3952236,0.99999999987918742,0.53099899804980677,0.17496954508893381,0.58352341761399673,0.57509233365295986,0,0]
[null,17.870583671327836,290.87058367132784,21.134631785518959,1508877427.0777764,0.9999999993372557,0.59936728336274359,0.14633660080668917,0.57509233365295986,0.57839695839301886,0,0]
[null,15.88093412197027,288.88093412197026,18.227682691700181,82448358.002363637,0.99999998787119582,0.73709379000026853,0.1078476290773014,0.57839695839301886,0.59462142749199232,0,0]
[null,14.717063746019345,287.71706374601933,16.50858864745204,14777091.197516173,0.99999993232768758,0.83300136003208458,9.0038551389771113E-2,0.59462142749199232,0.61514690449476217,0,0]
[null,13.891284572612705,286.89128457261268,15.280413028623693,4327121.1984432768,0.99999976889952391,0.90907234502615208,7.9146155623861125E-2,0.61514690449476217,0.63751319596247646,0,0]
[null,13.250760483694524,286.25076048369453,14.322886127692785,1660926.4842676516,0.99999939792675507,0.9731676682894792,7.1576651948914619E-2,0.63751319596247646,0.66069855627936613,0,0]
[null,12.72741419666178,285.72741419666175,13.537342865176431,757169.83894643886,0.99999867929409247,1.0291112070195361,6.5910488504165629E-2,0.66069855627936613,0.68419788154021233,0,0]
[null,12.284931215769181,285.28493121576918,12.870926968279829,388841.45478724252,0.99999742826435822,1.079085118645841,6.1456708106483605E-2,0.68419788154021233,0.7077356659256786,0,0]
[null,11.901635023255139,284.90163502325515,12.29197804365297,217940.64709142948,0.99999541161584604,1.1244657176776165,5.7832519671329678E-2,0.7077356659256786,0.73115255954541403,0,0]
[null,11.563543820710857,{"$f":"B1229+273","v":284.56354382071083},{"$f":"$C$5*$C$6*(C1229-$C$6)/C1229","v":11.780014320636486},{"$f":"EXP(D1229)","v":130615.65005806346},{"$f":"E1229/(1+E1229)","v":0.99999234400821368},{"$f":"$C$7*EXP($C$8/C1229)","v":1.1661831916684144},{"$f":"$C$4*EXP(-$C$2/C1229)","v":5.48061285874668E-2},{"$f":"IF(J1228<1,J1228,J1228-J1228*F1228)","v":0.73115255954541403},{"$f":"G1229-(G1229-I1229)*EXP(-H1229)","v":0.75435332516027964},{"$f":"IF(J1229<1,0,J1229*F1229)","v":0},{"$f":"K1229+L1228","v":0}]
[null,11.261110934336958,284.26111093433695,11.321015229696723,82538.095526214631,0.99998788452922072,1.2048989828213408,5.2227719035984242E-2,0.75435332516027964,0.77728037215889834,0,0]
[null,10.987527110272822,283.98752711027282,10.904957857780827,54445.62944231974,0.99998163339016133,1.2411021416567629,4.999550054851281E-2,0.77728037215889834,0.79989924161982773,0,0]
[null,10.737764647304214,283.73776464730423,10.524426649364623,37213.491504569269,0.99997312874744304,1.2751656134223697,4.8037522201334629E-2,0.79989924161982773,0.82219017355016155,0,0]
[null,10.508005453703575,283.50800545370356,10.173779793150949,26206.946629873055,0.99996184363414187,1.3073810414333427,4.6301264592932767E-2,0.82219017355016155,0.84414298118276254,0,0]
[null,10.295281666411615,283.2952816664116,9.8486244392838387,18932.294361903179,0.99994718298987562,1.3379812940436897,4.4747357378994969E-2,0.84414298118276254,0.86575382079885355,0,0]
[null,10.837963544003276,283.83796354400329,10.677167369940021,43354.568798896726,0.99997693491222228,1.2613820377777054,4.8814046691862727E-2,0.86575382079885355,0.88460225826159777,0,0]
[null,12.594856938442964,285.59485693844294,13.337917341904221,620274.46335961402,0.99999838781306194,1.0438182814752686,6.4544868836195299E-2,0.88460225826159777,0.89455420719881829,0,0]
[null,14.193185931205507,287.19318593120551,15.730247881969019,6785156.2652204791,0.99999985261948088,0.88043596906591526,8.2973621789474747E-2,0.89455420719881829,0.8934300484843013,0,0]
[null,15.5624503369538,288.56245033695382,17.758644561529362,51580000.16051124,0.99999998061264095,0.7621085535964488,0.10266556599344139,0.8934300484843013,0.88061684290809394,0,0]
[null,16.642253707385969,289.64225370738598,19.344714976475775,251943389.7715393,0.99999999603085443,0.68077646967861105,0.12126673800686959,0.88061684290809394,0.85779460309565436,0,0]
[null,17.384967338969883,290.38496733896989,20.428803801357613,744932226.71814942,0.99999999865759603,0.63023762955217089,0.13588475376751943,0.85779460309565436,0.82888194907134327,0,0]
[null,17.757831112283213,290.75783111228321,20.970959666462893,1281067647.0431032,0.99999999921940108,0.60638825746972091,0.14384352973572284,0.82888194907134327,0.79907296611669176,0,0]
[null,17.744398497704644,290.74439849770465,20.951452360416816,1256319636.6779625,0.99999999920402427,0.60723052066533634,0.14354923943347792,0.79907296611669176,0.77341943826901161,0,0]
[null,17.345261990159589,290.3452619901596,20.370988916771761,703085396.48508835,0.99999999857769772,0.63283561008679379,0.13506246190910012,0.77341943826901161,0.75565826571846206,0,0]
[null,16.578026974949914,289.57802697494992,19.25070632441334,229337740.51650545,0.99999999563961872,0.68534549947253043,0.12007576728507172,0.75565826571846206,0.74770260401065713,0,0]
[null,15.5624503369538,288.56245033695382,17.758644561529362,51580000.16051124,0.99999998061264095,0.7621085535964488,0.10266556599344139,0.74770260401065713,0.7491082108667233,0,0]
[null,13.792682901890306,286.79268290189032,15.133290773678878,3735121.0052399905,0.99999973227112837,0.91863878324431814,7.7933069993415482E-2,0.7491082108667233,0.76181853895473539,0,0]
[null,12.757435317380697,285.75743531738067,13.582482388786474,792131.25952374132,0.9999987375845536,1.0258111584996972,6.6223581924138408E-2,0.76181853895473539,0.77873476738939307,0,0]
[null,12.022915466826811,285.02291546682682,12.475334234350333,261799.50307590101,0.99999618029763793,1.1098906637437282,5.8956574316223809E-2,0.77873476738939307,0.79769420155373072,0,0]
[null,11.453177608063127,284.45317760806313,11.612625823589834,110483.98127450903,0.99999094899606744,1.1801558665660894,5.3851405889496273E-2,0.79769420155373072,0.81774555759059531,0,0]
[null,10.987667882317204,283.98766788231723,10.905172145455083,54457.297719765695,0.99998163732540546,1.2410832182332419,4.9996625324306494E-2,0.81774555759059531,0.83839061997602837,0,0]
[null,10.594085017231038,283.59408501723101,10.305216624878527,29888.12803598179,0.99996654301862553,1.2952111041658763,4.6944607883039509E-2,0.83839061997602837,0.85934029410099622,0,0]
[null,10.253148031763317,283.25314803176332,9.7841638369601629,17750.409001216765,0.99994366644360844,1.3441321995793067,4.4445552675608638E-2,0.85934029410099622,0.88041532341056172,0,0]
[null,9.9524202978075955,282.95242029780758,9.3235204463411332,11198.33568112007,0.99991070898949075,1.3889181617656012,4.234725586048968E-2,0.88041532341056172,0.90149944512897628,0,0]
[null,9.6834101729996327,282.68341017299963,8.9106304014512219,7410.3311096211291,0.9998650714716143,1.4303280917981254,4.0550811427405173E-2,0.90149944512897628,0.92251489931428632,0,0]
[null,9.440060914460517,282.4400609144605,8.5364483688420485,5097.2087697601473,0.99980385267744787,1.4689213249355191,3.8988696609611399E-2,0.92251489931428632,0.9434086175704528,0,0]
[null,9.2179004472537081,282.21790044725373,8.1942834758458893,3620.1961044259237,0.99972384815095272,1.5051230907646074,3.7612976852211669E-2,0.9434086175704528,0.96414396740207153,0,0]
[null,9.0135326283721593,282.01353262837216,7.8790462293971366,2641.3521139319942,0.99962154930271119,1.539264987005236,3.6388525897506949E-2,0.96414396740207153,0.9846955843040458,0,0]
[null,8.824317582167545,281.82431758216757,7.5867745223698764,1971.9427876027366,0.99949314293030511,1.5716111034518956,3.528891717764155E-2,0.9846955843040458,1.0050460133126633,1.0045365986354471,1.0045365986354471]
[null,9.9814723782496433,282.98147237824963,9.3680640494257226,11708.426197853179,0.99991459871874988,1.3845230264609609,4.2545755379691179E-2,5.0941467721621336E-4,5.815826648784217E-2,0,1.0045365986354471]
[null,12.161873093658206,285.16187309365819,12.685223714746865,322940.60981181177,0.99999690346499304,1.0934382266920786,6.0270133422925871E-2,5.815826648784217E-2,0.11871161964310517,0,1.0045365986354471]
[null,14.14460806598734,287.14460806598731,15.657930424423478,6311793.4931416316,0.99999984156645139,0.88497807308676102,8.234604258225782E-2,0.11871161964310517,0.17928251960782993,0,1.0045365986354471]
[null,15.841840018513048,288.84184001851304,18.170163629578717,77839815.810282111,0.99999998715310445,0.74011667673135018,0.10719833008210451,0.17928251960782993,0.23629272162193926,0,1.0045365986354471]
[null,17.178379763189845,290.17837976318987,20.12781901881257,551316172.76200509,0.99999999818615881,0.64388050598348179,0.13165802284188832,0.23629272162193926,0.28657245115164581,0,1.0045365986354471]
[null,18.095017161979019,291.095017161979,21.460043071479362,2089191678.6346629,0.99999999952134599,0.58564881058466023,0.15142238845576944,0.28657245115164581,0.32859728973152358,0,1.0045365986354471]
[null,18.551144199196845,291.55114419919687,22.119848395030989,4041365209.7065959,0.99999999975255882,0.55878938568583503,0.16228333339072898,0.32859728973152358,0.36308000118661954,0,1.0045365986354471]
[null,18.526553959976464,291.52655395997647,22.084330321228524,3900342946.5490189,0.99999999974361231,0.56020337054008151,0.16167931965186189,0.36308000118661954,0.39250776680114718,0,1.0045365986354471]
[null,18.022335818176334,291.02233581817632,21.354715668623239,1880334772.8928254,0.99999999946817986,0.5900544135956558,0.14975719213527972,0.39250776680114718,0.41998314935600434,0,1.0045365986354471]
[null,17.06082717595492,290.0608271759549,19.956361087227378,464448429.89671981,0.99999999784690841,0.65178388894580441,0.12930928295207997,0.41998314935600434,0.44810007932487722,0,1.0045365986354471]
[null,15.841840018513048,288.84184001851304,18.170163629578717,77839815.810282111,0.99999998715310445,0.74011667673135018,0.10719833008210451,0.44810007932487722,0.47778430058379967,0,1.0045365986354471]
[null,13.648266019573182,286.64826601957316,14.917625559900783,3010526.564811782,0.99999966783230565,0.93284438563100658,7.6188342932316827E-2,0.47778430058379967,0.5111667513326682,0,1.0045365986354471]
[null,12.36510748763641,285.36510748763641,12.991832362269736,438814.63636830269,0.99999772113863516,1.0698416934492967,6.2241775953597978E-2,0.5111667513326682,0.54487961462681178,0,1.0045365986354471]
[null,11.454692020633313,284.45469202063333,11.61492355803728,110738.13600239177,0.99999096976880897,1.1799629355696757,5.3864398075470048E-2,0.54487961462681178,0.57818301002105166,0,1.0045365986354471]
[null,10.748518922160152,283.74851892216014,10.540825367697771,37828.776221969099,0.99997356579657959,1.2736785775216275,4.8120296854928787E-2,0.57818301002105166,0.61085799340197811,0,1.0045365986354471]
[null,10.171533488696543,283.17153348869653,9.6592464944908851,15665.975820545604,0.99993617147230873,1.356132566775486,4.3866471669859942E-2,0.61085799340197811,0.64284387649256947,0,1.0045365986354471]
[null,9.6836992556916321,282.68369925569164,8.911074521647766,7413.6229182552324,0.99986513137471389,1.43028289292227,4.0552702216814056E-2,0.64284387649256947,0.67413784052159376,0,1.0045365986354471]
[null,9.2611180216934486,282.26111802169345,8.2608880867372232,3869.5290524184152,0.99974163738691613,1.4980069271320164,3.7876910201924456E-2,0.67413784052159376,0.70475986123982093,0,1.0045365986354471]
[null,8.8883749567597707,281.88837495675978,7.6857649101998868,2177.1346493614628,0.99954089156044912,1.5605802826506965,3.565757462376172E-2,0.70475986123982093,0.73473867946193405,0,1.0045365986354471]
[null,8.5549449232202832,281.55494492322026,7.1700093582861122,1299.8567671786402,0.99923127585970217,1.6189142570981712,3.3778154856299633E-2,0.73473867946193405,0.76410572457010195,0,1.0045365986354471]
[null,8.2533207687598136,281.25332076875981,6.7023982492431102,814.35651500810093,0.99877354263859652,1.6736854244788955,3.2159937137587524E-2,0.76410572457010195,0.79289238097568682,0,1.0045365986354471]
[null,7.9779594897566755,280.9779594897567,6.2746261274790216,530.92784531468783,0.99812004577536562,1.725411654524369,3.0747578489102749E-2,0.79289238097568682,0.82112876574975835,0,1.0045365986354471]
[null,7.7246516681543795,280.72465166815437,5.8803728476165,357.9426749053643,0.99721403981774071,1.774499292849788,2.9500877773065808E-2,0.82112876574975835,0.84884322277163138,0,1.0045365986354471]
[null,7.4901252567517655,280.49012525675175,5.5147164713070165,248.31956154478328,0.99598908327207059,1.8212738021321535,2.8389832724663517E-2,0.84884322277163138,0.87606216549890625,0,1.0045365986354471]
[null,11.681486122831704,284.6814861228317,11.958749745215593,156177.7007347974,0.99999359707824886,1.1514459220557829,5.5844263552503257E-2,0.87606216549890625,0.89101924807571309,0,1.0045365986354471]
[null,13.765910394705534,286.76591039470554,15.093326403323456,3588792.6809203685,0.99999972135483706,0.92125475882505869,7.7606770083299539E-2,0.89101924807571309,0.89327698742963857,0,1.0045365986354471]
[null,15.660529581597633,288.66052958159764,17.903198327997305,59601918.910209358,0.999999983222017,0.75431001929769625,0.10423551958354255,0.89327698742963857,0.87952107335585406,0,1.0045365986354471]
[null,17.281045533171227,290.28104553317121,20.277449977796959,640301666.90023613,0.99999999843823617,0.63706159274964691,0.13374259738511646,0.87952107335585406,0.84916883548954025,0,1.0045365986354471]
[null,18.555355898592971,291.55535589859295,22.125931161079823,4066022805.9621844,0.9999999997540594,0.55854758719571485,0.16238700185765567,0.84916883548954025,0.8056082402244481,0,1.0045365986354471]
[null,19.426762209113463,292.42676220911346,23.380695253158361,14259586483.475676,0.99999999992987176,0.5108410805158019,0.18525171599873397,0.8056082402244481,0.75576167149756102,0,1.0045365986354471]
[null,19.856492588739414,292.8564925887394,23.996727725610686,26402584119.179726,0.99999999996212496,0.48893300341131229,0.19762880459319943,0.75576167149756102,0.7079124677492481,0,1.0045365986354471]
[null,19.825426848888025,292.82542684888801,23.952254607475197,25254106357.755524,0.99999999996040245,0.49048264965060812,0.19670821236083982,0.7079124677492481,0.66908608634881517,0,1.0045365986354471]
[null,19.334947211604984,292.33494721160497,23.248840650118211,12498077258.68684,0.99999999991998767,0.51565632424130869,0.18270495605258993,0.66908608634881517,0.64346544801274552,0,1.0045365986354471]
[null,18.406876809732431,291.40687680973241,21.911383396221051,3280899292.2207174,0.99999999969520548,0.56713973309165455,0.15877018723853545,0.64346544801274552,0.63226025382225537,0,1.0045365986354471]
[null,17.281045533171227,{"$f":"B1293+273","v":290.28104553317121},{"$f":"$C$5*$C$6*(C1293-$C$6)/C1293","v":20.277449977796959},{"$f":"EXP(D1293)","v":640301666.90023613},{"$f":"E1293/(1+E1293)","v":0.99999999843823617},{"$f":"$C$7*EXP($C$8/C1293)","v":0.63706159274964691},{"$f":"$C$4*EXP(-$C$2/C1293)","v":0.13374259738511646},{"$f":"IF(J1292<1,J1292,J1292-J1292*F1292)","v":0.63226025382225537},{"$f":"G1293-(G1293-I1293)*EXP(-H1293)","v":0.63286130840191801},{"$f":"IF(J1293<1,0,J1293*F1293)","v":0},{"$f":"K1293+L1292","v":1.0045365986354471}]
[null,15.186685218144035,288.18668521814402,17.203913792646247,29618620.505574178,0.99999996623745635,0.79279147121986637,9.6857187301606931E-2,0.63286130840191801,0.6476251612804238,0,1.0045365986354471]
[null,13.96156297085458,286.96156297085457,15.385212789390737,4805217.1380713042,0.99999979189290245,0.90231869111825003,8.0021773144968111E-2,0.6476251612804238,0.66721204947276069,0,1.0045365986354471]
[null,13.092324903116843,286.09232490311683,14.085377503314765,1309790.1654673757,0.99999923651951061,0.98975361403153417,6.9813943947947849E-2,0.66721204947276069,0.68896189366006477,0,1.0045365986354471]
[null,12.418091476892442,285.41809147689241,13.07169466116612,475296.76728847186,0.99999789605575951,1.0637795490950761,6.2765833139497088E-2,0.68896189366006477,0.7117645371011645,0,1.0045365986354471]
[null,11.867202655827388,284.86720265582738,12.239893482140635,206879.85272941107,0.99999516629989282,1.1286407374377958,5.7517144693119304E-2,0.7117645371011645,0.73506553890270898,0,1.0045365986354471]
[null,11.401432794217524,284.4014327942175,11.534101576663687,102140.19166201384,0.99999020963057383,1.1867682082271211,5.3409281103265163E-2,0.73506553890270898,0.75855771938613192,0,1.0045365986354471]
[null,10.997964588089651,283.99796458808964,10.920845541762034,55317.552475142918,0.99998192288201238,1.2396999061286926,5.0078962152594803E-2,0.75855771938613192,0.78205943843373182,0,1.0045365986354471]
[null,10.642080408537932,283.64208040853794,10.378467231745079,32159.630433945433,0.99996890608217226,1.2884779463025482,4.7307018496571047E-2,0.78205943843373182,0.80545874863338462,0,1.0045365986354471]
[null,10.323731161865251,283.32373116186523,9.8921387186499921,19774.306424092876,0.99994943188345331,1.3338450325993851,4.4952249164261639E-2,0.80545874863338462,0.82868495445273549,0,1.0045365986354471]
[null,10.035749238546988,283.035749238547,9.451258612103663,12724.169984036836,0.99992141558806247,1.3763513975398347,4.2918990200690711E-2,0.82868495445273549,0.85169297299703894,0,1.0045365986354471]
[null,9.7728423408001959,282.7728423408002,9.0479824875087989,8501.3689929901229,0.99988238572087096,1.4164173992280855,4.1139794508883935E-2,0.85169297299703894,0.8744542133117843,0,1.0045365986354471]
[null,9.5309914393461153,282.53099143934611,8.6763416410707279,5862.5599638103458,0.9998294551422392,1.4543722965823231,3.9565544927103458E-2,0.8744542133117843,0.89695100469388456,0,1.0045365986354471]
[null,9.3070724791903334,282.30707247919031,8.3316882645599524,4153.4237145324705,0.99975929272777309,1.4904793882100031,3.8159500289298098E-2,0.89695100469388456,0.91917306340438576,0,1.0045365986354471]
[null,12.65430737315555,285.65430737315558,13.427380329231477,678324.00023685198,0.99999852578041548,1.0371948194298941,6.5153955669544683E-2,0.91917306340438576,0.92661749720394226,0,1.0045365986354471]
[null,14.903410700227033,287.90341070022703,16.784766844503412,19477428.582298428,0.99999994865852315,0.8167917262855412,9.2687431115773752E-2,0.92661749720394226,0.91689553935903323,0,1.0045365986354471]
[null,16.946807059307563,289.94680705930756,19.78992266506118,393236851.96838993,0.9999999974570033,0.65954867814060736,0.12706938928375708,0.91689553935903323,0.8861869975365777,0,1.0045365986354471]
[null,18.693185703474327,291.69318570347434,22.3248955510388,4961111032.2597094,0.99999999979843224,0.5506958944779764,0.16581470631278858,0.8861869975365777,0.83492503091349068,0,1.0045365986354471]
[null,20.064508352145932,293.06450835214594,24.294276170473527,35552494889.769394,0.99999999997187261,0.47869026516525814,0.20389987840083168,0.83492503091349068,0.76921539832648034,0,1.0045365986354471]
[null,20.99949639201472,293.99949639201475,25.626495600846109,134724205135.64136,0.99999999999257738,0.43539829833467619,0.23450900251948667,0.76921539832648034,0.69943397572670485,0,1.0045365986354471]
[null,21.456369159282925,294.45636915928293,26.274394517203099,257528058767.98706,0.99999999999611688,0.41578186045121579,0.25101546221189841,0.69943397572670485,0.63646613958209919,0,1.0045365986354471]
[null,21.414710940942857,294.41471094094288,26.215401616171594,242775167695.61819,0.99999999999588096,0.41753080244413221,0.24946561461251951,0.63646613958209919,0.58812895525484987,0,1.0045365986354471]
[null,20.876383266704696,293.87638326670469,25.451562254376423,113102718312.89394,0.99999999999115852,0.44085164755165407,0.23024140801091139,0.58812895525484987,0.55784017203187919,0,1.0045365986354471]
[null,19.865441725101462,292.86544172510145,24.009537387361494,26742967736.216747,0.99999999996260702,0.48848756525685122,0.19789476251494001,0.55784017203187919,0.54538834087105537,0,1.0045365986354471]
[null,18.693185703474324,291.69318570347434,22.3248955510388,4961111032.2597094,0.99999999979843224,0.5506958944779764,0.16581470631278858,0.54538834087105537,0.54619931807244093,0,1.0045365986354471]
[null,16.436203012320394,289.43620301232039,19.042970843650064,186319005.0742965,0.99999999463286104,0.69555095028060043,0.11748533782424316,0.54619931807244093,0.5627544165170264,0,1.0045365986354471]
[null,15.115952773218629,288.11595277321862,17.099331785242395,26677519.041593645,0.99999996251525636,0.79871296300135053,9.5799542684184405E-2,0.5627544165170264,0.58431013992945169,0,1.0045365986354471]
[null,14.179220321166468,287.17922032116644,15.709459902062607,6645562.5359051488,0.99999984952367171,0.88173922466915744,8.2792733075238073E-2,0.58431013992945169,0.60794328235003359,0,1.0045365986354471]
[null,13.452634183209533,286.45263418320951,14.625131592677178,2247056.2689768495,0.99999955497351412,0.95246224152081571,7.3884317140709102E-2,0.60794328235003359,0.63248022185329233,0,1.0045365986354471]
[null,12.858970082064701,285.85897008206473,13.73507901201744,922718.06521339051,0.99999891624651782,1.014733319968276,6.7293065257181553E-2,0.63248022185329233,0.65735680690328069,0,1.0045365986354471]
[null,12.357034236464525,285.35703423646453,12.979661018385304,433506.04441178334,0.99999769323241017,1.0707686180899385,6.2162292628676445E-2,0.65735680690328069,0.68227298665209535,0,1.0045365986354471]
[null,11.922237630012539,284.92223763001255,12.323136820864669,224838.3145491654,0.99999555237925353,1.1219754640102111,5.8022013914228614E-2,0.68227298665209535,0.70705937839105348,0,1.0045365986354471]
[null,11.538719842962934,284.53871984296291,11.742375998054495,125790.86408234996,0.99999205036027339,1.1693105454663777,5.4589988873670045E-2,0.70705937839105348,0.7316172588730856,0,1.0045365986354471]
[null,11.195651492055603,284.19565149205562,11.221539543395155,74722.725124887424,0.9999866173695392,1.2134576034691942,5.1685112346655911E-2,0.7316172588730856,0.75588859498583005,0,1.0045365986354471]
[null,10.885308418979326,283.88530841897932,10.749301217053121,46597.455566842844,0.9999785400612996,1.2549244549088068,4.9185122276624499E-2,0.75588859498583005,0.77983988292597428,0,1.0045365986354471]
[null,10.601987390910772,283.60198739091078,10.317278939299257,30250.831155586449,0.9999669441497655,1.2940999274101261,4.7004095194882189E-2,0.77983988292597428,0.80345290918280543,0,1.0045365986354471]
[null,10.341357309971359,283.34135730997139,9.9190940089437181,20314.577462996505,0.99995077668838994,1.3312892066384447,4.5079641429965456E-2,0.80345290918280543,0.82671922172608747,0,1.0045365986354471]
[null,10.100051545310599,283.10005154531058,9.5497787094148308,14041.587056656075,0.99992878805052332,1.3667367994753314,4.3365216578760177E-2,0.82671922172608747,0.8496366989329377,0,1.0045365986354471]
[null,13.764393978361635,286.76439397836162,15.091062565934942,3580677.4271429996,0.99999972072331533,0.92140316714721537,7.7588327311515659E-2,0.8496366989329377,0.8549944039827907,0,1.0045365986354471]
[null,15.736142163900487,288.73614216390047,18.014572640816439,66623814.109949417,0.99999998499035225,0.74835595492927076,0.10546147666659912,0.8549944039827907,0.84432086987371147,0,1.0045365986354471]
[null,17.526756518087641,290.52675651808767,20.635133784805848,915639956.52337205,0.99999999890786762,0.62105259272085422,0.13886037972385129,0.84432086987371147,0.81537403468429859,0,1.0045365986354471]
[null,19.055877919446104,292.05587791944612,22.847563080853245,8367015450.4610119,0.99999999988048305,0.53059177628565846,0.17516771915231469,0.81537403468429859,0.76961415049691706,0,1.0045365986354471]
[null,20.25488251708499,293.25488251708498,24.566219903098631,46663116971.52494,0.99999999997856981,0.46951672504061831,0.20980519753984239,0.76961415049691706,0.71281836151294653,0,1.0045365986354471]
[null,21.069961429215866,294.06996142921588,25.72655455409209,148902051477.28802,0.99999999999328415,0.43230945481869953,0.23698546372873938,0.71281836151294653,0.6536317555894221,0,1.0045365986354471]
[null,21.464535576060836,294.46453557606083,26.285957160062921,260523045350.26746,0.99999999999616151,0.41543992643035604,0.25132035993121071,0.6536317555894221,0.60069913910239414,0,1.0045365986354471]
[null,21.420897274374841,294.42089727437485,26.224163242080213,244911618619.52219,0.99999999999591693,0.41727058514623122,0.2496951914776516,0.60069913910239414,0.56016843645032988,0,1.0045365986354471]
[null,20.94100492216695,293.94100492216694,25.543402437140436,123982025591.89975,0.99999999999193434,0.43798017099808467,0.23247212535907189,0.56016843645032988,0.53482314958101074,0,1.0045365986354471]
[null,20.046395109790502,293.04639510979052,24.26838354382323,34643762911.410736,0.99999999997113476,0.47957299769974715,0.20334635512688537,0.53482314958101074,0.5246568767787384,0,1.0045365986354471]
[null,19.055877919446104,292.05587791944612,22.847563080853245,8367015450.4610119,0.99999999988048305,0.53059177628565846,0.17516771915231469,0.5246568767787384,0.5256105187493707,0,1.0045365986354471]
[null,17.079690315753641,290.07969031575362,19.983883537768612,477408720.22011423,0.99999999790535876,0.6505087313888388,0.12968346018714372,0.5256105187493707,0.54080146031653764,0,1.0045365986354471]
[null,15.923694673203547,288.92369467320356,18.290578365824626,87800553.775599226,0.99999998861055028,0.73380246777230229,0.10856212375078821,0.54080146031653764,0.56065679399738777,0,1.0045365986354471]
[null,15.103502712061175,288.10350271206119,17.080918335462854,26190788.827938244,0.99999996181863904,0.79976011260651814,9.5614525593159916E-2,0.56065679399738777,0.58245960388513018,0,1.0045365986354471]
[null,14.46731240166444,287.46731240166446,16.137879530232208,10199808.771965208,0.99999990195895583,0.85526610095829481,8.6601619723993925E-2,0.58245960388513018,0.60509098857070476,0,1.0045365986354471]
[null,13.947507069511083,286.94750706951106,15.364256613455495,4705565.9629825233,0.99999978748575724,0.90366515319083485,7.9845909727150458E-2,0.60509098857070476,0.62800398778952315,0,1.0045365986354471]
[null,13.508017923310842,286.50801792331083,14.707977717884683,2441144.9228337826,0.99999959035631969,0.94686416464958212,7.4529744665398592E-2,0.62800398778952315,0.65090456865838608,0,1.0045365986354471]
[null,13.127315108368713,286.12731510836869,14.137853474411919,1380358.0422835434,0.99999927555080281,0.98606489702646294,7.0199628719434623E-2,0.65090456865838608,0.67362585621005544,0,1.0045365986354471]
[null,12.791511426960991,285.79151142696099,13.633707470786463,833765.50337062229,0.99999880062344082,1.0220790251391674,6.6580687491320525E-2,0.67362585621005544,0.696070622920963,0,1.0045365986354471]
[null,12.491124797971974,285.49112479797196,13.181728549790307,530581.33865103417,0.99999811527838911,1.0554833838609985,6.3495112018339725E-2,0.696070622920963,0.71818216085421605,0,1.0045365986354471]
[null,12.21939203887332,285.21939203887331,12.772043743547982,352231.44177037606,0.99999716096565394,1.0867042481388343,6.0822002202271734E-2,0.71818216085421605,0.73992838420377793,0,1.0045365986354471]
[null,11.971319465818619,284.97131946581862,12.397348595898167,242158.7049808364,0.99999587049381289,1.1160665407217003,5.8475842161379264E-2,0.73992838420377793,0.76129264564297006,0,1.0045365986354471]
[null,11.743114820244442,284.74311482024444,12.052085931906614,171456.68222518137,0.99999416765707416,1.1438242443959301,5.6394172967094224E-2,0.76129264564297006,0.78226819077430521,0,1.0045365986354471]
[null,11.531830319618379,284.53183031961839,11.731928880874706,124483.55289195261,0.99999196687479075,1.1701800784554039,5.4530147123152427E-2,0.78226819077430521,0.80285468969934182,0,1.0045365986354471]
[null,12.727620338351299,285.7276203383513,13.537652850560315,757404.5869119697,0.99999867970342804,1.029088508525775,6.5912633546057087E-2,0.80285468969934182,0.81728554451020352,0,1.0045365986354471]
[null,15.045827959031936,288.04582795903195,16.995597492699108,24048844.141079251,0.99999995841796174,0.80463014811748845,9.4761880445679694E-2,0.81728554451020352,0.81614136379121394,0,1.0045365986354471]
[null,17.150141369653454,{"$f":"B1357+273","v":290.15014136965345},{"$f":"$C$5*$C$6*(C1357-$C$6)/C1357","v":20.086644202614099},{"$f":"EXP(D1357)","v":529076823.14443386},{"$f":"E1357/(1+E1357)","v":0.99999999810991536},{"$f":"$C$7*EXP($C$8/C1357)","v":0.64576967838038257},{"$f":"$C$4*EXP(-$C$2/C1357)","v":0.13109012055566807},{"$f":"IF(J1356<1,J1356,J1356-J1356*F1356)","v":0.81614136379121394},{"$f":"G1357-(G1357-I1357)*EXP(-H1357)","v":0.79520928088883513},{"$f":"IF(J1357<1,0,J1357*F1357)","v":0},{"$f":"K1357+L1356","v":1.0045365986354471}]
[null,18.945719278334405,291.94571927833442,22.688953277107998,7139819101.8957176,0.99999999985994048,0.53661379094870609,0.17227500062706957,0.79520928088883513,0.75428593954471945,0,1.0045365986354471]
[null,20.351635085608411,293.35163508560839,24.70429274350813,53572019448.613312,0.99999999998133349,0.46492658397111697,0.21286863475701248,0.75428593954471945,0.69880484449554525,0,1.0045365986354471]
[null,21.304524241895834,294.30452424189582,26.059283878709916,207684072280.82391,0.99999999999518496,0.42219474785678585,0.24541014014320162,0.69880484449554525,0.6386099470540515,0,1.0045365986354471]
[null,21.761440084334591,294.76144008433459,26.705902383720414,396484340818.91931,0.9999999999974778,0.40320991606623202,0.26264859256615025,0.6386099470540515,0.58423538503457229,0,1.0045365986354471]
[null,21.701789440558219,294.70178944055823,26.621599736291532,364429785071.98486,0.99999999999725597,0.40563582179900504,0.26033424392665594,0.58423538503457229,0.5432992773909906,0,1.0045365986354471]
[null,21.128260761863352,294.12826076186337,25.809302207121092,161747482670.96524,0.9999999999938175,0.42977157631288343,0.23905321436008548,0.5432992773909906,0.51916022081726043,0,1.0045365986354471]
[null,20.066702954854836,293.06670295485486,24.29741310696966,35664195916.433029,0.99999999997196065,0.47858343100048928,0.20396704095036725,0.51916022081726043,0.51167336683450682,0,1.0045365986354471]
[null,18.945719278334408,291.94571927833442,22.688953277107998,7139819101.8957176,0.99999999985994048,0.53661379094870609,0.17227500062706957,0.51167336683450682,0.51562024730612177,0,1.0045365986354471]
[null,16.625166589138601,289.62516658913859,19.319708636521717,245721327.44733462,0.99999999593034916,0.68198885145024557,0.12094879093261647,0.51562024730612177,0.5345730695370644,0,1.0045365986354471]
[null,15.267730285011419,288.2677302850114,17.323680515261298,33387112.001474287,0.99999997004832375,0.78606411764029938,9.8082746307038768E-2,0.5345730695370644,0.55806890111632423,0,1.0045365986354471]
[null,14.304613899942796,287.30461389994281,15.89603737462137,8008686.9128099959,0.9999998751356014,0.87011087513218033,8.4430472608297627E-2,0.55806890111632423,0.58333320751368056,0,1.0045365986354471]
[null,13.557562793624244,286.55756279362424,14.782062594470503,2628864.5856916299,0.99999961960778616,0.94188597572825827,7.5111690017453242E-2,0.58333320751368056,0.6092781315626945,0,1.0045365986354471]
[null,12.947177595815614,285.94717759581562,13.86755814065258,1053425.8661554891,0.99999905071720485,1.0052129816987074,6.8235550224415908E-2,0.6092781315626945,0.63539382235120234,0,1.0045365986354471]
[null,12.431104264426551,285.43110426442655,13.091304185727983,484709.0949449999,0.99999793691113426,1.0622963001222652,6.2895184336170903E-2,0.63539382235120234,0.66141698848825903,0,1.0045365986354471]
[null,11.98406121074699,284.98406121074697,12.416609945025296,246868.21853262404,0.99999594927222624,1.1145379981982606,5.8594210441373556E-2,0.66141698848825903,0.68720438275686779,0,1.0045365986354471]
[null,11.58974129168843,284.58974129168843,11.819728023957943,135907.26049090223,0.99999264209551064,1.1628924635486289,5.5035114183251237E-2,0.68720438275686779,0.71267656926170742,0,1.0045365986354471]
[null,11.237010104428439,284.23701010442846,11.28439564258111,79570.25670990636,0.99998743264790146,1.2080425902903067,5.202731203056641E-2,0.71267656926170742,0.73779017059860941,0,1.0045365986354471]
[null,10.917925932616628,283.91792593261664,10.798982710458962,48970.958144767836,0.99997958015080701,1.2504960927297086,4.9442336196288204E-2,0.73779017059860941,0.76252308446193218,0,1.0045365986354471]
[null,10.626624906619806,283.62662490661978,10.354881737851052,31410.004564450013,0.99996816402360045,1.2906420832300425,4.719002386417015E-2,0.76252308446193218,0.78686614062464988,0,1.0045365986354471]
[null,10.358653939195127,283.35865393919511,9.9455421130565131,20859.027623370584,0.99995206142493887,1.3287862306754408,4.5204987595467948E-2,0.78686614062464988,0.81081817714117133,0,1.0045365986354471]
[null,10.110551575230748,283.11055157523077,9.565861968315339,14269.24738928773,0.99992992413006443,1.3651736202719784,4.3438501604779918E-2,0.81081817714117133,0.83438303071528275,0,1.0045365986354471]
[null,16.776942533025391,289.77694253302536,19.54172364832467,306805222.04652768,0.99999999674060303,0.67129997362229654,0.12380104399358083,0.83438303071528275,0.81539292395406049,0,1.0045365986354471]
[null,18.473457706164975,291.47345770616499,22.007617797703329,3612326269.365221,0.99999999972317011,0.56326953965262594,0.16038242103795353,0.81539292395406049,0.77803276995467052,0,1.0045365986354471]
[null,20.012758434948712,293.01275843494869,24.220291895394798,33017114837.015156,0.99999999996971267,0.48121686198057084,0.20232225336918341,0.77803276995467052,0.72366549244059553,0,1.0045365986354471]
[null,21.325173420848117,294.3251734208481,26.088549514385452,213851891033.89642,0.99999999999532385,0.4213165002169445,0.24616532067123681,0.72366549244059553,0.6576908161295254,0,1.0045365986354471]
[null,22.351300589553706,295.35130058955372,27.537703084615686,910903758306.92432,0.99999999999890221,0.38003809632971014,0.2866163992626819,0.6576908161295254,0.58849966976070422,0,1.0045365986354471]
[null,23.044695727168719,296.04469572716874,28.511266265212708,2411490809205.6709,0.99999999999958533,0.35460296268884722,0.31746120073246259,0.58849966976070422,0.52487857862100273,0,1.0045365986354471]
[null,23.373974622195277,296.37397462219531,28.971995815431214,3822767739881.5923,0.99999999999973843,0.34316661075139282,0.33319434433981182,0.52487857862100273,0.47338702318226961,0,1.0045365986354471]
[null,23.324233566887699,296.3242335668877,28.902463405550023,3565992048472.6211,0.99999999999971956,0.34486863361356301,0.33077089656297926,0.47338702318226961,0.43719235457759276,0,1.0045365986354471]
[null,22.897723923730673,295.89772392373067,28.305291206485446,1962599932813.6121,0.99999999999949052,0.35983826394520396,0.31066993070717031,0.43719235457759276,0.41653539039912796,0,1.0045365986354471]
[null,22.113750225047241,295.11375022504723,27.203117759233329,651874411051.98621,0.999999999998466,0.38919423188759084,0.27672322846647396,0.41653539039912796,0.40992605723858661,0,1.0045365986354471]
[null,21.325173420848117,294.3251734208481,26.088549514385452,213851891033.89642,0.99999999999532385,0.4213165002169445,0.24616532067123681,0.40992605723858661,0.41241153199744074,0,1.0045365986354471]
[null,19.629025014215809,292.62902501421581,23.670870946461815,19060251808.838318,0.99999999994753475,0.50040182806719835,0.19098216048329653,0.41241153199744074,0.42770888024740994,0,1.0045365986354471]
[null,18.636841800677971,291.63684180067798,22.243582964370869,4573675403.0805378,0.99999999978135745,0.55389129185624508,0.16440521831687635,0.42770888024740994,0.44683836529869164,0,1.0045365986354471]
[null,17.932876607583502,290.93287660758352,21.225002084621938,1651586345.6941278,0.99999999939452155,0.59552560053531989,0.14773159850920398,0.44683836529869164,0.46725868005958904,0,1.0045365986354471]
[null,17.386838782390129,290.3868387823901,20.431528416483765,746964647.85640037,0.99999999866124856,0.63011545923529033,0.13592362881879411,0.46725868005958904,0.48795626292976135,0,1.0045365986354471]
[null,16.94069339404566,289.94069339404564,19.780994675509081,389741663.18346179,0.99999999743419787,0.65996779659510862,0.12695034074752296,0.48795626292976135,0.50846392343867386,0,1.0045365986354471]
[null,16.563482842948744,289.56348284294876,19.229412290965204,224505842.87231281,0.99999999554577301,0.6863846892207367,0.11980762771674369,0.50846392343867386,0.52855276636515125,0,1.0045365986354471]
[null,16.236728200951195,289.23672820095118,18.750446986434024,139064301.720606,0.99999999280908203,0.71018000040443752,0.11393208443608641,0.52855276636515125,0.5481106491703519,0,1.0045365986354471]
[null,15.948510180507821,288.94851018050781,18.327070482879051,91063760.401083708,0.99999998901868337,0.73189958156329271,0.10897884202755158,0.5481106491703519,0.56708696842317763,0,1.0045365986354471]
[null,15.690690375757818,288.69069037575781,17.947630967219276,62309905.457038365,0.99999998395118761,0.75192899433208682,0.10472289560316536,0.56708696842317763,0.58546506410531962,0,1.0045365986354471]
[null,15.457463993043039,288.45746399304306,17.603801861889607,44180844.108199656,0.99999997736575663,0.77055162619720829,0.10101008858180371,0.58546506410531962,0.60324745664938428,0,1.0045365986354471]
[null,15.244544987413354,288.24454498741335,17.289424639898087,32262774.777304083,0.99999996900452681,0.78798243623242981,9.7730635028017973E-2,0.60324745664938428,0.62044754755527376,0,1.0045365986354471]
[null,15.048678489084196,288.04867848908418,16.999815211954452,24150489.619445279,0.99999995859297375,0.8043887092933304,9.4803850589697439E-2,0.62044754755527376,0.63708478192566842,0,1.0045365986354471]
[null,14.867334436316437,287.86733443631641,16.731327406795245,18463888.450178485,0.99999994584023033,0.81990342442726005,9.2168872358203854E-2,0.63708478192566842,0.65318175622739549,0,1.0045365986354471]
[null,10.661761763366691,283.66176176336671,10.408497765684485,33140.048871724321,0.99996982593991302,1.2857276819958312,4.7456403291963031E-2,0.65318175622739549,0.68249896423265222,0,1.0045365986354471]
[null,13.393447834987153,286.39344783498717,14.536561893919563,2056594.2459339774,0.99999951375945173,0.95848368253025051,7.3200479831065215E-2,0.68249896423265222,0.70197948839894919,0,1.0045365986354471]
[null,15.870894855091857,288.87089485509188,18.212913427695508,81239604.607429788,0.99999998769073295,0.73786880146618239,0.10768053319003287,0.70197948839894919,0.70564327029673857,0,1.0045365986354471]
[null,17.981495394568451,290.98149539456847,21.295507985723319,1772236217.3077321,0.99999999943574114,0.59254547001063518,0.14882918860220262,0.70564327029673857,0.69000368725280081,0,1.0045365986354471]
[null,19.629316301787497,292.62931630178753,23.671288551993651,19068213137.663666,0.99999999994755673,0.50038695923082965,0.19099053387734138,0.69000368725280081,0.65703700036986712,0,1.0045365986354471]
[null,20.739459153293836,293.73945915329386,25.256832426004173,93089983423.405945,0.9999999999892577,0.44700250228516569,0.22558214650107733,0.65703700036986712,0.61462084866294076,0,1.0045365986354471]
[null,21.261464612746021,294.26146461274601,25.998243182935816,195386050184.76306,0.99999999999488187,0.42403244558349967,0.24384247208215737,0.61462084866294076,0.57337962712776092,0,1.0045365986354471]
[null,21.171605959736105,294.1716059597361,25.870803324222592,172007397958.68292,0.99999999999418632,0.42789498760353573,0.24060172210623462,0.57337962712776092,0.54226841668015591,0,1.0045365986354471]
[null,20.473967540696858,293.47396754069683,24.878739587095918,63782174205.898804,0.99999999998432165,0.45919132234970267,0.21680314587207147,0.54226841668015591,0.52607573051505241,0,1.0045365986354471]
[null,19.200259123054387,292.20025912305437,23.055266492767363,10298524739.689455,0.99999999990289867,0.5228078770467498,0.17902938234973109,0.52607573051505241,0.52554006833058342,0,1.0045365986354471]
[null,17.981495394568455,290.98149539456847,21.295507985723319,1772236217.3077321,0.99999999943574114,0.59254547001063518,0.14882918860220262,0.52554006833058342,0.53480582364427309,0,1.0045365986354471]
[null,15.253719859051467,288.25371985905144,17.302981012596923,32703118.967788849,0.99999996942187774,0.78722272438217977,9.7869827668299381E-2,0.53480582364427309,0.55833942570562922,0,1.0045365986354471]
[null,13.658073460389456,286.65807346038946,14.932278396952544,3054964.0928552127,0.99999967266401757,0.9318723037532507,7.630563733898664E-2,0.55833942570562922,0.58578177305132706,0,1.0045365986354471]
[null,12.525944323534478,285.52594432353447,13.234168730771342,559147.58353505842,0.99999821156660418,1.0515523761778256,6.3845648717737652E-2,0.58578177305132706,0.61458978127880348,0,1.0045365986354471]
[null,11.64779674210514,284.64779674210513,11.90771035256574,148406.49158096701,0.99999326179568604,1.1556351711928685,5.5545825650289996E-2,0.61458978127880348,0.64382318163736041,0,1.0045365986354471]
[null,10.93029792487247,283.93029792487249,10.817824172875712,49902.38982491674,0.99997996128111721,1.2488207480641917,4.9540234724943268E-2,0.64382318163736041,0.6730646092916801,0,1.0045365986354471]
[null,10.32366131866652,283.3236613186665,9.8920319022728282,19772.194317125541,0.99994942648193497,1.3338551703866641,4.4951745060661359E-2,0.6730646092916801,0.70211057389910647,0,1.0045365986354471]
[null,9.7981687880174881,282.79816878801751,9.0868636733486596,8838.4223574128337,0.99988687043569524,1.4125042316215608,4.1308070159914119E-2,0.70211057389910647,0.73085773250528085,0,1.0045365986354471]
[null,9.3346515262104592,{"$f":"B1421+273","v":282.33465152621045},{"$f":"$C$5*$C$6*(C1421-$C$6)/C1421","v":8.3741671227237973},{"$f":"EXP(D1421)","v":4333.6573702237802},{"$f":"E1421/(1+E1421)","v":0.99976930125853325},{"$f":"$C$7*EXP($C$8/C1421)","v":1.4859811656087398},{"$f":"$C$4*EXP(-$C$2/C1421)","v":3.833006031345132E-2},{"$f":"IF(J1420<1,J1420,J1420-J1420*F1420)","v":0.73085773250528085},{"$f":"G1421-(G1421-I1421)*EXP(-H1421)","v":0.75925396798560807},{"$f":"IF(J1421<1,0,J1421*F1421)","v":0},{"$f":"K1421+L1420","v":1.0045365986354471}]
[null,8.9200212065881495,281.92002120658816,7.7346525068611047,2286.2141225169826,0.99956278688988698,1.5551611726003505,3.5841058726762888E-2,0.75925396798560807,0.78727497404413638,0,1.0045365986354471]
[null,8.5449424584556954,281.54494245845569,7.1545184935609099,1279.876020913088,0.99921928431505247,1.6206996638889624,3.3723265082313214E-2,0.78727497404413638,0.81491214873357232,0,1.0045365986354471]
[null,8.2025223893554795,281.20252238935547,6.6235462866276444,752.6093386711874,0.99867305253705685,1.6831022287890092,3.1894803839231135E-2,0.81491214873357232,0.84216596314569092,0,1.0045365986354471]
[null,7.887526460767802,280.88752646076779,6.1339559969849082,461.25728855950194,0.99783670257938772,1.7427683965550487,3.0296821164996462E-2,0.84216596314569092,0.86904216648019228,0,1.0045365986354471]
[null,7.5958857831495319,280.59588578314953,5.6796861958393539,292.8575155948854,0.99659699021828452,1.8000202579012035,2.8885815246624407E-2,0.86904216648019228,0.8955495409674803,0,1.0045365986354471]
[null,9.9045942732163184,282.90459427321633,9.2501720893305137,10406.356385382252,0.99990391411968893,1.3961858976947559,4.2022409847642717E-2,0.8955495409674803,0.91615158178948553,0,1.0045365986354471]
[null,10.958770513916772,283.95877051391676,10.861179199311811,52113.494166042663,0.99998081148026086,1.2449742265604584,4.9766240345838778E-2,0.91615158178948553,0.93211532617100534,0,1.0045365986354471]
[null,11.914411967135459,284.91441196713544,12.311302048978241,222193.08808557145,0.9999954994302116,1.1229206655602728,5.7949966918033183E-2,0.93211532617100534,0.94285820822061506,0,1.0045365986354471]
[null,12.727899393636608,285.72789939363662,13.538072478986971,757722.48210138152,0.99999868025734506,1.0290577822835705,6.5915537408871044E-2,0.94285820822061506,0.9483568845953706,0,1.0045365986354471]
[null,13.362102023765621,286.3621020237656,14.489639472574341,1962322.8804668705,0.99999949040012714,0.96168912979287935,7.2840765258710707E-2,0.9483568845953706,0.94929348993180318,0,1.0045365986354471]
[null,13.788072351996883,286.7880723519969,15.126408957066312,3709504.8314584643,0.99999973042231349,0.91908872107506401,7.7876783918421746E-2,0.94929348993180318,0.94703050044398396,0,1.0045365986354471]
[null,13.986367415081071,286.98636741508108,15.422189138212527,4986222.3563603489,0.99999979944741169,0.89994780282812281,8.0333022457227524E-2,0.94703050044398396,0.9433961389480825,0,1.0045365986354471]
[null,13.947936245454139,286.94793624545412,15.364896509358017,4708577.9989532419,0.99999978762170072,0.90362400930731712,7.9851273983878784E-2,0.9433961389480825,0.94034377308740602,0,1.0045365986354471]
[null,13.674532993039598,286.67453299303958,14.956867559000253,3131014.2732962789,0.99999968061478062,0.93024331318810727,7.6502876891757735E-2,0.94034377308740602,0.93959987673362078,0,1.0045365986354471]
[null,13.178636858938173,286.17863685893815,14.214799191620141,1490763.8411335663,0.99999932920339119,0.98068096064308141,7.0769015765175108E-2,0.93959987673362078,0.94240665675428514,0,1.0045365986354471]
[null,12.727899393636608,285.72789939363662,13.538072478986971,757722.48210138152,0.99999868025734506,1.0290577822835705,6.5915537408871044E-2,0.94240665675428514,0.94793413762612644,0,1.0045365986354471]
[null,11.676500080252362,284.67650008025237,11.951196655181365,155002.5202088854,0.99999354853361622,1.1520649114651882,5.5799998191208615E-2,0.94793413762612644,0.95901266902394167,0,1.0045365986354471]
[null,11.061470908638606,284.06147090863863,11.017488210202265,60930.442777464843,0.99998358811223864,1.231204357529156,5.0589657934745888E-2,0.95901266902394167,0.97244024162716203,0,1.0045365986354471]
[null,10.625100766868115,283.62510076686812,10.352555722102537,31337.029302877796,0.99996808988879504,1.2908557085449872,4.717850146847595E-2,0.97244024162716203,0.98711374758622406,0,1.0045365986354471]
[null,10.286625788944445,283.28662578894443,9.8353833044557,18683.261675853209,0.99994647901975742,1.3392424771840852,4.4685195557149962E-2,0.98711374758622406,1.0025023077900641,1.0024486528838557,2.0069852515193025]
[null,10.01007159525436,283.01007159525437,9.4119043750010629,12233.14530387603,0.99991826155606611,1.3802108645107254,4.274202939473578E-2,5.3654906208455699E-5,5.7801454590162171E-2,0,2.0069852515193025]
[null,9.7762483561593587,282.77624835615939,9.0532118108641626,8545.9418417638972,0.99988299908686473,1.41589046760959,4.1162386775270218E-2,5.7801454590162171E-2,0.112568731250273,0,2.0069852515193025]
[null,9.5737014534838707,282.57370145348386,8.7420183530090245,6260.5189061126357,0.99984029434151767,1.4475916527479358,3.9839298403342008E-2,0.112568731250273,0.1647095841142765,0,2.0069852515193025]
[null,9.3950424236406054,282.39504242364063,8.467155732041844,4755.9689635447203,0.99978978210544078,1.4761816321541072,3.8706091488596946E-2,0.1647095841142765,0.21450169594225721,0,2.0069852515193025]
[null,9.2352264755601983,282.23522647556018,8.2209878722179717,3718.1736492912341,0.99973112306810663,1.5022658913825657,3.7718576476237803E-2,0.21450169594225721,0.26216969247644339,0,2.0069852515193025]
[null,9.0906553651016022,282.09065536510161,7.998061668838087,2975.1854995865806,0.99966399943816042,1.526284905898373,3.6846052984782135E-2,0.26216969247644339,0.3078996900615516,0,2.0069852515193025]
[null,8.9586722818701148,281.95867228187012,7.7943463754427285,2426.8426620012292,0.99958811169452977,1.5485697153647475,3.6066381506769926E-2,0.3078996900615516,0.35184886081080347,0,2.0069852515193025]
[null,8.8372596147632692,281.8372596147633,7.6067779831293558,2011.7856366625736,0.99950317610490402,1.5693757845166938,3.5363104986385015E-2,0.35184886081080347,0.39415199964648151,0,2.0069852515193025]
[null,8.7248490427751122,281.72484904277513,7.4329726428924028,1690.8263330620252,0.99940892278335092,1.588904630332161,3.4723679168340571E-2,0.39415199964648151,0.43492619482399308,0,2.0069852515193025]
[null,11.088019549629882,284.08801954962991,11.057876602385807,63441.696793820993,0.99998423774444445,1.2276712152506302,5.0804625209805408E-2,0.43492619482399308,0.47419533535609648,0,2.0069852515193025]
[null,12.794086383656111,285.79408638365612,13.637577790900311,836998.69547683722,0.99999880525643514,1.0217975954776106,6.6607746779175997E-2,0.47419533535609648,0.50948167140747591,0,2.0069852515193025]
[null,14.340004036006089,287.34000403600606,15.948666125109538,8441462.4287411142,0.99999988153712815,0.86685863163361765,8.4898267634398117E-2,0.50948167140747591,0.53857010763445823,0,2.0069852515193025]
[null,15.654916374409938,288.65491637440994,17.894927971496752,59111022.534776628,0.99999998308268168,0.75475403691427734,0.10414505378935209,0.53857010763445823,0.55995186979337908,0,2.0069852515193025]
[null,16.678555245236314,289.67855524523634,19.397831088779398,265687426.85520914,0.99999999623617875,0.67820838884404211,0.12194486716302265,0.55995186979337908,0.57352805277673657,0,2.0069852515193025]
[null,17.36400282519908,290.36400282519907,20.398279382082581,722537140.43974543,0.99999999861598809,0.63160794880029825,0.13544998793013707,0.57352805277673657,0.58088544914410545,0,2.0069852515193025]
[null,17.67984206933723,290.67984206933721,20.857676135946296,1143862048.8305724,0.99999999912576876,0.61129583721862724,0.14214289890210616,0.58088544914410545,0.58491490818234559,0,2.0069852515193025]
[null,17.611596690880464,290.61159669088045,20.758495951608811,1035858047.5008518,0.99999999903461678,0.61562504044709898,0.14067050522180541,0.58491490818234559,0.58894482927220937,0,2.0069852515193025]
[null,17.162394672457999,290.16239467245799,20.104511907611098,538615172.18215215,0.99999999814338691,0.64494919708565779,0.13133625880250432,0.58894482927220937,0.5958376871505171,0,2.0069852515193025]
[null,16.352824897044844,289.35282489704485,18.920748385014967,164883279.57306054,0.99999999393510364,0.70162625517873256,0.1159874328524593,0.5958376871505171,0.60742297258237521,0,2.0069852515193025]
[null,15.65491637440994,288.65491637440994,17.894927971496752,59111022.534776628,0.99999998308268168,0.75475403691427734,0.10414505378935209,0.60742297258237521,0.62199481326757211,0,2.0069852515193025]
[null,13.955373391474312,286.95537339147432,15.375984896028129,4761079.070637458,0.99999978996362482,0.90291134810891371,7.9944285342345642E-2,0.62199481326757211,0.64357825457454909,0,2.0069852515193025]
[null,12.961204478093194,285.96120447809318,13.88861762538545,1075845.7187751736,0.99999907049955861,1.0037078351501778,6.8386583136046786E-2,0.64357825457454909,0.66738304527894998,0,2.0069852515193025]
[null,12.255830408538685,285.25583040853871,12.827026293639719,372140.33012482832,0.99999731284885862,1.0824611283107188,6.1174107551379267E-2,0.66738304527894998,0.69201400718319817,0,2.0069852515193025]
[null,11.708699773863033,284.70869977386303,11.999969591690499,162749.84239617983,0.99999385563856213,1.1480737362695019,5.6086454524539468E-2,0.69201400718319817,0.71688869362414842,0,2.0069852515193025]
[null,11.261661495157568,284.26166149515757,11.321851697221083,82607.164845739011,0.99998789465905857,1.2048272719331039,5.2232305755431321E-2,0.71688869362414842,0.7417206891196626,0,2.0069852515193025]
[null,10.883696016017144,283.88369601601715,10.746844983047808,46483.141760120234,0.99997848728701588,1.2551437978070457,4.9172440489347075E-2,0.7417206891196626,0.76635629618738355,0,2.0069852515193025]
[null,10.556287425603058,283.55628742560305,10.247512454787847,28212.275250585964,0.99996455569262632,1.3005400087777437,4.6661070039374003E-2,0.76635629618738355,0.79070929297252646,0,2.0069852515193025]
[null,10.267492581776448,283.26749258177642,9.8061118377054939,18144.301758603204,0.99994488931552072,1.3420347275215692,4.4548084030603161E-2,0.79070929297252646,0.81473075717423726,0,2.0069852515193025]
[null,10.009156790927406,283.00915679092742,9.4105021898867776,12216.004189945903,0.99991814687263325,1.3803485761864818,4.2735737789156437E-2,0.81473075717423726,0.83839362563828501,0,2.0069852515193025]
[null,9.7754636420092815,282.7754636420093,9.0520070347371302,8535.6520947153494,0.99988285805853339,1.4160118492297769,4.1157180676531471E-2,0.83839362563828501,0.86168418868257024,0,2.0069852515193025]
[null,9.5621185122219394,282.56211851222196,8.7242088132565616,6150.0089326108755,0.99983742504506889,1.4494272283312046,3.9764878107534311E-2,0.86168418868257024,0.88459713459228106,0,2.0069852515193025]
[null,9.3658600176669573,282.36586001766693,8.4222262552604263,4547.0150116516152,0.99978012385679504,1.4809083953594542,3.8523945434855551E-2,0.88459713459228106,0.90713253383291947,0,2.0069852515193025]
[null,9.1841530330815182,282.18415303308154,8.1422595832033906,3436.6745533462827,0.99970910568045879,1.5107049287782415,3.7408102289165614E-2,0.90713253383291947,0.92929393939252936,0,2.0069852515193025]
[null,10.883640293449815,283.88364029344984,10.746760098268911,46479.196216370183,0.99997848546087575,1.25515137874464,4.9172002279014138E-2,0.92929393939252936,0.94492943749176861,0,2.0069852515193025]
[null,12.775985196942479,285.77598519694249,13.610369102933721,814532.08860035019,0.99999877230279044,1.0237777142716107,6.6417750470236042E-2,0.94492943749176861,0.94999623746732265,0,2.0069852515193025]
[null,14.489941114694389,287.48994111469437,16.171494153869432,10548499.221377447,0.99999990519979343,0.85322291194525524,8.6907783486629989E-2,0.94999623746732265,0.94194098381363367,0,2.0069852515193025]
[null,15.946624655196901,288.9466246551969,18.324297968531525,90811634.491686761,0.9999999889881952,0.73204398131401449,0.10894712549144321,0.94194098381363367,0.92027496035452283,0,2.0069852515193025]
[null,17.078993173514096,290.07899317351411,19.982866429194146,476923390.57556486,0.99999999790322724,0.65055581117320016,0.12966961299616997,0.92027496035452283,0.88747322520667449,0,2.0069852515193025]
[null,17.834930353095871,290.83493035309584,21.082890989221266,1432792234.9764707,0.99999999930206207,0.60157795444553419,0.14554384394834963,0.88747322520667449,0.84874927796125876,0,2.0069852515193025]
[null,18.179644815777085,291.17964481577707,21.582616416502635,2361626507.0593801,0.99999999957656305,0.58056324662461278,0.15338356394606978,0.84874927796125876,0.81061339522163833,0,2.0069852515193025]
[null,18.097271365938209,291.09727136593818,21.463308948470218,2096025875.4159789,0.99999999952290664,0.58551273351985578,0.15147431594628505,0.81061339522163833,0.77897323628397142,0,2.0069852515193025]
[null,17.591601172900617,290.5916011729006,20.729427882691677,1006181070.2056071,0.99999999900614311,0.61689965820731529,0.14024186819737852,0.77897323628397142,0.75776558294084395,0,2.0069852515193025]
[null,16.685907285520756,289.68590728552078,19.408586912725639,268560537.68171722,0.99999999627644476,0.67768954225004319,0.12208264691631981,0.75776558294084395,0.74856286132032768,0,2.0069852515193025]
[null,15.946624655196901,{"$f":"B1485+273","v":288.9466246551969},{"$f":"$C$5*$C$6*(C1485-$C$6)/C1485","v":18.324297968531525},{"$f":"EXP(D1485)","v":90811634.491686761},{"$f":"E1485/(1+E1485)","v":0.9999999889881952},{"$f":"$C$7*EXP($C$8/C1485)","v":0.73204398131401449},{"$f":"$C$4*EXP(-$C$2/C1485)","v":0.10894712549144321},{"$f":"IF(J1484<1,J1484,J1484-J1484*F1484)","v":0.74856286132032768},{"$f":"G1485-(G1485-I1485)*EXP(-H1485)","v":0.746857746728538},{"$f":"IF(J1485<1,0,J1485*F1485)","v":0},{"$f":"K1485+L1484","v":2.0069852515193025}]
[null,14.063742137682789,287.06374213768277,15.537491715974905,5595603.2644207934,0.99999982128829112,0.89259463741392808,8.1311379442828374E-2,0.746857746728538,0.75823883836101302,0,2.0069852515193025]
[null,12.962326471673588,285.96232647167358,13.89030205920916,1077659.4368081319,0.99999907206392125,1.0035875440363697,6.8398677867337027E-2,0.75823883836101302,0.77445931264689538,0,2.0069852515193025]
[null,12.180859620168677,285.18085962016869,12.713886158025808,332330.80686183425,0.99999699095909766,1.091210494498839,6.0451769419480911E-2,0.77445931264689538,0.79304020011279142,0,2.0069852515193025]
[null,11.574706838408639,284.57470683840864,11.796937641014578,132844.91059095497,0.99999247248187351,1.1647797666827184,5.4903590186384583E-2,0.79304020011279142,0.81289986497716193,0,2.0069852515193025]
[null,11.079443954159476,284.0794439541595,11.044831392269945,62619.461306850593,0.99998403077877218,1.2288112892231964,5.0735092375896497E-2,0.81289986497716193,0.83347482015703567,0,2.0069852515193025]
[null,10.660705151997448,283.66070515199743,10.406885655111951,33086.66648927678,0.99996977725823233,1.2858751735097065,4.7448371991782888E-2,0.83347482015703567,0.85443918489790938,0,2.0069852515193025]
[null,10.297977102654567,283.29797710265456,9.8527475573363166,19010.515593433425,0.99994740030088158,1.3375888204778632,4.4766731416056513E-2,0.85443918489790938,0.87559122855944016,0,2.0069852515193025]
[null,9.9780282881502753,282.97802828815026,9.3627839353319153,11646.767297934906,0.99991414663648226,1.3850432899855425,4.252217709855495E-2,0.87559122855944016,0.8968001196117481,0,2.0069852515193025]
[null,9.6918243208945256,282.69182432089451,8.9235567568339977,7506.7414578245098,0.99986680415067331,1.4290131384172315,4.0605879937487592E-2,0.8968001196117481,0.91797821019688997,0,2.0069852515193025]
[null,9.4329213399291874,282.43292133992918,8.52546058169529,5041.508297620202,0.9998016859981228,1.4700702107290222,3.8943746428224221E-2,0.91797821019688997,0.93906546762993559,0,2.0069852515193025]
[null,9.1965614366453643,282.19656143664537,8.1613894123876101,3503.0504056956493,0.99971461597744871,1.5086500154764526,3.7483307151103464E-2,0.93906546762993559,0.9600202004524846,0,2.0069852515193025]
[null,8.9791314027941915,281.97913140279417,7.825937425724363,2504.7330118036157,0.99960091518318617,1.5450927119834656,3.6186198935944242E-2,0.9600202004524846,0.98081327076524583,0,2.0069852515193025]
[null,8.7778226344833357,281.77782263448336,7.5148958559092982,1835.1763435696207,0.9994553899991675,1.5796696081611479,3.502361935607215E-2,0.98081327076524583,1.0014243431536027,1.0008789574412442,3.0078642089605467]
[null,10.074718672390121,283.07471867239013,9.5109705601057062,13507.097406688757,0.99992597032950736,1.3705160517369968,4.3188891946163314E-2,5.4538571235851485E-4,5.8453408169292675E-2,0,3.0078642089605467]
[null,11.481285736248815,284.48128573624882,11.655268745444188,115297.23735136319,0.99999132684052272,1.1765804559534609,5.4093035124550777E-2,5.8453408169292675E-2,0.11732954385954031,0,3.0078642089605467]
[null,12.754699093410514,285.75469909341052,13.578368616542615,788879.30542018474,0.99999873238057391,1.0261114683166819,6.6194986792877664E-2,0.11732954385954031,0.17553852658241309,0,3.0078642089605467]
[null,13.836110117190835,286.83611011719086,15.198100414058429,3985209.3927512276,0.99999974907221922,0.91441227507875988,7.8465144799956629E-2,0.17553852658241309,0.23129816290045424,0,3.0078642089605467]
[null,14.675543241311226,287.67554324131123,16.447003840643802,13894502.838639321,0.9999999280290961,0.83665957719890727,8.9458279111795935E-2,0.23129816290045424,0.2831011093361615,0,3.0078642089605467]
[null,15.234205495468652,288.23420549546864,17.274146442934853,31773604.088028476,0.99999996852733586,0.78883951952341147,9.7574000489838567E-2,0.2831011093361615,0.33011697037721527,0,3.0078642089605467]
[null,15.486279256302506,288.48627925630251,17.646312259691488,46099481.457420923,0.99999997830778253,0.7682244002108799,0.10146190538267554,0.33011697037721527,0.3723875038582975,0,3.0078642089605467]
[null,15.42011536483011,288.42011536483011,17.548689775990191,41811825.993680403,0.99999997608332203,0.77357922762406983,0.10042732989989049,0.3723875038582975,0.41072103744417632,0,3.0078642089605467]
[null,15.038771472463196,288.03877147246317,16.985156170419902,23799048.77533064,0.99999995798151564,0.805228162243665,9.4658059705561653E-2,0.41072103744417632,0.44635136703722339,0,3.0078642089605467]
[null,14.359870736862286,287.35987073686226,15.978204259361684,8694526.6013627108,0.9999998849851256,0.86503862348527427,8.5161954453997768E-2,0.44635136703722339,0.48053151279750378,0,3.0078642089605467]
[null,13.836110117190835,286.83611011719086,15.198100414058429,3985209.3927512276,0.99999974907221922,0.91441227507875988,7.8465144799956629E-2,0.48053151279750378,0.51327463509604476,0,3.0078642089605467]
[null,12.438212045699471,285.43821204569946,13.102014449471277,489928.35713634844,0.99999795888940834,1.0614870576538276,6.2965945458719988E-2,0.51327463509604476,0.54672905174860875,0,3.0078642089605467]
[null,11.620494094046599,284.62049409404659,11.866337992391585,142391.84276870405,0.99999297717511249,1.1590421446257926,5.5305083662443515E-2,0.54672905174860875,0.57967367913883472,0,3.0078642089605467]
[null,11.040313974208106,284.04031397420812,10.985296804214805,59000.240798781342,0.99998305120389908,1.2340277150287775,5.0418970726530565E-2,0.57967367913883472,0.61184763190620117,0,3.0078642089605467]
[null,10.590291311206173,283.59029131120616,10.299425610171276,29715.545642849498,0.99996634871320444,1.295744909624043,4.6916075283986711E-2,0.61184763190620117,0.64319237271876073,0,3.0078642089605467]
[null,10.222596022555237,283.22259602255525,9.7374100651801747,16939.612027184645,0.99994097025547868,1.3486111837514885,4.4227925816506607E-2,0.64319237271876073,0.67371170540435643,0,3.0078642089605467]
[null,9.9117140856547206,282.91171408565469,9.2610929569671487,10520.625650109445,0.99990495765262377,1.3951013966654537,4.2070617951915537E-2,0.67371170540435643,0.70343146773713872,0,3.0078642089605467]
[null,9.642415902716742,282.64241590271672,8.8476413566489551,6957.9582586453225,0.99985630033076323,1.4367530838258447,4.0283533968454202E-2,0.70343146773713872,0.73238516013363486,0,3.0078642089605467]
[null,9.4048780709023649,282.40487807090238,8.4822966847708692,4828.5267758638156,0.9997929403756497,1.4745921436729823,3.8767667380035335E-2,0.73238516013363486,0.76060818842607392,0,3.0078642089605467]
[null,9.1923932397148072,282.19239323971482,8.1549635602216313,3480.6124902305442,0.99971277676570669,1.5093399642136573,3.745802842930826E-2,0.76060818842607392,0.7881354279529148,0,3.0078642089605467]
[null,9.0001773290415059,282.00017732904149,7.8584297826360583,2587.454318252303,0.99961366905610483,1.541524652179354,3.6309850069069671E-2,0.7881354279529148,0.81500019834608306,0,3.0078642089605467]
[null,8.8246979510638717,281.82469795106385,7.5873624542402478,1973.1024964956209,0.99949344068923718,1.5715453586666215,3.5291095447603581E-2,0.81500019834608306,0.84123387551078366,0,3.0078642089605467]
[null,8.6632725715313548,281.66327257153137,7.337706420981192,1537.1824180535102,0.99934988205022823,1.5997116975625161,3.4378115863221446E-2,0.84123387551078366,0.86686580092129184,0,3.0078642089605467]
[null,8.513816014163357,281.51381601416335,7.1063057785289994,1219.6336168041064,0.99918075335118306,1.6262690531832007,3.355300003510122E-2,0.86686580092129184,0.89192332985874256,0,3.0078642089605467]
[null,12.135033921787787,285.13503392178779,12.644700247972056,310115.54969802819,0.9999967754058886,1.0965955962810274,6.0014264110251812E-2,0.89192332985874256,0.9038452641878103,0,3.0078642089605467]
[null,13.217400401265715,286.21740040126571,14.272898335718711,1579941.431616138,0.99999936706554615,0.97663521653936236,7.1201998962030305E-2,0.9038452641878103,0.90884784415604547,0,3.0078642089605467]
[null,14.196875852141099,287.19687585214109,15.735740036377003,6822523.9116243105,0.99999985342669861,0.88009197261364125,8.3021478292794756E-2,0.90884784415604547,0.90655690354936769,0,3.0078642089605467]
[null,15.028011001213674,288.02801100121366,16.969233161552811,23423097.392515648,0.9999999573070999,0.80614098917331922,9.449995210618424E-2,0.90655690354936769,0.8975021774461166,0,3.0078642089605467]
[null,15.672239809464507,288.67223980946449,17.920450844075422,60639123.441614628,0.99999998350899677,0.75338460952351405,0.10442449030184904,0.8975021774461166,0.88321188542007412,0,3.0078642089605467]
[null,16.099668999748669,289.09966899974864,18.549219787218995,113716581.90927687,0.99999999120620775,0.72042156402133628,0.11155038865134652,0.88321188542007412,0.86602876798079198,0,3.0078642089605467]
[null,16.29046515406101,289.290465154061,18.829290323754623,150472413.10968307,0.99999999335426359,0.70620704113182309,0.11487906851386268,0.86602876798079198,0.84868394640783529,0,3.0078642089605467]
[null,16.235775016778682,289.23577501677869,18.749048201667762,138869916.67694163,0.99999999279901641,0.71025068735527774,0.11391535435628966,0.84868394640783529,0.83377931982174269,0,3.0078642089605467]
[null,15.938136300295076,288.93813630029507,18.3118160725998,89685177.90244095,0.99999998884988561,0.7326944238072578,0.10880445151278449,0.83377931982174269,0.82335805221513336,0,3.0078642089605467]
[null,15.411359930987516,288.41135993098749,17.535768087026263,41275022.257789016,0.99999997577227284,0.77429080487103119,0.10029118241777257,0.82335805221513336,0.81867576026755462,0,3.0078642089605467]
[null,15.028011001213674,288.02801100121366,16.969233161552811,23423097.392515648,0.9999999573070999,0.80614098917331922,9.449995210618424E-2,0.81867576026755462,0.81754547210824746,0,3.0078642089605467]
[null,13.953559044952561,286.95355904495256,15.373279855476213,4748217.5619743168,0.99999978939469891,0.90308515179839133,7.9921584995039777E-2,0.81754547210824746,0.82411588307892547,0,3.0078642089605467]
[null,13.325044941713321,286.32504494171332,14.434154438039679,1856408.8210592405,0.9999994613258405,0.96549335698246774,7.2417688646437203E-2,0.82411588307892547,0.83399218756163396,0,3.0078642089605467]
[null,12.879107088691446,285.87910708869146,13.765330043818789,951057.72963113268,0.99999894854022275,1.0125514789774792,6.7507124161321069E-2,0.83399218756163396,0.84564834856659465,0,3.0078642089605467]
[null,12.533210817364306,285.53321081736431,13.245110869694562,565299.44998099364,0.99999823102918095,1.0507339822792119,6.3919035182942091E-2,0.84564834856659465,0.85834705658316579,0,3.0078642089605467]
[null,12.250592985452208,285.25059298545222,12.819124310598408,369211.27147426468,0.99999729153097749,1.0830699201258716,6.1123378520415605E-2,0.85834705658316579,0.87167151122783593,0,3.0078642089605467]
[null,12.011643013289616,285.01164301328964,12.458298706500225,257377.3838620781,0.99999611466982974,1.1112368257751177,5.8851224813517553E-2,0.87167151122783593,0.88536338023178707,0,3.0078642089605467]
[null,11.804655132430334,284.80465513243036,12.145247952793238,188197.63747620716,0.99999468646525069,1.1362670974985598,5.6948456133358714E-2,0.88536338023178707,0.89925271786361627,0,3.0078642089605467]
[null,11.622078882212968,284.62207888221297,11.868739677060592,142734.23406786163,0.99999299402136743,1.1588440939128766,5.531903027566433E-2,0.89925271786361627,0.91322308498465277,0,3.0078642089605467]
[null,11.458758861103194,284.45875886110321,11.621093829123659,111423.53268825573,0.99999102531573725,1.1794450001855818,5.389930243666493E-2,0.91322308498465277,0.92719241032755639,0,3.0078642089605467]
[null,11.311017931017281,284.31101793101726,11.396825809308012,89038.64868210275,0.99998876904822964,1.1984169989400781,5.2645062175006571E-2,0.92719241032755639,0.94110170548211447,0,3.0078642089605467]
[null,11.176141029191093,284.17614102919111,11.191881530303416,72539.138046142645,0.99998621452857772,1.2160210442327277,5.1524431345941958E-2,0.94110170548211447,0.9549080322624548,0,3.0078642089605467]
[null,11.052066307030655,284.05206630703066,11.003179198484245,60064.796399742627,0.99998335159009055,1.2324585355697795,5.051371660853933E-2,0.9549080322624548,0.96857992368980383,0,3.0078642089605467]
[null,10.937191057028503,283.93719105702849,10.828321098159705,50428.97038568576,0.99998017052176802,1.2478883564926362,4.9594859851409448E-2,0.96857992368980383,0.982094294664277,0,3.0078642089605467]
[null,13.731260114810189,286.7312601148102,15.041591492873684,3407847.7542122393,0.99999970655974724,0.92465227352052404,7.7186394598172045E-2,0.982094294664277,0.97782734559819529,0,3.0078642089605467]
[null,15.572544508915964,288.57254450891594,17.773526359133854,52353343.379465729,0.99999998089902353,0.76130198628410428,0.10282609461458717,0.97782734559819529,0.95666932584252196,0,3.0078642089605467]
[null,17.238069351796014,{"$f":"B1549+273","v":290.23806935179601},{"$f":"$C$5*$C$6*(C1549-$C$6)/C1549","v":20.214826917155719},{"$f":"EXP(D1549)","v":601433732.65230191},{"$f":"E1549/(1+E1549)","v":0.99999999833730646},{"$f":"$C$7*EXP($C$8/C1549)","v":0.63990659068708799},{"$f":"$C$4*EXP(-$C$2/C1549)","v":0.13286618170412554},{"$f":"IF(J1548<1,J1548,J1548-J1548*F1548)","v":0.95666932584252196},{"$f":"G1549-(G1549-I1549)*EXP(-H1549)","v":0.91725842006252545},{"$f":"IF(J1549<1,0,J1549*F1549)","v":0},{"$f":"K1549+L1548","v":3.0078642089605467}]
[null,18.650239296795569,291.65023929679558,22.262920380230732,4662979135.2579718,0.99999999978554488,0.55312969957663949,0.16473932711987116,0.91725842006252545,0.86195264042825048,0,3.0078642089605467]
[null,19.743262580503753,292.74326258050377,23.83458431860749,22450625633.482082,0.99999999995545785,0.49460654986657082,0.19429307159805437,0.86195264042825048,0.79708540000850125,0,3.0078642089605467]
[null,20.466216203504711,293.4662162035047,24.86769044765477,63081315144.25032,0.99999999998414746,0.45955247529465049,0.2165517980482134,0.79708540000850125,0.73136464146998326,0,3.0078642089605467]
[null,20.785418388410438,293.78541838841045,25.322214664541651,99379795418.636032,0.9999999999899376,0.444927788350374,0.22713592418214212,0.73136464146998326,0.67316424445307455,0,3.0078642089605467]
[null,20.685997784429254,293.68599778442928,25.180751802431143,86270349600.932343,0.99999999998840849,0.44942887974565349,0.2237875018931251,0.67316424445307455,0.6283019490002717,0,3.0078642089605467]
[null,20.172586310600689,293.17258631060071,24.448705600544958,41489474294.069489,0.9999999999758975,0.47345909212933091,0.20723264853887818,0.6283019490002717,0.59932009264134878,0,3.0078642089605467]
[null,19.269103358736025,292.269103358736,23.15423194180584,11369861253.839262,0.99999999991204813,0.51913931539476466,0.18089919888193237,0.59932009264134878,0.58605173552385426,0,3.0078642089605467]
[null,18.650239296795569,291.65023929679558,22.262920380230732,4662979135.2579718,0.99999999978554488,0.55312969957663949,0.16473932711987116,0.58605173552385426,0.58105136405417523,0,3.0078642089605467]
[null,16.824508366643091,289.8245083666431,19.611254203891868,328896675.73654592,0.99999999695953146,0.66798700921776333,0.12470806857626218,0.58105136405417523,0.5912441712606028,0,3.0078642089605467]
[null,15.756524236097137,288.75652423609716,18.044584638295436,68653634.984476507,0.99999998543412905,0.74675956935190513,0.10579429411862364,0.5912441712606028,0.60685641121058731,0,3.0078642089605467]
[null,14.998777436490615,287.99877743649063,16.925968239318667,22431308.443365879,0.99999995541945497,0.80862648985731145,9.407168519531646E-2,0.60685641121058731,0.62497183112120747,0,3.0078642089605467]
[null,14.411023356369697,287.4110233563697,16.054240013688709,9381404.2226834334,0.9999998934061608,0.86037119821074681,8.5844499031879296E-2,0.62497183112120747,0.64433650594449943,0,3.0078642089605467]
[null,13.930793305944661,286.93079330594469,15.339335114519056,4589745.4111546557,0.99999978212303897,0.90526900823699863,7.9637272513935348E-2,0.64433650594449943,0.664310563666062,0,3.0078642089605467]
[null,13.524764583679206,286.5247645836792,14.733022011623623,2503053.6679232591,0.9999996004881504,0.94517835756409807,7.4725964298160807E-2,0.664310563666062,0.68453367509296914,0,3.0078642089605467]
[null,13.173046506338139,286.17304650633815,14.206419022481306,1478323.1881926979,0.99999932355838594,0.98126589660031827,7.0706780309928233E-2,0.68453367509296914,0.70479008383195441,0,3.0078642089605467]
[null,12.862809175398706,285.8628091753987,13.74084665951273,928055.35475767299,0.99999892247922784,1.0143169687665061,6.7333825191845775E-2,0.70479008383195441,0.72494552689355451,0,3.0078642089605467]
[null,12.585292426217219,285.58529242621722,13.323520868227202,611408.66958405194,0.99999836443541912,1.0448880794888384,6.444738723555743E-2,0.72494552689355451,0.74491459992272646,0,3.0078642089605467]
[null,12.334247989902009,285.334247989902,12.945304446086986,418865.20725569152,0.99999761260282483,1.0733894231195173,6.1938478856403106E-2,0.74491459992272646,0.76464256417954957,0,3.0078642089605467]
[null,12.105062375792183,285.10506237579216,12.59943830887266,296392.0377562379,0.99999662610158602,1.1001329417855705,5.9729759600822489E-2,0.76464256417954957,0.78409460801103836,0,3.0078642089605467]
[null,11.894232048220665,284.89423204822066,12.280780901100197,215513.94601098879,0.99999535995058109,1.1253619585538688,5.7764574743208938E-2,0.78409460801103836,0.80324921660309911,0,3.0078642089605467]
[null,11.69903365352673,284.69903365352673,11.985329459866175,160384.51981348416,0.99999376502316939,1.149270309535199,5.6000315049124207E-2,0.80324921660309911,0.82209392740097975,0,3.0078642089605467]
[null,14.14704919047516,287.14704919047517,15.661565089723274,6334776.4923835816,0.99999984214125892,0.88474922932314859,8.2377471033866986E-2,0.82209392740097975,0.82704844108603959,0,3.0078642089605467]
[null,15.335766860687627,288.33576686068761,17.424171573844855,36916588.980180621,0.99999997291190756,0.78046355125889721,9.9123016038093037E-2,0.82704844108603959,0.82265228531376322,0,3.0078642089605467]
[null,16.410549984392542,289.41054998439256,19.005374038297525,179444053.61715138,0.99999999442723253,0.69741414922132139,0.11702251928584956,0.82265228531376322,0.80882163186334588,0,3.0078642089605467]
[null,17.321124896334968,290.32112489633499,20.335835210626801,678798723.38370717,0.99999999852680921,0.63442051641478858,0.13456491094346976,0.80882163186334588,0.78686385800114067,0,3.0078642089605467]
[null,18.024898874966819,291.02489887496682,21.358430860775968,1887333570.7749023,0.99999999947015195,0.58989845322945367,0.14981561550913208,0.78686385800114067,0.75945940972471027,0,3.0078642089605467]
[null,18.488952444129119,291.4889524441291,22.030007207456183,3694116321.2100759,0.99999999972929932,0.56237291365927955,0.16075985666863354,0.75945940972471027,0.73019138072925927,0,3.0078642089605467]
[null,18.691579202519247,291.69157920251922,22.322577567574442,4949624576.7721319,0.9999999997979645,0.55078673012030555,0.16577435910357394,0.73019138072925927,0.70278505698429738,0,3.0078642089605467]
[null,18.623301154438973,291.62330115443899,22.224037125946612,4485147081.2117863,0.9999999997770419,0.55466215837030663,0.16406819701935602,0.70278505698429738,0.68037171351740267,0,3.0078642089605467]
[null,18.287312049080803,291.28731204908081,21.738456974348662,2759890865.335743,0.99999999963766684,0.57416114311758726,0.1559137351116843,0.68037171351740267,0.66503841191701296,0,3.0078642089605467]
[null,17.699327990875052,290.69932799087508,20.885986243994406,1176707644.527276,0.99999999915017124,0.61006569895601637,0.14256600103893752,0.66503841191701296,0.65773420518670977,0,3.0078642089605467]
[null,17.321124896334968,290.32112489633499,20.335835210626801,678798723.38370717,0.99999999852680921,0.63442051641478858,0.13456491094346976,0.65773420518670977,0.65479892174754695,0,3.0078642089605467]
[null,16.143780169809695,289.1437801698097,18.614003621654327,121327446.95565659,0.99999999175784193,0.71710833790529016,0.11231167571124669,0.65479892174754695,0.66141832213172924,0,3.0078642089605467]
[null,15.455077654370609,288.4550776543706,17.600280978586984,44025562.037322901,0.9999999772859236,0.77074469232130516,0.1009727576283799,0.66141832213172924,0.67191828271233411,0,3.0078642089605467]
[null,14.966435443284425,287.96643544328441,16.878092688065731,21382698.850234382,0.99999995323322088,0.81138579661289512,9.3600040787339536E-2,0.67191828271233411,0.68438013588960023,0,3.0078642089605467]
[null,14.587415098448462,287.58741509844845,16.316229867103342,12191260.092347378,0.99999991797403132,0.84448108616651363,8.8238455841067293E-2,0.68438013588960023,0.69790185641786839,0,3.0078642089605467]
[null,14.277732927845337,287.27773292784536,15.856053955860038,7694789.3953869399,0.99999987004194413,0.87258984216253188,8.4076800422582476E-2,0.69790185641786839,0.71198858272283072,0,3.0078642089605467]
[null,14.015900383365683,287.0159003833657,15.466206032413073,5210602.408165304,0.99999980808364763,0.89713360191620428,8.0705114453638205E-2,0.71198858272283072,0.72634367715841042,0,3.0078642089605467]
[null,13.789090716759155,286.78909071675918,15.127929011611236,3715147.7688367143,0.99999973083177496,0.91898931992096944,7.7889212878645392E-2,0.72634367715841042,0.74077921114565604,0,3.0078642089605467]
[null,13.589030412406247,286.58903041240626,14.82910309812919,2755482.4360133568,0.99999963708727591,0.93873864788336037,7.5483555020541201E-2,0.74077921114565604,0.75517185600125947,0,3.0078642089605467]
[null,13.41007037192319,286.41007037192321,14.561440466882431,2108401.14469124,0.99999952570717943,0.95678846999683165,7.3391922901082443E-2,0.75517185600125947,0.76943893924182527,0,3.0078642089605467]
[null,13.248181323357562,286.24818132335758,14.319021848673048,1654520.5859618022,0.99999939559567641,0.9734352855746119,7.1547619429304432E-2,0.76943893924182527,0.78352449015485715,0,3.0078642089605467]
[null,13.100388201320065,286.10038820132007,14.097471437147972,1325726.8554555278,0.99999924569737608,0.98890226795259739,6.9902642895282599E-2,0.78352449015485715,0.79739065307920642,0,3.0078642089605467]
[null,12.964431708356891,285.96443170835687,13.8934625869685,1081070.7973835215,0.99999907499205654,1.0033618789651142,6.842137716051469E-2,0.79739065307920642,0.8110121727777676,0,3.0078642089605467]
[null,12.838555656840413,285.83855565684041,13.704406874398254,894845.96329842799,0.99999888249048052,1.0169503331039986,6.70767195616854E-2,0.8110121727777676,0.82437272883093382,0,3.0078642089605467]
[null,13.449489400984325,286.44948940098431,14.620426488712232,2236508.4693221455,0.99999955287468545,0.95278116610351693,7.3847829381638766E-2,0.82437272883093382,0.83351373754052183,0,3.0078642089605467]
[null,14.640301431509075,287.6403014315091,16.394717885413296,13186681.295469873,0.99999992416591399,0.8397780377229801,8.8968559940271599E-2,0.83351373754052183,0.8340469902478741,0,3.0078642089605467]
[null,15.716514273743881,288.71651427374388,17.985667148917649,64725586.755223013,0.99999998455015959,0.74989670990307333,0.10514191964121136,0.8340469902478741,0.82564851944747319,0,3.0078642089605467]
[null,16.627587811392107,289.62758781139212,19.323252181534258,246593596.58141953,0.99999999594474465,0.68181691863145322,0.12099379515224633,0.82564851944747319,0.80925739216333592,0,3.0078642089605467]
[null,17.330737048084526,290.33073704808453,20.349835225102439,688368749.27741003,0.99999999854729027,0.63378885010605268,0.13476284133391092,0.80925739216333592,0.78713487032773422,0,3.0078642089605467]
[null,17.792941336973495,290.79294133697351,21.021939433745828,1348069537.4424438,0.99999999925819849,0.60419262577059474,0.14461547031913397,0.78713487032773422,0.76250260884890819,0,3.0078642089605467]
[null,17.992495065937963,290.99249506593799,21.311456200334245,1800726803.9692466,0.99999999944466866,0.59187344464294933,0.14907858879181052,0.76250260884890819,0.73887070983240166,0,3.0078642089605467]
[null,17.920026976548829,290.92002697654885,21.20636389362004,1621088855.7997103,0.99999999938313067,0.59631589784872963,0.14744280642567673,0.73887070983240166,0.71932812581922012,0,3.0078642089605467]
[null,17.578940248476311,290.57894024847633,20.71102025831091,987829093.35121214,0.99999999898767911,0.61770818612805567,0.13997110551010924,0.71932812581922012,0.70605487027479186,0,3.0078642089605467]
[null,16.985252682500629,289.98525268250063,19.846057465499428,415942449.24718183,0.99999999759582126,0.65691955880545516,0.12782046972253727,0.70605487027479186,0.70015919076340927,0,3.0078642089605467]
[null,16.627587811392107,289.62758781139212,19.323252181534258,246593596.58141953,0.99999999594474465,0.68181691863145322,0.12099379515224633,0.70015919076340927,0.69806889547718942,0,3.0078642089605467]
[null,15.449485206142729,288.44948520614275,17.592029466566736,43663779.263165168,0.99999997709772281,0.7711973499900947,0.10088532317133092,0.69806889547718942,0.70508654336903176,0,3.0078642089605467]
[null,14.760339360069942,287.76033936006996,16.572757785136112,15756409.378705665,0.99999993653376773,0.82920664535898636,9.0647178626440242E-2,0.70508654336903176,0.71584280383235654,0,3.0078642089605467]
[null,14.27138260089335,287.27138260089333,15.846607230767614,7622441.1005836362,0.99999986880844915,0.87317656866044091,8.399345628189267E-2,0.71584280383235654,0.72851804103685092,0,3.0078642089605467]
[null,13.892118273603579,286.89211827360356,15.281656551749467,4332505.4207302099,0.99999976918672406,0.90899191255662692,7.9156489065816002E-2,0.72851804103685092,0.74225294482020443,0,3.0078642089605467]
[null,13.582236754820563,286.58223675482054,14.818948228706045,2727642.4665461252,0.99999963338317044,0.93941718601148072,7.5403123150175319E-2,0.74225294482020443,0.75657306906461452,0,3.0078642089605467]
[null,13.320235663856376,286.32023566385635,14.42695252273634,1843087.1503139932,0.99999945743235352,0.96598824493789737,7.2362954108334182E-2,0.75657306906461452,0.77119166878605672,0,3.0078642089605467]
[null,13.093279995643972,286.09327999564397,14.08681005765242,1311667.8556758412,0.99999923761245402,0.98965273187205127,6.9824444663636492E-2,0.77119166878605672,0.78592522444871848,0,3.0078642089605467]
[null,12.893090908747777,{"$f":"B1613+273","v":285.89309090874775},{"$f":"$C$5*$C$6*(C1613-$C$6)/C1613","v":13.786334878638385},{"$f":"EXP(D1613)","v":971245.82166661497},{"$f":"E1613/(1+E1613)","v":0.99999897039560115},{"$f":"$C$7*EXP($C$8/C1613)","v":1.0110392756665303},{"$f":"$C$4*EXP(-$C$2/C1613)","v":6.7656156592941455E-2},{"$f":"IF(J1612<1,J1612,J1612-J1612*F1612)","v":0.78592522444871848},{"$f":"G1613-(G1613-I1613)*EXP(-H1613)","v":0.80065178765166178},{"$f":"IF(J1613<1,0,J1613*F1613)","v":0},{"$f":"K1613+L1612","v":3.0078642089605467}]
[null,12.7140156683542,285.71401566835419,13.517193880672272,742066.30698638677,0.99999865241334496,1.0305876787320738,6.5771210866599455E-2,0.80065178765166178,0.81528834176901355,0,3.0078642089605467]
[null,12.55202240879343,285.55202240879345,13.273435430799235,581540.22947916633,0.99999828043146499,1.0486184643714755,6.4109393673841691E-2,0.81528834176901355,0.82977758394662404,0,3.0078642089605467]
[null,12.404134149571185,285.40413414957118,13.050659781746342,465403.37504464242,0.99999785133089925,1.0653729131482119,6.2627375528412951E-2,0.82977758394662404,0.84407977248438959,0,3.0078642089605467]
[null,12.26809013888181,285.2680901388818,12.8455220763332,379087.40454683237,0.99999736209288381,1.0810374968286138,6.1293011163017171E-2,0.84407977248438959,0.85816747589341369,0,3.0078642089605467]
[null,12.142133058606998,285.14213305860699,12.655419712501487,313457.70337897138,0.99999680978709726,1.0957595077259163,6.0081842048948252E-2,0.85816747589341369,0.87202207056346004,0,3.0078642089605467]
[null,13.822401391435843,286.82240139143585,15.177643990028844,3904514.4386489573,0.99999974388627333,0.91574421972443509,7.8296810278067119E-2,0.87202207056346004,0.87531478875017099,0,3.0078642089605467]
[null,14.891886777982883,287.8918867779829,16.767698020350046,19147793.027619898,0.99999994777466283,0.81778433250657279,9.2521484520951394E-2,0.87531478875017099,0.87023080074812453,0,3.0078642089605467]
[null,15.858034898250281,288.85803489825025,18.193993006826854,79716966.992151886,0.99999998745561924,0.7388628340352007,0.10746685033045666,0.87023080074812453,0.85684523175484772,0,3.0078642089605467]
[null,16.675296362291203,289.67529636229119,19.393063261913507,264423690.23617706,0.99999999621819058,0.67843850950187379,0.12188384209456575,0.85684523175484772,0.83637327293987251,0,3.0078642089605467]
[null,17.305141093471217,290.30514109347121,20.312552889746449,663177271.17327857,0.99999999849210752,0.63547238521851068,0.13423639201928356,0.83637327293987251,0.81113677502122794,0,3.0078642089605467]
[null,17.717874842363496,290.71787484236347,20.912928499605098,1208841741.4094322,0.99999999917276183,0.60889729599479103,0.14296982979833031,0.81113677502122794,0.78419447600375158,0,3.0078642089605467]
[null,17.894039132490018,290.89403913249004,21.168663895223194,1561111485.517503,0.99999999935943074,0.59791766230056553,0.1468603831777345,0.78419447600375158,0.75875176728199201,0,3.0078642089605467]
[null,17.825328636978689,290.82532863697867,21.068954621753136,1412962811.8898015,0.99999999929226724,0.60217479063964785,0.14533105027179447,0.75875176728199201,0.73757253514280907,0,3.0078642089605467]
[null,17.514982736094115,290.51498273609411,20.61800838023602,900092757.83237195,0.99999999888900337,0.62180983028926529,0.13861094219551465,0.73757253514280907,0.72258898199218036,0,3.0078642089605467]
[null,16.977632795525736,289.97763279552572,19.834932782669945,411340864.46661794,0.99999999756892621,0.65743975842662139,0.12767127020436958,0.72258898199218036,0.71478036939888678,0,3.0078642089605467]
[null,16.675296362291203,289.67529636229119,19.393063261913507,264423690.23617706,0.99999999621819058,0.67843850950187379,0.12188384209456575,0.71478036939888678,0.71061018427538958,0,3.0078642089605467]
[null,15.61839158807736,288.61839158807737,17.841105424719597,56013619.513032101,0.99999998214719932,0.75765004561537608,0.10355822769887489,0.71061018427538958,0.71523780017136507,0,3.0078642089605467]
[null,15.000141928329102,288.00014192832913,16.92798784748069,22476656.674397789,0.99999995550939935,0.80851029626438276,9.409163345659545E-2,0.71523780017136507,0.72361373060194012,0,3.0078642089605467]
[null,14.561486813863517,287.5614868138635,16.277739441979531,11730929.303243848,0.99999991475526884,0.84679707139332405,8.7882606323766765E-2,0.72361373060194012,0.73397734368728051,0,3.0078642089605467]
[null,14.221239473423498,287.22123947342351,15.771999810760736,7074446.8221921315,0.99999985864621166,0.87782424265750769,8.3338125322221984E-2,0.73397734368728051,0.74547934089501988,0,3.0078642089605467]
[null,13.943237154115259,286.94323715411525,15.357890119351358,4675703.166548402,0.99999978612847085,0.9040746066572436,7.9792558938168279E-2,0.74547934089501988,0.75764235146050118,0,3.0078642089605467]
[null,13.708189542255791,286.70818954225581,15.007138833380399,3292437.8407576294,0.99999969627378116,0.92692178262643932,7.6907711087238692E-2,0.75764235146050118,0.77017320939773026,0,3.0078642089605467]
[null,13.504582039649675,286.50458203964968,14.702839061016393,2428632.8917592778,0.99999958824588453,0.9472104347574567,7.4489547532956502E-2,0.77017320939773026,0.78288144135748294,0,3.0078642089605467]
[null,13.324987494367001,286.32498749436701,14.434068411806933,1856249.1280709209,0.99999946127949846,0.9654992668783241,7.2417034603038569E-2,0.78288144135748294,0.79563859065795695,0,3.0078642089605467]
[null,13.164334699209654,286.16433469920963,14.193359011558639,1459141.798424534,0.99999931466611691,0.98217818122090839,7.0609899030808401E-2,0.79563859065795695,0.8083558662091952,0,3.0078642089605467]
[null,13.019006568487121,286.0190065684871,13.975377927188031,1173355.2376551745,0.99999914774390941,0.9975307037347797,6.9012338156588263E-2,0.8083558662091952,0.82097095910790796,0,3.0078642089605467]
[null,12.886332379901416,285.88633237990143,13.776183275312103,961435.99632638262,0.99999895989024368,1.011769838931329,6.7584088419451599E-2,0.82097095910790796,0.83343983301672053,0,3.0078642089605467]
[null,12.764283957497357,285.76428395749736,13.592778622189737,800329.36021197867,0.99999875051597475,1.0250599075641478,6.6295205955175046E-2,0.83343983301672053,0.84573138822398264,0,3.0078642089605467]
[null,12.651284768041949,285.65128476804193,13.42283271125393,675246.24534970941,0.99999851906097081,1.0375304897046067,6.5122856123028691E-2,0.84573138822398264,0.8578238716167419,0,3.0078642089605467]
[null,11.543736932096873,284.54373693209686,11.749983480055267,126751.4650612499,0.99999211060708348,1.1686777671815056,5.463360633114054E-2,0.8578238716167419,0.87435135226438188,0,3.0078642089605467]
[null,13.87181585263534,286.87181585263534,15.25137202092901,4203264.4061926054,0.99999976208973185,0.91095277522807994,7.8905213587700404E-2,0.87435135226438188,0.87712839317824109,0,3.0078642089605467]
[null,15.974052651712254,288.97405265171227,18.36462508152956,94548650.63559927,0.9999999894234346,0.72994644411851628,0.10940936339411743,0.87712839317824109,0.86187495698754613,0,3.0078642089605467]
[null,17.750951952058216,290.75095195205824,20.960969737967083,1268333584.9391518,0.99999999921156391,0.60681944463831661,0.14369274480194116,0.86187495698754613,0.82773675542169212,0,3.0078642089605467]
[null,19.118416060047419,292.11841606004742,22.937554188420894,9154891727.6412678,0.99999999989076882,0.5272051387508081,0.17683051841653527,0.82773675542169212,0.77902712738060853,0,3.0078642089605467]
[null,20.011725169906086,293.01172516990607,24.218814421803252,32968368941.028831,0.99999999996966793,0.48126745396285064,0.20229087266666212,0.77902712738060853,0.72449461443511953,0,3.0078642089605467]
[null,20.38860044466275,293.38860044466276,24.757020913784686,56472572445.17086,0.99999999998229228,0.46318553517328465,0.21405028776521323,0.72449461443511953,0.67414238949158622,0,3.0078642089605467]
[null,20.231205003304826,293.23120500330481,24.532416518847704,45112108061.25235,0.99999999997783295,0.47064738483544327,0.20906194058101482,0.67414238949158622,0.63575203509597633,0,3.0078642089605467]
[null,19.546988110741605,292.54698811074161,23.553225330326626,16944774435.104063,0.99999999994098476,0.50460824128927384,0.18863781157146597,0.63575203509597633,0.61320663019690502,0,3.0078642089605467]
[null,18.368332616464428,291.36833261646444,21.855652460349773,3103053489.7799063,0.99999999967773678,0.56939317356284691,0.15784393696294771,0.61320663019690502,0.60680912274816545,0,3.0078642089605467]
[null,17.75095195205822,290.75095195205824,20.960969737967083,1268333584.9391518,0.99999999921156391,0.60681944463831661,0.14369274480194116,0.60680912274816545,0.60681050429355243,0,3.0078642089605467]
[null,15.452761046063515,288.45276104606353,17.596862922053234,43875337.062335737,0.99999997720815281,0.77093216625889971,0.10093653011697289,0.60681050429355243,0.62256775822350263,0,3.0078642089605467]
[null,14.108405546558231,287.10840554655823,15.604020125102583,5980532.2387551479,0.99999983279082982,0.88837930138818655,8.1881293009747377E-2,0.62256775822350263,0.64346550911912215,0,3.0078642089605467]
[null,13.15457014006881,286.15457014006881,14.178719857916306,1437936.7878486612,0.99999930455962116,0.9832017823637953,7.0501461197896659E-2,0.64346550911912215,0.66659258783299458,0,3.0078642089605467]
[null,12.414717920014471,285.41471792001448,13.066610612545769,472886.46764645952,0.9999978853319903,1.0641644404808457,6.273234044727849E-2,0.66659258783299458,0.69076701410072383,0,3.0078642089605467]
[null,11.810214640563526,284.81021464056352,12.153662160840053,189787.85236921496,0.99999473098663316,1.1355870144015996,5.6998785330420784E-2,0.69076701410072383,0.71541216980848543,0,3.0078642089605467]
[null,11.299114400285958,284.29911440028593,11.378746321565998,87443.340159484651,0.99998856415408732,1.1999596644123487,5.2545231357857283E-2,0.71541216980848543,0.74021547572492863,0,3.0078642089605467]
[null,10.856379234074105,283.8563792340741,10.705228061955316,44588.357527894797,0.99997757312382507,1.2588660424300331,4.8958064442639934E-2,0.74021547572492863,0.76499604962683698,0,3.0078642089605467]
[null,10.465859141058242,283.46585914105822,10.109396524859767,24572.827170738477,0.99995930629799534,1.3133840458433552,4.5989352735689236E-2,0.76499604962683698,0.78964492153569765,0,3.0078642089605467]
[null,10.116527014019766,283.11652701401977,9.5750142218978294,14400.442610007887,0.99993056251188994,1.3642848841465578,4.3480260068213643E-2,0.78964492153569765,0.81409501645804061,0,3.0078642089605467]
[null,9.8005176661954394,282.80051766619545,9.0904693204708416,8870.3481114640108,0.99988727756058771,1.4121418922112081,4.1323710035468163E-2,0.81409501645804061,0.83830486666185466,0,3.0078642089605467]
[null,9.512023734568821,282.5120237345688,8.6471679571985955,5693.9982312196034,0.99982440732035383,1.4573944465143496,3.9444547406648781E-2,0.83830486666185466,0.86224923314299695,0,3.0078642089605467]
[null,9.2466350436447513,282.24663504364474,8.2385699690760905,3784.1250212792247,0.99973580793385208,1.5003876813813311,3.7788264767432286E-2,0.86224923314299695,0.88591344711018116,0,3.0078642089605467]
[null,9.0009234942912535,282.00092349429127,7.8595816822378595,2590.4365231217266,0.99961411364273145,1.5413983108015425,3.6314241421654486E-2,0.88591344711018116,0.90928986538597778,0,3.0078642089605467]
[null,11.880009968149738,284.88000996814975,12.259268097731498,210927.15117127573,0.99999525904913855,1.127085889936259,5.7634257703445574E-2,0.90928986538597778,0.92148750053984418,0,3.0078642089605467]
[null,12.622961707178879,285.62296170717889,13.380214972141115,647073.37309190235,0.99999845458259273,1.0406814884162805,6.4832128971005765E-2,0.92148750053984418,0.92896992898660524,0,3.0078642089605467]
[null,13.293557622319764,286.29355762231978,14.386997641231632,1770898.5679352733,0.99999943531523861,0.96873840186559268,7.206004764121994E-2,0.92896992898660524,0.93173483121631262,0,3.0078642089605467]
[null,13.859937739872853,286.85993773987286,15.233651797952836,4129437.6686408655,0.99999975783633555,0.91210208518984925,7.8758556204449687E-2,0.93173483121631262,0.93024790701202242,0,3.0078642089605467]
[null,14.295193372740957,287.29519337274098,15.882025902462356,7897255.8983969335,0.99999987337375329,0.87097878210221413,8.4306365526214982E-2,0.93024790701202242,0.92545597557478176,0,3.0078642089605467]
[null,14.578645550619227,287.57864555061923,16.303212288442278,12033587.886839965,0.9999999168992717,0.84526364967042011,8.81179454933812E-2,0.92545597557478176,0.91869198329528745,0,3.0078642089605467]
[null,14.696827476695484,287.69682747669549,16.478575656366829,14340175.855811968,0.9999999302658531,0.83478216805121752,8.9755290444163055E-2,0.91869198329528745,0.9114887334861641,0,3.0078642089605467]
[null,14.644124334399066,287.64412433439907,16.400390294506384,13261694.096870696,0.99999992459485809,0.83943916023398568,8.9021558783744778E-2,0.9114887334861641,0.90535197238628851,0,3.0078642089605467]
[null,14.42304004701602,287.423040047016,16.072098284402831,9550444.7724403925,0.99999989529284561,0.85927863223132828,8.6005597727533578E-2,0.90535197238628851,0.90155502671816368,0,3.0078642089605467]
[null,14.044078316436513,287.04407831643653,15.508194894504355,5434047.9581738422,0.99999981597515819,0.89445726410286563,8.1061668787643218E-2,0.90155502671816368,0.90100237236872727,0,3.0078642089605467]
[null,13.859937739872853,{"$f":"B1677+273","v":286.85993773987286},{"$f":"$C$5*$C$6*(C1677-$C$6)/C1677","v":15.233651797952836},{"$f":"EXP(D1677)","v":4129437.6686408655},{"$f":"E1677/(1+E1677)","v":0.99999975783633555},{"$f":"$C$7*EXP($C$8/C1677)","v":0.91210208518984925},{"$f":"$C$4*EXP(-$C$2/C1677)","v":7.8758556204449687E-2},{"$f":"IF(J1676<1,J1676,J1676-J1676*F1676)","v":0.90100237236872727},{"$f":"G1677-(G1677-I1677)*EXP(-H1677)","v":0.90184303070720673},{"$f":"IF(J1677<1,0,J1677*F1677)","v":0},{"$f":"K1677+L1676","v":3.0078642089605467}]
[null,13.12731081187283,286.1273108118728,14.137847031602448,1380349.1489283233,0.99999927554613532,0.98606534906888377,7.0199581235913106E-2,0.90184303070720673,0.90755265115537853,0,3.0078642089605467]
[null,12.698751531974276,285.69875153197427,13.494237053183367,725224.87139293505,0.99999862111924098,1.0322724846198044,6.5612882978538914E-2,0.90755265115537853,0.91547319288113571,0,3.0078642089605467]
[null,12.394683883872805,285.3946838838728,13.036416259408352,458821.37836251472,0.99999782050735286,1.0664531959172079,6.2533794050190078E-2,0.91547319288113571,0.92462540185808151,0,3.0078642089605467]
[null,12.158830692678576,285.15883069267858,12.680630490073005,321460.6724789096,0.99999688920924135,1.0937956486397344,6.0241076602059525E-2,0.92462540185808151,0.93451551342573946,0,3.0078642089605467]
[null,11.966124603974253,284.96612460397427,12.389495170304729,240264.37782439878,0.9999958379354984,1.116690374481335,5.8427648540572516E-2,0.93451551342573946,0.94485457746491508,0,3.0078642089605467]
[null,11.803193927520045,284.80319392752006,12.143036392903008,187781.88702768987,0.99999467470110925,1.1364459156540541,5.6935235166807478E-2,0.94485457746491508,0.95545815259588007,0,3.0078642089605467]
[null,11.662056955872782,284.6620569558728,11.929316042879687,151647.80560442965,0.99999340581684104,1.1538599461411021,5.5671963431157073E-2,0.95545815259588007,0.96620173705388135,0,3.0078642089605467]
[null,11.5375653240757,284.53756532407567,11.74062534704508,125570.84082732933,0.99999203643115042,1.1694562103271959,5.4579956455217161E-2,0.96620173705388135,0.97699804628540199,0,3.0078642089605467]
[null,11.426203764678553,284.42620376467858,11.571695803487266,106053.16494981146,0.99999057085593501,1.183597877051108,5.3620497772604685E-2,0.97699804628540199,0.98778426658345786,0,3.0078642089605467]
[null,11.325464980484458,284.32546498048447,11.418766446310254,91013.802180423794,0.99998901277620733,1.1965475373813166,5.2766468168385393E-2,0.98778426658345786,0.9985143823704461,0,3.0078642089605467]
[null,11.233497675974228,284.23349767597421,11.279058225735497,79146.688467021755,0.99998736539222599,1.2085014650204275,5.1998166376856503E-2,0.9985143823704461,1.0091543002694368,1.0091415500006693,4.0170057589612158]
[null,11.148895956921869,284.14889595692188,11.150459259880837,69595.783311397827,0.99998563151984299,1.2196103748308218,5.1300849731031224E-2,1.275026876745855E-5,6.1001385218815152E-2,0,4.0170057589612158]
[null,11.07056699952002,284.07056699952,11.031326924455914,61779.503166208626,0.99998381366371669,1.2299926148981082,5.0663211880486378E-2,6.1001385218815152E-2,0.11875099333325423,0,4.0170057589612158]
[null,13.276108526300463,286.27610852630045,14.360860639121974,1725212.2409691066,0.9999994203615088,0.97054168738210167,7.1862583809743488E-2,0.11875099333325423,0.17781520383616201,0,4.0170057589612158]
[null,14.681821368086108,287.6818213680861,16.45631694009063,14024508.161938543,0.99999992869625676,0.83610533773781337,8.9545789593918457E-2,0.17781520383616201,0.23420012587727768,0,4.0170057589612158]
[null,15.950100014322258,288.95010001432223,18.329408178384764,91276888.76205337,0.9999999890443243,0.73177785044105126,0.10900559157194609,0.23420012587727768,0.28558726466889384,0,4.0170057589612158]
[null,17.020460197174568,290.02046019717454,19.897451219353584,437878143.89758927,0.99999999771625958,0.65452168125898691,0.12851200746730734,0.28558726466889384,0.33007964741723672,0,4.0170057589612158]
[null,17.841856389565066,290.84185638956507,21.092943182284479,1447267571.6915109,0.99999999930904282,0.60114782840929781,0.14569752375691497,0.33007964741723672,0.36683130725369595,0,4.0170057589612158]
[null,18.375116168740995,291.37511616874099,21.865461847800368,3133642327.339211,0.99999999968088249,0.56899588972829229,0.15800657660350131,0.36683130725369595,0.39637884029823373,0,4.0170057589612158]
[null,18.594808350944202,291.59480835094422,22.182902012965602,4304393201.9592295,0.99999999976767917,0.55628798885927078,0.16336117551454091,0.39637884029823373,0.42047964480249084,0,4.0170057589612158]
[null,18.490455805751566,291.49045580575159,22.03217939111126,3702149341.7423401,0.99999999972988662,0.56228600047158539,0.1607965220863331,0.42047964480249084,0.44154280818443997,0,4.0170057589612158]
[null,18.067035110913842,291.06703511091382,21.419498634674611,2006180765.1701307,0.99999999950154039,0.58734078362433373,0.15077921169497219,0.44154280818443997,0.46194904800043718,0,4.0170057589612158]
[null,17.344739219130481,290.34473921913047,20.370227605380819,702550333.26464474,0.99999999857661448,0.6328698918620943,0.13505166715888084,0.46194904800043718,0.4835413465220153,0,4.0170057589612158]
[null,17.020460197174572,290.02046019717454,19.897451219353584,437878143.89758927,0.99999999771625958,0.65452168125898691,0.12851200746730734,0.4835413465220153,0.50416106144551964,0,4.0170057589612158]
[null,15.635748349694969,288.63574834969495,17.866683867366678,57464841.545174822,0.99999998259805556,0.75627237337545783,0.10383669546250812,0.50416106144551964,0.52902617399264029,0,4.0170057589612158]
[null,14.825743844615088,287.82574384461509,16.669703021852101,17360412.385719627,0.99999994239768497,0.82350643967097947,9.1574490273223549E-2,0.52902617399264029,0.55479515796508405,0,4.0170057589612158]
[null,14.251036502215367,287.25103650221536,15.816337629635699,7395169.9058383834,0.99999986477662073,0.87505924147061365,8.3726957501354365E-2,0.55479515796508405,0.58051802159869237,0,4.0170057589612158]
[null,13.805258855188299,286.8052588551883,15.152060816338274,3805891.4905839963,0.99999973724954072,0.91741270451197499,7.8086796227617453E-2,0.58051802159869237,0.60582415321006822,0,4.0170057589612158]
[null,13.441031997135486,286.4410319971355,14.607772329113438,2208385.6448314204,0.99999954718074291,0.95363942894002052,7.3749786615726759E-2,0.60582415321006822,0.63055239709722821,0,4.0170057589612158]
[null,13.133082576521232,286.13308257652125,14.146501905565948,1392347.745108777,0.99999928178913255,0.98545828988862261,7.0263396644995965E-2,0.63055239709722821,0.65463337845043612,0,4.0170057589612158]
[null,12.866324654735765,285.86632465473576,13.746127990853546,932969.68827785412,0.99999892815496505,1.013935873274489,6.7371169986256474E-2,0.65463337845043612,0.67804260092837687,0,4.0170057589612158]
[null,12.631027492055605,285.63102749205558,13.39235242776777,654975.05358856788,0.99999847322662483,1.039783116291461,6.4914795106469955E-2,0.67804260092837687,0.70077896557730202,0,4.0170057589612158]
[null,12.420547007708695,285.42054700770871,13.075395142157388,477058.85221114743,0.99999790382696141,1.063499489185596,6.2790222409628865E-2,0.70077896557730202,0.72285396846878436,0,4.0170057589612158]
[null,12.230144249301969,285.23014424930199,12.788269419737416,357993.25332251214,0.99999720665907144,1.0854503513306002,6.0925699261077861E-2,0.72285396846878436,0.74428589984633786,0,4.0170057589612158]
[null,12.056320149655885,285.0563201496559,12.525809245179813,275353.01523370633,0.99999636831153838,1.1059116515131231,5.9269825584357325E-2,0.74428589984633786,0.76509658054878171,0,4.0170057589612158]
[null,11.896417478580521,284.89641747858053,12.284086467215793,216227.52034217128,0.99999537526317794,1.1250973003812963,5.7784624806745115E-2,0.76509658054878171,0.7853094660438622,0,4.0170057589612158]
[null,11.74837072904163,284.74837072904165,12.060044095490298,172826.6063599888,0.99999421388734666,1.1431767328618441,5.6441309919128789E-2,0.7853094660438622,0.80494852303580611,0,4.0170057589612158]
[null,14.287572723013266,287.28757272301328,15.870690777270267,7808244.9423260614,0.99999987193026352,0.87168154261253616,8.4206097777218325E-2,0.80494852303580611,0.8103377627196825,0,4.0170057589612158]
[null,15.799150663968062,288.79915066396808,18.107337096552946,73099866.361110032,0.99999998632008458,0.7434326626230735,0.10649358415008729,0.8103377627196825,0.80357906409370128,0,4.0170057589612158]
[null,17.162376799767383,290.1623767997674,20.10448584684184,538601135.63933337,0.99999999814333851,0.64495039303131085,0.13133589946359792,0.80357906409370128,0.78405554961939994,0,4.0170057589612158]
[null,18.311995491041309,291.31199549104133,21.774168245071753,2860231049.5519857,0.99999999965037789,0.57270405521350953,0.15649938359894833,0.78405554961939994,0.75343749079784206,0,4.0170057589612158]
[null,19.192976174069972,292.19297617407,23.044794329129992,10191239637.426064,0.99999999990187649,0.5231975844536032,0.17883265942173396,0.75343749079784206,0.7157347450087812,0,4.0170057589612158]
[null,19.763147593304577,292.76314759330455,23.863068390894536,23099305541.749722,0.99999999995670863,0.4936051207430095,0.19487496292591241,0.7157347450087812,0.67640392936912153,0,4.0170057589612158]
[null,19.995216477632191,292.9952164776322,24.195207103074956,32199189007.430527,0.99999999996894329,0.48207654290398094,0.20179012626334306,0.67640392936912153,0.64089379281713721,0,4.0170057589612158]
[null,19.878074029306813,292.87807402930679,24.027617748826756,27230887853.925301,0.99999999996327704,0.48785953640119278,0.1982707614589124,0.64089379281713721,0.61337023880018671,0,4.0170057589612158]
[null,19.41732768583428,292.41732768583427,23.367150245292255,14067742469.808638,0.99999999992891542,0.51133365587097979,0.18498846761753732,0.61337023880018671,0.59613767503982051,0,4.0170057589612158]
[null,18.63503270014813,291.63503270014814,22.240971644084524,4561747652.0843277,0.9999999997807858,0.5539942174383008,0.16436015230005843,0.59613767503982051,0.58975026091150862,0,4.0170057589612158]
[null,18.311995491041312,291.31199549104133,21.774168245071753,2860231049.5519857,0.99999999965037789,0.57270405521350953,0.15649938359894833,0.58975026091150862,0.58728081194824089,0,4.0170057589612158]
[null,16.82455124066788,289.82455124066786,19.611316865782644,328917285.66983968,0.99999999695972197,0.66798403091497893,0.12470888898908757,0.58728081194824089,0.59674295410472922,0,4.0170057589612158]
[null,15.95445213228613,288.95445213228612,18.335807411624987,91862863.758373499,0.9999999891142084,0.7314447258955834,0.10907884965907108,0.59674295410472922,0.61066307380738372,0,4.0170057589612158]
[null,15.337106990294446,288.33710699029444,17.426150489425659,36989716.12566293,0.99999997296545962,0.78035366392870176,9.9143611894477429E-2,0.61066307380738372,0.62667972029707242,0,4.0170057589612158]
[null,14.858256896520565,287.85825689652057,16.717878821408533,18217237.540217731,0.99999994510693824,0.8206883806157198,9.2038829266933631E-2,0.62667972029707242,0.64373895343267518,0,4.0170057589612158]
[null,14.467007881912696,287.46700788191271,16.137427134488203,10195195.465485889,0.99999990191459254,0.8552936321533452,8.6597506643813035E-2,0.64373895343267518,0.66128823352448085,0,4.0170057589612158]
[null,14.136211553469172,287.1362115534692,15.645428126925745,6233372.8139520464,0.99999983957323435,0.88576568781511356,8.2238028461374832E-2,0.66128823352448085,0.67901012338409095,0,4.0170057589612158]
[null,13.849662739921014,286.84966273992103,15.218321976173863,4066616.8712013867,0.99999975409541009,0.91309752668136912,7.8631902358792929E-2,0.67901012338409095,0.69671178380134968,0,4.0170057589612158]
[null,13.596908773530949,286.59690877353097,14.840878733238277,2788121.789123523,0.99999964133573893,0.93795242548722935,7.557693163680175E-2,0.69671178380134968,0.71427207702816564,0,4.0170057589612158]
[null,13.370812646147133,286.37081264614716,14.502679677430098,1988079.543919421,0.99999949700227031,0.96079723021512453,7.2940555758031989E-2,0.71427207702816564,0.73161361994922369,0,4.0170057589612158]
[null,13.166283820339205,286.16628382033923,14.196281039610042,1463411.6870195167,0.99999931666575748,0.98197399434711685,7.0631563574781939E-2,0.73161361994922369,0.74868691066940296,0,4.0170057589612158]
[null,12.979563631539264,285.97956363153924,13.916178313446744,1105909.1484665237,0.99999909576740809,1.0017414440168559,6.858474605513272E-2,0.74868691066940296,0.76546080042839915,0,4.0170057589612158]
[null,12.807797708438859,285.80779770843884,13.658185590731472,854426.35312989494,0.99999882962548381,1.0203004071304063,6.6752011196077474E-2,0.76546080042839915,0.78191652062676287,0,4.0170057589612158]
[null,12.648767303095738,285.64876730309572,13.419045021345289,672693.45959275682,0.99999851344100466,1.0378101508379312,6.5096964786292122E-2,0.78191652062676287,0.79804380590111157,0,4.0170057589612158]
[null,15.472593566907177,288.47259356690716,17.626123182041354,45178107.586655729,0.99999997786538586,0.76932877085856965,0.10124707669434757,0.79804380590111157,0.79527882712772691,0,4.0170057589612158]
[null,16.779240472822337,289.77924047282232,19.545083244450161,307837697.06020486,0.99999999675153495,0.67113951978856179,0.12384471778898677,0.79527882712772691,0.78081871125822699,0,4.0170057589612158]
[null,17.957162483446439,{"$f":"B1741+273","v":290.95716248344644},{"$f":"$C$5*$C$6*(C1741-$C$6)/C1741","v":21.260223875792693},{"$f":"EXP(D1741)","v":1710794767.4845707},{"$f":"E1741/(1+E1741)","v":0.99999999941547635},{"$f":"$C$7*EXP($C$8/C1741)","v":0.59403498348613248},{"$f":"$C$4*EXP(-$C$2/C1741)","v":0.1482788929226676},{"$f":"IF(J1740<1,J1740,J1740-J1740*F1740)","v":0.78081871125822699},{"$f":"G1741-(G1741-I1741)*EXP(-H1741)","v":0.75507816201526268},{"$f":"IF(J1741<1,0,J1741*F1741)","v":0},{"$f":"K1741+L1740","v":4.0170057589612158}]
[null,18.949765989875498,291.94976598987552,22.694781974727125,7181556467.5735226,0.99999999986075438,0.5363912850114021,0.17238045379626063,0.75507816201526268,0.72045104133831805,0,4.0170057589612158]
[null,19.709361065159431,292.70936106515944,23.786013534868747,21386239430.182491,0.99999999995324096,0.49631886602494296,0.19330484038411105,0.72045104133831805,0.68105548063040855,0,4.0170057589612158]
[null,20.19945274084677,293.19945274084677,24.487076587721987,43112403967.557121,0.99999999997680478,0.47216819686484862,0.20806915475053531,0.68105548063040855,0.64181618624882542,0,4.0170057589612158]
[null,20.396494418460897,293.39649441846092,24.768279323396833,57111956266.517708,0.99999999998249056,0.46281463554570557,0.21430344043637437,0.64181618624882542,0.60728740289094041,0,4.0170057589612158]
[null,20.291019172738416,293.2910191727384,24.617800155364527,49133167623.142067,0.99999999997964717,0.46779669466109775,0.21094442147287151,0.60728740289094041,0.58075893085677044,0,4.0170057589612158]
[null,19.888094592833482,292.88809459283345,24.041958869420313,27624222992.496716,0.99999999996379985,0.48736196589807085,0.19856950719049588,0.58075893085677044,0.56393839707588223,0,4.0170057589612158]
[null,19.207079308508732,292.20707930850875,23.065072774692439,10400011768.633146,0.99999999990384625,0.52244321270832728,0.17921379267333631,0.56393839707588223,0.55713016454566433,0,4.0170057589612158]
[null,18.949765989875498,291.94976598987552,22.694781974727125,7181556467.5735226,0.99999999986075438,0.5363912850114021,0.17238045379626063,0.55713016454566433,0.55384634754586859,0,4.0170057589612158]
[null,17.66529951892381,290.6652995189238,20.836545527832172,1119945127.5924404,0.99999999910709914,0.61221562633201576,0.14182791490353797,0.55384634754586859,0.56156448377457946,0,4.0170057589612158]
[null,16.913934799983434,289.91393479998345,19.741913776243202,374803998.35574168,0.99999999733193878,0.66180555987728884,0.12643053540251728,0.56156448377457946,0.57346957888291428,0,4.0170057589612158]
[null,16.380833047972125,289.38083304797215,18.961812878434895,171795071.28683645,0.99999999417911123,0.69957916828126376,0.11648855878110591,0.57346957888291428,0.587336554014389,0,4.0170057589612158]
[null,15.967327204031955,288.96732720403196,18.354737430512383,93618393.183413595,0.99999998931833844,0.73046017445544742,0.10929584788786299,0.587336554014389,0.60215483502272948,0,4.0170057589612158]
[null,15.629468329031747,288.62946832903174,17.857429434582912,56935490.232733339,0.99999998243626287,0.75677053393677274,0.1037358578238948,0.60215483502272948,0.61739014331922526,0,4.0170057589612158]
[null,15.34381272043132,288.34381272043134,17.436052295561986,37357800.466247171,0.99999997323182943,0.77980405824596222,9.9246730700463318E-2,0.61739014331922526,0.63273513001604687,0,4.0170057589612158]
[null,15.096366577020436,288.09636657702043,17.070363383498936,25915800.10928807,0.99999996141350234,0.80036097828618413,9.550863131476707E-2,0.63273513001604687,0.64800408195168857,0,4.0170057589612158]
[null,14.878103610091369,287.87810361009139,16.747281087145176,18760817.683728445,0.99999994669742209,0.81897322639659997,9.2323377123645189E-2,0.64800408195168857,0.66308180920504722,0,4.0170057589612158]
[null,14.682860733080268,287.68286073308025,16.457858715796398,14046147.48511282,0.99999992880610644,0.83601361929420448,8.9560285136677756E-2,0.66308180920504722,0.67789633389146431,0,4.0170057589612158]
[null,14.506242067185767,287.50624206718578,16.195705702586512,10807011.588365382,0.99999990746749001,0.8517542922500968,8.7128973893654801E-2,0.67789633389146431,0.69240323738060139,0,4.0170057589612158]
[null,14.34500185808006,287.34500185808008,15.956097352845484,8504426.5189643465,0.9999998824141898,0.86640039232721044,8.4964529214431567E-2,0.69240323738060139,0.70657619906870084,0,4.0170057589612158]
[null,14.196675244145354,287.19667524414535,15.735441450927267,6820487.1093487199,0.99999985338292741,0.88011067080575289,8.3018875825624991E-2,0.70657619906870084,0.72040103534000055,0,4.0170057589612158]
[null,14.059346249479631,287.05934624947963,15.530942698847781,5559077.2979441872,0.99999982011406452,0.89301067243985022,8.1255492400508667E-2,0.72040103534000055,0.73387181798620971,0,4.0170057589612158]
[null,10.251675766956243,283.25167576695623,9.7819110598823524,17710.466294596463,0.99994353940078329,1.3443476728060262,4.4435042060407215E-2,0.73387181798620971,0.76040448271006555,0,4.0170057589612158]
[null,12.20441931864803,285.20441931864804,12.749447048231829,344361.42822226608,0.99999709608273712,1.0884529017282567,6.0677882432427818E-2,0.76040448271006555,0.77971789238934197,0,4.0170057589612158]
[null,13.964068970990718,286.9640689709907,15.388948810833522,4823203.1094031986,0.99999979266894423,0.90207885759119744,8.0053166350917068E-2,0.77971789238934197,0.78913145561456188,0,4.0170057589612158]
[null,15.44577406629298,288.44577406629298,17.586553599551731,43425335.653110236,0.99999997697196896,0.77149788933440389,0.10082734172884028,0.78913145561456188,0.78744020471761977,0,4.0170057589612158]
[null,16.578086488917933,289.57808648891796,19.250793454296062,229357723.55748776,0.99999999563999864,0.68534125060048601,0.1200768656772976,0.78744020471761977,0.77588793937436284,0,4.0170057589612158]
[null,17.306405907689491,290.30640590768951,20.31439533636479,664400266.19947135,0.99999999849488319,0.63538908206669409,0.13426236011792955,0.77588793937436284,0.75823575246085895,0,4.0170057589612158]
[null,17.595612614767035,290.59561261476705,20.735259753741229,1012066132.2414111,0.99999999901192227,0.61664372264120615,0.14032775996170524,0.75823575246085895,0.73969758109347006,0,4.0170057589612158]
[null,17.431761004971936,290.43176100497192,20.496919678497715,797442012.5931443,0.99999999874599033,0.62719044355654552,0.1368599810590018,0.73969758109347006,0.7253070549383559,0,4.0170057589612158]
[null,16.822752035654652,289.82275203565467,19.608687248622257,328053495.34777206,0.99999999695171671,0.66810902732495847,0.12467446486077062,0.7253070549383559,0.71860254426660997,0,4.0170057589612158]
[null,15.797952240953208,288.79795224095324,18.105573092249209,72971031.548236638,0.9999999862959319,0.74352598092721423,0.10647386374490492,0.71860254426660997,0.72111984765014192,0,4.0170057589612158]
[null,15.445774066292982,288.44577406629298,17.586553599551731,43425335.653110236,0.99999997697196896,0.77149788933440389,0.10082734172884028,0.72111984765014192,0.72595165006781648,0,4.0170057589612158]
[null,13.528115325458792,286.52811532545877,14.738032627083404,2515626.981041227,0.99999960248494313,0.9448414383874586,7.4765283962390142E-2,0.72595165006781648,0.74172019283086477,0,4.0170057589612158]
[null,12.40635687289064,285.40635687289063,13.054009752573286,466965.07714154472,0.99999785851681966,1.065118997643477,6.2649405532339594E-2,0.74172019283086477,0.76135932267061868,0,4.0170057589612158]
[null,11.6104565846246,284.61045658462461,11.851125917092695,140242.15936168478,0.99999286952743682,1.1602973681192201,5.5216828578410773E-2,0.76135932267061868,0.78279029634505926,0,4.0170057589612158]
[null,10.993108359543752,283.99310835954373,10.913453649818557,54910.158665180243,0.99998178876526544,1.2403521119908014,5.0040113551253776E-2,0.78279029634505926,0.80512330834368995,0,4.0170057589612158]
[null,10.488698132056449,283.48869813205647,10.144288047729539,25445.343731361267,0.99996070162336259,1.3101273966941038,4.6158126862028526E-2,0.80512330834368995,0.82790355981281838,0,4.0170057589612158]
[null,10.06222536138533,283.06222536138534,9.4918291437007429,13251.011176376564,0.99992453975576301,1.3723839459918805,4.3102187215511414E-2,0.82790355981281838,0.85087327684895975,0,4.0170057589612158]
[null,9.6927978437904123,282.6927978437904,8.9250522956799383,7517.9764803934067,0.99986700317488586,1.4288610804723187,4.0612256016396155E-2,0.85087327684895975,0.87387639954335272,0,4.0170057589612158]
[null,9.3669396794882971,282.36693967948827,8.4238886770850581,4554.5803552977795,0.99978048899986205,1.4807332324923195,3.8530669669413264E-2,0.87387639954335272,0.89681425646741564,0,4.0170057589612158]
[null,9.0754496187095626,282.07544961870957,7.9746013843201196,2906.1991846178221,0.99965602632069683,1.5288348444797253,3.6755412444661573E-2,0.89681425646741564,0.91962269927469376,0,4.0170057589612158]
[null,8.8117647844949971,281.81176478449498,7.5673709155435116,1934.048813867563,0.99948321717114652,1.5737824327641485,3.5217102786364488E-2,0.91962269927469376,0.94225937130948112,0,4.0170057589612158]
[null,8.5710393912222607,281.57103939122226,7.1949326271970993,1332.6605374867095,0.99925018400718035,1.6160458411661749,3.3866654638479453E-2,0.94225937130948112,0.96469619052831768,0,4.0170057589612158]
[null,8.3495934958697084,281.34959349586973,6.8517598103363255,945.54342047282751,0.99894352442965539,1.6559922703173648,3.2668209528045666E-2,0.96469619052831768,0.98691470028959383,0,4.0170057589612158]
[null,8.1445666205511404,281.14456662055113,6.5335494415135171,687.83531497644833,0.99854827419811631,1.6939147595220072,3.1594866802326295E-2,0.98691470028959383,1.0089030838633171,1.0074384332248727,5.0244441921860883]
[null,14.011897744717215,287.0118977447172,15.460240900554576,5179612.9975893199,0.99999980693542023,0.89751446391748091,8.0654588084954848E-2,1.4646506384443647E-3,7.089750485050017E-2,0,5.0244441921860883]
[null,15.260308648792819,288.26030864879283,17.312715776022195,33023030.700343352,0.99999996971810434,0.78667763097907983,9.7969903483480184E-2,7.089750485050017E-2,0.13769683252835885,0,5.0244441921860883]
[null,16.384818198640328,289.38481819864035,18.96765510991548,172801675.40456212,0.99999999421301911,0.69928841563980271,0.11656002950677058,0.13769683252835885,0.19948500831441168,0,5.0244441921860883]
[null,17.331007855254995,290.331007855255,20.350229639937766,688640305.67371583,0.99999999854786314,0.63377106362449342,0.13476842173425091,0.19948500831441168,0.25424054603282181,0,5.0244441921860883]
[null,18.05308853775141,291.05308853775142,21.399287914182629,1966041395.5709054,0.99999999949136376,0.58818602854303914,0.15045961994799206,0.25424054603282181,0.300888566050665,0,5.0244441921860883]
[null,18.51611650039586,291.51611650039587,22.069252671890311,3841976066.7102747,0.99999999973971732,0.56080469745584383,0.1614235921782739,0.300888566050665,0.33963386171903154,0,5.0244441921860883]
[null,18.697684369903811,291.69768436990381,22.33138643802501,4993417779.5911865,0.99999999979973642,0.55044161348164944,0.16592774003831987,0.33963386171903154,0.37186479772553505,0,5.0244441921860883]
[null,18.589005508411518,291.5890055084115,22.174523453153508,4268479249.7573161,0.99999999976572451,0.55661972808261095,0.16321754054329859,0.37186479772553505,0.39968771002514303,0,5.0244441921860883]
[null,18.195339226401419,291.19533922640142,21.605340119299193,2415905783.3461242,0.99999999958607655,0.57962530482707053,0.15374992477723776,0.39968771002514303,0.42533125898158453,0,5.0244441921860883]
[null,17.535736268196075,290.53573626819605,20.648194232900575,927677058.51971233,0.99999999892203861,0.6204757160435036,0.13905091139187814,0.42533125898158453,0.45066418547140913,0,5.0244441921860883]
[null,17.331007855254995,290.331007855255,20.350229639937766,688640305.67371583,0.99999999854786314,0.63377106362449342,0.13476842173425091,0.45066418547140913,0.47375061767576088,0,5.0244441921860883]
[null,16.106243188353769,289.10624318835374,18.558876217635834,114819997.12170026,0.99999999129071571,0.7199267381118406,0.11166353507416348,0.47375061767576088,0.49976032548752503,0,5.0244441921860883]
[null,15.389801786008313,288.38980178600832,17.503948198919279,39982331.377045199,0.99999997498895288,0.77604586819701715,9.9956703190236459E-2,0.49976032548752503,0.52604154693588612,0,5.0244441921860883]
[null,14.881478521452543,287.88147852145255,16.752280506119437,18854845.718553711,0.99999994696323891,0.81868194664253069,9.2371847697284945E-2,0.52604154693588612,0.55186236580084624,0,5.0244441921860883]
[null,14.487192365551675,287.48719236555166,16.167411209409543,10505518.089418191,0.99999990481193823,0.85347082384420603,8.687053813898872E-2,0.55186236580084624,0.57695746288945537,0,5.0244441921860883]
[null,14.165037119107087,287.16503711910707,15.688345964344053,6506719.4623837406,0.99999984631274608,0.88306489021921619,8.2609411676090094E-2,0.57695746288945537,0.60122850779901671,0,5.0244441921860883]
[null,13.892658739267596,286.89265873926757,15.282462690089339,4335999.4275947921,0.99999976937271651,0.90893977442737428,7.9163188643722501E-2,0.60122850779901671,0.62464867572564198,0,5.0244441921860883]
[null,13.656713854551317,286.6567138545513,14.930247133540789,3048764.9542423808,0.99999967199843642,0.93200699902138218,7.628936651575359E-2,0.62464867572564198,0.647224742143377,0,5.0244441921860883]
[null,13.448595716761631,{"$f":"B1805+273","v":286.44859571676164},{"$f":"$C$5*$C$6*(C1805-$C$6)/C1805","v":14.619089373401742},{"$f":"EXP(D1805)","v":2233519.9980163961},{"$f":"E1805/(1+E1805)","v":0.99999955227642767},{"$f":"$C$7*EXP($C$8/C1805)","v":0.95287181885475114},{"$f":"$C$4*EXP(-$C$2/C1805)","v":7.3837463432405215E-2},{"$f":"IF(J1804<1,J1804,J1804-J1804*F1804)","v":0.647224742143377},{"$f":"G1805-(G1805-I1805)*EXP(-H1805)","v":0.66897989133783953},{"$f":"IF(J1805<1,0,J1805*F1805)","v":0},{"$f":"K1805+L1804","v":5.0244441921860883}]
[null,13.262427698650448,286.26242769865047,14.340365897977192,1690214.3243107719,0.99999940835940504,0.97195804080166315,7.1708125568896691E-2,0.66897989133783953,0.6899452116470608,0,5.0244441921860883]
[null,13.094018241187115,286.09401824118709,14.087917354134587,1313121.0652966718,0.99999923845617522,0.98957476179859172,6.9832562300473758E-2,0.6899452116470608,0.71015523953069182,0,5.0244441921860883]
[null,12.940272452205861,285.94027245220587,13.857190233600047,1042560.46773869,0.99999904082394087,1.005954817332366,6.8161316984477943E-2,0.71015523953069182,0.72964554066614407,0,5.0244441921860883]
[null,12.798840036477852,285.79884003647783,13.644722643623197,843000.34279691929,0.99999881376226918,1.0212782622957401,6.6657728808207972E-2,0.72964554066614407,0.74845137567027265,0,5.0244441921860883]
[null,12.667894072366369,285.66789407236638,13.447820817762636,692331.95114140492,0.99999855560825412,1.0356873999288387,6.5293924424212182E-2,0.74845137567027265,0.7666069682214891,0,5.0244441921860883]
[null,13.355116405131442,286.35511640513147,14.479181104933691,1941907.1301494208,0.99999948504258029,0.96240503993710391,7.2760830997524756E-2,0.7666069682214891,0.78034745262786576,0,5.0244441921860883]
[null,14.834710190531393,287.83471019053138,16.682989877297551,17592616.893309683,0.99999994315797647,0.82272825577962339,9.1702320225347064E-2,0.78034745262786576,0.78406099823558195,0,5.0244441921860883]
[null,16.166926414381276,289.16692641438129,18.64798942852272,125521727.43490471,0.99999999203325185,0.71537630691996235,0.11271312480136078,0.78406099823558195,0.7767396854149865,0,5.0244441921860883]
[null,17.287067373704044,290.28706737370402,20.286223266173199,645943932.49264538,0.99999999845187804,0.63666402917762022,0.13386584120378653,0.7767396854149865,0.75918924314823411,0,5.0244441921860883]
[null,18.140734581391293,291.14073458139131,21.526268302797664,2232233080.5825257,0.99999999955201813,0.58289562036202658,0.15247885849353524,0.75918924314823411,0.7342572781325587,0,5.0244441921860883]
[null,18.686470572464408,291.68647057246443,22.315206272480083,4913273574.9881773,0.9999999997964697,0.55107569127747735,0.16564611834368426,0.7342572781325587,0.70629388374894098,0,5.0244441921860883]
[null,18.89777224298108,291.89777224298109,22.619880266139948,6663297147.1960096,0.99999999984992416,0.53925763720096132,0.1710302284535227,0.70629388374894098,0.68003513379299119,0,5.0244441921860883]
[null,18.764377945865618,291.76437794586559,22.427591578097772,5497677559.4983044,0.99999999981810506,0.54668650718379808,0.16761214038120914,0.68003513379299119,0.65945701068108598,0,5.0244441921860883]
[null,18.292765837185421,291.29276583718541,21.746347873881628,2781755037.4187341,0.99999999964051467,0.57383886063506484,0.15604295333303078,0.65945701068108598,0.64708710944550596,0,5.0244441921860883]
[null,17.505839271201999,290.50583927120198,20.604707912286333,888200365.46245062,0.99999999887412794,0.62239857677578103,0.13841752538460278,0.64708710944550596,0.64389574779686909,0,5.0244441921860883]
[null,17.287067373704041,290.28706737370402,20.286223266173199,645943932.49264538,0.99999999845187804,0.63666402917762022,0.13386584120378653,0.64389574779686909,0.64298966701505611,0,5.0244441921860883]
[null,15.836913219962929,288.83691321996292,18.162913737734069,77277526.296400338,0.99999998705962734,0.74049857003532915,0.10711676819929179,0.64298966701505611,0.65289454728773433,0,5.0244441921860883]
[null,14.988627419759355,287.98862741975938,16.910944421908823,22096823.473110337,0.99999995474462855,0.80949137555746387,9.3923423239734474E-2,0.65289454728773433,0.66693306592642132,0,5.0244441921860883]
[null,14.386759066221817,287.38675906622183,16.018175761148278,9049099.076369388,0.99999988949177354,0.86258184035778995,8.5520084384517206E-2,0.66693306592642132,0.68296947549640419,0,5.0244441921860883]
[null,13.919913702214945,286.91991370221496,15.323111233696599,4515882.7184961494,0.99999977855940003,0.90631464634108372,7.9501742876248158E-2,0.68296947549640419,0.70003831519723592,0,5.0244441921860883]
[null,13.538473266018244,286.53847326601823,14.753520891327476,2554892.9725444703,0.99999960859432491,0.94380075001911745,7.4886955456753418E-2,0.70003831519723592,0.71762617254481964,0,5.0244441921860883]
[null,13.215969972456652,286.21596997245666,14.270754675868917,1576558.2021463171,0.99999936570729564,0.97678419369562552,7.118597639286868E-2,0.71762617254481964,0.73543326270410214,0,5.0244441921860883]
[null,12.936604912480705,285.93660491248073,13.851683307297259,1036834.9435659448,0.99999903552726332,1.0063490668155675,6.8121920754559695E-2,0.73543326270410214,0.75327399635140468,0,5.0244441921860883]
[null,12.69018746581467,285.69018746581469,13.481355866693651,715943.02352472418,0.99999860324275758,1.033219043346346,6.5524211423118095E-2,0.75327399635140468,0.77102912725364814,0,5.0244441921860883]
[null,12.469759548473833,285.46975954847386,13.149544938913944,513777.17507354479,0.99999805363472305,1.0579031970119284,6.3280934182041323E-2,0.77102912725364814,0.78862032283318306,0,5.0244441921860883]
[null,12.270358242353826,285.27035824235384,12.848943702371033,380386.72150155751,0.99999737110336773,1.0807743375190813,6.1315033047007889E-2,0.78862032283318306,0.80599562891930088,0,5.0244441921860883]
[null,12.088319112277134,285.08831911227713,12.574149097807956,288990.50093228335,0.99999653969062485,1.1021143298967846,5.957138606659506E-2,0.80599562891930088,0.82312068464475141,0,5.0244441921860883]
[null,11.920859345773147,284.92085934577312,12.321052484916033,224370.16402848792,0.99999554309929117,1.1221418748405645,5.8009318526626948E-2,0.82312068464475141,0.83997317383860115,0,5.0244441921860883]
[null,11.765815818715538,284.76581581871551,12.086456237590685,177452.14352306808,0.99999436470957825,1.1410303495679697,5.6598034076516389E-2,0.83997317383860115,0.85653919406420598,0,5.0244441921860883]
[null,14.809266190000393,287.80926619000041,16.645283311502464,16941610.466031641,0.99999994097373779,0.82493857207711696,9.1340018054697797E-2,0.85653919406420598,0.85378069111811183,0,5.0244441921860883]
[null,15.769348240428608,288.7693482404286,18.063465433370656,69962184.553014815,0.99999998570656434,0.74575701555226215,0.10600421033688508,0.85378069111811183,0.84291576286002567,0,5.0244441921860883]
[null,16.633458881447545,289.63345888144755,19.331844455682841,248721525.1477741,0.99999999597943923,0.68140020140713609,0.12110298948166663,0.84291576286002567,0.82449373596924125,0,5.0244441921860883]
[null,17.359487777057879,290.35948777705789,20.391704876329815,717802397.20623279,0.99999999860685895,0.63190348493326565,0.13535652806057635,0.82449373596924125,0.80011266971297457,0,5.0244441921860883]
[null,17.912053670175069,290.91205367017506,21.19479790827835,1602447377.1986301,0.99999999937595452,0.59680684647143045,0.14726387956541784,0.80011266971297457,0.77227323114657642,0,5.0244441921860883]
[null,18.264228602368359,291.26422860236835,21.705055052264143,2669227795.2461176,0.99999999962535979,0.57552736032530893,0.15536794264081791,0.77227323114657642,0.74396152468977506,0,5.0244441921860883]
[null,18.39885018259519,291.3988501825952,21.899778935048637,3243046280.4601855,0.99999999969164799,0.56760821483308599,0.15857687365363057,0.74396152468977506,0.71810060986038993,0,5.0244441921860883]
[null,18.309357954697511,291.30935795469753,21.770352624608091,2849338287.9661231,0.99999999964904129,0.5728595631961666,0.15643670435045234,0.71810060986038993,0.69706762144382428,0,5.0244441921860883]
[null,18.0001131053188,291.0001131053188,21.322500744292267,1820725243.8492665,0.99999999945076834,0.59140849672145945,0.14925154965229792,0.69706762144382428,0.68241823894083142,0,5.0244441921860883]
[null,17.486185932052017,290.48618593205202,20.576116505875991,863165070.42773318,0.99999999884147306,0.6236660659256712,0.1380026593180167,0.68241823894083142,0.67484487087550105,0,5.0244441921860883]
[null,17.359487777057879,290.35948777705789,20.391704876329815,717802397.20623279,0.99999999860685895,0.63190348493326565,0.13535652806057635,0.67484487087550105,0.66940868306141488,0,5.0244441921860883]
[null,16.419408697351603,289.41940869735163,19.018358027336436,181789144.61501649,0.99999999449912147,0.69677013330615445,0.11718214637111755,0.66940868306141488,0.67243422540599296,0,5.0244441921860883]
[null,15.869497688010975,288.86949768801099,18.21085790445089,81072786.220048517,0.99999998766540499,0.73797672883865528,0.10765729802863551,0.67243422540599296,0.67912380346039902,0,5.0244441921860883]
[null,15.479329617645325,288.47932961764531,17.636060418206149,45629291.157261841,0.99999997808425345,0.76878499194887273,0.10135276030237825,0.67912380346039902,0.68776586727884848,0,5.0244441921860883]
[null,15.176691750472019,288.176691750472,17.189140987496533,29184286.461053509,0.99999996573498662,0.79362524554104974,9.6707083722751816E-2,0.68776586727884848,0.6975237854340699,0,5.0244441921860883]
[null,14.929418608304699,287.92941860830467,16.823283812447915,20242275.307584316,0.99999995059844138,0.81455626711729434,9.3062995403105267E-2,0.6975237854340699,0.70792374805412139,0,5.0244441921860883]
[null,14.72035214552108,287.72035214552108,16.513465368247164,14849330.94882975,0.99999993265690312,0.83271236088642531,9.0084661964630761E-2,0.70792374805412139,0.71867381118861207,0,5.0244441921860883]
[null,14.539250537939049,287.53925053793904,16.24472425825661,11349954.104834687,0.99999991189392468,0.84878866893936145,8.7578519806824545E-2,0.71867381118861207,0.72958434105423198,0,5.0244441921860883]
[null,14.379507598964071,287.3795075989641,16.007396652236,8952081.6718148943,0.99999988829415043,0.86324367276962533,8.542335949750951E-2,0.72958434105423198,0.74052789855158319,0,5.0244441921860883]
[null,14.236612670765741,287.23661267076574,15.794876194573389,7238149.9111546632,0.99999986184316791,0.87639653319808863,8.3538519774292372E-2,0.74052789855158319,0.75141700150465129,0,5.0244441921860883]
[null,14.107348484702532,287.10734848470253,15.602445817087258,5971124.4462404065,0.99999983252738378,0.88847882147963186,8.1867760714247215E-2,0.75141700150465129,0.76219091100987957,0,5.0244441921860883]
[null,13.989339528598421,286.98933952859841,15.426619282608014,5008361.0439703064,0.99999980033392333,0.89966416440714314,8.0370394423909641E-2,0.76219091100987957,0.77280735276379087,0,5.0244441921860883]
[null,13.880781812319247,286.88078181231924,15.264746810697092,4259859.8161501223,0.99999976525054612,0.91008626339883814,7.9016087807137161E-2,0.77280735276379087,0.78323710992885731,0,5.0244441921860883]
[null,13.780273065814804,286.78027306581481,15.114767052942826,3666569.5410634591,0.99999972726557729,0.91985037844483275,7.7781657836116611E-2,0.78323710992885731,0.79346037161862648,0,5.0244441921860883]
[null,12.621930095660659,285.62193009566067,13.378662545684076,646069.61859697604,0.99999845218158634,1.0407964495810738,6.482156325600856E-2,0.79346037161862648,0.80898449832347552,0,5.0244441921860883]
[null,14.544990177189373,287.54499017718939,16.253246643770201,11447096.142263908,0.99999991264160792,0.84827411917759787,8.7656914387961596E-2,0.80898449832347552,0.81228187523509865,0,5.0244441921860883]
[null,16.275144858375029,289.27514485837503,18.806815234317238,147128253.0833714,0.99999999320320898,0.7073373030146326,0.11460832190682525,0.81228187523509865,0.80091798800574643,0,5.0244441921860883]
[null,17.727791601203869,290.72779160120388,20.927332760809115,1226380224.811702,0.99999999918459215,0.6082735456504792,0.14318619966365984,0.80091798800574643,0.77521781205157092,0,5.0244441921860883]
[null,18.831897680904433,291.83189768090443,22.52494365562621,6059806195.8064489,0.99999999983497823,0.54291270980791817,0.1693340285198229,0.77521781205157092,0.73903091693807998,0,5.0244441921860883]
[null,19.533473603014251,292.53347360301427,23.533838422192066,16619431536.22299,0.99999999993982946,0.50530480488657448,0.18825425593646763,0.73903091693807998,0.69892446359021665,0,5.0244441921860883]
[null,19.798213126440967,292.79821312644094,23.913288209224856,24288970836.634747,0.99999999995882904,0.49184445307355495,0.19590513443874386,0.69892446359021665,0.662082904275755,0,5.0244441921860883]
[null,19.613170798481413,292.61317079848141,23.648140235808111,18631885716.873108,0.9999999999463286,0.50121182143256937,0.19052694117012842,0.662082904275755,0.63417555025119021,0,5.0244441921860883]
[null,18.987394972300532,291.98739497230054,22.748973298500548,7581472648.2360048,0.99999999986809951,0.53432698533941347,0.17336398185915752,0.63417555025119021,0.61828280511756839,0,5.0244441921860883]
[null,17.95148535305664,290.95148535305663,21.251990863602369,1696767595.4807434,0.9999999994106441,0.59438307729383288,0.14815078282019828,0.61828280511756839,0.61499183852624251,0,5.0244441921860883]
[null,17.727791601203872,{"$f":"B1869+273","v":290.72779160120388},{"$f":"$C$5*$C$6*(C1869-$C$6)/C1869","v":20.927332760809115},{"$f":"EXP(D1869)","v":1226380224.811702},{"$f":"E1869/(1+E1869)","v":0.99999999918459215},{"$f":"$C$7*EXP($C$8/C1869)","v":0.6082735456504792},{"$f":"$C$4*EXP(-$C$2/C1869)","v":0.14318619966365984},{"$f":"IF(J1868<1,J1868,J1868-J1868*F1868)","v":0.61499183852624251},{"$f":"G1869-(G1869-I1869)*EXP(-H1869)","v":0.61409556917682429},{"$f":"IF(J1869<1,0,J1869*F1869)","v":0},{"$f":"K1869+L1868","v":5.0244441921860883}]
[null,15.846564430426554,288.84656443042655,18.177115472770989,78382831.296257079,0.99999998724210426,0.73975066833024872,0.10727659721874445,0.61409556917682429,0.62687756050458443,0,5.0244441921860883]
[null,14.746117080184067,287.74611708018409,16.55167109904183,15427637.457546484,0.99999993518126562,0.83045171963089093,9.0446724522047328E-2,0.62687756050458443,0.6444820428640391,0,5.0244441921860883]
[null,13.965337259649235,286.96533725964923,15.390839589383299,4832331.3454005998,0.99999979306059095,0.90195750354503956,8.0069058961815986E-2,0.6444820428640391,0.66429411035091224,0,5.0244441921860883]
[null,13.359717380510551,286.35971738051057,14.486069412934167,1955329.7611043879,0.9999994885775747,0.96193345239441308,7.2813469099091727E-2,0.66429411035091224,0.6851960577209707,0,5.0244441921860883]
[null,12.864889909406749,285.86488990940677,13.743972577724364,930960.91880435508,0.99999892584220706,1.014091388394571,6.7355926354805543E-2,0.6851960577209707,0.70661951022947656,0,5.0244441921860883]
[null,12.446519243813668,285.44651924381367,13.114531362215407,496099.28756433266,0.99999798427853182,1.0605420902035674,6.3048743736423524E-2,0.70661951022947656,0.72824499134264298,0,5.0244441921860883]
[null,12.084110088871917,285.08411008887191,12.567791274901667,287158.97892151738,0.99999651762058295,1.1026130209965892,5.9531636338592833E-2,0.72824499134264298,0.7498813201321457,0,5.0244441921860883]
[null,11.764442559164264,284.76444255916425,12.084377218221805,177083.60031661342,0.99999435298157935,1.1411991548992091,5.6585681844233279E-2,0.7498813201321457,0.77140947009524197,0,5.0244441921860883]
[null,11.478490209733231,284.47849020973325,11.651028021521661,114809.32887250654,0.9999912899822706,1.1769355353381854,5.4068957278141754E-2,0.77140947009524197,0.79275361415670775,0,5.0244441921860883]
[null,11.219814844777231,284.2198148447772,11.258264808007128,77517.950510113995,0.99998709992855395,1.2102908042326797,5.1884776856093967E-2,0.79275361415670775,0.81386502191957666,0,5.0244441921860883]
[null,10.98366273862943,283.98366273862945,10.899075305642738,54126.290373672775,0.99998152503121629,1.241621733718947,4.99646334669731E-2,0.81386502191957666,0.83471257221589124,0,5.0244441921860883]
[null,10.766423859613287,283.76642385961327,10.568125057897003,38875.715633738131,0.9999742776625109,1.2712068867760411,4.8258412060368953E-2,0.83471257221589124,0.85527690291405634,0,5.0244441921860883]
[null,10.56529207303635,283.56529207303635,10.261260909252124,28602.829035814673,0.99996503964561012,1.2992683707920329,4.6728469280312893E-2,0.85527690291405634,0.87554666881218024,0,5.0244441921860883]
[null,14.900690861992736,287.90069086199276,16.780738439947175,19399123.448527437,0.99999994845128182,0.81702588210521232,9.2648239329903029E-2,0.87554666881218024,0.87036840308594643,0,5.0244441921860883]
[null,15.947378968921129,288.94737896892116,18.325407130948189,90912415.224429309,0.99999998900040232,0.73198620983498675,0.10895981279034783,0.87036840308594643,0.85608271875545505,0,5.0244441921860883]
[null,16.888711081270792,289.8887110812708,19.705067954915194,361245360.68543553,0.99999999723179833,0.66354290612685674,0.12594240769427556,0.85608271875545505,0.83329863987971908,0,5.0244441921860883]
[null,17.67850299850663,290.67850299850664,20.855730528408873,1141638705.7844422,0.99999999912406612,0.61138046930435486,0.14211386743268975,0.83329863987971908,0.80389946840370829,0,5.0244441921860883]
[null,18.278005476012339,291.27800547601237,21.724990929635478,2722975163.6233072,0.99999999963275465,0.57471154540811575,0.15569346760503758,0.80389946840370829,0.77085549450940749,0,5.0244441921860883]
[null,18.657805363764499,291.65780536376451,22.27384015702237,4714176851.6766844,0.99999999978787391,0.55270009358073979,0.16492829717084051,0.77085549450940749,0.73768594807453181,0,5.0244441921860883]
[null,18.799268691935637,291.79926869193565,22.477903778403647,5781354174.3150625,0.99999999982703014,0.54473291983088834,0.16849982612262826,0.73768594807453181,0.70776499411288585,0,5.0244441921860883]
[null,18.695454901895165,291.69545490189518,22.328169682007708,4977380979.9660511,0.99999999979909115,0.5505676154668937,0.1658717131178539,0.70776499411288585,0.68373814600980187,0,5.0244441921860883]
[null,18.35145736805859,291.35145736805862,21.83124794700581,3028241566.7734513,0.99999999966977537,0.57038276934825316,0.15744003610376983,0.68373814600980187,0.6672254462181928,0,5.0244441921860883]
[null,17.784153503697869,290.78415350369789,21.009180724702791,1330979167.8081019,0.99999999924867344,0.60474137965300601,0.14442188892305408,0.6672254462181928,0.65882274619757297,0,5.0244441921860883]
[null,17.67850299850663,290.67850299850664,20.855730528408873,1141638705.7844422,0.99999999912406612,0.61138046930435486,0.14211386743268975,0.65882274619757297,0.65253771045678655,0,5.0244441921860883]
[null,16.655525180468548,289.65552518046854,19.364135230940413,256884013.31765112,0.99999999610719259,0.67983640500778886,0.12151423640024854,0.65253771045678655,0.65566126951467252,0,5.0244441921860883]
[null,16.057121517846717,289.05712151784672,18.486713728586484,106826195.28145285,0.99999999063900025,0.7236328076309072,0.11082075985870742,0.65566126951467252,0.6627915401262644,0,5.0244441921860883]
[null,15.632547362430463,288.63254736243044,17.861966843799678,57194416.83461801,0.99999998251577626,0.75652624693368042,0.10378528584928143,0.6627915401262644,0.67203201775336252,0,5.0244441921860883]
[null,15.303222062357433,288.30322206235741,17.376108328589105,35184222.955114782,0.99999997157817089,0.78313721539736558,9.8624102484967793E-2,0.67203201775336252,0.68246665810690277,0,5.0244441921860883]
[null,15.034143699808634,288.03414369980862,16.978308282964967,23636632.307319626,0.99999995769279038,0.80562060804195201,9.4590031178055381E-2,0.68246665810690277,0.69358181620080117,0,5.0244441921860883]
[null,14.806641185881668,287.80664118588169,16.64139282487729,16875827.404139586,0.99999994074364962,0.82516696568968317,9.130271801506773E-2,0.69358181620080117,0.70506375662363419,0,5.0244441921860883]
[null,14.609569544392381,287.6095695443924,16.349112546997279,12598805.262598556,0.99999992062740084,0.8425075391863075,8.8543602013391606E-2,0.70506375662363419,0.71671030258774593,0,5.0244441921860883]
[null,14.435740037186804,287.4357400371868,16.090970398750066,9732393.3351419065,0.99999989725036142,0.8581255472441639,8.6176170830423005E-2,0.71671030258774593,0.72838659277361362,0,5.0244441921860883]
[null,14.280244244319348,287.28024424431936,15.859789666592906,7723588.662090892,0.99999987052652406,0.87235792975817028,8.4109781705710568E-2,0.72838659277361362,0.74000071375131649,0,5.0244441921860883]
[null,14.139581189621094,287.13958118962108,15.650445558992475,6264726.9313924676,0.99999984037614864,0.88544951746760081,8.2281359744054622E-2,0.74000071375131649,0.75148930949055248,0,5.0244441921860883]
[null,14.01116588177055,287.01116588177052,15.459150187308124,5173966.6049387567,0.99999980672472721,0.89758412130787657,8.0645352853937993E-2,0.75148930949055248,0.76280861822429102,0,5.0244441921860883]
[null,13.893035249861196,286.89303524986121,15.283024277392636,4338435.1536928425,0.99999976950219749,0.90890345474719259,7.9167856165212408E-2,0.76280861822429102,0.77392865129927102,0,5.0244441921860883]
[null,13.783663367843586,286.78366336784359,15.119827795304179,3685172.1366297249,0.99999972864232889,0.91951920802921272,7.78229949132246E-2,0.77392865129927102,0.78482928352141945,0,5.0244441921860883]
[null,14.43788069345444,287.43788069345442,16.094151237750701,9763399.7985729873,0.99999989757667229,0.85793135061938885,8.6204953718001132E-2,0.78482928352141945,0.79086706204396073,0,5.0244441921860883]
[null,15.234517753824596,288.2345177538246,17.274607868956377,31788268.638794743,0.99999996854185491,0.78881362058774596,9.7578727425344958E-2,0.79086706204396073,0.79067615550257553,0,5.0244441921860883]
[null,15.950697714472639,288.95069771447265,18.330287031485486,91357142.999443322,0.99999998905394849,0.73173209104599835,0.10901564972095162,0.79067615550257553,0.78458819938536895,0,5.0244441921860883]
[null,16.551167509240063,289.55116750924009,19.211379763881258,220493718.27161372,0.9999999954647234,0.68726594328374102,0.119581026105194,0.78458819938536895,0.7736192133554568,0,5.0244441921860883]
[null,17.006369760701833,290.00636976070183,19.876884368779741,428964348.10121775,0.99999999766880399,0.65548021619913299,0.12823481866889799,0.7736192133554568,0.75940080669584753,0,5.0244441921860883]
[null,17.293897705239811,290.29389770523983,20.296174013774124,652403643.70527041,0.99999999846720655,0.63621340904672818,0.13400576298264386,0.75940080669584753,0.74395126222182106,0,5.0244441921860883]
[null,17.399598138061666,290.39959813806166,20.450103694584158,760969392.25053346,0.99999999868588674,0.62928318434762442,0.1361889590819472,0.74395126222182106,0.72935146070551893,0,5.0244441921860883]
[null,17.318268087071001,290.31826808707098,20.331674114353554,675980045.00864303,0.99999999852066634,0.63460838215202098,0.13450613796544089,0.72935146070551893,0.71742780867885247,0,5.0244441921860883]
[null,17.053910922685567,290.05391092268559,19.946268962656351,459784731.38202417,0.9999999978250691,0.65225209871284495,0.12917234771597907,0.71742780867885247,0.70952997839644338,0,5.0244441921860883]
[null,16.619539296916916,289.61953929691691,19.311472665038917,243705884.55932185,0.99999999589669331,0.68238862832855196,0.12084425596638496,0.70952997839644338,0.70644053184668343,0,5.0244441921860883]
[null,16.551167509240063,289.55116750924009,19.211379763881258,220493718.27161372,0.9999999954647234,0.68726594328374102,0.119581026105194,0.70644053184668343,0.7042794044488907,0,5.0244441921860883]
[null,15.773277207104687,288.77327720710468,18.069249719552719,70368038.506512642,0.99999998578900295,0.7454501444069026,0.10606860319839824,0.7042794044488907,0.70842270639695326,0,5.0244441921860883]
[null,15.318240550680843,288.31824055068085,17.39828948206971,35973369.338127017,0.99999997220165948,0.78190218507473619,9.8854037932097114E-2,0.70842270639695326,0.715338968077191,0,5.0244441921860883]
[null,14.995386904969312,287.99538690496934,16.920949771637904,22319019.641433515,0.99999995519516671,0.80891528836303639,9.4022134629735368E-2,0.715338968077191,0.72373626247997602,0,5.0244441921860883]
[null,14.744962161971516,287.7449621619715,16.549958666192559,15401241.27167584,0.99999993507017271,0.83055291315058755,9.0430465279143515E-2,0.72373626247997602,0.73297185929427966,0,5.0244441921860883]
[null,14.540350248545469,287.54035024854545,16.24635716732412,11368502.687761437,0.99999991203767646,0.84869005583101298,8.7593534960867803E-2,0.73297185929427966,0.74267677678231836,0,5.0244441921860883]
[null,14.36735334071944,287.36735334071943,15.989328457777102,8791786.2049990427,0.99999988625748359,0.86435419092442622,8.5261472293452406E-2,0.74267677678231836,0.75262121019922079,0,5.0244441921860883]
[null,14.217496602833938,287.21749660283393,15.766429789052477,7035151.5392033309,0.99999985785667123,0.87817221828499548,8.3289405398230945E-2,0.75262121019922079,0.76265464020737794,0,5.0244441921860883]
[null,14.085313592121622,287.08531359212162,15.569626074215755,5778334.637980626,0.9999998269397864,0.89055606661277276,8.1586160451131928E-2,0.76265464020737794,0.7726752953559457,0,5.0244441921860883]
[null,13.967071859836141,286.96707185983615,15.393425523179834,4844843.6053080978,0.99999979359503111,0.90179155944059097,8.0090799687911024E-2,0.7726752953559457,0.78261304734268888,0,5.0244441921860883]
[null,13.860109202201626,286.86010920220161,15.233907602452438,4130494.1324956734,0.99999975789827422,0.91208548374146015,7.8760671371736882E-2,0.78261304734268888,0.79241914724051654,0,5.0244441921860883]
[null,13.762459946410093,286.7624599464101,15.088175241130001,3570353.7594520776,0.99999971991578784,0.92159248355660728,7.7564811543194292E-2,0.79241914724051654,0.8020597346511964,0,5.0244441921860883]
[null,13.672631338861546,286.67263133886155,14.954026791333611,3122132.4108118089,0.99999967970619175,0.93043136367841217,7.648006392926826E-2,0.8020597346511964,0.81151156024706672,0,5.0244441921860883]
[null,13.589463038584066,286.58946303858409,14.829749752970768,2757264.8583153817,0.99999963732187924,0.93869545566159662,7.5488679769375941E-2,0.81151156024706672,0.82075907233384537,0,5.0244441921860883]
[null,15.590083922725931,288.59008392272591,17.799382171175207,53724633.096162573,0.99999998138656476,0.75990267603336792,0.10310559606670314,0.82075907233384537,0.81479707570615834,0,5.0244441921860883]
[null,17.101646068859534,290.10164606885951,20.015913788852643,492947772.79152614,0.9999999979713875,0.64902786124820278,0.13012028601744252,0.81479707570615834,0.79457154312820888,0,5.0244441921860883]
[null,18.460042236640284,{"$f":"B1933+273","v":291.46004223664028},{"$f":"$C$5*$C$6*(C1933-$C$6)/C1933","v":21.988230942736468},{"$f":"EXP(D1933)","v":3542969104.8442206},{"$f":"E1933/(1+E1933)","v":0.99999999971775089},{"$f":"$C$7*EXP($C$8/C1933)","v":0.56404707744914584},{"$f":"$C$4*EXP(-$C$2/C1933)","v":0.16005631773820053},{"$f":"IF(J1932<1,J1932,J1932-J1932*F1932)","v":0.79457154312820888},{"$f":"G1933-(G1933-I1933)*EXP(-H1933)","v":0.76047600633781032},{"$f":"IF(J1933<1,0,J1933*F1933)","v":0},{"$f":"K1933+L1932","v":5.0244441921860883}]
[null,19.598191890955611,292.5981918909556,23.626662220277421,18235976675.802814,0.99999999994516331,0.50197838055733857,0.19009780614923624,0.76047600633781032,0.71572444659715373,0,5.0244441921860883]
[null,20.459890744970405,293.45989074497038,24.858673393668546,62515064313.912964,0.99999999998400391,0.4598474178320458,0.21634689242462149,0.71572444659715373,0.66594506673170573,0,5.0244441921860883]
[null,21.002586249138208,294.00258624913823,25.630884142061362,135316747109.01253,0.99999999999260991,0.43526236142027658,0.23461707440194224,0.66594506673170573,0.6177032316582054,0,5.0244441921860883]
[null,21.199478927955326,294.19947892795534,25.910341815175375,178944549447.98901,0.99999999999441169,0.42669287588040461,0.24160253634560191,0.6177032316582054,0.57670634871546567,0,5.0244441921860883]
[null,21.040845795912762,294.04084579591279,25.68521674703171,142872255107.62759,0.99999999999300071,0.43358289729796839,0.23595919747651747,0.57670634871546567,0.54662364546775333,0,5.0244441921860883]
[null,20.534520499509526,293.53452049950954,24.965034684548705,69530732397.512115,0.99999999998561784,0.45638042200559764,0.21877626571915154,0.54662364546775333,0.52889098461282069,0,5.0244441921860883]
[null,19.705506474878135,292.70550647487812,23.780490341623942,21268444698.014797,0.99999999995298194,0.49651395587153369,0.19319278311806187,0.52889098461282069,0.52320308673505533,0,5.0244441921860883]
[null,19.598191890955611,292.5981918909556,23.626662220277421,18235976675.802814,0.99999999994516331,0.50197838055733857,0.19009780614923624,0.52320308673505533,0.51952862859014137,0,5.0244441921860883]
[null,18.123499737001804,291.12349973700179,21.501304735254969,2177198368.6913824,0.99999999954069407,0.58393191085107488,0.1520797598390235,0.51952862859014137,0.52861465841877819,0,5.0244441921860883]
[null,17.260860126831119,290.26086012683112,20.248038973092932,621743989.22682285,0.99999999839162101,0.63839617115146063,0.13333026993071426,0.52861465841877819,0.54231802595805256,0,5.0244441921860883]
[null,16.648807583048001,289.64880758304798,19.3543055384391,254371292.32772869,0.99999999606873879,0.68031206271632894,0.12138890035564533,0.54231802595805256,0.55809220051874131,0,5.0244441921860883]
[null,16.174062747380312,289.17406274738033,18.658466663216817,126843761.56984667,0.99999999211628554,0.71484319590429168,0.11283717372578295,0.55809220051874131,0.57481814300028256,0,5.0244441921860883]
[null,15.786167972877314,288.78616797287731,18.088226601177883,71716155.514911011,0.9999999860561406,0.74444425883323839,0.10628013582373555,0.57481814300028256,0.59192108248661013,0,5.0244441921860883]
[null,15.458207614033665,288.45820761403365,17.60489901308204,44229343.774864115,0.99999997739057622,0.77049147426631026,0.10102172419318629,0.59192108248661013,0.60907930502850482,0,5.0244441921860883]
[null,15.174115429094194,288.17411542909417,17.185332384209495,29073346.488982148,0.99999996560423599,0.79384034452741092,9.6668422982533281E-2,0.60907930502850482,0.62610374504911692,0,5.0244441921860883]
[null,14.923528362706627,287.92352836270663,16.814561136708591,20066476.33719549,0.9999999501656428,0.81506197986512174,9.2977810844201578E-2,0.62610374504911692,0.64288064395724542,0,5.0244441921860883]
[null,14.699370593426504,287.69937059342652,16.482347657645455,14394369.161830466,0.99999993052839486,0.83455814896607561,8.9790841364388418E-2,0.64288064395724542,0.6593414553713195,0,5.0244441921860883]
[null,14.496595225811475,287.49659522581146,16.181377732232619,10653273.057352735,0.99999990613214351,0.85262309003952363,8.6998009379385718E-2,0.6593414553713195,0.67544588984041021,0,5.0244441921860883]
[null,14.311475818923508,287.3114758189235,15.906242762914008,8090837.1469944865,0.99999987640341059,0.86947927129248892,8.4520982156204627E-2,0.67544588984041021,0.69117183485484202,0,5.0244441921860883]
[null,14.141182472433911,287.14118247243391,15.652829848655363,6279681.6761929188,0.99999984075628479,0.88529931250321958,8.2301958822751209E-2,0.69117183485484202,0.7065091063652702,0,5.0244441921860883]
[null,13.983515460079861,286.98351546007984,15.417938012271906,4965070.2890616441,0.99999979859302279,0.90022006373161223,8.0297176999468228E-2,0.7065091063652702,0.7214554451400077,0,5.0244441921860883]
[null,15.019326733074466,288.01932673307448,16.956381585547906,23123999.730915308,0.99999995675488806,0.80687849300308145,9.4372534925792256E-2,0.7214554451400077,0.72914832763110038,0,5.0244441921860883]
[null,15.607973457010292,288.6079734570103,17.825750877646112,55160125.034443289,0.9999999818709624,0.75847825706553218,0.1033914244193592,0.72914832763110038,0.73202929138988215,0,5.0244441921860883]
[null,16.136779979125119,289.13677997912509,18.603724116788577,120086649.19369768,0.99999999167267972,0.71763304158437713,0.11219053343175123,0.73202929138988215,0.7305014739523531,0,5.0244441921860883]
[null,16.579550451468847,289.57955045146883,19.252936719457182,229849825.13953468,0.99999999564933328,0.68523674297834813,0.12010388765140848,0.7305014739523531,0.72537878746234619,0,5.0244441921860883]
[null,16.914351052340617,289.91435105234063,19.742521767623824,375031945.24401474,0.99999999733356049,0.66177693018081352,0.12643860582413918,0.72537878746234619,0.71782468358025819,0,5.0244441921860883]
[null,17.124596536915977,290.12459653691599,20.049390002067689,509729118.33996665,0.99999999803817363,0.64748374200210601,0.13057840437599119,0.71782468358025819,0.70921408597945912,0,5.0244441921860883]
[null,17.199871831787537,290.19987183178756,20.159151549313115,568863773.36950064,0.99999999824210994,0.64244661865391273,0.13209182355646207,0.70921408597945912,0.70095231496114851,0,5.0244441921860883]
[null,17.13644797353221,290.1364479735322,20.066674775037544,518616255.23692149,0.99999999807179207,0.64668790557416322,0.13081557566288035,0.70095231496114851,0.6942983897276167,0,5.0244441921860883]
[null,16.93746683290572,289.93746683290573,19.776282668732573,387909517.75621527,0.99999999742207923,0.66018910594446278,0.1268875543849613,0.6942983897276167,0.69023367891100951,0,5.0244441921860883]
[null,16.612785473856409,289.61278547385643,19.301587507150249,241308681.29887936,0.99999999585593025,0.68286876672575814,0.12071890801256294,0.69023367891100951,0.68939616357241318,0,5.0244441921860883]
[null,16.579550451468847,289.57955045146883,19.252936719457182,229849825.13953468,0.99999999564933328,0.68523674297834813,0.12010388765140848,0.68939616357241318,0.6889254348786823,0,5.0244441921860883]
[null,16.005755933402881,289.0057559334029,18.411228567054209,99059235.450920731,0.99999998990503025,0.72752993835339075,0.10994598571155412,0.6889254348786823,0.6929448383254555,0,5.0244441921860883]
[null,15.67010765721492,288.67010765721494,17.917309678006042,60448944.732410342,0.99999998345711427,0.75355301432902955,0.10439005890699443,0.6929448383254555,0.69895269437932184,0,5.0244441921860883]
[null,15.431961415336911,288.4319614153369,17.566171496443264,42549195.108819172,0.99999997649779337,0.77261757727183511,0.10061181769977996,0.69895269437932184,0.70600360291406117,0,5.0244441921860883]
[null,15.247240839279122,288.24724083927913,17.293407997434823,32391545.243504621,0.99999996912774736,0.78775912910451373,9.7771514359760336E-2,0.70600360291406117,0.71361863280448057,0,5.0244441921860883]
[null,15.096313139148952,288.09631313914895,17.070284342359848,25913751.775879424,0.99999996141045222,0.80036547959306104,9.5507838764213746E-2,0.71361863280448057,0.72152029578259014,0,5.0244441921860883]
[null,14.968705586926681,287.96870558692666,16.881453511476955,21454683.22074816,0.99999995339013192,0.81119178868721586,9.3633072517058838E-2,0.72152029578259014,0.72953541796142551,0,5.0244441921860883]
[null,14.858166897270944,287.85816689727096,16.717745481190011,18214808.611723784,0.99999994509961831,0.82069616707131876,9.2037540832946504E-2,0.72953541796142551,0.73755109976546862,0,5.0244441921860883]
[null,14.760664862960994,287.76066486296099,16.573240368121521,15764014.988804381,0.99999993656438813,0.82917817285730178,9.065177134954587E-2,0.73755109976546862,0.74549189544059391,0,5.0244441921860883]
[null,14.673446321213154,287.67344632121313,16.443893136663256,13851348.30863424,0.99999992780486735,0.8368447826818104,8.9429068458240071E-2,0.74549189544059391,0.75330684933895731,0,5.0244441921860883]
[null,14.594547553070688,287.5945475530707,16.326816747645253,12321013.134666719,0.99999991883784978,0.84384518052536261,8.8336585491728375E-2,0.75330684933895731,0.76096162108010279,0,5.0244441921860883]
[null,14.522518621082984,287.52251862108301,16.219878273290924,11071427.774536639,0.99999990967742103,0.85029055865573711,8.7350369803503553E-2,0.76096162108010279,0.76843345288590847,0,5.0244441921860883]
[null,14.456258426765913,287.45625842676588,16.121457087438163,10033670.924430585,0.99999990033558928,0.85626608043334218,8.6452435671796959E-2,0.76843345288590847,0.77570782375818859,0,5.0244441921860883]
[null,14.394911068860713,287.39491106886072,16.030292841946718,9159414.743212672,0.99999989082273066,0.86183846285654353,8.5628946145893239E-2,0.77570782375818859,0.78277615435631898,0,5.0244441921860883]
[null,13.739906287797284,286.73990628779728,15.054501909542758,3452129.7229267787,0.99999971032383184,0.92380325425942833,7.7291085354320027E-2,0.78277615435631898,0.79326569647765366,0,5.0244441921860883]
[null,15.108263371952342,288.10826337195232,17.087959466450158,26375852.366462369,0.99999996208653474,0.79935953037563023,9.5685232166769191E-2,0.79326569647765366,0.79382175872134331,0,5.0244441921860883]
[null,16.337077341681397,289.33707734168138,18.897656422291881,161119425.66580066,0.99999999379342375,0.70278003203557193,0.11570658027414499,0.79382175872134331,0.78387422508079707,0,5.0244441921860883]
[null,17.365288208772956,290.36528820877294,20.400151032754188,723890743.90517998,0.99999999861857602,0.63152383993634587,0.13547660617394325,0.78387422508079707,0.76457136920147428,0,5.0244441921860883]
[null,18.141803989436031,291.14180398943603,21.527817174429089,2235693202.0260029,0.99999999955271146,0.58283138405126711,0.15250365516181577,0.76457136920147428,0.7388652943592473,0,5.0244441921860883]
[null,18.628039474207405,291.62803947420741,22.230877067436847,4515930382.7974424,0.99999999977856169,0.55439227660061396,0.16418605681915838,0.7388652943592473,0.71093315046869288,0,5.0244441921860883]
[null,18.799833533982486,291.79983353398251,22.478718177531672,5786064421.8638382,0.99999999982717092,0.54470135476918624,0.16851423361131831,0.71093315046869288,0.68515379677027322,0,5.0244441921860883]
[null,18.648649690886607,291.6486496908866,22.260626098841879,4652293211.9561329,0.99999999978505227,0.55322000366509827,0.16469965141683995,0.68515379677027322,0.66511943998589107,0,5.0244441921860883]
[null,18.182000297403228,291.18200029740325,21.586027039409597,2369694875.7824683,0.99999999957800478,0.58042237327170521,0.15343849567256998,0.66511943998589107,0.65307158022106804,0,5.0244441921860883]
[null,17.423073246221492,290.42307324622152,20.484274876058862,787421999.93652332,0.99999999873003298,0.62775499714524507,0.13667841559253877,0.65307158022106804,0.64983740403077583,0,5.0244441921860883]
[null,17.365288208772956,290.36528820877294,20.400151032754188,723890743.90517998,0.99999999861857602,0.63152383993634587,0.13547660617394325,0.64983740403077583,0.64751706799738573,0,5.0244441921860883]
[null,16.032575921308844,289.03257592130882,18.450645680077155,103041840.28577803,0.99999999029520448,0.7254923094132405,0.11040191351309264,0.64751706799738573,0.6556674956214551,0,5.0244441921860883]
[null,15.252989208892025,288.25298920889202,17.301901468805632,32667833.568245139,0.9999999693888495,0.78728319617858011,9.7858735985507234E-2,0.6556674956214551,0.66793710743479906,0,5.0244441921860883]
[null,14.699863633844734,287.69986363384476,16.48307893727528,14404899.320558717,0.99999993057917946,0.83451472524030534,8.9797735267134915E-2,0.66793710743479906,0.68224344956534066,0,5.0244441921860883]
[null,14.270826106108434,287.27082610610842,15.845779371086849,7616133.4002331058,0.99999986869979607,0.87322800498166964,8.3986156392578212E-2,0.68224344956534066,0.69762840438535756,0,5.0244441921860883]
[null,13.920276921427913,286.9202769214279,15.323652893242038,4518329.4520651801,0.99999977867931289,0.90627971660259288,7.9506264020489922E-2,0.69762840438535756,0.71357515791023207,0,5.0244441921860883]
[null,13.623891808873935,286.62389180887396,14.881204852724304,2902853.7206955687,0.99999965551152359,0.93526496168652784,7.5897579471531043E-2,0.71357515791023207,0.72977821373410645,0,5.0244441921860883]
[null,13.367151346380622,286.36715134638064,14.497198638870245,1977212.6115220468,0.99999949423775247,0.96117201123894735,7.2898595326950033E-2,0.72977821373410645,0.74604633137241694,0,5.0244441921860883]
[null,13.140690209011094,{"$f":"B1997+273","v":286.1406902090111},{"$f":"$C$5*$C$6*(C1997-$C$6)/C1997","v":14.157909165853198},{"$f":"EXP(D1997)","v":1408321.5537275511},{"$f":"E1997/(1+E1997)","v":0.99999928993539344},{"$f":"$C$7*EXP($C$8/C1997)","v":0.98465874718870272},{"$f":"$C$4*EXP(-$C$2/C1997)","v":7.0347594986789969E-2},{"$f":"IF(J1996<1,J1996,J1996-J1996*F1996)","v":0.74604633137241694},{"$f":"G1997-(G1997-I1997)*EXP(-H1997)","v":0.76225532508053984},{"$f":"IF(J1997<1,0,J1997*F1997)","v":0},{"$f":"K1997+L1996","v":5.0244441921860883}]
[null,12.938113818644322,285.9381138186443,13.853948994486426,1039186.7504381625,0.99999903770998111,1.0061868440149271,6.8138126590973305E-2,0.76225532508053984,0.77832274388003886,0,5.0244441921860883]
[null,12.754861182973169,285.75486118297317,13.578612312072581,789071.57520729012,0.99999873268944905,1.0260936758302526,6.6196680394193935E-2,0.77832274388003886,0.7941932739054397,0,5.0244441921860883]
[null,12.587564633963803,285.58756463396378,13.326941075501276,613503.3941172628,0.9999983700198245,1.0446338255668886,6.4470532848164744E-2,0.7941932739054397,0.80982984500596367,0,5.0244441921860883]
[null,12.43366672738609,285.43366672738608,13.095165459747385,486584.30760537862,0.9999979448619094,1.0620044802002448,6.2920686029066003E-2,0.80982984500596367,0.82520797172803517,0,5.0244441921860883]
[null,12.291179521409823,285.29117952140984,12.880351821788718,392523.55289841193,0.99999745238866555,1.0783617111542134,6.151754846256214E-2,0.82520797172803517,0.84031202400253158,0,5.0244441921860883]
[null,13.497338005376927,286.49733800537695,14.692004586458198,2402461.9606335983,0.99999958376049225,0.94794093446172467,7.440486590886429E-2,0.84031202400253158,0.8480294708144982,0,5.0244441921860883]
[null,15.01506544059737,288.01506544059737,16.950075149036373,22978628.563536208,0.9999999564813038,0.80724064252404937,9.4310072499575209E-2,0.8480294708144982,0.84435849879783809,0,5.0244441921860883]
[null,16.377539488641187,289.37753948864116,18.956984398511317,170967561.64872316,0.99999999415093721,0.6998195603910432,0.11642952282606543,0.84435849879783809,0.82847263254358772,0,5.0244441921860883]
[null,17.516855087822591,290.51685508782259,20.620731878403429,902547500.03444552,0.99999999889202507,0.62168934309390389,0.13865058091873966,0.82847263254358772,0.80170084585587076,0,5.0244441921860883]
[null,18.376229287924598,291.37622928792462,21.867071435371354,3138690260.5366411,0.99999999968139575,0.5689307273129528,0.1580332795651771,0.80170084585587076,0.76767482805228815,0,5.0244441921860883]
[null,18.912831285562078,291.91283128556211,22.641576927790304,6809448212.7034082,0.99999999985314525,0.5384257731897113,0.17142025438228267,0.76767482805228815,0.73156063949440842,0,5.0244441921860883]
[null,19.099917091150342,292.09991709115036,22.910938563222871,8914442606.7061882,0.99999999988782251,0.52820450783438677,0.17633709446420162,0.73156063949440842,0.69868513910211494,0,5.0244441921860883]
[null,18.928162436687924,291.9281624366879,22.663663336609265,6961517621.6369724,0.99999999985635313,0.53758028403393032,0.17181820008389348,0.69868513910211494,0.6732518795404332,0,5.0244441921860883]
[null,18.40612749286052,291.40612749286049,21.910300101675794,3277347036.3310204,0.99999999969487519,0.56718345022463601,0.1587521311456184,0.6732518795404332,0.65768186319069599,0,5.0244441921860883]
[null,17.559830234185618,290.5598302341856,20.6832333118702,960758189.91078699,0.99999999895915537,0.61893069462874017,0.13956336969458394,0.65768186319069599,0.65263405484563053,0,5.0244441921860883]
[null,17.516855087822591,290.51685508782259,20.620731878403429,902547500.03444552,0.99999999889202507,0.62168934309390389,0.13865058091873966,0.65263405484563053,0.64862770972782691,0,5.0244441921860883]
[null,16.039872994900421,289.03987299490041,18.461368862537544,104152722.19019857,0.99999999039871479,0.72493897313975486,0.11052627266313945,0.64862770972782691,0.65661270617780243,0,5.0244441921860883]
[null,15.175893856304299,288.1758938563043,17.187961459343651,29149883.067425344,0.99999996569454619,0.79369185567611922,9.6695108801341578E-2,0.65661270617780243,0.66924691384932911,0,5.0244441921860883]
[null,14.562890901978246,287.56289090197822,16.279823982408516,11755408.404620163,0.99999991493277984,0.84667148118919999,8.7901841392292748E-2,0.66924691384932911,0.68417705440589027,0,5.0244441921860883]
[null,14.087408870621063,287.08740887062106,15.572747091371188,5796397.0914673805,0.99999982747906813,0.89035832070500565,8.1612897703064721E-2,0.68417705440589027,0.7003357577199566,0,5.0244441921860883]
[null,13.698911763382126,286.69891176338211,14.993282210567413,3247130.4004578404,0.99999969203586903,0.92783613353709071,7.6795910422120445E-2,0.7003357577199566,0.71715285000138884,0,5.0244441921860883]
[null,13.37044213946659,286.3704421394666,14.502125027935101,1986977.1623503226,0.99999949672320565,0.96083514924677571,7.2936308506230785E-2,0.71715285000138884,0.73429345328613915,0,5.0244441921860883]
[null,13.085908809056075,286.08590880905609,14.075753681602473,1297245.4393602253,0.99999922913644645,0.99043160151107046,6.9743441641489407E-2,0.73429345328613915,0.75154869551897907,0,5.0244441921860883]
[null,12.834932624786004,285.83493262478601,13.698962906137162,889987.68642684957,0.99999887639021123,1.0173443344886732,6.7038393317665063E-2,0.75154869551897907,0.76878307166269366,0,5.0244441921860883]
[null,12.610426777698891,285.61042677769888,13.361350952521022,634981.37867337256,0.99999842515314818,1.0420792782282635,6.4703858259116634E-2,0.76878307166269366,0.78590644295385403,0,5.0244441921860883]
[null,12.407336535406538,285.40733653540656,13.055486231447791,467655.05045324046,0.99999786167633453,1.0650071051738066,6.2659117580250959E-2,0.78590644295385403,0.80285801309246296,0,5.0244441921860883]
[null,12.221929670459954,285.22192967045993,12.775873279302202,353582.91076817375,0.99999717181701553,1.0864081766216973,6.0846460549816558E-2,0.80285801309246296,0.8195966301777573,0,5.0244441921860883]
[null,12.051371888190229,285.0513718881902,12.518333089256524,273302.10915726022,0.99999634105882262,1.1065001056309232,5.9223323273282093E-2,0.8195966301777573,0.83609465180109455,0,5.0244441921860883]
[null,11.893460046544417,284.89346004654442,12.279613200165912,215262.43704708453,0.99999535452925159,1.125455464709942,5.7757493662382441E-2,0.83609465180109455,0.85233392314386658,0,5.0244441921860883]
[null,12.610822021771527,285.61082202177153,13.36194578704805,635359.19988083676,0.9999984260896414,1.04203517340944,6.4707899110443903E-2,0.85233392314386658,0.86422037174691657,0,5.0244441921860883]
[null,13.856121843126694,286.85612184312669,15.227958785772778,4105995.5212259362,0.99999975645376349,0.91247163401879994,7.8711497166664382E-2,0.86422037174691657,0.86787267620490938,0,5.0244441921860883]
[null,14.973652428908879,287.97365242890891,16.888776856740634,21612380.002696354,0.99999995373022532,0.81076919966359717,9.3705090128444885E-2,0.86787267620490938,0.86276484179045887,0,5.0244441921860883]
[null,15.907553363442375,288.90755336344239,18.266838610615086,85740736.63674365,0.9999999883369326,0.73504303572967367,0.1082918857395013,0.86276484179045887,0.84965619468627174,0,5.0244441921860883]
[null,16.611143065867843,289.61114306586785,19.299183545301073,240729281.14212912,0.99999999584595611,0.68298558217087291,0.12068844442618229,0.84965619468627174,0.83070742131931874,0,5.0244441921860883]
[null,17.049252196086076,290.04925219608606,19.93947072614926,456669606.71025306,0.99999999781023308,0.65256768280354505,0.1290801874302322,0.83070742131931874,0.80913531992814902,0,5.0244441921860883]
[null,17.199981614658149,290.19998161465816,20.159311585983222,568954819.71871781,0.99999999824239116,0.6424393030129103,0.13209404293843621,0.80913531992814902,0.7885081189655706,0,5.0244441921860883]
[null,17.055797024014836,290.05579702401485,19.949021189755118,461051906.35610646,0.99999999783104687,0.65212437970616566,0.12920967698871477,0.7885081189655706,0.77197700286701487,0,5.0244441921860883]
[null,16.623905574698444,289.62390557469843,19.317863073506995,245268251.4722026,0.99999999592283151,0.68207841534549296,0.12092535828832943,0.77197700286701487,0.76173756248218583,0,5.0244441921860883]
[null,15.925895611755221,288.92589561175521,18.293815180320102,88085208.319221124,0.99999998864735629,0.73363348389463456,0.10859902175687894,0.76173756248218583,0.75884537341245961,0,5.0244441921860883]
[null,15.907553363442375,288.90755336344239,18.266838610615086,85740736.63674365,0.9999999883369326,0.73504303572967367,0.1082918857395013,0.75884537341245961,0.75640243547913721,0,5.0244441921860883]
[null,14.696650640461101,287.69665064046109,16.47831336686971,14336415.07152682,0.99999993024756018,0.83479774765542369,8.9752818902467765E-2,0.75640243547913721,0.76313211487782773,0,5.0244441921860883]
[null,13.988317955495919,286.98831795549592,15.425096566342711,5000740.5345554128,0.99999980002965694,0.8997616456909564,8.0357547080391334E-2,0.76313211487782773,0.77368177994609422,0,5.0244441921860883]
[null,13.485747917479829,286.48574791747984,14.674668836363971,2361172.4072141494,0.99999957648176241,0.94911094587711131,7.426957089606831E-2,0.77368177994609422,0.78623875672313226,0,5.0244441921860883]
[null,13.09592431077655,286.09592431077652,14.090776246630741,1316880.5086183629,0.99999924063023626,0.98937348182462959,6.9853525325043228E-2,0.78623875672313226,0.79994417496753822,0,5.0244441921860883]
[null,12.777415232514645,285.77741523251467,13.612518777543675,816284.95091700344,0.99999877493910205,1.0236211316757664,6.6432741755255695E-2,0.79994417496753822,0.81432082145417772,0,5.0244441921860883]
[null,12.508119643947943,285.50811964394796,13.207325349976852,544337.83318814042,0.9999981629089475,1.0535627704793236,6.3665972886865235E-2,0.81432082145417772,0.82907765460303251,0,5.0244441921860883]
[null,12.274845194498557,285.27484519449854,12.855712489130738,382970.21178919094,0.99999738883767442,1.0802539347711735,6.1358620860470316E-2,0.82907765460303251,0.84402618449987976,0,5.0244441921860883]
[null,12.069082547549463,285.06908254754944,12.545090309740626,280713.62758334522,0.99999643766337154,1.1043954676451175,5.9389923993922872E-2,0.84402618449987976,0.85903927086619314,0,5.0244441921860883]
[null,11.885021587795276,284.88502158779528,12.266849089620868,212532.26468246683,0.99999529485418914,1.1264780850022766,5.7680147120320907E-2,0.85903927086619314,0.87402872835865431,0,5.0244441921860883]
[null,11.71851819646696,284.71851819646696,12.01483938011239,165187.98049244029,0.99999394632743044,1.1468596679004215,5.6174080885916612E-2,0.87402872835865431,0.88893224122523495,0,5.0244441921860883]
[null,11.566512509533373,284.56651250953337,11.784515031834053,131204.83826526901,0.99999237838793442,1.165809789625663,5.4832031335687384E-2,0.88893224122523495,0.90370528061582944,0,5.0244441921860883]
[null,11.426680832517272,284.42668083251726,11.572419772074168,106129.9719093349,0.99999057767980437,1.1835369077778901,5.3624573452174869E-2,0.90370528061582944,0.91831588746630877,0,5.0244441921860883]
[null,11.297216920966671,284.29721692096666,11.375864225471814,87191.682874785969,0.99998853114771757,1.2002057679974392,5.2529334582893009E-2,0.91831588746630877,0.93274118287069596,0,5.0244441921860883]
[null,11.134678347404162,284.13467834740413,11.128840245622209,68107.338407664021,0.99998531750996456,1.2214879156045895,5.1184544126182729E-2,0.93274118287069596,0.94714868666673424,0,5.0244441921860883]
[null,12.212477303217479,285.2124773032175,12.761608381236604,348574.89095647872,0.99999713118426736,1.0875114431074731,6.0755403873637016E-2,0.94714868666673424,0.95542259537945129,0,5.0244441921860883]
[null,13.179368737790563,286.17936873779058,14.215896283971219,1492400.2442194587,0.99999932993891294,0.98060440939354954,7.0777167392526263E-2,0.95542259537945129,0.95714328194299891,0,5.0244441921860883]
[null,13.986884116706827,286.98688411670685,15.422959324944305,4990064.157923297,0.99999979960181518,0.89989848547525531,8.0339518377143704E-2,0.95714328194299891,0.95272415450975911,0,5.0244441921860883]
[null,14.594544141530653,287.59454414153066,16.326811683936693,12320950.744805003,0.99999991883743877,0.84384548456475728,8.8336538530206718E-2,0.95272415450975911,0.9435187612669792,0,5.0244441921860883]
[null,14.971887904476917,287.97188790447694,16.886164669230492,21555998.085718814,0.99999995360920202,0.81091990903402222,9.3679395582640157E-2,0.9435187612669792,0.93166106245707914,0,5.0244441921860883]
[null,15.099999839115638,288.09999983911564,17.075737353152626,26055445.722194441,0.9999999616203088,0.80005499592600304,9.5562531879301554E-2,0.93166106245707914,0.9196666865234534,0,5.0244441921860883]
[null,14.972457923810071,287.97245792381005,16.887008524680638,21574195.9092732,0.99999995364833261,0.81087121998542211,9.3687695319845041E-2,0.9196666865234534,0.90993679159595198,0,5.0244441921860883]
[null,14.595655606149576,287.59565560614959,16.328461411379841,12341293.730951851,0.99999991897122453,0.84374643605533528,8.8351839647714592E-2,0.90993679159595198,0.90433965122946691,0,5.0244441921860883]
[null,13.988481310882527,286.98848131088255,15.425340058117792,5001958.3219994847,0.99999980007834222,0.89974605711964817,8.0359601312352522E-2,0.90433965122946691,0.90398495434397708,0,5.0244441921860883]
[null,13.986884116706829,{"$f":"B2061+273","v":286.98688411670685},{"$f":"$C$5*$C$6*(C2061-$C$6)/C2061","v":15.422959324944305},{"$f":"EXP(D2061)","v":4990064.157923297},{"$f":"E2061/(1+E2061)","v":0.99999979960181518},{"$f":"$C$7*EXP($C$8/C2061)","v":0.89989848547525531},{"$f":"$C$4*EXP(-$C$2/C2061)","v":8.0339518377143704E-2},{"$f":"IF(J2060<1,J2060,J2060-J2060*F2060)","v":0.90398495434397708},{"$f":"G2061-(G2061-I2061)*EXP(-H2061)","v":0.90366949114387596},{"$f":"IF(J2061<1,0,J2061*F2061)","v":0},{"$f":"K2061+L2060","v":5.0244441921860883}]
[null,12.939667388612298,285.93966738861229,13.856281721305379,1041613.7188674295,0.99999903995212247,1.0060198485109471,6.815481597148268E-2,0.90366949114387596,0.9104127578168304,0,5.0244441921860883]
[null,12.327084872549094,285.32708487254911,12.93450293077602,414365.1756389892,0.99999758667560534,1.0742147143008234,6.1868279689119822E-2,0.9104127578168304,0.92023977828787284,0,5.0244441921860883]
[null,11.892450660517767,284.89245066051774,12.278086430972699,214934.03175308148,0.99999534743130591,1.1255777357472354,5.7748236457298527E-2,0.92023977828787284,0.9317617933376201,0,5.0244441921860883]
[null,11.555322174308118,284.55532217430812,11.767549318941146,128997.63101380905,0.99999224797974873,1.1672179764492079,5.4734453160091942E-2,0.9317617933376201,0.94430300963401081,0,5.0244441921860883]
[null,11.279868144454564,284.27986814445455,11.349511249888332,84923.934780477663,0.99998822489528449,1.2024584034397801,5.2384202349216549E-2,0.94430300963401081,0.95747817603090979,0,5.0244441921860883]
[null,11.046975080629588,284.04697508062958,10.995432550719727,59601.293194940234,0.99998322212206281,1.2331380585182072,5.047265088261229E-2,0.95747817603090979,0.97104617438236973,0,5.0244441921860883]
[null,10.845233932423238,283.84523393242324,10.688245974115096,43837.547329912879,0.99997718902516375,1.2603881008427904,4.8870855465093913E-2,0.97104617438236973,0.98484659605476677,0,5.0244441921860883]
[null,10.66728562839136,283.66728562839137,10.4169255328726,33420.525724904866,0.99997007916370328,1.2849569034485167,4.7498411335958453E-2,0.98484659605476677,0.99876811656531128,0,5.0244441921860883]
[null,10.508105446213587,283.50810544621356,10.173932520278758,26210.949447222087,0.99996184946098676,1.3073668340430353,4.630200700578746E-2,0.99876811656531128,1.0127311048658934,1.0126924686283671,6.0371366608144559]
[null,10.364109455970713,283.36410945597072,9.9538834198213291,21033.746851893022,0.99995245961327506,1.3279978088420437,4.524459200898974E-2,3.8636237526201711E-5,5.8782661706289208E-2,0,6.0371366608144559]
[null,10.232651416360033,283.23265141636006,9.7527989584438881,17202.310040159002,0.99994187165157955,1.3471352913449073,4.4299439277911364E-2,5.8782661706289208E-2,0.11461026545718922,0,6.0371366608144559]
[null,10.111721742564068,283.11172174256404,9.5676542801977043,14294.845263770747,0.99993004960661303,1.364999530970322,4.3446676124479236E-2,0.11461026545718922,0.16777230378861185,0,6.0371366608144559]
[null,9.9997583525350571,282.99975835253508,9.3960960154994027,12041.27987952679,0.99991695924608925,1.3817642341944365,4.2671150887069936E-2,0.16777230378861185,0.21848505617607605,0,6.0371366608144559]
[null,11.536231130087364,284.53623113008734,11.738602228577589,125317.05294830858,0.99999202030372736,1.1696245687475224,5.4568364909780218E-2,0.21848505617607605,0.26899648766932371,0,6.0371366608144559]
[null,12.61534702339616,285.61534702339617,13.368755707852086,639700.71161154041,0.99999843677141731,1.0415303755216863,6.4754178495897818E-2,0.26899648766932371,0.31743602877343069,0,6.0371366608144559]
[null,13.583103470165023,286.58310347016504,14.820243784607172,2731178.5699550402,0.9999996338578353,0.9393305909859645,7.5413379858157048E-2,0.31743602877343069,0.36261041549707984,0,6.0371366608144559]
[null,14.390853995977313,287.3908539959773,16.024262522570044,9104346.7526706047,0.99999989016236779,0.86220834014646797,8.5574751496905646E-2,0.36261041549707984,0.40358517920793413,0,6.0371366608144559]
[null,14.997995187215734,287.99799518721574,16.92481040989686,22405351.84403744,0.99999995536780839,0.80869311048790504,9.4060250882382082E-2,0.40358517920793413,0.43995256140949102,0,6.0371366608144559]
[null,15.374007713809707,288.3740077138097,17.480633080368495,39060921.707963884,0.99999997439896626,0.77733436578944692,9.9712331384775046E-2,0.43995256140949102,0.47197085415714024,0,6.0371366608144559]
[null,15.499990452634332,288.49999045263434,17.666537044285707,47041325.734350473,0.99999997874209612,0.76711966587346581,0.10167757106246818,0.47197085415714024,0.50050561652617342,0,6.0371366608144559]
[null,15.369610595366163,288.36961059536617,17.474141624919401,38808180.690942556,0.99999997423223774,0.77769349320110337,9.9644399144845131E-2,0.50050561652617342,0.52679432646290658,0,6.0371366608144559]
[null,14.989421981467819,287.98942198146784,16.912120551774869,22122827.49619833,0.99999995479782344,0.80942363517625482,9.3935021396333196E-2,0.52679432646290658,0.5521343295938087,0,6.0371366608144559]
[null,14.390853995977313,287.3908539959773,16.024262522570044,9104346.7526706047,0.99999989016236779,0.86220834014646797,8.5574751496905646E-2,0.5521343295938087,0.57756519847539689,0,6.0371366608144559]
[null,13.343146186347257,286.34314618634727,14.461258964774711,1907414.0168622429,0.99999947573024683,0.96363310960218329,7.2624054345902231E-2,0.57756519847539689,0.60460911082851643,0,6.0371366608144559]
[null,12.730276406000973,285.730276406001,13.541646869937297,760435.72469038237,0.99999868496619437,1.0287960936310352,6.5940277671338365E-2,0.60460911082851643,0.63167785068083426,0,6.0371366608144559]
[null,12.2954383767172,285.29543837671719,12.886775580710083,395053.14562153688,0.99999746870141448,1.077868931523029,6.1559050333132553E-2,0.63167785068083426,0.65831660972627193,0,6.0371366608144559]
[null,11.958151797564385,284.95815179756437,12.377441580215484,237385.71347420936,0.99999578746432194,1.1176485250163064,5.835375728819444E-2,0.65831660972627193,0.68435329575750536,0,6.0371366608144559]
[null,11.682568596370917,284.68256859637091,11.960389491704884,156434.0026489367,0.999993607568747,1.151311585804641,5.5853878028605745E-2,0.68435329575750536,0.70971972617765844,0,6.0371366608144559]
[null,11.449566319734183,284.44956631973417,11.607146516774733,109880.26113733,0.99999089926717577,1.180616067987617,5.3820436637158603E-2,0.70971972617765844,0.73439363691566317,0,6.0371366608144559]
[null,11.247730567087144,284.24773056708716,11.300685430010491,80877.054106099706,0.99998763570648364,1.2066431824587933,5.2116365570822422E-2,0.73439363691566317,0.75837522251340839,0,6.0371366608144559]
[null,11.069698816024633,284.06969881602464,11.030006115827829,61697.95812993648,0.99998379227088574,1.2301082157708516,5.0656187056136982E-2,0.75837522251340839,0.78167626388332234,0,6.0371366608144559]
[null,10.910443987934327,283.91044398793434,10.787587566108206,48416.0943880583,0.99997934613770945,1.251510416377706,4.9383221968141267E-2,0.78167626388332234,0.80431461038315866,0,6.0371366608144559]
[null,10.766380472249869,283.76638047224986,10.568058909270279,38873.144143587262,0.99997427596100108,1.271212870015652,4.8258076921101636E-2,0.80431461038315866,0.82631119730344693,0,6.0371366608144559]
[null,10.634860786740861,283.63486078674089,10.367450222892435,31807.272032506931,0.99996856163708048,1.2894883832664661,4.7252333132993922E-2,0.82631119730344693,0.8476883621375968,0,6.0371366608144559]
[null,10.513874404215645,283.51387440421564,10.182743761712164,26442.920928549778,0.99996218412531557,1.3065474325810069,4.6344858973728392E-2,0.8476883621375968,0.86846886695311554,0,6.0371366608144559]
[null,10.401858510104127,283.40185851010415,10.011591690309965,22283.275317591462,0.99995512530761055,1.3225560112527897,4.5519542163214632E-2,0.86846886695311554,0.88867532264861293,0,6.0371366608144559]
[null,10.297574207588045,283.29757420758807,9.8521312673078114,18998.803211719191,0.99994736787592708,1.3376474769038695,4.4763835010038722E-2,0.88867532264861293,0.90832985020107904,0,6.0371366608144559]
[null,12.326197279072618,285.32619727907263,12.933164459748847,413810.93085976067,0.9999975834432856,1.0743170245297331,6.1859586493241671E-2,0.90832985020107904,0.9182866127122099,0,6.0371366608144559]
[null,13.300671513713851,286.30067151371384,14.397652625416653,1789868.346045281,0.99999944130000207,0.96800423799031654,7.214070114666439E-2,0.9182866127122099,0.92174696051255167,0,6.0371366608144559]
[null,14.174306637097702,287.17430663709769,15.702145342898103,6597130.5209114989,0.99999984841896861,0.88219825316125189,8.2729178532664274E-2,0.92174696051255167,0.91860681022688273,0,6.0371366608144559]
[null,14.903069139074507,287.90306913907449,16.784260955910657,19467577.665305793,0.99999994863254349,0.81682112797843143,9.268250848612461E-2,0.91860681022688273,0.90959703095286437,0,6.0371366608144559]
[null,15.450227471005064,288.45022747100506,17.593124677495897,43711626.508052766,0.99999997712279187,0.77113725411277967,0.10089692385783709,0.90959703095286437,0.89630852163097252,0,6.0371366608144559]
[null,15.788203412511491,288.78820341251151,18.091222877834323,71931359.201458767,0.99999998609785778,0.74428556278750679,0.10631357343810328,0.89630852163097252,0.88097588986796727,0,6.0371366608144559]
[null,15.899962086386676,288.89996208638667,18.255672858515375,84788701.810189858,0.99999998820597591,0.73562724922434053,0.10816501474759226,0.88097588986796727,0.86607467264492977,0,6.0371366608144559]
[null,15.779870561251515,288.77987056125153,18.078956204945435,71054390.488371611,0.99999998592627448,0.74493547429609563,0.1061767473707685,0.86607467264492977,0.85387179922851664,0,6.0371366608144559]
[null,15.433981766125674,288.43398176612567,17.569152870676213,42676239.472041011,0.99999997656775785,0.77245369449354762,0.10064331449903224,0.85387179922851664,0.84607646433023398,0,6.0371366608144559]
[null,14.903069139074507,287.90306913907449,16.784260955910657,19467577.665305793,0.99999994863254349,0.81682112797843143,9.268250848612461E-2,0.84607646433023398,0.84348686511260018,0,6.0371366608144559]
[null,13.957647086723341,286.95764708672334,15.379374739234722,4777245.7679846911,0.99999979067440969,0.90269359184768472,7.9972741567043495E-2,0.84348686511260018,0.84803740476077538,0,6.0371366608144559]
[null,13.404610638743076,286.40461063874307,14.553269326897802,2091243.2988398331,0.99999952181579144,0.95734491615080874,7.3328990020209664E-2,0.84803740476077538,0.85576598678637628,0,6.0371366608144559]
[null,13.012225034372177,286.01222503437219,13.965200734876777,1161474.3354127186,0.99999913902605631,0.99825332346121576,6.8938640158194217E-2,0.85576598678637628,0.86525793024337472,0,6.0371366608144559]
[null,12.707867114194265,285.70786711419424,13.507946924920899,735236.08074980625,0.99999863989449633,1.0312659835636198,6.5707390868007823E-2,0.86525793024337472,0.87581524147706546,0,6.0371366608144559]
[null,12.45918858639191,285.45918858639192,13.133619555407163,505659.88357034978,0.99999802239003943,1.0591026416772285,6.3175220125837303E-2,0.87581524147706546,0.88703628557995773,0,6.0371366608144559]
[null,12.248933886984663,285.24893388698467,12.8166210786263,368288.20582078287,0.99999728474257676,1.0832628478197839,6.1107317085354274E-2,0.88703628557995773,0.89866814903127024,0,6.0371366608144559]
[null,12.066802982021011,285.06680298202099,12.541646534188651,279748.57552067726,0.99999642537437938,1.1046661194755227,5.9368455475960695E-2,0.89866814903127024,0.91054197758690747,0,6.0371366608144559]
[null,11.906152138411645,284.90615213841164,12.298809981617181,219434.70190584875,0.99999544285642072,1.1239192268432401,5.7874015529702554E-2,0.91054197758690747,0.92254042779504974,0,6.0371366608144559]
[null,11.762445061843101,284.7624450618431,12.081353110525907,176548.88935734646,0.99999433587863673,1.14144474096653,5.6567719300836296E-2,0.92254042779504974,0.93457962051240151,0,6.0371366608144559]
[null,11.63244619821392,284.63244619821393,11.884450280460118,144994.38267213499,0.99999310322865753,1.1575493810540984,5.5410348739983656E-2,0.93457962051240151,0.94659839549279612,0,6.0371366608144559]
[null,11.513766534040746,284.51376653404077,11.704534963120803,121119.74497599527,0.99999174377601296,1.1724631970968276,5.4373544361107508E-2,0.94659839549279612,0.95855155274301374,0,6.0371366608144559]
[null,11.404591826147788,284.40459182614779,11.538896317661301,102631.103383272,0.9999902564600448,1.1863633944548813,5.3436173168823188E-2,0.95855155274301374,0.97040541279142944,0,6.0371366608144559]
[null,11.303511834633497,284.30351183463347,11.385425470904213,88029.342105786869,0.99998864028042966,1.1993895225746716,5.2582090031506198E-2,0.97040541279142944,0.98213479573313278,0,6.0371366608144559]
[null,11.209408613862834,284.20940861386282,11.24244940815851,76301.616881730413,0.99998689428959497,1.2116535429601061,5.1798698772055306E-2,0.98213479573313278,0.99372090504355914,0,6.0371366608144559]
[null,10.410361809101586,283.41036180910157,10.024588852920965,22574.784965926858,0.99995570475172801,1.3213334795546665,4.5581697115616875E-2,0.99372090504355914,1.0083188160000205,1.0082741522677285,7.0454108130821842]
[null,12.319131670455922,285.31913167045593,12.922509383649061,409425.15080394445,0.99999755755708808,1.0751318262894041,6.1790426706440388E-2,4.4663732291949643E-5,6.4464013604188297E-2,0,7.0454108130821842]
[null,14.029851500180635,{"$f":"B2125+273","v":287.02985150018065},{"$f":"$C$5*$C$6*(C2125-$C$6)/C2125","v":15.4869960794906},{"$f":"EXP(D2125)","v":5320065.0010762494},{"$f":"E2125/(1+E2125)","v":0.99999981203240718},{"$f":"$C$7*EXP($C$8/C2125)","v":0.89580746087544294},{"$f":"$C$4*EXP(-$C$2/C2125)","v":8.0881459612539286E-2},{"$f":"IF(J2124<1,J2124,J2124-J2124*F2124)","v":6.4464013604188297E-2},{"$f":"G2125-(G2125-I2125)*EXP(-H2125)","v":0.12905689285556887},{"$f":"IF(J2125<1,0,J2125*F2125)","v":0},{"$f":"K2125+L2124","v":7.0454108130821842}]
[null,15.456071506618951,288.45607150661897,17.601747348268319,44090167.142605618,0.99999997731920642,0.77066427869215703,0.10098830346444704,0.12905689285556887,0.19068738481023273,0,7.0454108130821842]
[null,16.525718858047647,289.52571885804764,19.174112129943538,212427673.82934856,0.99999999529251549,0.68909080891756236,0.11911406820373209,0.19068738481023273,0.24665483182428155,0,7.0454108130821842]
[null,17.184739822774077,290.18473982277408,20.137091609373691,556452076.66970086,0.99999999820290009,0.64345582638059851,0.13178625376991454,0.24665483182428155,0.29564851340533482,0,7.0454108130821842]
[null,17.399831329127394,290.39983132912738,20.450443162752581,761227760.98784685,0.99999999868633271,0.62926798453469901,0.13619381287952498,0.29564851340533482,0.33812711942254364,0,7.0454108130821842]
[null,17.160123908251105,290.16012390825108,20.101200804494912,536834711.07892764,0.99999999813722928,0.64510116352112934,0.13129061153049779,0.33812711942254364,0.37589632116136257,0,7.0454108130821842]
[null,16.477730973594493,289.47773097359448,19.103819657898033,198008329.88458094,0.99999999494970748,0.69254598440414128,0.11823827144996626,0.37589632116136257,0.41120772148125645,0,7.0454108130821842]
[null,15.456071506618951,288.45607150661897,17.601747348268319,44090167.142605618,0.99999997731920642,0.77066427869215703,0.10098830346444704,0.41120772148125645,0.44573582222677982,0,7.0454108130821842]
[null,13.605514777783945,286.60551477778392,14.853741222720629,2824215.6068641762,0.99999964591950996,0.93709438965234393,7.5679058623506504E-2,0.44573582222677982,0.48154912626548196,0,7.0454108130821842]
[null,12.523008485958258,285.52300848595826,13.229747686559799,556681.02374994021,0.99999820364237157,1.0518832195065326,6.3816021672470885E-2,0.48154912626548196,0.51680855555688021,0,7.0454108130821842]
[null,11.754958048948941,284.75495804894894,12.07001778245896,174558.94939495996,0.99999427130906338,1.1423657469289643,5.6500440640444044E-2,0.51680855555688021,0.55117287173183949,0,7.0454108130821842]
[null,11.159211846754099,284.15921184675409,11.166144042490444,70695.983689911794,0.99998585512495997,1.2182500093694197,5.138539584471654E-2,0.55117287173183949,0.5845850927635633,0,7.0454108130821842]
[null,10.672451757123254,283.67245175712327,10.424807204363209,33684.976116280646,0.999970314056017,1.2842364873277645,4.7537731024792425E-2,0.5845850927635633,0.61706676340179645,0,7.0454108130821842]
[null,10.26090196537718,283.26090196537717,9.7960280850702421,17962.258490116292,0.99994433081277823,1.342997979818884,4.450094785822379E-2,0.61706676340179645,0.64866314210095599,0,7.0454108130821842]
[null,9.9044013201139371,282.90440132011395,9.2498761166797401,10403.276844250433,0.99990388567942112,1.3962153011051908,4.2021104101496475E-2,0.64866314210095599,0.67942525380384722,0,7.0454108130821842]
[null,9.589945465297566,282.58994546529755,8.7669921381690088,6418.8364257907651,0.99984423279135548,1.4450215946784817,3.9943890406593498E-2,0.67942525380384722,0.70940344163494773,0,7.0454108130821842]
[null,9.3086551179190913,282.3086551179191,8.3341261615907367,4163.5616865185011,0.99975987869185912,1.4902208635534373,3.8169268310200552E-2,0.70940344163494773,0.73864505573377359,0,7.0454108130821842]
[null,9.0541970468051272,282.05419704680514,7.9418074774201006,2812.439337581352,0.99964456315562156,1.5324064116992779,3.6629084328741637E-2,0.73864505573377359,0.7671937590601795,0,7.0454108130821842]
[null,8.8218950282882496,281.82189502828822,7.5830299711909577,1964.5725546318472,0.99949124238754583,1.5720298980014915,3.5275046882467236E-2,0.7671937590601795,0.79508948746848473,0,7.0454108130821842]
[null,8.6081978865646427,281.60819788656465,7.2524639504569404,1411.5786266403743,0.99929207480479976,1.6094439594649081,3.4071828417065679E-2,0.79508948746848473,0.82236866856173585,0,7.0454108130821842]
[null,8.4103452365421756,281.41034523654218,6.9459600257143492,1038.943931478005,0.99903840969716629,1.6449297560516452,3.2992892484300519E-2,0.82236866856173585,0.8490645296831818,0,7.0454108130821842]
[null,8.2261488260934073,281.22614882609344,6.6602240493748237,780.72583866884429,0.99872077913952184,1.6787154568547666,3.2017856827845546E-2,0.8490645296831818,0.87520742129374784,0,7.0454108130821842]
[null,11.91825835242844,284.91825835242844,12.317119029470485,223489.34744703217,0.99999552553382542,1.1224559843503821,5.798536798755724E-2,0.87520742129374784,0.88913647690920539,0,7.0454108130821842]
[null,12.97986381081804,285.97986381081802,13.916628911982841,1106407.5817981092,0.99999909617476179,1.0017093268846042,6.8587990650530381E-2,0.88913647690920539,0.89659878494423817,0,7.0454108130821842]
[null,13.93103361431163,286.93103361431162,15.339693453233261,4591390.3893359005,0.99999978220109875,0.90524592673051463,7.9640268579007162E-2,0.89659878494423817,0.89726073679096263,0,7.0454108130821842]
[null,14.723579862525327,287.7235798625253,16.518251988043712,14920579.433984214,0.99999993297847867,0.83242879871542597,9.0129943576440927E-2,0.89726073679096263,0.89167302981675833,0,7.0454108130821842]
[null,15.317350797572928,288.31735079757294,17.396975449479442,35926130.202114314,0.9999999721651075,0.78197529513980824,9.8840401411965442E-2,0.89167302981675833,0.88134907705989707,0,7.0454108130821842]
[null,15.682264961271235,288.68226496127124,17.935219648945267,61541336.730217539,0.99999998375075949,0.75259332580510585,0.10458652850397079,0.88134907705989707,0.86856322642044914,0,7.0454108130821842]
[null,15.799835173618971,288.79983517361899,18.108344645709316,73173555.186115831,0.99999998633386089,0.74337936711360708,0.10650484952426406,0.86856322642044914,0.85591598731259066,0,7.0454108130821842]
[null,15.664105125174949,288.66410512517496,17.908466275139574,59916727.137128875,0.99999998331017015,0.75402733076135597,0.10429318430647615,0.85591598731259066,0.84582504796981806,0,7.0454108130821842]
[null,15.28195113395252,288.28195113395253,17.344688846803308,34095939.086963028,0.99999997067099489,0.78488996845199366,9.8299315246366537E-2,0.84582504796981806,0.8401201577849875,0,7.0454108130821842]
[null,14.723579862525327,287.7235798625253,16.518251988043712,14920579.433984214,0.99999993297847867,0.83242879871542597,9.0129943576440927E-2,0.8401201577849875,0.83945725826370488,0,7.0454108130821842]
[null,13.695052552774397,286.69505255277437,14.987518107235717,3228467.444574059,0.99999969025560664,0.92821675248692348,7.6749451255587922E-2,0.83945725826370488,0.8460146443193014,0,7.0454108130821842]
[null,13.093402645602492,286.09340264560251,14.086994021052027,1311909.1767501684,0.99999923775269239,0.98963977769835454,6.9825793241649309E-2,0.8460146443193014,0.85570125998983426,0,7.0454108130821842]
[null,12.666525243023468,285.66652524302344,13.445761572660132,690907.73686812376,0.99999855263083726,1.0358391632618498,6.5279809880825282E-2,0.85570125998983426,0.86708502086788841,0,7.0454108130821842]
[null,12.335413405655729,285.33541340565574,12.947061765987581,419601.9345632529,0.99999761679455113,1.0732552148455929,6.1949907228956672E-2,0.86708502086788841,0.87946967074778482,0,7.0454108130821842]
[null,12.064875335851562,285.06487533585158,12.538734365776449,278935.08564036927,0.99999641494933256,1.1048950432096183,5.9350307056322042E-2,0.87946967074778482,0.89245944937366484,0,7.0454108130821842]
[null,11.836138657025391,284.8361386570254,12.192893321642416,197381.4286251126,0.99999493369289771,1.1324215031170146,5.7234032497739243E-2,0.89245944937366484,0.9058078114527548,0,7.0454108130821842]
[null,11.637997933272541,284.63799793327252,11.892862894644026,146219.30966728579,0.99999316100477231,1.1568566911987221,5.5459309327432933E-2,0.9058078114527548,0.91935176839161636,0,7.0454108130821842]
[null,11.463225428679655,284.46322542867966,11.627870368854166,112181.16284055532,0.99999108592690067,1.1788764362777662,5.3937662436330865E-2,0.91935176839161636,0.93297910533045281,0,7.0454108130821842]
[null,11.306886095904797,284.30688609590482,11.390550409013327,88481.645058206646,0.99998869834870618,1.198952234133934,5.26103893693807E-2,0.93297910533045281,0.94661033898424574,0,7.0454108130821842]
[null,11.165459966541006,284.16545996654099,11.175643435148292,71370.752470950159,0.99998598885461853,1.2174268502356862,5.1436668415151064E-2,0.94661033898424574,0.96018804855391116,0,7.0454108130821842]
[null,11.036348026100633,284.03634802610065,10.979261868559318,58645.250391444257,0.9999829486114914,1.234557731187033,5.0387036087668542E-2,0.96018804855391116,0.97367020830425965,0,7.0454108130821842]
[null,10.917576554330182,283.9175765543302,10.79845061403749,48944.907804444032,0.99997956928280918,1.2505434382836922,4.9439574282265947E-2,0.97367020830425965,0.98702583440309022,0,7.0454108130821842]
[null,10.807611347274461,283.80761134727447,10.630910618602837,41394.802920113114,0.9999758429616179,1.2655405212268613,4.8577564308922704E-2,0.98702583440309022,1.0002320399868263,1.0002078773430454,8.0456186904252291]
[null,10.705236188732892,283.7052361887329,10.474817873539273,35412.41959248652,0.99997176211697414,1.2796747161613728,4.7787981376102982E-2,2.4162643780911708E-5,5.973791604702261E-2,0,8.0456186904252291]
[null,10.492892644992025,283.49289264499203,10.150695466866761,25608.906160670776,0.99996095260975471,1.3095302294605311,4.6189187498853507E-2,5.973791604702261E-2,0.11615191974281402,0,8.0456186904252291]
[null,12.384575870600985,285.384575870601,13.021180330135605,451883.79277794412,0.99999778704657472,1.0676099591635473,6.2433847134640147E-2,0.11615191974281402,0.17373871802478458,0,8.0456186904252291]
[null,14.078980196415232,287.07898019641522,15.560191902573171,5724077.1767239841,0.99999982529938114,0.89115407753762743,8.1505392665797344E-2,0.17373871802478458,0.22989244009568444,0,8.0456186904252291]
[null,15.490054987220297,288.49005498722028,17.65188186664394,46356953.794132084,0.99999997842826382,0.76792001405447474,0.10152125084329534,0.22989244009568444,0.28183255689369191,0,8.0456186904252291]
[null,16.546138550329246,289.54613855032926,19.204015751497941,218875963.69291121,0.99999999543120233,0.68762614968200042,0.11948861123040519,0.28183255689369191,0.32753541987107271,0,8.0456186904252291]
[null,17.193597487821297,290.19359748782131,20.150004883714931,563684290.27371609,0.99999999822595731,0.64286487205838749,0.13196503992218622,0.32753541987107271,0.36651908524938598,0,8.0456186904252291]
[null,17.399550478516097,290.39955047851612,20.450034314077531,760916597.64005113,0.99999999868579548,0.62928629093068145,0.13618796708405492,0.36651908524938598,0.39997497842209229,0,8.0456186904252291]
[null,17.153538161915325,290.15353816191532,20.091597539326692,531704020.12027264,0.99999999811925444,0.64554211767407454,0.13115830945907481,0.39997497842209229,0.43016035798482505,0,8.0456186904252291]
[null,16.468054318748621,289.46805431874861,19.08964250674995,195220941.16547433,0.99999999487759872,0.69324494864306141,0.11806241559112229,0.43016035798482505,0.45945730387079331,0,8.0456186904252291]
[null,15.490054987220297,288.49005498722028,17.65188186664394,46356953.794132084,0.99999997842826382,0.76792001405447474,0.10152125084329534,0.45945730387079331,0.48923568321459532,0,8.0456186904252291]
[null,13.65851871759908,286.65851871759907,14.93294361106004,3056996.9741433649,0.99999967288169356,0.93182819691966912,7.6310966590340701E-2,0.48923568321459532,0.52175382157543471,0,8.0456186904252291]
[null,12.587138681159953,285.58713868115996,13.326299920456332,613110.16939351254,0.99999836897442107,1.0446814835170286,6.4466193318408124E-2,0.52175382157543471,0.55440134083565895,0,8.0456186904252291]
[null,11.826982447977862,284.82698244797785,12.179037923759086,194665.48905697183,0.99999486300901175,1.133538467972637,5.7150838789782117E-2,0.55440134083565895,0.58657148238993984,0,8.0456186904252291]
[null,11.237359465981594,284.23735946598157,11.284926518278212,79612.509839993407,0.99998743931774881,1.2079969587433936,5.2030211838940167E-2,0.58657148238993984,0.61807763826619311,0,8.0456186904252291]
[null,10.755602411538735,283.75560241153875,10.551625988520817,38239.564883109051,0.99997384975867754,1.2727001244528968,4.8174892277492803E-2,0.61807763826619311,0.64886642832481811,0,8.0456186904252291]
[null,10.348282625772146,283.34828262577213,9.9296838282170636,20530.848280254439,0.99995129517877057,1.3302864497550064,4.5129788251247929E-2,0.64886642832481811,0.67893516842708146,0,8.0456186904252291]
[null,9.9954461783566426,282.99544617835664,9.389485880889362,11961.947885087016,0.99991640856337372,1.3824142810936144,4.2641548486023584E-2,0.67893516842708146,0.70830203314254703,0,8.0456186904252291]
[null,9.6842223750996084,282.68422237509958,8.9118781921309083,7419.5834229878228,0.9998652397065031,1.4302011056264885,4.0556123973325128E-2,0.70830203314254703,0.73699371711263995,0,8.0456186904252291]
[null,9.4058231963603767,{"$f":"B2189+273","v":282.40582319636036},{"$f":"$C$5*$C$6*(C2189-$C$6)/C2189","v":8.4837515512597594},{"$f":"EXP(D2189)","v":4835.5567502578197},{"$f":"E2189/(1+E2189)","v":0.99979324133849012},{"$f":"$C$7*EXP($C$8/C2189)","v":1.4744395027858359},{"$f":"$C$4*EXP(-$C$2/C2189)","v":3.8773589251037223E-2},{"$f":"IF(J2188<1,J2188,J2188-J2188*F2188)","v":0.73699371711263995},{"$f":"G2189-(G2189-I2189)*EXP(-H2189)","v":0.76503989794298155},{"$f":"IF(J2189<1,0,J2189*F2189)","v":0},{"$f":"K2189+L2188","v":8.0456186904252291}]
[null,9.1539805054116492,282.15398050541165,8.0957360796638973,3280.4506317299206,0.99969525672873738,1.515714140510549,3.7225834105607279E-2,0.76503989794298155,0.7924706390207279,0,8.0456186904252291]
[null,8.9240661419175176,281.92406614191754,7.7409003919490953,2300.5428411232924,0.99956550884818118,1.554469962285506,3.5864576124876757E-2,0.7924706390207279,0.81931516068630905,0,8.0456186904252291]
[null,8.7125654298979676,281.71256542989795,7.4139717386887609,1659.0024030604473,0.9993975912335088,1.5910542618265273,3.4654480160774506E-2,0.81931516068630905,0.84560128152632286,0,8.0456186904252291]
[null,8.5167463561509287,281.51674635615092,7.1108451307317724,1225.1825480975608,0.99918446074644307,1.6257438656031133,3.3568994204505438E-2,0.84560128152632286,0.87135519845243525,0,8.0456186904252291]
[null,8.3344431599212516,281.33444315992125,6.8282617190427484,923.58396788618677,0.9989184324682957,1.6587633710443783,3.2587717050453387E-2,0.87135519845243525,0.8966014403234942,0,8.0456186904252291]
[null,8.5332322072442288,281.53323220724423,7.1363813731647392,1256.8719993877453,0.99920500655035904,1.6227925685544922,3.3659112003955674E-2,0.8966014403234942,0.92063760167846931,0,8.0456186904252291]
[null,10.937511707972062,283.93751170797208,10.828809375971217,50453.599745478066,0.99998018020150703,1.2478450020625569,4.9597402274078037E-2,0.92063760167846931,0.93647036141177287,0,8.0456186904252291]
[null,13.090450057905029,286.090450057905,14.082565373461598,1306112.0395494367,0.99999923436948435,0.98995167742769408,6.9793335447135632E-2,0.93647036141177287,0.94007572236709447,0,8.0456186904252291]
[null,14.882453187303735,287.88245318730372,16.753724303839306,18882087.963223685,0.99999994703975803,0.81859784633935939,9.2385850399777522E-2,0.94007572236709447,0.9293556984126512,0,8.0456186904252291]
[null,16.222300223102941,289.22230022310293,18.72927313938332,136150730.07900405,0.99999999265519923,0.71125076427424516,0.11367909862906558,0.9293556984126512,0.90591908628568263,0,8.0456186904252291]
[null,17.041787034196858,290.04178703419689,19.928576749785936,451721659.15533549,0.99999999778624737,0.65307371555611493,0.12893264034039334,0.90591908628568263,0.87533318455408193,0,8.0456186904252291]
[null,17.299198122913047,290.29919812291303,20.303895588369624,657460726.30037272,0.99999999847899657,0.63586395691506148,0.13411444016137092,0.87533318455408193,0.84527739750709907,0,8.0456186904252291]
[null,16.981430128066396,289.98143012806639,19.840476785765652,413627672.67122519,0.9999999975823668,0.65718046466055324,0.12774560223594891,0.84527739750709907,0.82272029423856829,0,8.0456186904252291]
[null,16.104658843910027,289.10465884391004,18.556549109495407,114553109.23064919,0.99999999127042472,0.72004595536994342,0.11163625736775129,0.82272029423856829,0.81187475440302159,0,8.0456186904252291]
[null,14.882453187303739,287.88245318730372,16.753724303839306,18882087.963223685,0.99999994703975803,0.81859784633935939,9.2385850399777522E-2,0.81187475440302159,0.81246804520594118,0,8.0456186904252291]
[null,12.556091422521865,285.55609142252189,13.279561642587396,585113.80314636917,0.99999829093368575,1.0481614675710846,6.4150640098595169E-2,0.81246804520594118,0.82711316028306503,0,8.0456186904252291]
[null,11.195257027012978,284.19525702701299,11.220939954212692,74677.935616212737,0.99998660934316019,1.2135093743989225,5.1681858938520613E-2,0.82711316028306503,0.84657557615926937,0,8.0456186904252291]
[null,10.229729657739991,283.22972965773999,9.7483275772173652,17125.563663015007,0.99994161117082936,1.3475639585951975,4.4278648489445988E-2,0.84657557615926937,0.86827471520772392,0,8.0456186904252291]
[null,9.4808084467849625,282.48080844678498,8.5991480871618435,5427.0342612933746,0.99981577124390486,1.4623825855944177,3.924619080997066E-2,0.86827471520772392,0.89113957203369176,0,8.0456186904252291]
[null,8.8688952622311064,281.86889526223109,7.6556669305893656,2112.5835961478483,0.99952686990861273,1.5639259817982027,3.5545078870206817E-2,0.89113957203369176,0.91463379247154608,0,8.0456186904252291]
[null,8.3515300364567331,281.35153003645672,6.8547631921806769,948.38751723132134,0.99894668933196396,1.6556384190492643,3.2678511902212902E-2,0.91463379247154608,0.93845734187919128,0,8.0456186904252291]
[null,7.9033678929581201,280.9033678929581,6.1586041603397916,472.76770614334924,0.99788926094574837,1.7397145883071994,3.0375322425187354E-2,0.93845734187919128,0.96242985943096937,0,8.0456186904252291]
[null,7.5080608667222188,280.50806086672225,5.5427019506224404,255.36705731866292,0.99609934283109947,1.817650755146893,2.8473367383324968E-2,0.96242985943096937,0.9864374675087938,0,8.0456186904252291]
[null,7.154446682003087,280.15444668200308,4.9902858441888744,146.9784304219169,0.9932422583673256,1.8905190049138147,2.6868994606602185E-2,0.9864374675087938,1.0104057851995527,1.0035777239590147,9.0491964143842445]
[null,6.8345637418284628,279.83456374182845,4.4893619772337816,89.064602502841993,0.98889685878568723,1.9591173704835247,2.5492462524929753E-2,6.8280612405380303E-3,5.5967716728885009E-2,0,9.0491964143842445]
[null,6.5425334974492309,279.54253349744926,4.0310532782654072,56.320200860885905,0.98255414347854497,2.0240581303663601,2.4294904808357481E-2,5.5967716728885009E-2,0.10320613604518081,0,9.0491964143842445]
[null,6.2738917141400901,279.27389171414006,3.6086037313449677,36.914474291094521,0.97362484859153431,2.0858227387227783,2.3240935865179529E-2,0.10320613604518081,0.14875267909872436,0,9.0491964143842445]
[null,6.0251682716748611,279.02516827167489,3.2167513187641879,24.946943726543989,0.96145981543957371,2.1447975758508764,2.2304223033076335E-2,0.14875267909872436,0.19278008590107798,0,9.0491964143842445]
[null,5.7936122864942021,278.79361228649418,2.8513169970240755,17.310564797054429,0.94538672012122382,2.2012980973862772,2.1464714640619737E-2,0.19278008590107798,0.23543294848351715,0,9.0491964143842445]
[null,11.177261054902973,284.177261054903,11.193584200667091,72662.753495016703,0.99998623798039732,1.2158737303541112,5.1533642532222812E-2,0.23543294848351715,0.28467882544320089,0,9.0491964143842445]
[null,12.199561013998519,285.1995610139985,12.742114428520342,341845.59193365736,0.99999707471121957,1.0890209436755953,6.0631189044378829E-2,0.28467882544320089,0.33199803925046212,0,9.0491964143842445]
[null,13.114742857648677,286.11474285764865,14.118999930457065,1354577.1950866254,0.99999926176281029,0.98738859266029755,7.0060815433748536E-2,0.33199803925046212,0.3763436531292681,0,9.0491964143842445]
[null,13.87611465657489,286.87611465657488,15.25778477944703,4230305.5372700356,0.99999976361051113,0.91053720926011628,7.8958354591404836E-2,0.3763436531292681,0.416900478738636,0,9.0491964143842445]
[null,14.444831761009674,287.44483176100965,16.104479625253074,9864762.5307455026,0.99999989862909566,0.85730108474509048,8.6298479897312541E-2,0.416900478738636,0.45331262967779984,0,9.0491964143842445]
[null,14.791878627207245,287.79187862720727,16.619512094619928,16510582.462001121,0.99999993943278853,0.82645266694947528,9.1093220077457696E-2,0.45331262967779984,0.4858009613333818,0,9.0491964143842445]
[null,14.899549169928616,287.8995491699286,16.779047435260544,19366347.16009843,0.99999994836403894,0.81712419377159462,9.2631792719850184E-2,0.4858009613333818,0.51511343578729785,0,9.0491964143842445]
[null,14.762350114366154,287.76235011436614,16.57573886504392,15803450.576070599,0.99999993672268395,0.82903077662556302,9.0675553166830666E-2,0.51511343578729785,0.54232567920939667,0,9.0491964143842445]
[null,14.387281259132397,287.38728125913241,16.018951965715054,9056125.7551149465,0.99999988957751729,0.86253420133817027,8.552705377782184E-2,0.54232567920939667,0.56857371401441181,0,9.0491964143842445]
[null,13.876114656574892,286.87611465657488,15.25778477944703,4230305.5372700356,0.99999976361051113,0.91053720926011628,7.8958354591404836E-2,0.56857371401441181,0.59453612723014293,0,9.0491964143842445]
[null,12.887546145947603,285.88754614594762,13.778006439892698,963190.4512254349,0.99999896178480541,1.0116385954509552,6.7597025755630327E-2,0.59453612723014293,0.62179918236625831,0,9.0491964143842445]
[null,12.309270637836876,285.3092706378369,12.907637871199727,403381.43059317162,0.99999752096292704,1.0762700954222417,6.1694028199382175E-2,0.62179918236625831,0.64898994601859616,0,9.0491964143842445]
[null,11.898977635320314,284.89897763532031,12.287958760087687,217066.43985064054,0.99999539313680263,1.1247873467316751,5.7808121229089161E-2,0.64898994601859616,0.67571499537370783,0,9.0491964143842445]
[null,11.580729658028435,284.58072965802842,11.806067784264714,134063.35748797463,0.99999254089588963,1.1640233194254606,5.4956242742632097E-2,0.67571499537370783,0.70182651906654869,0,9.0491964143842445]
[null,11.320702127209588,284.32070212720959,11.411533379400675,90357.868326005366,0.99998893301766034,1.1971635115579142,5.272641391993086E-2,0.70182651906654869,0.72726726894906335,0,9.0491964143842445]
[null,11.100851982474218,284.10085198247424,11.077395849649628,64692.195655424941,0.99998454242382262,1.2259673239383884,5.0908843596849461E-2,0.72726726894906335,0.75202009733329389,0,9.0491964143842445]
[null,10.910409124693027,283.91040912469305,10.787534467321443,48413.523620439417,0.99997934504100794,1.2515151448210668,4.9382946674758135E-2,0.75202009733329389,0.77608748453169185,0,9.0491964143842445]
[null,10.742426619098859,283.74242661909886,10.531535636706495,37478.984319035408,0.99997331909235909,1.2745207573371777,4.807338823734722E-2,0.77608748453169185,0.79948202795694179,0,9.0491964143842445]
[null,10.592161147401146,283.59216114740116,10.302279896268448,29800.483472415446,0.99996644462343875,1.2954817791082591,4.6930136316508449E-2,0.79948202795694179,0.82222160478274775,0,9.0491964143842445]
[null,10.456229493721668,283.45622949372165,10.094683460399354,24213.932276724925,0.99995870316759217,1.3147597356755611,4.5918369135748704E-2,0.82222160478274775,0.84432675241029087,0,9.0491964143842445]
[null,10.332133616582299,283.33213361658233,9.9049888307657845,20030.048114239376,0.99995007749997422,1.3326260091316271,4.501293457426133E-2,0.84432675241029087,0.86581918731160712,0,9.0491964143842445]
[null,10.21797647574609,283.21797647574607,9.7303398899421811,16820.268389045628,0.99994055145088512,1.349289800359101,4.4195108841815885E-2,0.86581918731160712,0.88672094396019718,0,9.0491964143842445]
[null,10.112283471846931,283.11228347184692,9.5685146596330544,14307.149547084349,0.99993010976040553,1.3649159692189128,4.3450600758429297E-2,0.88672094396019718,0.90705386734993776,0,9.0491964143842445]
[null,10.013885639290418,283.01388563929044,9.4177503316236368,12304.869183760671,0.99991873796275033,1.3796368683173561,4.2768270188686917E-2,0.90705386734993776,0.92683931440325817,0,9.0491964143842445]
[null,12.917616226507832,285.91761622650785,13.823168938486187,1007687.7809232528,0.99999900763011462,1.0083929278341899,6.7918294526307571E-2,0.92683931440325817,0.93219438474455241,0,9.0491964143842445]
[null,14.452524244998839,287.45252424499881,16.115909079424522,9978158.17272323,0.9999998997811137,0.8566041685050777,8.6402094791881739E-2,0.93219438474455241,0.9259374307138053,0,9.0491964143842445]
[null,15.826244692074139,288.82624469207411,18.147213917887704,76073757.259631231,0.99999998685486269,0.74132624495507349,0.10694035656372246,0.9259374307138053,0.90721402870288181,0,9.0491964143842445]
[null,16.968539674077739,289.96853967407776,19.821656480429162,405915870.44012678,0.99999999753643531,0.65806110877396817,0.12749344200031118,0.90721402870288181,0.87739022207880213,0,9.0491964143842445]
[null,17.821004008470087,290.82100400847008,21.062677358666772,1404121052.6461742,0.99999999928781069,0.60244381288783855,0.1452353047195028,0.87739022207880213,0.84022262918787483,0,9.0491964143842445]
[null,18.340051462410248,291.34005146241026,21.814751443332664,2978695956.896266,0.99999999966428266,0.57105267172644614,0.15716760039697225,0.84022262918787483,0.80107477185439047,0,9.0491964143842445]
[null,18.499143303108827,291.49914330310884,22.044731381100096,3748911548.6367092,0.99999999973325593,0.5617840345495364,0.16100855749154991,0.80107477185439047,0.76548859869899777,0,9.0491964143842445]
[null,18.290145214874219,291.2901452148742,21.742556221942667,2771227561.4122577,0.9999999996391491,0.57399369783493304,0.15598084939331444,0.76548859869899777,0.73783205775231819,0,9.0491964143842445]
[null,17.723743204111134,290.72374320411114,20.921452513741745,1219189967.0556135,0.99999999917978333,0.60852810184213724,0.14309783153619218,0.73783205775231819,0.72059186784489082,0,9.0491964143842445]
[null,16.968539674077739,289.96853967407776,19.821656480429162,405915870.44012678,0.99999999753643531,0.65806110877396817,0.12749344200031118,0.72059186784489082,0.7131068852602187,0,9.0491964143842445]
[null,15.485140482905564,{"$f":"B2253+273","v":288.48514048290554},{"$f":"$C$5*$C$6*(C2253-$C$6)/C2253","v":17.644632418512241},{"$f":"EXP(D2253)","v":46022106.657009937},{"$f":"E2253/(1+E2253)","v":0.99999997827131237},{"$f":"$C$7*EXP($C$8/C2253)","v":0.76831622936407551},{"$f":"$C$4*EXP(-$C$2/C2253)","v":0.10144401309363762},{"$f":"IF(J2252<1,J2252,J2252-J2252*F2252)","v":0.7131068852602187},{"$f":"G2253-(G2253-I2253)*EXP(-H2253)","v":0.71843283330356733},{"$f":"IF(J2253<1,0,J2253*F2253)","v":0},{"$f":"K2253+L2252","v":9.0491964143842445}]
[null,14.617407582469747,287.61740758246975,16.360744921884912,12746214.988958821,0.99999992154534323,0.84181049425711951,8.8651801140093994E-2,0.71843283330356733,0.72889967868253602,0,9.0491964143842445]
[null,14.001741291733387,287.00174129173337,15.445103993255485,5101800.08496306,0.99999980399079003,0.89848165171935468,8.0526516095856218E-2,0.72889967868253602,0.74202016154040173,0,9.0491964143842445]
[null,13.524193416161875,286.52419341616189,14.732167890311393,2500916.6691978243,0.99999960014677325,0.94523580158456566,7.4719263838778818E-2,0.74202016154040173,0.75665088003732206,0,9.0491964143842445]
[null,13.13400839129757,286.13400839129758,14.147890150432781,1394282.007022711,0.99999928278549266,0.98536095216665232,7.0273638056803658E-2,0.75665088003732206,0.77217143910941255,0,9.0491964143842445]
[null,12.804111653364263,285.80411165336426,13.652645730665817,849706.03771280567,0.99999882312378785,1.0207026707499935,6.6713198856269432E-2,0.77217143910941255,0.78821078615987872,0,9.0491964143842445]
[null,12.518342100561211,285.5183421005612,13.222720443084636,552782.80357106647,0.99999819097449394,1.0524093087392064,6.3768957817446945E-2,0.78821078615987872,0.80453251031003437,0,9.0491964143842445]
[null,12.266275490861755,285.26627549086174,12.842784487040726,378051.03814725729,0.99999735486150287,1.0812480926037835,6.1275397495007218E-2,0.80453251031003437,0.82097932920993033,0,9.0491964143842445]
[null,12.040794224989698,285.04079422498972,12.502350795804148,268968.83471770916,0.99999628211096214,1.1077591349038713,5.9124034411339906E-2,0.82097932920993033,0.83744340135094952,0,9.0491964143842445]
[null,11.83682160907572,284.83682160907574,12.193926745571087,197585.51275107585,0.99999493892580993,1.1323382368763359,5.7240242466030405E-2,0.83744340135094952,0.85384923707365534,0,9.0491964143842445]
[null,11.650609200125395,284.65060920012542,11.911971687057576,149040.25065301592,0.99999329044814356,1.1552848238398938,5.5570681417179885E-2,0.85384923707365534,0.87014328931691742,0,9.0491964143842445]
[null,11.479310389205848,284.47931038920586,11.652272216074014,114952.26291448844,0.99999130081239418,1.1768313467744,5.4076020414951784E-2,0.87014328931691742,0.88628732257535736,0,9.0491964143842445]
[null,11.320712462192088,284.32071246219209,11.411549074796941,90359.286539684195,0.99998893319135773,1.1971621745812819,5.2726500802737414E-2,0.88628732257535736,0.90225403244415592,0,9.0491964143842445]
[null,11.173061324553881,284.17306132455388,11.187199674114899,72200.314015376294,0.99998614983655576,1.2164262072576726,5.1499111706880769E-2,0.90225403244415592,0.91802406383477919,0,9.0491964143842445]
[null,11.12408391188527,284.12408391188529,11.112729150854939,67018.84656648057,0.99998507904671186,1.2228889909308982,5.1098041435849388E-2,0.91802406383477919,0.93321075518045715,0,9.0491964143842445]
[null,13.04446292429015,286.04446292429014,14.01357651557254,1219042.796317254,0.99999917968492757,0.99482312046027099,6.9289656209943568E-2,0.93321075518045715,0.93733531023499184,0,9.0491964143842445]
[null,14.762745507458243,287.76274550745825,16.576325057274886,15812717.151752727,0.99999993675976573,0.82899619861851404,9.0681133711639092E-2,0.93733531023499184,0.92794327216381389,0,9.0491964143842445]
[null,16.190894638062598,289.19089463806262,18.683176420030417,130017084.63190779,0.99999999230870318,0.7135874671706075,0.11313027457537211,0.92794327216381389,0.90501455619278293,0,9.0491964143842445]
[null,17.255738417861913,290.25573841786189,20.240575772316433,617121061.38081253,0.99999999837957243,0.63873527211264058,0.13322584198944876,0.90501455619278293,0.87180084813900205,0,9.0491964143842445]
[null,17.902719070620737,290.90271907062072,21.181256441275366,1580894149.4302545,0.99999999936744655,0.5973821632771551,0.14705466773359976,0.87180084813900205,0.83427321055824144,0,9.0491964143842445]
[null,18.098688235657903,291.0986882356579,21.46536167481834,2100332861.976831,0.99999999952388496,0.585427220156303,0.15150696343785855,0.83427321055824144,0.79928842502525055,0,9.0491964143842445]
[null,17.833605339832108,290.8336053398321,21.080967859438388,1430039437.3986347,0.99999999930071859,0.60166027883614337,0.14551446125811718,0.79928842502525055,0.77252510508708083,0,9.0491964143842445]
[null,17.121052031070178,290.12105203107018,20.044220229656158,507100734.73311311,0.99999999802800521,0.64772196214257294,0.13050755143313339,0.77252510508708083,0.75725542375049559,0,9.0491964143842445]
[null,16.190894638062598,289.19089463806262,18.683176420030417,130017084.63190779,0.99999999230870318,0.7135874671706075,0.11313027457537211,0.75725542375049559,0.75258445076944058,0,9.0491964143842445]
[null,14.335991723183293,287.33599172318327,15.942700057318373,8391250.0258725248,0.9999998808282583,0.86722669869167701,8.4845107756857344E-2,0.75258445076944058,0.76191007419878976,0,9.0491964143842445]
[null,13.250943075500532,286.25094307550052,14.323159696911191,1661380.9247854163,0.99999939809144123,0.97314872527991114,7.157870773447006E-2,0.76191007419878976,0.7765018056818801,0,9.0491964143842445]
[null,12.481088808303987,285.48108880830398,13.166611405087892,522620.78579321032,0.99999808657038958,1.0566193177823586,6.3394419213101363E-2,0.7765018056818801,0.79370852545015191,0,9.0491964143842445]
[null,11.883943446715875,284.88394344671588,12.265218226446018,212185.9361225375,0.99999528717451569,1.1266088115450883,5.7670272061967627E-2,0.79370852545015191,0.81236387581576919,0,9.0491964143842445]
[null,11.396040160621226,284.39604016062123,11.525916455573785,101307.57401177242,0.99999012916715335,1.1874595865991187,5.3363404820813004E-2,0.81236387581576919,0.83185556342459432,0,9.0491964143842445]
[null,10.98352381003718,283.98352381003718,10.898863818165941,54114.844551459959,0.9999815211236508,1.241640417963084,4.9963524099305982E-2,0.83185556342459432,0.85182678806739309,0,9.0491964143842445]
[null,10.62618589342468,283.62618589342469,10.354211754867112,31388.967443909678,0.99996814268757095,1.2907036120024473,4.7186704677637442E-2,0.85182678806739309,0.87205493615480667,0,9.0491964143842445]
[null,10.310991512938465,283.31099151293847,9.8726541585895156,19392.74214062011,0.99994843697555891,1.3356955593693012,4.4860388227270911E-2,0.87205493615480667,0.8923944053608408,0,9.0491964143842445]
[null,10.02904053183657,283.02904053183659,9.4409773593865758,12594.019776850888,0.9999206035387227,1.377358636533373,4.2872688800163684E-2,0.8923944053608408,0.91274672918380895,0,9.0491964143842445]
[null,9.7739848448266393,282.77398484482666,9.049736610782821,8516.2945289897234,0.99988259182577321,1.416240623528195,4.1147371472173157E-2,0.91274672918380895,0.9330437316702741,0,9.0491964143842445]
[null,9.5411372457419183,282.54113724574194,8.6919450075577878,5954.7530260723088,0.99983209511952187,1.4527584912601847,3.9630411983563041E-2,0.9330437316702741,0.95323745599792964,0,9.0491964143842445]
[null,9.3269382185475287,282.32693821854753,8.3622874719546108,4282.4796228699879,0.99976654493821782,1.4872377707906026,3.8282284802334227E-2,0.95323745599792964,0.9732938563346879,0,9.0491964143842445]
[null,9.1286208951578764,282.12862089515789,8.0566259939244258,3154.6284226672633,0.99968310590916953,1.519937993544459,3.7073297224468019E-2,0.9732938563346879,0.99318869466353799,0,9.0491964143842445]
[null,8.9439918841538102,281.94399188415383,7.7716754608386793,2372.4428954535256,0.99957867113554089,1.551069763893552,3.5980640645936444E-2,0.99318869466353799,1.0129047871173502,1.0124780210935889,10.061674435477833]
[null,10.400936310881827,283.40093631088183,10.010182076007132,22251.886622164304,0.99995506200984263,1.3226886695612889,4.5512806210783359E-2,4.2676602376134909E-4,5.9257680864227336E-2,0,10.061674435477833]
[null,12.10941878045519,285.1094187804552,12.606017783878725,298348.57118393847,0.99999664822712486,1.09961802973003,5.9771032499981995E-2,5.9257680864227336E-2,0.11961918882306399,0,10.061674435477833]
[null,13.63773982785462,286.6377398278546,14.901897755230884,2963547.9943329347,0.99999966256673944,0.93388891016105535,7.6062644143419497E-2,0.11961918882306399,0.17925781061396784,0,10.061674435477833]
[null,14.907440736505368,287.90744073650535,16.790735668563148,19594033.577804603,0.99999994896405864,0.81644490464258312,9.2745531455047811E-2,0.17925781061396784,0.23569640266621128,0,10.061674435477833]
[null,15.853339453267461,288.85333945326744,18.187084337095079,79168126.855800077,0.99999998736865414,0.73922613228562184,0.10738893114115018,0.23569640266621128,0.28696767471713425,0,10.061674435477833]
[null,16.426876809598959,289.42687680959898,19.029303231010804,183789792.60581055,0.99999999455900146,0.69622770471079665,0.1173168774561006,0.28696767471713425,0.33227138970065073,0,10.061674435477833]
[null,16.598609381317488,289.59860938131749,19.28083732766752,236353075.51587644,0.99999999576904175,0.68387773627251136,0.12045620977850778,0.33227138970065073,0.37217311695587413,0,10.061674435477833]
[null,16.359721012161863,289.35972101216186,18.930859946329228,166558964.58269441,0.99999999399612027,0.70112163323414389,0.11611062773238072,0.37217311695587413,0.40823353308656085,0,10.061674435477833]
[null,15.722475404762161,288.72247540476218,17.994446369674293,65296328.638635792,0.99999998468520346,0.74942841429760576,0.10523887347685892,0.40823353308656085,0.44231566561516666,0,10.061674435477833]
[null,14.907440736505372,287.90744073650535,16.790735668563148,19594033.577804603,0.99999994896405864,0.81644490464258312,9.2745531455047811E-2,0.44231566561516666,0.47545401335347848,0,10.061674435477833]
[null,13.2580833366119,286.25808333661189,14.333857360322792,1679249.222832669,0.99999940449613378,0.97240826601134855,7.165914358333389E-2,0.47545401335347848,0.5098193305709634,0,10.061674435477833]
[null,12.29327110738727,285.29327110738728,12.883506647482477,393763.85172308481,0.99999746041325011,1.0781196699034781,6.1537927294006478E-2,0.5098193305709634,0.54373703981890831,0,10.061674435477833]
[null,11.608725936718427,284.60872593671843,11.84850297212391,139874.79389569387,0.99999285080018385,1.1605139376309326,5.5201625420497148E-2,0.54373703981890831,0.57686145529255783,0,10.061674435477833]
[null,11.077751451182348,284.07775145118234,11.04225666086022,62458.440394717705,0.99998398960999846,1.2290364305442618,5.0721379938612268E-2,0.57686145529255783,0.60911576383305865,0,10.061674435477833]
[null,10.643913707493798,283.64391370749382,10.381264722633345,32249.72266439649,0.99996899294287434,1.2882214974553121,4.732091453477983E-2,0.60911576383305865,0.64050317095694587,0,10.061674435477833]
[null,10.277109121682301,283.27710912168232,9.8208244617978711,18413.225485701714,0.99994569415907408,1.3406305406958552,4.4616947291992823E-2,0.64050317095694587,0.67105410431284696,0,10.061674435477833]
[null,9.9593685368249538,282.95936853682497,9.3341745466084305,11318.281696143211,0.9999116551715167,1.3878656495721233,4.2394649267025054E-2,0.67105410431284696,0.70080792079759002,0,10.061674435477833]
[null,9.6791014782691676,282.67910147826916,8.9040108094527248,7361.439740091706,0.99986417545877426,1.431001948383571,4.0522639741757946E-2,0.70080792079759002,0.72980580690052199,0,10.061674435477833]
[null,9.4283940512888744,282.42839405128888,8.5184928081074123,5006.5023077945434,0.99980029964270944,1.4707992284308204,3.8915268664353637E-2,0.72980580690052199,0.75808789337626115,0,10.061674435477833]
[null,9.2016015968804918,282.20160159688049,8.1691592630667724,3530.3745992567879,0.99971682415107976,1.5078161817969811,3.7513895827386089E-2,0.75808789337626115,0.78569211416387175,0,10.061674435477833]
[null,8.994556307600325,281.99455630760031,7.8497520821425697,2565.0983043229216,0.99961030331600498,1.5424767630413221,3.627678539384805E-2,0.78569211416387175,0.81265382953125032,0,10.061674435477833]
[null,8.8040931045296453,281.80409310452967,7.5555114919419388,1911.2475816943568,0.99947705516295438,1.5751110192484095,3.5173282033644303E-2,0.81265382953125032,0.83900579205577208,0,10.061674435477833]
[null,8.6277517217888278,281.62775172178885,7.282732438680112,1454.9581825543642,0.9993131670868145,1.6059813994991416,3.4180273374581877E-2,0.83900579205577208,0.86477826382757139,0,10.061674435477833]
[null,8.4635818220642456,281.46358182206427,7.0284739884732277,1128.3074855380466,0.9991145015748093,1.6353003651353424,3.327994626464402E-2,0.86477826382757139,0.88999919459055499,0,10.061674435477833]
[null,10.640589240976114,283.64058924097611,10.376191783680857,32086.536057894857,0.99996883525122671,1.2886865766008506,4.7295718622711425E-2,0.88999919459055499,0.90841643943660655,0,10.061674435477833]
[null,12.671082046386971,285.67108204638697,13.452616678697215,695660.2535580917,0.99999856251876196,1.0353340382253025,6.5326808198282155E-2,0.90841643943660655,0.91644254693419935,0,10.061674435477833]
[null,14.48704454539115,{"$f":"B2317+273","v":287.48704454539114},{"$f":"$C$5*$C$6*(C2317-$C$6)/C2317","v":16.167191637686155},{"$f":"EXP(D2317)","v":10503211.627932342},{"$f":"E2317/(1+E2317)","v":0.99999990479103529},{"$f":"$C$7*EXP($C$8/C2317)","v":0.85348415803872757},{"$f":"$C$4*EXP(-$C$2/C2317)","v":8.6868535618904258E-2},{"$f":"IF(J2316<1,J2316,J2316-J2316*F2316)","v":0.91644254693419935},{"$f":"G2317-(G2317-I2317)*EXP(-H2317)","v":0.91120425875572564},{"$f":"IF(J2317<1,0,J2317*F2317)","v":0},{"$f":"K2317+L2316","v":10.061674435477833}]
[null,15.995076755201966,288.99507675520198,18.395531431176273,97516429.666920498,0.9999999897453179,0.72834297879399768,0.10976494554003487,0.91120425875572564,0.89219486499825185,0,10.061674435477833]
[null,17.117616400984261,290.11761640098428,20.039209135376403,504565961.44024259,0.99999999801809858,0.64795295413691611,0.13043890990495519,0.89219486499825185,0.86232654875783199,0,10.061674435477833]
[null,17.796928158549939,290.79692815854992,21.027727488700911,1355894862.8685195,0.99999999926247973,0.60394384492315101,0.14470337506525499,0.86232654875783199,0.82751695141778647,0,10.061674435477833]
[null,17.998073142047428,290.99807314204742,21.319543286209424,1815348479.95614,0.99999999944914153,0.59153296255664534,0.14920521531136843,0.82751695141778647,0.79480775958871652,0,10.061674435477833]
[null,17.710705907665755,290.71070590766578,20.902514887798777,1196318651.2491319,0.99999999916410232,0.60934863684511431,0.14281360809615531,0.79480775958871652,0.7701260509125365,0,10.061674435477833]
[null,16.9496065484737,289.9496065484737,19.794010726909036,394847718.95860159,0.99999999746737811,0.65935685568192604,0.12712393800385613,0.7701260509125365,0.75690292539363357,0,10.061674435477833]
[null,15.995076755201968,288.99507675520198,18.395531431176273,97516429.666920498,0.9999999897453179,0.72834297879399768,0.10976494554003487,0.75690292539363357,0.75393396842954297,0,10.061674435477833]
[null,14.035838098474009,287.03583809847402,15.495916728411244,5367735.7440387076,0.99999981370174285,0.89523903792771042,8.0957244354463914E-2,0.75393396842954297,0.76492282263255995,0,10.061674435477833]
[null,12.889756954324865,285.88975695432487,13.781327194545991,966394.28703051084,0.9999989652267417,1.0113995892458676,6.7620596486462084E-2,0.76492282263255995,0.78103870539300846,0,10.061674435477833]
[null,12.076599441746051,285.07659944174605,12.55644580997366,283919.43859227479,0.99999647788653412,1.1035034904527337,5.9460769271565996E-2,0.78103870539300846,0.79965379162639971,0,10.061674435477833]
[null,11.445865473555946,284.44586547355595,11.601531181991433,109264.97581825744,0.99999084802023219,1.1810878804542027,5.3788717028166975E-2,0.79965379162639971,0.81962861606419835,0,10.061674435477833]
[null,10.930518297596906,283.9305182975969,10.818159766381639,49919.139553265042,0.99997996800471811,1.2487909281236991,4.9541980194275893E-2,0.81962861606419835,0.84037208792105067,0,10.061674435477833]
[null,10.494798468751206,283.49479846875118,10.153606686606681,25683.567939494518,0.9999610661155619,1.3092589956411849,4.62033068469122E-2,0.84037208792105067,0.86154335615508182,0,10.061674435477833]
[null,10.117360785018093,283.11736078501809,9.5762912327328049,14418.843878057984,0.99993065112157553,1.3641609251013032,4.3486089802923324E-2,0.86154335615508182,0.88293180838883445,0,10.061674435477833]
[null,9.7844371534477617,282.78443715344775,9.0657837192678361,8654.0588342719257,0.99988446063520209,1.414624464018079,4.1216752021678127E-2,0.88293180838883445,0.90440096892627841,0,10.061674435477833]
[null,9.4866268168279859,282.48662681682799,8.6080995501246509,5475.8322382803317,0.99981741270199764,1.4614514454962038,3.9283090998150326E-2,0.90440096892627841,0.92585939737559653,0,10.061674435477833]
[null,9.2172245976608025,282.21722459766079,8.1932417306552559,3616.4267462412545,0.99972356040076304,1.5052346608903515,3.7608863381345406E-2,0.92585939737559653,0.94724438932168742,0,10.061674435477833]
[null,8.9712796408689499,281.97127964086894,7.8138140155242013,2474.5504336257241,0.9995960494335252,1.5464261258846697,3.6140170695189371E-2,0.94724438932168742,0.96851229193833077,0,10.061674435477833]
[null,8.7450322125284323,281.74503221252843,7.4641893774590047,1744.4408918151228,0.99942707885171633,1.5853792873981691,3.483766687821091E-2,0.96851229193833077,0.98963247388073128,0,10.061674435477833]
[null,8.5355598120232496,281.53555981202322,7.1399865439053034,1261.4114153126466,0.99920786521107907,1.6223763404031986,3.3671854181358402E-2,0.98963247388073128,1.0105834249365682,1.0097829066485691,11.071457342126402]
[null,8.3405456726788429,281.34054567267884,6.837726988591954,932.36744249409423,0.99892861058306481,1.6576465862595118,3.2620116355081046E-2,8.0051828799909686E-4,5.397503529911063E-2,0,11.071457342126402]
[null,12.435642323287274,285.43564232328725,13.09814235969329,488034.97858423414,0.99999795097074007,1.061779552524192,6.2940353952947128E-2,5.397503529911063E-2,0.11545163528511382,0,11.071457342126402]
[null,14.745790485536013,287.74579048553602,16.551186848479581,15420168.424021302,0.99999993514986951,0.83048033440411584,9.0442126353339702E-2,0.11545163528511382,0.17728216789030915,0,11.071457342126402]
[null,16.811416293351702,289.81141629335173,19.592118812414565,322662941.77312887,0.99999999690079067,0.66889713069663181,0.12445778710318373,0.17728216789030915,0.23481314661903413,0,11.071457342126402]
[null,18.52609033577653,291.52609033577653,22.083660606160443,3897731702.5993385,0.99999999974344056,0.5602300664322537,0.1616679522231462,0.23481314661903413,0.28339020036635632,0,11.071457342126402]
[null,19.801465658764208,292.80146565876419,23.917945780114188,24402362299.540634,0.99999999995902034,0.49168148084887014,0.19600095185180744,0.28339020036635632,0.3204636628895251,0,11.071457342126402]
[null,20.571829758209631,293.57182975820962,25.018187047741126,73326436885.733749,0.99999999998636235,0.45465765360569799,0.2200005099100425,0.3204636628895251,0.34696450839619719,0,11.071457342126402]
[null,20.797490354409096,293.79749035440909,25.339385016848176,101100915350.94054,0.99999999999010891,0.44438453580314247,0.22754574073732026,0.34696450839619719,0.36679084894423131,0,11.071457342126402]
[null,20.466820499132655,293.46682049913267,24.868551861511605,63135677674.179703,0.99999999998416111,0.45952430885475265,0.21657138316879601,0.36679084894423131,0.38484836730846522,0,11.071457342126402]
[null,19.596857643106102,292.59685764310609,23.624748956997173,18201119807.066082,0.99999999994505828,0.50204672254654492,0.1900596256864367,0.38484836730846522,0.40513425084420168,0,11.071457342126402]
[null,18.52609033577653,291.52609033577653,22.083660606160443,3897731702.5993385,0.99999999974344056,0.5602300664322537,0.1616679522231462,0.40513425084420168,0.42828638987289736,0,11.071457342126402]
[null,16.298070042603239,289.29807004260323,18.84044591821538,152160420.18342471,0.99999999342798873,0.70564670230936144,0.11501369203075278,0.42828638987289736,0.45842049519208128,0,11.071457342126402]
[null,14.994761720251107,287.99476172025112,16.92002439665432,22298375.732150961,0.99999995515368623,0.80896855231671549,9.4013000656610238E-2,0.45842049519208128,0.48987484703382445,0,11.071457342126402]
[null,14.070049749429948,287.07004974942993,15.546888478414692,5648431.6381182633,0.99999982295973699,0.89199803412268075,8.1391635307960952E-2,0.48987484703382445,0.52130777163246278,0,11.071457342126402]
[null,13.352787421078288,286.35278742107829,14.475694203480892,1935147.6829679171,0.99999948324384125,0.96264384841624806,7.2734199793757837E-2,0.52130777163246278,0.55226840173452652,0,11.071457342126402]
[null,12.766741427077816,285.76674142707782,13.596473057283239,803291.59360695456,0.99999875512359016,1.0247904821794906,6.6320924557048952E-2,0.55226840173452652,0.58258991441113328,0,11.071457342126402]
[null,12.271246599292265,285.27124659929228,12.850283849166011,380896.83728589996,0.99999737462410621,1.0806712834857746,6.1323660505031713E-2,0.58258991441113328,0.61221640104414166,0,11.071457342126402]
[null,11.842029456256657,284.84202945625668,12.201806951198925,199148.67816401302,0.99999497865118725,1.1317035050474196,5.7287617729714392E-2,0.61221640104414166,0.64114018249526195,0,11.071457342126402]
[null,11.463433104725684,284.46343310472571,11.628185443422757,112216.51384084938,0.99999108873503095,1.1788500076220751,5.3939446644888318E-2,0.64114018249526195,0.66937560586512335,0,11.071457342126402]
[null,11.124767127904995,284.12476712790499,11.11376816251286,67088.516116833474,0.99998509454147411,1.2227985865021773,5.1103615620172557E-2,0.66937560586512335,0.69694702147925358,0,11.071457342126402]
[null,10.818406486607305,283.81840648660733,10.647363545841646,42081.502216749926,0.99997623715446271,1.264059833933951,4.8661546464202378E-2,0.69694702147925358,0.72388292165378088,0,11.071457342126402]
[null,10.538721133904525,283.53872113390452,10.220689417505998,27465.595220494302,0.99996359213830577,1.3030245401163218,4.6529854806296907E-2,0.72388292165378088,0.75021297990925917,0,11.071457342126402]
[null,10.281435550093724,283.2814355500937,9.8274432646654564,18535.503215040244,0.9999460523924929,1.3399993151058758,4.464796167626401E-2,0.75021297990925917,0.77596653763129031,0,11.071457342126402]
[null,10.043226306118974,283.04322630611898,9.4627168218299467,12870.804673510225,0.99992231081613148,1.3752297216830878,4.2970650922639707E-2,0.77596653763129031,0.80117184421021559,0,11.071457342126402]
[null,9.8214588055528651,282.82145880555288,9.122612384214106,9160.1000877075257,0.99989084280376528,1.4089158698967426,4.1463395921389298E-2,0.80117184421021559,0.82585570080696247,0,11.071457342126402]
[null,13.14736945568759,286.14736945568757,14.167923858508669,1422496.320745558,0.99999929701097823,0.98395734527504786,7.0421597790509299E-2,0.82585570080696247,0.83660648495043766,0,11.071457342126402]
[null,15.373590521213622,288.3735905212136,17.480017188436172,39036871.80824466,0.99999997438319399,0.77736843171582004,9.9705884167462233E-2,0.83660648495043766,0.83098500601869707,0,11.071457342126402]
[null,17.363767308511246,290.36376730851123,20.397936443768426,722289397.25363195,0.99999999861551336,0.63162336109122352,0.1354451112965552,0.83098500601869707,0.80573128778961955,0,11.071457342126402]
[null,19.015186240331758,292.01518624033179,22.788987885849643,7890993524.3666162,0.99999999987327326,0.53280781790677045,0.17409381357425768,0.80573128778961955,0.76212304905690531,0,11.071457342126402]
[null,20.242617126520127,293.24261712652014,24.548709805600399,45853153210.698769,0.99999999997819122,0.47010206545355077,0.20941986237317031,0.76212304905690531,0.70694703708639184,0,11.071457342126402]
[null,20.982711917822321,293.98271191782231,25.602654907417882,131550271385.97899,0.9999999999923983,0.43613751598101808,0.23392277261126507,0.70694703708639184,0.65046238147537538,0,11.071457342126402]
[null,21.197274116317676,294.19727411631766,25.907214508515537,178385809098.34238,0.99999999999439415,0.42678783408310433,0.2415232253083143,0.65046238147537538,0.60246865948168871,0,11.071457342126402]
[null,20.875230107294943,293.87523010729495,25.44992301944766,112917468262.15619,0.99999999999114397,0.44090307053859851,0.23020178748592268,0.60246865948168871,0.5692464592592491,0,11.071457342126402]
[null,20.033200671585931,293.03320067158592,24.249520263783225,33996392866.859974,0.99999999997058509,0.48021711019599339,0.20294404903981181,0.5692464592592491,0.55289389690685886,0,11.071457342126402]
[null,19.015186240331758,292.01518624033179,22.788987885849643,7890993524.3666162,0.99999999987327326,0.53280781790677045,0.17409381357425768,0.55289389690685886,0.54968450444011352,0,11.071457342126402]
[null,16.86907144554166,289.86907144554164,19.676374703313584,351027351.64672107,0.99999999715121912,0.66489900230439547,0.12556358956788918,0.54968450444011352,0.56327985244092826,0,11.071457342126402]
[null,15.613674768346575,288.61367476834658,17.834153774808314,55625582.750446029,0.99999998202266061,0.75802489971399445,0.10348267551972211,0.56327985244092826,0.58242491788807149,0,11.071457342126402]
[null,14.722956650751566,287.72295665075154,16.517327789668641,14906796.228905153,0.99999993291650879,0.83248354124742974,9.0121198850678222E-2,0.58242491788807149,0.60397486388075494,0,11.071457342126402]
[null,14.032062003455207,287.03206200345522,15.490290000696273,5337617.7688453356,0.99999981265053883,0.89559753049520952,8.0909434622215642E-2,0.60397486388075494,0.62664058997715055,0,11.071457342126402]
[null,13.467559973556479,286.46755997355649,14.647461585764082,2297797.4364899984,0.99999956480081797,0.95095010957473458,7.4057730672709057E-2,0.62664058997715055,0.64979042533422293,0,11.071457342126402]
[null,12.990280307877136,285.99028030787713,13.932264509694937,1123842.8760744976,0.99999911019669074,1.0005955121768624,6.8700671998362009E-2,0.64979042533422293,0.67308174574896562,0,11.071457342126402]
[null,12.576841855961469,285.57684185596145,13.310800294091711,603680.4581290466,0.99999834349724259,1.0458342542310495,6.4361376031470921E-2,0.67308174574896562,0.69631686771825008,0,11.071457342126402]
[null,12.212163296361393,285.21216329636138,12.761134486278754,348409.74220789183,0.99999712982443179,1.0875481140058325,6.0752381214600956E-2,0.69631686771825008,0.71937751070060341,0,11.071457342126402]
[null,11.88594720866511,{"$f":"B2381+273","v":284.88594720866513},{"$f":"$C$5*$C$6*(C2381-$C$6)/C2381","v":12.268249231403576},{"$f":"EXP(D2381)","v":212830.04840749237},{"$f":"E2381/(1+E2381)","v":0.99999530143741955},{"$f":"$C$7*EXP($C$8/C2381)","v":1.1263658647000905},{"$f":"$C$4*EXP(-$C$2/C2381)","v":5.7688626483938035E-2},{"$f":"IF(J2380<1,J2380,J2380-J2380*F2380)","v":0.71937751070060341},{"$f":"G2381-(G2381-I2381)*EXP(-H2381)","v":0.74219172280931933},{"$f":"IF(J2381<1,0,J2381*F2381)","v":0},{"$f":"K2381+L2380","v":11.071457342126402}]
[null,11.590848862009604,284.59084886200958,11.821406869178309,136135.61938157037,0.99999265443783936,1.1627535570452578,5.5044815300830684E-2,0.74219172280931933,0.76471586572346317,0,11.071457342126402]
[null,11.321445178766382,284.3214451787664,11.412661824327273,90459.88975605258,0.99998894549895878,1.1970673913484815,5.2732660859328762E-2,0.76471586572346317,0.78692421340994845,0,11.071457342126402]
[null,11.073617814000265,284.07361781400027,11.035968208838062,62066.905852265823,0.99998388861382914,1.2295864828349015,5.0687904642825507E-2,0.78692421340994845,0.8088026657659878,0,11.071457342126402]
[null,10.84416551308704,283.84416551308703,10.686617954316619,43766.236998009532,0.99997715185904823,1.2605341124679965,4.8862503176865801E-2,0.8088026657659878,0.83034480763043539,0,11.071457342126402]
[null,10.630550531470025,283.63055053147002,10.360872585978557,31598.741915396891,0.99996835417192087,1.2900920361350849,4.7219713717653405E-2,0.83034480763043539,0.85154936376849899,0,11.071457342126402]
[null,12.80353394186416,285.80353394186415,13.65177746132365,848968.58421086904,0.99999882210149971,1.0207657324156114,6.6707117794684634E-2,0.85154936376849899,0.86246904097379451,0,11.071457342126402]
[null,13.66036299642944,286.66036299642946,14.935698940947981,3065431.6240588613,0.99999967378177157,0.93164552777990961,7.633304441794185E-2,0.86246904097379451,0.86755298791271684,0,11.071457342126402]
[null,14.426196514973435,287.42619651497341,16.076788933869818,9595347.7909512762,0.99999989578283999,0.85899188923246206,8.6047961985226018E-2,0.86755298791271684,0.86684712723252633,0,11.071457342126402]
[null,15.061447530680592,288.0614475306806,17.018707597362525,24611087.170646697,0.99999995936790798,0.80330812364355175,9.4992075243969118E-2,0.86684712723252633,0.8610892316898151,0,11.071457342126402]
[null,15.533279062314891,288.53327906231488,17.715631614591,49408429.961374722,0.99999997976053923,0.76444458724820907,0.10220299675393406,0.8610892316898151,0.85169984285794298,0,11.071457342126402]
[null,15.817301502039829,288.81730150203981,18.134052213859682,75079057.314734802,0.99999998668070667,0.74202082639696787,0.10679268846178952,0.85169984285794298,0.84059067102356633,0,11.071457342126402]
[null,15.898833347121442,288.89883334712147,18.254012584079476,84648046.09197785,0.99999998818637836,0.73571415760258363,0.10814616255755187,0.84059067102356633,0.82984045152133035,0,11.071457342126402]
[null,15.773660106593351,288.77366010659335,18.069813421750631,70407716.306662425,0.99999998579701144,0.74542024531998641,0.10607488063583129,0.82984045152133035,0.82134417412820093,0,11.071457342126402]
[null,15.448252153975375,288.44825215397537,17.590210087088437,43584410.502069861,0.99999997705601695,0.77129719244149419,0.10086605489932494,0.82134417412820093,0.81654237234865967,0,11.071457342126402]
[null,15.061447530680592,288.0614475306806,17.018707597362525,24611087.170646697,0.99999995936790798,0.80330812364355175,9.4992075243969118E-2,0.81654237234865967,0.81534308659776544,0,11.071457342126402]
[null,14.235796986790922,287.23579698679094,15.793662461766097,7229370.0604176726,0.99999986167538069,0.87647222359791377,8.3527875521972175E-2,0.81534308659776544,0.82024164281420964,0,11.071457342126402]
[null,13.752822379915436,286.75282237991541,15.073786695120122,3519349.3794976138,0.99999971585665193,0.92253649328997356,7.7447730486417454E-2,0.82024164281420964,0.82786512590608874,0,11.071457342126402]
[null,13.410146442901249,286.41014644290124,14.561554313947028,2108641.1936367308,0.99999952576117324,0.956780719414834,7.3392800115302789E-2,0.82786512590608874,0.83698774062447312,0,11.071457342126402]
[null,13.144346336264132,286.14434633626411,14.163391128020445,1416063.1193018081,0.99999929381728814,0.98427474351166788,7.038809388735516E-2,0.83698774062447312,0.84699853866255248,0,11.071457342126402]
[null,12.927171836025764,285.92717183602576,13.837518597202841,1022252.0025651288,0.99999902176858613,1.0073638505975531,6.8020691821615853E-2,0.84699853866255248,0.85754397840194485,0,11.071457342126402]
[null,12.743553412392385,285.74355341239237,13.561610843341041,775769.59649185697,0.99999871095913595,1.0273357126475404,6.6078629825744181E-2,0.85754397840194485,0.86840092722445261,0,11.071457342126402]
[null,12.584495899011579,285.58449589901159,13.322321894488752,610676.04593178397,0.99999836247324725,1.0449772243421203,6.4439275372385196E-2,0.86840092722445261,0.87942051580740344,0,11.071457342126402]
[null,12.44419722915028,285.44419722915029,13.111032728246396,494366.65044375393,0.99999797721392347,1.0608061357092013,6.3025589623223244E-2,0.87942051580740344,0.89049964981591823,0,11.071457342126402]
[null,12.318695792374461,285.31869579237446,12.921852053688294,409156.11181900959,0.99999755595107331,1.0751821130437729,6.178616265337817E-2,0.89049964981591823,0.90156510453421801,0,11.071457342126402]
[null,12.205165933203581,285.2051659332036,12.750573888439067,344749.68723726011,0.99999709935313541,1.0883656341609271,6.0685061224990962E-2,0.90156510453421801,0.91256399665094357,0,11.071457342126402]
[null,12.101521292136093,285.10152129213611,12.594090064484563,294811.09211386979,0.99999660800887502,1.1005516749458129,5.9696231183465662E-2,0.91256399665094357,0.92345775933758678,0,11.071457342126402]
[null,12.006177464766456,285.00617746476644,12.450038395477042,255260.12327538623,0.9999960824430012,1.1118901503045708,5.880020996882742E-2,0.92345775933758678,0.93421816626605469,0,11.071457342126402]
[null,11.917902868502713,284.91790286850272,12.316581429212624,223369.23180620818,0.99999552312771534,1.1224989217163208,5.7982095344846905E-2,0.93421816626605469,0.94482461556361419,0,11.071457342126402]
[null,11.835721185498976,284.83572118549898,12.192261612971983,197256.78044008245,0.99999493049147281,1.1324724049017059,5.7230236816387864E-2,0.94482461556361419,0.95526222096901292,0,11.071457342126402]
[null,13.432931344640776,286.43293134464079,14.595651248335487,2181779.19923183,0.99999954165868754,0.95446226088299368,7.3655996131868323E-2,0.95526222096901292,0.95520541677561732,0,11.071457342126402]
[null,14.033097628046042,287.03309762804605,15.491833191001055,5345861.0877058087,0.99999981293943174,0.895499195786852,8.0922544142437075E-2,0.95520541677561732,0.95056416106162167,0,11.071457342126402]
[null,14.569429943305479,287.56942994330547,16.289531720379699,11870082.541819969,0.99999991575459457,0.84608685092073865,8.799147488365304E-2,0.95056416106162167,0.94176389970754437,0,11.071457342126402]
[null,15.014163887058672,288.01416388705866,16.948740884349739,22947989.435795177,0.9999999564231995,0.80731728401256941,9.4296862505679285E-2,0.94176389970754437,0.92966539476295085,0,11.071457342126402]
[null,15.344276843939879,288.34427684393989,17.436737611946224,37383411.153695315,0.99999997325016787,0.77976603367512376,9.9253871649141359E-2,0.92966539476295085,0.91550182307459838,0,11.071457342126402]
[null,15.542679802102187,288.54267980210221,17.729493923742336,50098114.155624844,0.99999998003916923,0.76369094414880034,0.10235184654811683,0.91550182307459838,0.90073242802698228,0,11.071457342126402]
[null,15.599102002910341,288.59910200291034,17.812674994525878,54443552.803817309,0.9999999816323526,0.75918427302564084,0.10324958712146032,0.90073242802698228,0.88684681479595595,0,11.071457342126402]
[null,15.510622628995794,288.5106226289958,17.682218778235832,47784829.768793151,0.99999997907285676,0.76626417924020773,0.1018451076872276,0.88684681479595595,0.87517073004634172,0,11.071457342126402]
[null,15.28182200669084,288.28182200669085,17.344498097591924,34089435.933726169,0.99999997066539992,0.78490062147293593,9.8297346717176812E-2,0.87517073004634172,0.86671958423540829,0,11.071457342126402]
[null,15.014163887058672,288.01416388705866,16.948740884349739,22947989.435795177,0.9999999564231995,0.80731728401256941,9.4296862505679285E-2,0.86671958423540829,0.8613741241116909,0,11.071457342126402]
[null,14.436063428461409,287.43606342846141,16.091450934601522,9737071.2229162827,0.99999989729972449,0.85809620674450027,8.6180518503764639E-2,0.8613741241116909,0.86110346189684861,0,11.071457342126402]
[null,14.097896338532307,287.09789633853228,15.588367989852287,5887652.9153472865,0.99999983015306027,0.88936924894591896,8.1746851163700437E-2,0.86110346189684861,0.86332217899621544,0,11.071457342126402]
[null,13.857962969864147,286.85796296986416,15.23070561824629,4117289.5073024151,0.99999975712182609,0.91229331099935373,7.873419926144487E-2,0.86332217899621544,0.8670300004605983,0,11.071457342126402]
[null,13.671856190574418,286.67185619057443,14.952868832763805,3118519.2032067329,0.99999967933509004,0.93050802804612687,7.6470766822272482E-2,0.8670300004605983,0.8717032531736576,0,11.071457342126402]
[null,13.519795879935044,286.51979587993503,14.725591720563818,2484524.1756425258,0.99999959750860656,0.94567819952129306,7.4667694845701668E-2,0.8717032531736576,0.87702561507822363,0,11.071457342126402]
[null,13.391230719171887,286.39123071917186,14.533243368817784,2049780.6980224696,0.99999951214317073,0.95871003196266091,7.3174981230434796E-2,0.87702561507822363,0.88278941607185191,0,11.071457342126402]
[null,13.279862511266883,286.27986251126686,14.366484002456183,1734941.0649474896,0.99999942361187721,0.9701534281778138,7.190502232113398E-2,0.88278941607185191,0.88885079416242174,0,11.071457342126402]
[null,13.181628790005941,286.18162879000596,14.219284085201032,1497464.7735676935,0.9999993322051044,0.98036805824142825,7.0802345396539609E-2,0.88885079416242174,0.89510636357897166,0,11.071457342126402]
[null,13.093755731977156,286.09375573197718,14.087523616517048,1312604.1419096508,0.99999923815626801,0.9896024860550201,6.9829675685405906E-2,0.89510636357897166,0.90147987730850421,0,11.071457342126402]
[null,13.014264881838578,286.01426488183859,13.968262028054339,1165035.396817076,0.99999914165771753,0.99803590486188598,6.8960800190628641E-2,0.90147987730850421,0.90791405553387583,0,11.071457342126402]
[null,12.94169542133778,285.94169542133778,13.859326828490151,1044790.3784663153,0.99999904287112185,1.0058018967468338,6.8176608193760244E-2,0.90791405553387583,0.91436530573500518,0,11.071457342126402]
[null,12.87493798898978,285.87493798898976,13.759067319401574,945120.12934961542,0.99999894193456373,1.013002789527546,6.7462752763950792E-2,0.91436530573500518,0.92080016490587846,0,11.071457342126402]
[null,12.813130260574624,285.81313026057461,13.666199757602469,861301.3805144541,0.99999883896756514,1.0197187582116749,6.6808198528782239E-2,0.92080016490587846,0.92719281951974719,0,11.071457342126402]
[null,12.755588642048053,285.75558864204805,13.579706015886813,789935.05790988565,0.99999873407475204,1.0260138270763606,6.6204281798554421E-2,0.92719281951974719,0.93352332791773118,0,11.071457342126402]
[null,11.141730001863225,284.14173000186321,11.139563121562677,68841.57447397396,0.99998547410512117,1.2205563078540274,5.1242197876451429E-2,0.93352332791773118,0.94786104349392164,0,11.071457342126402]
[null,12.79317283483055,285.79317283483056,13.636204678161389,835850.19059940928,0.99999880361479265,1.0218974322638461,6.6598145422585936E-2,0.94786104349392164,0.95263112737228584,0,11.071457342126402]
[null,14.268721603560822,287.26872160356083,15.842648615879625,7592326.4372636396,0.99999986828808318,0.87342255149181602,8.39585557997483E-2,0.95263112737228584,0.94625241021980555,0,11.071457342126402]
[null,15.491887345497291,288.49188734549728,17.654584738546848,46482420.185455538,0.99999997848649069,0.76777234211009482,0.10155006308223961,0.94625241021980555,0.92901765189566266,0,11.071457342126402]
[null,16.399264038000535,289.39926403800052,18.988831363856708,176499987.56011844,0.99999999433427722,0.69823554110012331,0.11681945616656678,0.92901765189566266,0.90357295876897059,0,11.071457342126402]
[null,16.943815416781252,289.94381541678126,19.785553916613839,391522646.27508432,0.99999999744586932,0.65975373282716898,0.12701112111726434,0.90357295876897059,0.87449114700744446,0,11.071457342126402]
[null,17.097313224729625,290.09731322472965,20.009593183317183,489841870.30243385,0.9999999979585249,0.64931981764423441,0.13003396976545772,0.87449114700744446,0.84703501667936176,0,11.071457342126402]
[null,16.851800498081726,289.85180049808173,19.65113886117647,342279721.95317936,0.99999999707841292,0.66609398539801035,0.12523135921968476,0.84703501667936176,0.82573694591055202,0,11.071457342126402]
[null,16.220004036624683,289.22000403662469,18.725903165212014,135692677.88076958,0.99999999263040562,0.71142133311283862,0.11363888591990816,0.82573694591055202,0.81345718804495204,0,11.071457342126402]
[null,15.491887345497291,288.49188734549728,17.654584738546848,46482420.185455538,0.99999997848649069,0.76777234211009482,0.10155006308223961,0.81345718804495204,0.80904567427144214,0,11.071457342126402]
[null,13.901740497965488,{"$f":"B2445+273","v":286.90174049796548},{"$f":"$C$5*$C$6*(C2445-$C$6)/C2445","v":15.296008246870219},{"$f":"EXP(D2445)","v":4395132.5453925226},{"$f":"E2445/(1+E2445)","v":0.99999977247562799},{"$f":"$C$7*EXP($C$8/C2445)","v":0.90806414368732979},{"$f":"$C$4*EXP(-$C$2/C2445)","v":7.9275846619969018E-2},{"$f":"IF(J2444<1,J2444,J2444-J2444*F2444)","v":0.80904567427144214},{"$f":"G2445-(G2445-I2445)*EXP(-H2445)","v":0.81659236035228644},{"$f":"IF(J2445<1,0,J2445*F2445)","v":0},{"$f":"K2445+L2444","v":11.071457342126402}]
[null,12.97156422151942,285.97156422151943,13.90417006600477,1092708.5345076006,0.99999908484371336,1.0025977305719758,6.8498335579051176E-2,0.81659236035228644,0.82890684322218433,0,11.071457342126402]
[null,12.311593650433686,285.31159365043368,12.911141320059734,404797.13528277399,0.99999752963288902,1.0760018321426565,6.1716724326033374E-2,0.82890684322218433,0.84369568328342215,0,11.071457342126402]
[null,11.799680705216627,284.79968070521664,12.137718974938089,186786.02230909467,0.99999464630900137,1.1368759766297107,5.6903459573895615E-2,0.84369568328342215,0.85991287343428524,0,11.071457342126402]
[null,11.381417373987617,284.38141737398763,11.503719934868563,99083.671107371862,0.99998990762154405,1.1893365035074166,5.3239195132238529E-2,0.85991287343428524,0.87699243722292297,0,11.071457342126402]
[null,11.027780766284501,284.02778076628448,10.966224596812445,57885.638716605747,0.99998272485633699,1.2357035023247285,5.0318116715718397E-2,0.87699243722292297,0.89459551172117124,0,11.071457342126402]
[null,10.721446802901882,283.72144680290188,10.49954191554491,36298.870916658423,0.99997245169267146,1.2774254781502659,4.7912185178251882E-2,0.89459551172117124,0.91250525844389263,0,11.071457342126402]
[null,10.451241097541551,283.45124109754153,10.087061334991642,24030.072240563473,0.99995838720844454,1.3154729803917866,4.5881639065834069E-2,0.91250525844389263,0.93057634249349053,0,11.071457342126402]
[null,10.209533857684821,283.20953385768485,9.7174179422535243,16604.316028277684,0.99993977832169545,1.3505309701322057,4.4135193147636177E-2,0.93057634249349053,0.94870805463121821,0,11.071457342126402]
[null,9.990883062869349,282.99088306286933,9.3824908588091027,11878.565765384767,0.9999158218389671,1.3831025112350679,4.2610244794043267E-2,0.94870805463121821,0.9668289002790611,0,11.071457342126402]
[null,9.7912705264558149,282.79127052645583,9.0762741457576386,8745.3214572847428,0.99988566621923469,1.4135689341252373,4.1262171176825638E-2,0.9668289002790611,0.98488723884407992,0,11.071457342126402]
[null,9.6076447932137583,282.60764479321375,8.7942000796576263,6595.8772890132523,0.99984841312697059,1.4422268122247608,4.0058151777674349E-2,0.98488723884407992,1.002845331571278,1.0026933133833329,12.074150655509735]
[null,9.4376339187526987,282.43763391875268,8.5327132909081396,5078.2058086223169,0.99980311882650974,1.4693117648590739,3.8973410879012634E-2,1.5201818794507993E-4,5.6308766640623231E-2,0,12.074150655509735]
[null,9.2793575812387559,282.27935758123874,8.288991798954422,3979.8197127737112,0.99974879545617423,1.4950143754390994,3.7988831322513732E-2,5.6308766640623231E-2,0.10993839833555885,0,12.074150655509735]
[null,8.9148193369116946,281.91481933691171,7.7266173351322838,2267.9176057022555,0.99955926121006478,1.5560505642097073,3.5810836546759789E-2,0.10993839833555885,0.16080859628386213,0,12.074150655509735]
[null,9.6873473654410329,282.68734736544104,8.9166790656001655,7455.2895459046049,0.9998658850365395,1.4297126315754844,4.0576570479983608E-2,0.16080859628386213,0.21126575823334415,0,12.074150655509735]
[null,10.37748780950751,283.3774878095075,9.9743371254450555,21468.394846271502,0.99995342206861626,1.3260665002412249,4.5341852849468761E-2,0.21126575823334415,0.2606840644166657,0,12.074150655509735]
[null,10.949420529572247,283.94942052957225,10.846942997672549,51376.851890153746,0.99998053636025619,1.2462359749975982,4.969191491801233E-2,0.2606840644166657,0.30846112834014461,0,12.074150655509735]
[null,11.373460683925558,284.37346068392554,11.491641193437582,97894.064005534732,0.99998978498037505,1.190359116667232,5.3171725119295514E-2,0.30846112834014461,0.35412830565598175,0,12.074150655509735]
[null,11.627599451566422,284.62759945156643,11.877105675795473,143933.35742788168,0.99999305238847858,1.1581544707265827,5.5367639204928376E-2,0.35412830565598175,0.39743536850233752,0,12.074150655509735]
[null,11.69864634902528,284.6986463490253,11.984742834727191,160290.46181334869,0.999993761364525,1.1493182818003185,5.5996866227517289E-2,0.39743536850233752,0.43838133375863797,0,12.074150655509735]
[null,11.582913851824093,284.58291385182412,11.809378762908844,134507.97405337548,0.99999256555180027,1.1637491208413566,5.4975349274402459E-2,0.43838133375863797,0.47718235940343512,0,12.074150655509735]
[null,11.286408786884209,284.28640878688418,11.359446932856882,85771.917741926183,0.99998834130834857,1.2016086115433466,5.2438873416604158E-2,0.47718235940343512,0.51419161374591515,0,12.074150655509735]
[null,10.949420529572247,283.94942052957225,10.846942997672549,51376.851890153746,0.99998053636025619,1.2462359749975982,4.969191491801233E-2,0.51419161374591515,0.54967927286041884,0,12.074150655509735]
[null,10.205815440633028,283.20581544063305,9.7117264312149043,16510.080805102803,0.99993943461292423,1.3510780092410193,4.4108828872692532E-2,0.54967927286041884,0.58425977345302205,0,12.074150655509735]
[null,9.7708343482581643,282.77083434825818,9.0448995174589459,8475.1998870144289,0.99988202260289638,1.4167281459085674,4.1126480951775526E-2,0.58425977345302205,0.6178018076198204,0,12.074150655509735]
[null,9.462210351693809,282.46221035169378,8.5705327620869429,5273.9387965012802,0.99981042434072154,1.4653631616001839,3.9128463569529204E-2,0.6178018076198204,0.6503251377838849,0,12.074150655509735]
[null,9.2228229820630592,282.22282298206306,8.2018708522289394,3647.7683631290779,0.99972593491817541,1.5043107378842935,3.7642950202122695E-2,0.6503251377838849,0.68187415093349923,0,12.074150655509735]
[null,9.0272292593189452,282.02722925931897,7.9001875584201127,2697.7882737262789,0.99962946333740388,1.5369512320109826,3.6469381807705883E-2,0.68187415093349923,0.71249650045782364,0,12.074150655509735]
[null,8.8618571230716476,281.86185712307167,7.6447913135139398,2089.7324314090861,0.99952169871908192,1.5651366815546244,3.5504516956137419E-2,0.71249650045782364,0.74223797566587202,0,12.074150655509735]
[null,8.7186052627545898,281.71860526275458,7.4233146600392965,1674.5749653675398,0.99940318993738331,1.5899969048383227,3.4688488706265355E-2,0.74223797566587202,0.77114124809013307,0,12.074150655509735]
[null,8.5922481669440813,281.5922481669441,7.2277713638728889,1377.1499154637465,0.99927438953572512,1.612274193348187,3.3983615500472096E-2,0.77114124809013307,0.79924573589468384,0,12.074150655509735]
[null,8.47921789312384,281.47921789312386,7.0527031625697507,1155.9793232029867,0.99913568031861488,1.6324835383589453,3.3364709333603158E-2,0.79924573589468384,0.82658780646665531,0,12.074150655509735]
[null,8.3769695731163125,281.3769695731163,6.8942135447267452,986.54954254799486,0.99898739257433111,1.6509974861529522,3.2814138792457329E-2,0.82658780646665531,0.85320106653093419,0,12.074150655509735]
[null,8.2836241703797278,281.28362417037971,6.7494232481956464,853.56632461471804,0.99882981581277397,1.6680946167290123,3.231910282277866E-2,0.85320106653093419,0.87911665493675595,0,12.074150655509735]
[null,8.1977547238497213,281.1977547238497,6.6161441987231964,747.0590254838902,0.99866320709204315,1.6839889302233331,3.187002742807063E-2,0.87911665493675595,0.90436351053905528,0,12.074150655509735]
[null,8.1182520341324285,281.11825203413241,6.4926744824305249,660.28692964273125,0.99848779711926217,1.6988485294471134,3.145957380766725E-2,0.90436351053905528,0.92896860840255557,0,12.074150655509735]
[null,8.0442368007489762,281.04423680074899,6.3776641374884653,588.55132578686539,0.99830379484150034,1.7128079724224459,3.1081998665820787E-2,0.92896860840255557,0.95295716509674366,0,12.074150655509735]
[null,8.8173273641746164,281.81732736417462,7.575969539457077,1950.7506758573645,0.99948763947548747,1.5728198477369966,3.5248908971670073E-2,0.95295716509674366,0.9744260481674123,0,12.074150655509735]
[null,10.255811035740152,283.25581103574018,9.7882385568789427,17822.88450475151,0.99994389550719243,1.3437425492075961,4.4464570110316869E-2,0.9744260481674123,0.99048781169604361,0,12.074150655509735]
[null,11.540704215092296,284.54070421509232,11.745384961170878,126169.93417070495,0.99999207424430536,1.1690602237405672,5.4607236583317086E-2,0.99048781169604361,0.9999776915130274,0,12.074150655509735]
[null,12.605241004996044,285.60524100499606,13.353546314465353,630044.86773914541,0.99999841281396928,1.042658136741923,6.465086288099646E-2,0.9999776915130274,1.0026497142082484,1.0026481228166284,13.076798778326364]
[null,13.394105714575495,286.39410571457552,14.537546582223452,2058620.3476093949,0.99999951423801126,0.95841652934875832,7.3208047604468127E-2,1.5913916200371858E-6,6.7658546858136659E-2,0,13.076798778326364]
[null,13.866307185204793,286.86630718520479,15.243154162610173,4168864.1167747579,0.999999760126564,0.91148559434183996,7.8837166431523401E-2,6.7658546858136659E-2,0.13162873660353347,0,13.076798778326364]
[null,13.997308781956704,286.99730878195669,15.438497562809784,5068206.4866217291,0.99999980269158228,0.89890410283616251,8.0470683458942732E-2,0.13162873660353347,0.19095296940835971,0,13.076798778326364]
[null,13.780303371532593,286.78030337153257,15.114812291162092,3666735.4138921816,0.99999972727791497,0.91984741756830157,7.7782027252959074E-2,0.19095296940835971,0.24549900875883734,0,13.076798778326364]
[null,13.226567035994876,286.22656703599489,14.286635069199184,1601794.4166594639,0.99999937570054853,0.97568109888999566,7.1304758424375683E-2,0.24549900875883734,0.29575155345405357,0,13.076798778326364]
[null,12.605241004996046,285.60524100499606,13.353546314465353,630044.86773914541,0.99999841281396928,1.042658136741923,6.465086288099646E-2,0.29575155345405357,0.34251187497956648,0,13.076798778326364]
[null,11.221037240381724,284.22103724038175,11.260122530023922,77662.091158647512,0.99998712387074629,1.2101308336736198,5.1894897216932495E-2,0.34251187497956648,0.38638853770696424,0,13.076798778326364]
[null,10.411329944725292,283.41132994472531,10.026068583978084,22608.21430346345,0.99995577024541504,1.3211943656088085,4.558877885562513E-2,0.38638853770696424,0.42804836844947736,0,13.076798778326364]
[null,9.8368334757674045,282.83683347576738,9.1462083091159307,9378.8113208688537,0.99989338804739336,1.406552368605305,4.1566238480978908E-2,0.42804836844947736,0.46788738422881193,0,13.076798778326364]
[null,9.3912193948892018,282.39121939488922,8.461270293513051,4728.0602087547704,0.99978854149538021,1.4767999444277009,3.8682182734555155E-2,0.46788738422881193,0.50616913997717106,0,13.076798778326364]
[null,9.0271261801109723,282.027126180111,7.9000284589728151,2697.3590912452564,0.99962940440238501,1.5369686312206077,3.6468772654674943E-2,0.50616913997717106,0.54308392265761463,0,13.076798778326364]
[null,8.7192897532753673,281.71928975327535,7.4243734622624187,1676.348948046329,0.99940382113026349,1.5898771224224504,3.4692344886513085E-2,0.54308392265761463,0.57877691672565978,0,13.076798778326364]
[null,8.452629711153083,281.45262971115307,7.0115013315323766,1109.3187104854576,0.9990993576974283,1.6372764606815193,3.3220697604084221E-2,0.57877691672565978,0.61336333670799537,0,13.076798778326364]
[null,8.2174188844545402,281.21741888445456,6.6466723754343739,770.21706324106538,0.99870334819123752,1.6803349448713387,3.1972336093636138E-2,0.61336333670799537,0.64693733205413828,0,13.076798778326364]
[null,8.0070156302748803,281.00701563027491,6.3198042346189292,555.46424113804142,0.99820293933361315,1.7198740592846915,3.0893763306232155E-2,0.64693733205413828,0.6795775989923627,0,13.076798778326364]
[null,7.8166827350524857,280.8166827350525,6.023694075794026,413.10180995671408,0.99758513492103662,1.7564951644492295,2.9948127296306314E-2,0.6795775989923627,0.71135111000992746,0,13.076798778326364]
[null,7.6429224154966517,280.64292241549663,5.7530159700865244,315.13968030721639,0.99683684123730298,1.790652761619409,2.9109054596592875E-2,0.71135111000992746,0.74231569932949371,0,13.076798778326364]
[null,7.4830784164167898,280.48307841641679,5.5037200920337845,245.60390402988045,0.99594491415724373,1.82269938730484,2.8357076424495888E-2,0.74231569932949371,0.77252191801026626,0,13.076798778326364]
[null,7.3350859886610467,280.33508598866104,5.2726547052135935,194.93276519046108,0.99489620840583792,1.8529144357872498,2.7677446885590536E-2,0.77252191801026626,0.80201440350566755,0,13.076798778326364]
[null,7.1973083346184481,280.19730833461847,5.0573185814141857,157.16851621626316,0.99367762925313974,1.8815233869375916,2.705875274410444E-2,0.80201440350566755,0.83083291534949621,0,13.076798778326364]
[null,9.9821548618335711,282.98215486183358,9.3691103457005571,11720.683091621142,0.99991468801944361,1.3844199553398349,4.255042915397711E-2,0.83083291534949621,0.85389416901829962,0,13.076798778326364]
[null,11.292415322069324,284.2924153220693,11.368570867709037,86558.076106683424,0.99998844719646995,1.2008287768599326,5.2489128096594437E-2,0.85389416901829962,0.87163479613989425,0,13.076798778326364]
[null,12.462626650490584,{"$f":"B2509+273","v":285.46262665049056},{"$f":"$C$5*$C$6*(C2509-$C$6)/C2509","v":13.138799202914756},{"$f":"EXP(D2509)","v":508285.8183634014},{"$f":"E2509/(1+E2509)","v":0.99999803260685927},{"$f":"$C$7*EXP($C$8/C2509)","v":1.0587123794369768},{"$f":"$C$4*EXP(-$C$2/C2509)","v":6.3209583675713013E-2},{"$f":"IF(J2508<1,J2508,J2508-J2508*F2508)","v":0.87163479613989425},{"$f":"G2509-(G2509-I2509)*EXP(-H2509)","v":0.88309391414744232},{"$f":"IF(J2509<1,0,J2509*F2509)","v":0},{"$f":"K2509+L2508","v":13.076798778326364}]
[null,13.43191893626245,286.43191893626243,14.594136324177287,2178476.4715376846,0.99999954096380927,0.95456515045566881,7.3644282342070197E-2,0.88309391414744232,0.88816822201276913,0,13.076798778326364]
[null,14.14987330753253,287.14987330753252,15.66576992733226,6361469.2789107896,0.99999984280363563,0.88448456051711388,8.2413844652603693E-2,0.88816822201276913,0.88787681040338384,0,13.076798778326364]
[null,14.579144528016281,287.57914452801629,16.303952995312017,12042504.549964488,0.99999991696080226,0.8452191019562264,8.8124798175489433E-2,0.88787681040338384,0.88427848759855987,0,13.076798778326364]
[null,14.697403553138408,287.69740355313843,16.479430110238241,14352434.11089965,0.99999993032541223,0.83473141678440088,8.9763342395136003E-2,0.88427848759855987,0.88002474768324179,0,13.076798778326364]
[null,14.498499001400736,287.49849900140072,16.1842053909232,10683439.507609069,0.99999990639719483,0.85245156059079708,8.7023839934041072E-2,0.88002474768324179,0.87772666708799452,0,13.076798778326364]
[null,13.992777125685008,286.992777125685,15.431743148588202,5034089.0719349999,0.99999980135436872,0.89933622219494247,8.0413640194677324E-2,0.87772666708799452,0.87939633828111441,0,13.076798778326364]
[null,13.431918936262452,286.43191893626243,14.594136324177287,2178476.4715376846,0.99999954096380927,0.95456515045566881,7.3644282342070197E-2,0.87939633828111441,0.88473316627720033,0,13.076798778326364]
[null,12.171449357550637,285.17144935755061,12.699680712867064,327643.27289012971,0.99999694790941662,1.0923140169941195,6.0361680159311093E-2,0.88473316627720033,0.89689242683287906,0,13.076798778326364]
[null,11.434121920704431,284.43412192070446,11.58371159201058,107335.16404260923,0.999990683475519,1.182586369529314,5.3688182399639531E-2,0.89689242683287906,0.91182634100491855,0,13.076798778326364]
[null,10.910979778838822,283.91097977883885,10.788403605832205,48455.619969388659,0.99997936298485879,1.2514377503425897,4.9387452960974139E-2,0.91182634100491855,0.92819144194622571,0,13.076798778326364]
[null,10.505199208700652,283.50519920870067,10.16949353078269,26094.857174762437,0.99996167974122085,1.307779832541474,4.6280433749462474E-2,0.92819144194622571,0.94535864054862095,0,13.076798778326364]
[null,10.173652341992618,283.17365234199264,9.6624904730424408,15716.878428942551,0.99993637818204784,1.3558195783321094,4.3881413974920944E-2,0.94535864054862095,0.96298077710223473,0,13.076798778326364]
[null,9.8933334603619656,282.89333346036199,9.2328983425776165,10228.143256074596,0.99990224010213113,1.3979029954511524,4.194627092497745E-2,0.96298077710223473,0.98084681593604062,0,13.076798778326364]
[null,9.6505102001270089,282.65051020012703,8.8600799585437109,7045.0460336664009,0.99985807643106195,1.4354820420141123,4.0336173945959626E-2,0.98084681593604062,0.99882013716425977,0,13.076798778326364]
[null,9.436324905146412,282.43632490514642,8.5306987292447651,5067.9857478093709,0.99980272187578512,1.4695223966654267,3.8965168814321084E-2,0.99882013716425977,1.0168083965025989,1.0166078024494509,14.093406580775815]
[null,9.2447296299888375,282.24472962998885,8.2356335760754025,3773.0296412235825,0.99973503122787455,1.5007011985616248,3.7776617148518758E-2,2.005940531479844E-4,5.5827124742455991E-2,0,14.093406580775815]
[null,9.0714106213363674,282.07141062133638,7.9683693658469235,2888.1440161199007,0.99965387672112549,1.5295129291121037,3.6731372086721795E-2,5.5827124742455991E-2,0.10897554369390039,0,14.093406580775815]
[null,8.9131827632808029,281.91318276328082,7.7240893077160484,2262.1914887571875,0.99955814609370541,1.5563304899591519,3.5801333309364948E-2,0.10897554369390039,0.1598761884210016,0,14.093406580775815]
[null,8.7676272436886826,281.76762724368871,7.4991311637634723,1806.4722039158892,0.999446741146097,1.5814425466230639,3.4965700478587249E-2,0.1598761884210016,0.20872328876749369,0,14.093406580775815]
[null,8.6328638816501506,281.63286388165017,7.2906451471877958,1466.5165110795774,0.99931857666169333,1.6050774550759352,3.420867963508642E-2,0.20872328876749369,0.25568292808102844,0,14.093406580775815]
[null,8.5074021931426316,281.50740219314264,7.0963698873900514,1207.5754733585516,0.999172579601321,1.6274191940984275,3.3518018033774043E-2,0.25568292808102844,0.30089880263661928,0,14.093406580775815]
[null,8.817510401538863,281.81751040153887,7.576252472459454,1951.3026856901913,0.99948778434444119,1.5727881844117884,3.5249956024756932E-2,0.30089880263661928,0.34495185193749878,0,14.093406580775815]
[null,10.729980183696519,283.72998018369651,10.512555689332421,36774.343346416506,0.99997280786774501,1.2762431553283617,4.7977690850981032E-2,0.34495185193749878,0.3885781456249956,0,14.093406580775815]
[null,12.437837611768424,285.43783761176843,13.101450252093645,489652.01880403643,0.99999795773749656,1.0615296717015479,6.2962215904770899E-2,0.3885781456249956,0.42964235334326306,0,14.093406580775815]
[null,13.85216398579515,286.85216398579513,15.222053819753055,4081821.2017073496,0.99999975501137717,0.91285509953836697,7.8662715803942518E-2,0.42964235334326306,0.46619660460518397,0,14.093406580775815]
[null,14.899323145972199,287.89932314597218,16.778712660764555,19359864.886099294,0.99999994834674966,0.81714365830111757,9.262853706942889E-2,0.46619660460518397,0.4972441752937421,0,14.093406580775815]
[null,15.524795300633661,288.52479530063368,17.703120703781092,48794136.200661339,0.9999999795057346,0.76512539824261561,0.10206884377039027,0.4972441752937421,0.52323739063826258,0,14.093406580775815]
[null,15.69601557056939,288.69601557056939,17.955475037061071,62800590.675879836,0.99999998407658319,0.75150943305820694,0.10480917257529249,0.52323739063826258,0.54595129305866763,0,14.093406580775815]
[null,15.404069462356722,288.40406946235674,17.525007865314496,40833274.779745273,0.99999997551016961,0.7748838529329658,0.10017794977271559,0.54595129305866763,0.56777396498880794,0,14.093406580775815]
[null,14.664156996778301,287.66415699677827,16.430112219455498,13661773.283471731,0.99999992680306526,0.83766576590955799,8.9299775264965978E-2,0.56777396498880794,0.59083045270665291,0,14.093406580775815]
[null,13.85216398579515,286.85216398579513,15.222053819753055,4081821.2017073496,0.99999975501137717,0.91285509953836697,7.8662715803942518E-2,0.59083045270665291,0.61519108877328721,0,14.093406580775815]
[null,12.012825275157113,285.01282527515713,12.460085466403688,257837.66653647993,0.99999612160575668,1.1110955578649735,5.8862265482823403E-2,0.61519108877328721,0.64353866370867374,0,14.093406580775815]
[null,10.936881103309057,283.93688110330908,10.827849108717819,50405.174060347461,0.99998016116044031,1.2479302661020129,4.9592402364829376E-2,0.64353866370867374,0.67278080819539654,0,14.093406580775815]
[null,10.173486564519074,283.17348656451907,9.662236668373442,15712.889917987961,0.99993636203351177,1.355844063536491,4.3880244724868234E-2,0.67278080819539654,0.7021056942026751,0,14.093406580775815]
[null,9.5813517575507916,282.58135175755081,8.753780401860574,6334.5901964377172,0.99984216150840022,1.4463806485967265,3.988852454501117E-2,0.7021056942026751,0.73120941299393283,0,14.093406580775815]
[null,9.0975423926710199,282.09754239267102,8.0086865318628533,3006.9649652691905,0.99966754931937496,1.5251314709657595,3.688717643258068E-2,0.73120941299393283,0.75996140602449525,0,14.093406580775815]
[null,8.6884874031543653,281.68848740315434,7.3767218399097949,1598.3415508022758,0.99937474268739013,1.5952769018733222,3.451922042913657E-2,0.75996140602449525,0.7883038518917117,0,14.093406580775815]
[null,8.334147853881035,281.33414785388106,6.8278036757832856,923.16102334599111,0.9989179374862841,1.6588174335679593,3.258615000008841E-2,0.7883038518917117,0.81621333709219812,0,14.093406580775815]
[null,8.0215982208229661,281.02159822082297,6.3424745384451722,568.20060742037776,0.99824315015310328,1.7171020028853325,3.0967380294834541E-2,0.81621333709219812,0.84368395716337263,0,14.093406580775815]
[null,7.7420130469127537,280.74201304691275,5.9074171492622165,367.75507122680671,0.99728817288756699,1.7710878970123964,2.9584758147764508E-2,0.84368395716337263,0.87071909259324065,0,14.093406580775815]
[null,7.4890974928303615,280.48909749283035,5.5131127114911829,247.92163578445465,0.99598267142649699,1.8214816462086523,2.8385053047500077E-2,0.87071909259324065,0.89732711651986918,0,14.093406580775815]
[null,7.2582036820329821,280.25820368203296,5.1525195441391531,172.8664868340334,0.99424846030877378,1.8688211807307751,2.7330555734268E-2,0.89732711651986918,0.92351903895140475,0,14.093406580775815]
[null,7.0458019658357278,280.04580196583572,4.8202809032755054,123.99991787116529,0.99199999474375111,1.9135265491277145,2.6393685647944105E-2,0.92351903895140475,0.94930716705014939,0,14.093406580775815]
[null,6.8491486925163292,279.84914869251634,4.5122263420235615,91.124467074741474,0.98914512038166047,1.9559326987475385,2.5553729332135313E-2,0.94930716705014939,0.9747043253721599,0,14.093406580775815]
[null,6.6660688750646999,279.6660688750647,4.2250449980634963,68.377580338034591,0.98558612169626536,1.9963114783556615,2.4794779778897998E-2,0.9747043253721599,0.99972339680975175,0,14.093406580775815]
[null,10.892634906017312,283.89263490601729,10.760461578575864,47120.412784806686,0.99997877822542025,1.2539283118253319,4.9242785569017157E-2,0.99972339680975175,1.0119379475717842,1.0119164724527723,15.105323053228588]
[null,12.117914391422971,285.11791439142297,12.618848120989529,302201.14599557011,0.99999669095665522,1.0986146160936807,5.9851598967420545E-2,2.1475119011959976E-5,6.3845009600464353E-2,0,15.105323053228588]
[null,13.211992729382475,286.21199272938247,14.264794213297051,1567189.1357129363,0.99999936191533034,0.97719854526674832,7.114144446481685E-2,6.3845009600464353E-2,0.1265648586896766,0,15.105323053228588]
[null,14.117860700747929,287.11786070074794,15.618101401379683,6065341.4752952447,0.99999983512884816,0.88748964724620716,8.2002431102858181E-2,0.1265648586896766,0.18647268111854898,0,15.105323053228588]
[null,14.788316177566642,287.78831617756663,16.614231576195738,16423627.811984781,0.99999993911211638,0.82676324763396569,9.1042733584514229E-2,0.18647268111854898,0.24219160165927178,0,15.105323053228588]
[null,15.188423687778952,288.18842368777894,17.206483574079478,29694831.767830499,0.99999996632410737,0.79264652270978686,9.6883322126216725E-2,0.24219160165927178,0.29301956099395771,0,15.105323053228588]
[null,15.29733480038955,288.29733480038954,17.367412664426329,34879599.14115756,0.99999997132994656,0.7836219156959926,9.8534107033094329E-2,0.29301956099395771,0.33905533818414457,0,15.105323053228588]
[null,15.109374476170407,288.10937447617039,17.089602782938794,26419231.872924961,0.99999996214878739,0.79926606811451406,9.5701741766943127E-2,0.33905533818414457,0.38105646430627083,0,15.105323053228588]
[null,14.634336777340597,287.63433677734059,16.385867252579857,13070485.781448897,0.99999992349175537,0.84030705992400123,8.8885929114532761E-2,0.38105646430627083,0.42011575650133864,0,15.105323053228588]
[null,14.117860700747929,287.11786070074794,15.618101401379683,6065341.4752952447,0.99999983512884816,0.88748964724620716,8.2002431102858181E-2,0.42011575650133864,0.45691223425540073,0,15.105323053228588]
[null,12.939691889492899,285.93969188949291,13.85631850982926,1041652.0390034667,0.99999903998744055,1.0060172151120619,6.815507920592595E-2,0.45691223425540073,0.49308968621534932,0,15.105323053228588]
[null,12.250507315389484,285.25050731538948,12.818995053136378,369163.55124652537,0.999997291180866,1.0830798813433014,6.1122549065103574E-2,0.49308968621534932,0.52807141446348671,0,15.105323053228588]
[null,11.761523078237868,284.76152307823787,12.07995726069324,176302.62553332321,0.99999432796689813,1.1415581149644642,5.6559430179242469E-2,0.52807141446348671,0.56180685138283448,0,15.105323053228588]
[null,11.38223743737483,284.38223743737484,11.504964802750839,99207.093993846094,0.9999899201772785,1.1892311601682093,5.3246153639543686E-2,0.56180685138283448,0.59434093878791816,0,15.105323053228588]
[null,11.072338504134454,284.07233850413445,11.034021973198101,61946.226501353674,0.99998385722724847,1.2297567703768919,5.0677548730736981E-2,0.59434093878791816,0.62573992409842361,0,15.105323053228588]
[null,10.810322689456363,283.81032268945637,10.635043106834802,41566.220402461433,0.99997594258191147,1.2651684533844181,4.8598644499778278E-2,0.62573992409842361,0.65607225895157106,0,15.105323053228588]
[null,10.583354266982839,283.58335426698284,10.288835953255038,29402.528506615134,0.99996599047628676,1.29672161445303,4.6863944394753568E-2,0.65607225895157106,0.685402970424425,0,15.105323053228588]
[null,10.383153930031039,283.38315393003103,9.982999280501522,21655.165160127101,0.99995382377292541,1.3252494368910004,4.5383105862219032E-2,0.685402970424425,0.71379212394778935,0,15.105323053228588]
[null,10.204068626119797,{"$f":"B2573+273","v":283.20406862611981},{"$f":"$C$5*$C$6*(C2573-$C$6)/C2573","v":9.7090526574542988},{"$f":"EXP(D2573)","v":16465.995547527145},{"$f":"E2573/(1+E2573)","v":0.99993927246794267},{"$f":"$C$7*EXP($C$8/C2573)","v":1.3513350752759732},{"$f":"$C$4*EXP(-$C$2/C2573)","v":4.4096448828529498E-2},{"$f":"IF(J2572<1,J2572,J2572-J2572*F2572)","v":0.71379212394778935},{"$f":"G2573-(G2573-I2573)*EXP(-H2573)","v":0.74129466546380773},{"$f":"IF(J2573<1,0,J2573*F2573)","v":0},{"$f":"K2573+L2572","v":15.105323053228588}]
[null,10.04206626299996,283.04206626299998,9.4609391569144545,12847.945020029845,0.99992217259872762,1.3754036822929989,4.2962632032349055E-2,0.74129466546380773,0.76796073404377108,0,15.105323053228588]
[null,9.8941696928794229,282.89416969287942,9.2341811452677316,10241.272364986065,0.99990236541615329,1.397775405820219,4.1951920495425003E-2,0.76796073404377108,0.79383611328866033,0,15.105323053228588]
[null,9.7581180369047402,282.75811803690476,9.0253745203634121,8311.3266520762463,0.99987969673932986,1.4186977435559351,4.1042263819930896E-2,0.79383611328866033,0.81896269626841833,0,15.105323053228588]
[null,9.6321538782013327,282.63215387820134,8.8318705588414481,6849.0864598803437,0.99985401644112715,1.4383662451489587,4.0216890942902997E-2,0.81896269626841833,0.84337891816904353,0,15.105323053228588]
[null,9.5148840520163844,282.51488405201638,8.6515675804310508,5719.1048674949352,0.9998251780302696,1.4569382805013036,3.9462771072017587E-2,0.84337891816904353,0.86712014261342996,0,15.105323053228588]
[null,9.4685714228522002,282.46857142285222,8.5803204314008354,5325.8118092584546,0.99981227044697507,1.4643429937284915,3.9168691547194663E-2,0.86712014261342996,0.8900603779447428,0,15.105323053228588]
[null,11.618850661967535,284.61885066196754,11.863847406911148,142037.64497560315,0.99999295966249069,1.1592475621383813,5.5290624514827511E-2,0.8900603779447428,0.90453992532073446,0,15.105323053228588]
[null,13.53871375057259,286.53871375057258,14.753880475410355,2555811.8365853988,0.9999996087350429,0.9437766024440144,7.4889782599879093E-2,0.90453992532073446,0.90737101851002089,0,15.105323053228588]
[null,15.12805152087164,288.12805152087162,17.117224123153591,27159138.023146551,0.99999996317998152,0.79769676179555249,9.5979666631541866E-2,0.90737101851002089,0.89733390344784492,0,15.105323053228588]
[null,16.303989687466263,289.30398968746624,18.849129026447329,153487398.39075977,0.99999999348480717,0.70521086271665179,0.11511858724910648,0.89733390344784492,0.87644252959247826,0,15.105323053228588]
[null,17.005210236621146,290.00521023662117,19.875191801442501,428238911.15540576,0.99999999766485492,0.65555916217541943,0.12821203381249674,0.87644252959247826,0.84986293605611207,0,15.105323053228588]
[null,17.195148787243792,290.1951487872438,20.152266386761589,564960506.55310225,0.99999999822996477,0.6427614340298109,0.13199637570814945,0.84986293605611207,0.82425362817746073,0,15.105323053228588]
[null,16.86390120067556,289.86390120067557,19.668820396481042,348385574.2874465,0.99999999712961707,0.66525649348451632,0.12546404464852862,0.82425362817746073,0.80550587529297069,0,15.105323053228588]
[null,16.0287400212049,289.0287400212049,18.445008537929088,102462612.91226836,0.9999999902403427,0.72578336584775738,0.11033659443530903,0.80550587529297069,0.79717747625522162,0,15.105323053228588]
[null,15.12805152087164,288.12805152087162,17.117224123153591,27159138.023146551,0.99999996317998152,0.79769676179555249,9.5979666631541866E-2,0.79717747625522162,0.79722499997568774,0,15.105323053228588]
[null,13.060837904203726,286.06083790420371,14.03814443306597,1249363.0670629288,0.99999919959279571,0.99308558779167366,6.9468605476566234E-2,0.79722499997568774,0.81036931751668972,0,15.105323053228588]
[null,11.85159545747284,284.85159545747285,12.21628090642551,202052.1085884143,0.99999505080616191,1.1305385891449993,5.7374736344883458E-2,0.81036931751668972,0.82822190425040709,0,15.105323053228588]
[null,10.993624287535814,283.99362428753579,10.914238979878048,54953.298200521211,0.99998180306122098,1.2402828039884601,5.0044239476688915E-2,0.82822190425040709,0.84833569139008824,0,15.105323053228588]
[null,10.328130146196699,283.32813014619671,9.8988663051113281,19907.788282191239,0.9999497709259938,1.3332066823611706,4.498401037572522E-2,0.84833569139008824,0.86966382416201449,0,15.105323053228588]
[null,9.7843818408049259,282.78438184080494,9.0656988025879173,8653.3239915285412,0.99988445082470001,1.4146330114133094,4.1216384572061095E-2,0.86966382416201449,0.89166888417848522,0,15.105323053228588]
[null,9.3246491991744733,282.32464919917447,8.3587619138748135,4267.4080756526,0.99976572061942626,1.4876109015552383,3.8268117788568076E-2,0.89166888417848522,0.91404361361656816,0,15.105323053228588]
[null,8.9264106708679023,281.92641067086788,7.7445217144895864,2308.8889516273748,0.9995670787553248,1.5540694720841226,3.5878214054149406E-2,0.91404361361656816,0.93659954555507097,0,15.105323053228588]
[null,8.5751393940740392,281.57513939407403,7.2012812772358137,1341.1480464640622,0.99925492571208185,1.6153159883648656,3.3889235026057861E-2,0.93659954555507097,0.95921534607010028,0,15.105323053228588]
[null,8.2609165295287852,281.2609165295288,6.7141863476396022,824.01303391271074,0.9987878979374939,1.6722821786280508,3.2199762585984365E-2,0.95921534607010028,0.98181020207848679,0,15.105323053228588]
[null,7.9766673728931003,280.97666737289308,6.272616855146893,529.86213769169831,0.99811627176059647,1.7256583498272446,3.0741093087402391E-2,0.98181020207848679,1.0043290075282691,1.002437124615136,16.107760177843723]
[null,7.7171682241370139,280.71716822413703,5.8687146474138485,353.79393793240712,0.99718146255308759,1.775971896203701,2.9464792195531199E-2,1.8918829131331361E-3,5.3402185063841756E-2,0,16.107760177843723]
[null,7.4784521478716011,280.47845214787162,5.4965006407120578,243.83716372174274,0.99591565273507043,1.8236359332663528,2.8335591489952149E-2,5.3402185063841756E-2,0.10285880506481049,0,16.107760177843723]
[null,7.2574355825065622,280.25743558250656,5.1513189905781811,172.65907588658013,0.9942415909166008,1.8689808297083397,2.7327111159647362E-2,0.10285880506481049,0.15046833968323337,0,16.107760177843723]
[null,7.0516740827978985,280.05167408279789,4.8294728389881145,125.14497171297414,0.99207261307033812,1.9122754326070679,2.6419168589140386E-2,0.15046833968323337,0.19640435087258812,0,16.107760177843723]
[null,11.560774702320167,284.56077470232015,11.775816085592655,130068.4443116038,0.99999231179924464,1.1665316065520432,5.4781977697852743E-2,0.19640435087258812,0.24812035511737851,0,16.107760177843723]
[null,13.324463592818891,286.32446359281892,14.433283878300751,1854793.4095387743,0.99999946085668856,0.96555316502977451,7.2411070195480057E-2,0.24812035511737851,0.29823414108834012,0,16.107760177843723]
[null,14.899046306257418,287.89904630625745,16.778302619991386,19351928.179430831,0.99999994832556538,0.81716749961018753,9.262454961745975E-2,0.29823414108834012,0.34414123168041394,0,16.107760177843723]
[null,16.202369081181672,289.2023690811817,18.700019622804785,132225535.23313583,0.99999999243716431,0.7127327745014046,0.11333050059859036,0.34414123168041394,0.38363378010812677,0,16.107760177843723]
[null,17.166431127645868,290.16643112764586,20.110397515988467,541794597.39953518,0.99999999815428209,0.6446791594871758,0.13141743770024533,0.38363378010812677,0.41578108340569553,0,16.107760177843723]
[null,17.740932564471212,290.74093256447122,20.946418720120207,1250011664.8789096,0.99999999920000748,0.60744804700399735,0.14347339891593908,0.41578108340569553,0.44139855269224981,0,16.107760177843723]
[null,17.89589881261961,290.89589881261963,21.171361916381365,1565329084.3627167,0.99999999936115669,0.59780288834443762,0.14690198807764837,0.44139855269224981,0.46276673282949454,0,16.107760177843723]
[null,17.623244517110873,290.62324451711089,20.77542689338485,1053545409.121375,0.99999999905082404,0.61488384264092066,0.14092077197978412,0.46276673282949454,0.48276129124984496,0,16.107760177843723]
[null,16.937195399948354,289.93719539994834,19.77588626856851,387755780.83241874,0.99999999742105716,0.66020772709915099,0.12688227386389622,0.48276129124984496,0.50390627628152673,0,16.107760177843723]
[null,16.202369081181672,289.2023690811817,18.700019622804785,132225535.23313583,0.99999999243716431,0.7127327745014046,0.11333050059859036,0.50390627628152673,0.52628088241280058,0,16.107760177843723]
[null,14.507080735183328,287.50708073518331,16.196951288731793,10820481.039210945,0.99999990758267554,0.85167880612049052,8.7140368458092907E-2,0.52628088241280058,0.55343584933337175,0,16.107760177843723]
[null,13.515400624864704,286.5154006248647,14.71901876039696,2468247.0502536083,0.9999995948543341,0.94612058844382718,7.461618658683071E-2,0.55343584933337175,0.58167002537960466,0,16.107760177843723]
[null,12.811792389184983,285.81179238918497,13.664189130338203,859571.36426777544,0.99999883663081601,1.0198646535266649,6.6794097576077391E-2,0.58167002537960466,0.60998275304319027,0,16.107760177843723]
[null,12.26603144167299,285.26603144167296,12.842416310259212,377911.87415283208,0.99999735388744759,1.081276418635944,6.1273029029280807E-2,0.60998275304319027,0.63799343093462269,0,16.107760177843723]
[null,11.820112278866359,284.82011227886636,12.168641232049465,192652.09642777446,0.99999480932298235,1.134377329700831,5.7088492050952545E-2,0.63799343093462269,0.66553753322815556,0,16.107760177843723]
[null,11.443092998736326,284.44309299873635,11.597324379589011,108806.28514246408,0.99999080943892049,1.1814414685462307,5.3764966112278469E-2,0.66553753322815556,0.69254262206122252,0,16.107760177843723]
[null,11.116504043186641,284.11650404318664,11.101201609396455,66250.719846464839,0.99998490605221546,1.2238924511373224,5.1036238210813802E-2,0.69254262206122252,0.71898033941833206,0,16.107760177843723]
[null,10.828432168547735,283.82843216854775,10.662642618210985,42729.40561158472,0.99997659746062117,1.2626863396064716,4.8739666823083699E-2,0.71898033941833206,0.74484495237640058,0,16.107760177843723]
[null,10.570743095674644,283.57074309567463,10.269583202454907,28841.863443054524,0.99996532937854887,1.2984992198040284,4.6769315067688881E-2,0.74484495237640058,0.77014279081944803,0,16.107760177843723]
[null,10.337634974327674,283.33763497432767,9.9134018002109894,20199.271132948201,0.99995049571397243,1.3318285178945641,4.5052709686291791E-2,0.77014279081944803,0.7948866800108999,0,16.107760177843723]
[null,10.124823932868015,283.12482393286803,9.587721519222038,14584.600914941477,0.9999314392320322,1.3630518922026602,4.3538305495889301E-2,0.7948866800108999,0.8190928589678621,0,16.107760177843723]
[null,9.9290567519476802,282.92905675194766,9.2876920547861399,10804.219754229618,0.99990745213676857,1.3924634860840637,4.2188266154308304E-2,0.8190928589678621,0.8427792153603324,0,16.107760177843723]
[null,9.7478046527379814,282.74780465273795,9.0095377582935878,8180.7389221122176,0.99987777659376331,1.4202972989638238,4.0974081829576466E-2,0.8427792153603324,0.86596425213737083,0,16.107760177843723]
[null,9.5790629853560212,282.57906298535602,8.7502615692300107,6312.3390058209061,0.99984160521095444,1.4467428364550512,3.987379126887592E-2,0.86596425213737083,0.88866647649203834,0,16.107760177843723]
[null,10.848377842872519,283.84837784287254,10.693036483165244,44048.055314757949,0.99997729803754354,1.2599585542802427,4.8895440667396456E-2,0.88866647649203834,0.90638427664595511,0,16.107760177843723]
[null,12.03159019958281,285.03159019958281,12.488443031744735,265253.9722197135,0.99999623004239413,1.1088559056623619,5.9037768877216359E-2,0.90638427664595511,0.91799173928772948,0,16.107760177843723]
[null,13.087873230842625,286.0878732308426,14.07870026234729,1301073.5148902491,0.9999992314045133,0.99022396887730857,6.9765020171776035E-2,0.91799173928772948,0.92285925692115678,0,16.107760177843723]
[null,13.962088824701359,286.96208882470137,15.38599675375513,4808985.734100203,0.99999979205598699,0.90226835931772409,8.0028359654562314E-2,0.92285925692115678,0.9212756144353933,0,16.107760177843723]
[null,14.608602813178809,287.60860281317883,16.347677784363604,12580741.928975573,0.99999992051343822,0.84259355421248971,8.8530265647619552E-2,0.9212756144353933,0.9146093090571874,0,16.107760177843723]
[null,14.993667081783556,287.99366708178354,16.918404144153694,22262275.986360222,0.99999995508096495,0.80906182139353966,9.3997009987320079E-2,0.9146093090571874,0.90514016728662117,0,16.107760177843723]
[null,15.097181225489511,288.09718122548952,17.071568344459074,25947046.458205163,0.9999999614599695,0.80029236020504879,9.5520714349726976E-2,0.90514016728662117,0.89558848322294671,0,16.107760177843723]
[null,14.913741792498982,287.91374179249897,16.800067729735439,19777742.154379103,0.99999994943811377,0.81590295543762192,9.2836442426814977E-2,0.89558848322294671,0.8885237671357118,0,16.107760177843723]
[null,14.452924345131024,287.45292434513101,16.116503529460562,9984091.4525531027,0.99999989984067106,0.85656793714306079,8.6407487242113487E-2,0.8885237671357118,0.88587847629362859,0,16.107760177843723]
[null,13.962088824701361,286.96208882470137,15.38599675375513,4808985.734100203,0.99999979205598699,0.90226835931772409,8.0028359654562314E-2,0.88587847629362859,0.88713901945175311,0,16.107760177843723]
[null,12.824910919418073,{"$f":"B2637+273","v":285.82491091941807},{"$f":"$C$5*$C$6*(C2637-$C$6)/C2637","v":13.683903571962507},{"$f":"EXP(D2637)","v":876685.47704634804},{"$f":"E2637/(1+E2637)","v":0.99999885934136523},{"$f":"$C$7*EXP($C$8/C2637)","v":1.0184350330640153},{"$f":"$C$4*EXP(-$C$2/C2637)","v":6.6932487684339501E-2},{"$f":"IF(J2636<1,J2636,J2636-J2636*F2636)","v":0.88713901945175311},{"$f":"G2637-(G2637-I2637)*EXP(-H2637)","v":0.89563934123751099},{"$f":"IF(J2637<1,0,J2637*F2637)","v":0},{"$f":"K2637+L2636","v":16.107760177843723}]
[null,12.159704488178715,285.1597044881787,12.681949701314545,321885.02685674711,0.99999689331031305,1.0936929822108459,6.0249420521592031E-2,0.89563934123751099,0.90721960348310859,0,16.107760177843723]
[null,11.687733014134785,284.68773301413478,11.968212454364396,157662.57929936165,0.9999936573810867,1.1506709052094135,5.5899769914983015E-2,0.90721960348310859,0.92045509835018069,0,16.107760177843723]
[null,11.321643497538934,284.32164349753896,11.412963002717568,90487.138423184442,0.99998894882779743,1.1970417384726562,5.2734328272869356E-2,0.92045509835018069,0.93466279985380551,0,16.107760177843723]
[null,11.022526582895427,284.02252658289541,10.95822862709046,57424.63245436798,0.99998258617350366,1.2364067483284453,5.0275893995689262E-2,0.93466279985380551,0.94945820417665072,0,16.107760177843723]
[null,10.769626835049166,283.76962683504917,10.573008277019786,39066.018538964927,0.99997440296092721,1.2707652702614047,4.8283159115955931E-2,0.94945820417665072,0.96460335436177624,0,16.107760177843723]
[null,10.550555108851496,283.55055510885148,10.238759797625766,27966.420388769959,0.99996424411025042,1.301350217999006,4.6618212419163058E-2,0.96460335436177624,0.97994159282473858,0,16.107760177843723]
[null,10.357320151656067,283.35732015165604,9.9435027466591119,20816.531770388727,0.99995196356556437,1.3289790631580634,4.5195309986149769E-2,0.97994159282473858,0.99536528491984488,0,16.107760177843723]
[null,10.184465592255645,283.18446559225566,9.679044875414478,15979.227483058907,0.9999374226680402,1.3542234861983078,4.3957745605145981E-2,0.99536528491984488,1.0107981993921293,1.0107349463376616,17.118495124181383]
[null,10.028099623148623,283.02809962314865,9.439535355453339,12575.87223835298,0.99992048897523578,1.377499966437989,4.2866198761909023E-2,6.3253054467748981E-5,5.786109208826673E-2,0,17.118495124181383]
[null,9.8853486776121393,282.88534867761211,9.2206490937440346,10103.620396958244,0.99990103537186803,1.3991219122759235,4.1892362510830589E-2,5.786109208826673E-2,0.11288900450220463,0,17.118495124181383]
[null,9.7540305373985916,282.75403053739859,9.0190980808592016,8259.3244781072863,0.99987893938032935,1.4193314651546227,4.1015228311616726E-2,0.11288900450220463,0.16538903039129305,0,17.118495124181383]
[null,9.6324489297658786,282.63244892976587,8.8323240134842589,6852.192914199426,0.99985408261338626,1.4383198369586598,4.0218805576378421E-2,0.16538903039129305,0.21556893522517884,0,17.118495124181383]
[null,9.5192591610162864,282.51925916101629,8.6582970216847936,5757.7210346098873,0.99982635033126455,1.4562408282298374,3.9490661358268508E-2,0.21556893522517884,0.26360907721518534,0,17.118495124181383]